{"text_format":"1","workbook":"xlsx","n_sheets":8,"sheets":["Speiseplan","Speiseplan (WE)","Speiseplan (Preis)","Komponenten","Daten","DatenKomponenten","Daten_EN","DatenKomponenten_EN"],"not_rendered":{"charts":0,"images":4,"macros":1,"external_links":0,"defined_names":0,"comments":2,"pivot_tables":0},"unopened":[],"bounds":{"document_bytes":16777216,"sheet_cells":100000,"rows_first":2000,"rows_last":500,"rows_between":2000,"halvings":0,"cell_chars":16384,"cell_head_chars":4096},"cells_cut":0,"cells_raw":0,"read":"whole","date_system":"1900"}

{"sheet":"Speiseplan","index":0,"n_rows":49,"n_cols":16,"rows_kept":49,"cut":false,"hidden":false,"merged":[[48,3,48,4],[6,1,13,1],[6,2,11,7],[6,8,11,13],[46,9,48,12],[46,5,48,8],[1,1,1,13],[1,15,1,28],[3,9,3,12],[4,1,4,13],[5,2,5,7],[5,8,5,13],[2,1,2,13],[38,1,45,1],[38,2,43,7],[38,8,43,13],[30,2,35,7],[30,8,35,13],[14,1,21,1],[22,1,29,1],[30,1,37,1],[14,2,19,7],[14,8,19,13],[22,2,27,7],[22,8,27,13]]}
[]
[null,"Speiseplan Grundschule und Kinderhaus Athene",null,null,null,null,null,null,null,null,null,null,null,null,null,"Speiseplan Kita, Grundschule und Kinderhaus Athene"]
[null,{"$f":"\"Woche vom \"&TEXT(Daten!$B$3,\"tt.MM.jjjj\")&\" bis \"&TEXT(Daten!$B$4,\"tt.MM.jjjj\")&\", \"&TEXT(Daten!$B$2,\"0\")&\". Kalenderwoche\"","v":"Woche vom   bis  ,  . Kalenderwoche"}]
[null,{"$f":"IF(A4<=Daten!$B$8,Daten!B9,\"\")","v":"Menülinie 1"},"Salatbar",{"$f":"IF(A8<=Daten!$B$8,Daten!C9)","v":"Menülinie 2"}]
[null,"Obst und Gemüse täglich frisch aus der Salatbar"]
[null,null,{"$f":"IF(A6<=Daten!$B$8,Daten!B9,\"\")","v":"Menülinie 1"},null,null,null,null,null,{"$f":"IF(A6<=Daten!$B$8,Daten!C9,\"\")","v":"Menülinie 2"}]
[null,"Montag",{"$f":"IF($A$8<=Daten!$B$8,LOOKUP($B$4,Daten!$A$16:$A$65,Daten!$C$16:$C$65),\"\")","v":" "},null,null,null,null,null,{"$f":"IF($A$8<=Daten!$B$8,LOOKUP($D$4,Daten!$A$16:$A$65,Daten!$C$16:$C$65),\"\")","v":" "}]
[]
[]
[]
[]
[]
[null,null,"Energie","Fett","Gesättigte Fettsäuren","Kohlen- hydrate","Eiweiß","Salz","Energie","Fett","Gesättigte Fettsäuren","Kohlen- hydrate","Eiweiß","Salz"]
[null,null,{"$f":"IF($A$8<=Daten!$B$8,LOOKUP($B$4,Daten!$A$16:$A$65,Daten!$P$16:$P$65),\"\")& \" \" & IF($A$8<=Daten!$B$8,LOOKUP($B$4,Daten!$A$16:$A$65,Daten!$Q$16:$Q$65),\"\")","v":"1,1 Inhalt1Einh[1,1]"},{"$f":"IF($A$8<=Daten!$B$8,LOOKUP($B$4,Daten!$A$16:$A$65,Daten!$X$16:$X$65),\"\") & \" \" & IF($A$8<=Daten!$B$8,LOOKUP($B$4,Daten!$A$16:$A$65,Daten!$Y$16:$Y$65),\"\")","v":"1,1 Inhalt5Einh[1,1]"},{"$f":"IF($A$8<=Daten!$B$8,LOOKUP($B$4,Daten!$A$16:$A$65,Daten!$AF$16:$AF$65),\"\") & \" \" & IF($A$8<=Daten!$B$8,LOOKUP($B$4,Daten!$A$16:$A$65,Daten!$AG$16:$AG$65),\"\")","v":" "},{"$f":"IF($A$8<=Daten!$B$8,LOOKUP($B$4,Daten!$A$16:$A$65,Daten!$Z$16:$Z$65),\"\") & \" \" & IF($A$8<=Daten!$B$8,LOOKUP($B$4,Daten!$A$16:$A$65,Daten!$AA$16:$AA$65),\"\")","v":"1,1 Inhalt6Einh[1,1]"},{"$f":"IF($A$8<=Daten!$B$8,LOOKUP($B$4,Daten!$A$16:$A$65,Daten!$V$16:$V$65),\"\")&\" \"&IF($A$8<=Daten!$B$8,LOOKUP($B$4,Daten!$A$16:$A$65,Daten!$W$16:$W$65),\"\")","v":"1,1 Inhalt4Einh[1,1]"},{"$f":"IF($A$8<=Daten!$B$8,LOOKUP($B$4,Daten!$A$16:$A$65,Daten!$BN$16:$BN$65),\"\") & \" \" & IF($A$8<=Daten!$B$8,LOOKUP($B$4,Daten!$A$16:$A$65,Daten!$BO$16:$BO$65),\"\")","v":" "},{"$f":"IF($A$8<=Daten!$B$8,LOOKUP($D$4,Daten!$A$16:$A$65,Daten!$P$16:$P$65),\"\")& \" \" & IF($A$8<=Daten!$B$8,LOOKUP($D$4,Daten!$A$16:$A$65,Daten!$Q$16:$Q$65),\"\")","v":"2,1 Inhalt1Einh[2,1]"},{"$f":"IF($A$8<=Daten!$B$8,LOOKUP($D$4,Daten!$A$16:$A$65,Daten!$X$16:$X$65),\"\") & \" \" & IF($A$8<=Daten!$B$8,LOOKUP($D$4,Daten!$A$16:$A$65,Daten!$Y$16:$Y$65),\"\")","v":"2,1 Inhalt5Einh[2,1]"},{"$f":"IF($A$8<=Daten!$B$8,LOOKUP($D$4,Daten!$A$16:$A$65,Daten!$AF$16:$AF$65),\"\") & \" \" & IF($A$8<=Daten!$B$8,LOOKUP($D$4,Daten!$A$16:$A$65,Daten!$AG$16:$AG$65),\"\")","v":" "},{"$f":"IF($A$8<=Daten!$B$8,LOOKUP($D$4,Daten!$A$16:$A$65,Daten!$Z$16:$Z$65),\"\") & \" \" & IF($A$8<=Daten!$B$8,LOOKUP($D$4,Daten!$A$16:$A$65,Daten!$AA$16:$AA$65),\"\")","v":"2,1 Inhalt6Einh[2,1]"},{"$f":"IF($A$8<=Daten!$B$8,LOOKUP($D$4,Daten!$A$16:$A$65,Daten!$V$16:$V$65),\"\")&\" \"&IF($A$8<=Daten!$B$8,LOOKUP($D$4,Daten!$A$16:$A$65,Daten!$W$16:$W$65),\"\")","v":"2,1 Inhalt4Einh[2,1]"},{"$f":"IF($A$8<=Daten!$B$8,LOOKUP($D$4,Daten!$A$16:$A$65,Daten!$BN$16:$BN$65),\"\") & \" \" & IF($A$8<=Daten!$B$8,LOOKUP($D$4,Daten!$A$16:$A$65,Daten!$BO$16:$BO$65),\"\")","v":" "}]
[null,"Dienstag",{"$f":"IF($A$8<=Daten!$B$8,LOOKUP($B$4,Daten!$A$67:$A$116,Daten!$C$67:$C$116),\"\")","v":" "},null,null,null,null,null,{"$f":"IF($A$8<=Daten!$B$8,LOOKUP($D$4,Daten!$A$67:$A$116,Daten!$C$67:$C$116),\"\")","v":" "}]
[]
[]
[]
[]
[]
[null,null,"Energie","Fett","Gesättigte Fettsäuren","Kohlen- hydrate","Eiweiß","Salz","Energie","Fett","Gesättigte Fettsäuren","Kohlen- hydrate","Eiweiß","Salz"]
[null,null,{"$f":"IF($A$8<=Daten!$B$8,LOOKUP($B$4,Daten!$A$67:$A$116,Daten!$P$67:$P$116),\"\")& \" \" & IF($A$8<=Daten!$B$8,LOOKUP($B$4,Daten!$A$67:$A$116,Daten!$Q$67:$Q$116),\"\")","v":"1,2 Inhalt1Einh[1,2]"},{"$f":"IF($A$8<=Daten!$B$8,LOOKUP($B$4,Daten!$A$67:$A$116,Daten!$X$67:$X$116),\"\") & \" \" & IF($A$8<=Daten!$B$8,LOOKUP($B$4,Daten!$A$67:$A$116,Daten!$Y$67:$Y$116),\"\")","v":"1,2 Inhalt5Einh[1,2]"},{"$f":"IF($A$8<=Daten!$B$8,LOOKUP($B$4,Daten!$A$67:$A$116,Daten!$AF$67:$AF$116),\"\") & \" \" & IF($A$8<=Daten!$B$8,LOOKUP($B$4,Daten!$A$67:$A$116,Daten!$AG$67:$AG$116),\"\")","v":" "},{"$f":"IF($A$8<=Daten!$B$8,LOOKUP($B$4,Daten!$A$67:$A$116,Daten!$Z$67:$Z$116),\"\") & \" \" & IF($A$8<=Daten!$B$8,LOOKUP($B$4,Daten!$A$67:$A$116,Daten!$AA$67:$AA$116),\"\")","v":"1,2 Inhalt6Einh[1,2]"},{"$f":"IF($A$8<=Daten!$B$8,LOOKUP($B$4,Daten!$A$67:$A$116,Daten!$V$67:$V$116),\"\")&\" \"&IF($A$8<=Daten!$B$8,LOOKUP($B$4,Daten!$A$67:$A$116,Daten!$W$67:$W$116),\"\")","v":"1,2 Inhalt4Einh[1,2]"},{"$f":"IF($A$8<=Daten!$B$8,LOOKUP($B$4,Daten!$A$67:$A$116,Daten!$BN$67:$BN$116),\"\") & \" \" & IF($A$8<=Daten!$B$8,LOOKUP($B$4,Daten!$A$67:$A$116,Daten!$BO$67:$BO$116),\"\")","v":" "},{"$f":"IF($A$8<=Daten!$B$8,LOOKUP($D$4,Daten!$A$67:$A$116,Daten!$P$67:$P$116),\"\")& \" \" & IF($A$8<=Daten!$B$8,LOOKUP($D$4,Daten!$A$67:$A$116,Daten!$Q$67:$Q$116),\"\")","v":"2,2 Inhalt1Einh[2,2]"},{"$f":"IF($A$8<=Daten!$B$8,LOOKUP($D$4,Daten!$A$67:$A$116,Daten!$X$67:$X$116),\"\") & \" \" & IF($A$8<=Daten!$B$8,LOOKUP($D$4,Daten!$A$67:$A$116,Daten!$Y$67:$Y$116),\"\")","v":"2,2 Inhalt5Einh[2,2]"},{"$f":"IF($A$8<=Daten!$B$8,LOOKUP($D$4,Daten!$A$67:$A$116,Daten!$AF$67:$AF$116),\"\") & \" \" & IF($A$8<=Daten!$B$8,LOOKUP($D$4,Daten!$A$67:$A$116,Daten!$AG$67:$AG$116),\"\")","v":" "},{"$f":"IF($A$8<=Daten!$B$8,LOOKUP($D$4,Daten!$A$67:$A$116,Daten!$Z$67:$Z$116),\"\") & \" \" & IF($A$8<=Daten!$B$8,LOOKUP($D$4,Daten!$A$67:$A$116,Daten!$AA$67:$AA$116),\"\")","v":"2,2 Inhalt6Einh[2,2]"},{"$f":"IF($A$8<=Daten!$B$8,LOOKUP($D$4,Daten!$A$67:$A$116,Daten!$V$67:$V$116),\"\")&\" \"&IF($A$8<=Daten!$B$8,LOOKUP($D$4,Daten!$A$67:$A$116,Daten!$W$67:$W$116),\"\")","v":"2,2 Inhalt4Einh[2,2]"},{"$f":"IF($A$8<=Daten!$B$8,LOOKUP($D$4,Daten!$A$67:$A$116,Daten!$BN$67:$BN$116),\"\") & \" \" & IF($A$8<=Daten!$B$8,LOOKUP($D$4,Daten!$A$67:$A$116,Daten!$BO$67:$BO$116),\"\")","v":" "}]
[null,"Mittwoch",{"$f":"IF($A$8<=Daten!$B$8,LOOKUP($B$4,Daten!$A$118:$A$167,Daten!$C$118:$C$167),\"\")","v":" "},null,null,null,null,null,{"$f":"IF($A$8<=Daten!$B$8,LOOKUP($D$4,Daten!$A$118:$A$167,Daten!$C$118:$C$167),\"\")","v":" "}]
[]
[]
[]
[]
[]
[null,null,"Energie","Fett","Gesättigte Fettsäuren","Kohlen- hydrate","Eiweiß","Salz","Energie","Fett","Gesättigte Fettsäuren","Kohlen- hydrate","Eiweiß","Salz"]
[null,null,{"$f":"IF($A$8<=Daten!$B$8,LOOKUP($B$4,Daten!$A$118:$A$167,Daten!$P$118:$P$167),\"\")& \" \" & IF($A$8<=Daten!$B$8,LOOKUP($B$4,Daten!$A$118:$A$167,Daten!$Q$118:$Q$167),\"\")","v":"1,3 Inhalt1Einh[1,3]"},{"$f":"IF($A$8<=Daten!$B$8,LOOKUP($B$4,Daten!$A$118:$A$167,Daten!$X$118:$X$167),\"\") & \" \" & IF($A$8<=Daten!$B$8,LOOKUP($B$4,Daten!$A$118:$A$167,Daten!$Y$118:$Y$167),\"\")","v":"1,3 Inhalt5Einh[1,3]"},{"$f":"IF($A$8<=Daten!$B$8,LOOKUP($B$4,Daten!$A$118:$A$167,Daten!$AF$118:$AF$167),\"\") & \" \" & IF($A$8<=Daten!$B$8,LOOKUP($B$4,Daten!$A$118:$A$167,Daten!$AG$118:$AG$167),\"\")","v":" "},{"$f":"IF($A$8<=Daten!$B$8,LOOKUP($B$4,Daten!$A$118:$A$167,Daten!$Z$118:$Z$167),\"\") & \" \" & IF($A$8<=Daten!$B$8,LOOKUP($B$4,Daten!$A$118:$A$167,Daten!$AA$118:$AA$167),\"\")","v":"1,3 Inhalt6Einh[1,3]"},{"$f":"IF($A$8<=Daten!$B$8,LOOKUP($B$4,Daten!$A$118:$A$167,Daten!$V$118:$V$167),\"\")&\" \"&IF($A$8<=Daten!$B$8,LOOKUP($B$4,Daten!$A$118:$A$167,Daten!$W$118:$W$167),\"\")","v":"1,3 Inhalt4Einh[1,3]"},{"$f":"IF($A$8<=Daten!$B$8,LOOKUP($B$4,Daten!$A$118:$A$167,Daten!$BN$118:$BN$167),\"\") & \" \" & IF($A$8<=Daten!$B$8,LOOKUP($B$4,Daten!$A$118:$A$167,Daten!$BO$118:$BO$167),\"\")","v":" "},{"$f":"IF($A$8<=Daten!$B$8,LOOKUP($D$4,Daten!$A$118:$A$167,Daten!$P$118:$P$167),\"\")& \" \" & IF($A$8<=Daten!$B$8,LOOKUP($D$4,Daten!$A$118:$A$167,Daten!$Q$118:$Q$167),\"\")","v":"2,3 Inhalt1Einh[2,3]"},{"$f":"IF($A$8<=Daten!$B$8,LOOKUP($D$4,Daten!$A$118:$A$167,Daten!$X$118:$X$167),\"\") & \" \" & IF($A$8<=Daten!$B$8,LOOKUP($D$4,Daten!$A$118:$A$167,Daten!$Y$118:$Y$167),\"\")","v":"2,3 Inhalt5Einh[2,3]"},{"$f":"IF($A$8<=Daten!$B$8,LOOKUP($D$4,Daten!$A$118:$A$167,Daten!$AF$118:$AF$167),\"\") & \" \" & IF($A$8<=Daten!$B$8,LOOKUP($D$4,Daten!$A$118:$A$167,Daten!$AG$118:$AG$167),\"\")","v":" "},{"$f":"IF($A$8<=Daten!$B$8,LOOKUP($D$4,Daten!$A$118:$A$167,Daten!$Z$118:$Z$167),\"\") & \" \" & IF($A$8<=Daten!$B$8,LOOKUP($D$4,Daten!$A$118:$A$167,Daten!$AA$118:$AA$167),\"\")","v":"2,3 Inhalt6Einh[2,3]"},{"$f":"IF($A$8<=Daten!$B$8,LOOKUP($D$4,Daten!$A$118:$A$167,Daten!$V$118:$V$167),\"\")&\" \"&IF($A$8<=Daten!$B$8,LOOKUP($D$4,Daten!$A$118:$A$167,Daten!$W$118:$W$167),\"\")","v":"2,3 Inhalt4Einh[2,3]"},{"$f":"IF($A$8<=Daten!$B$8,LOOKUP($D$4,Daten!$A$118:$A$167,Daten!$BN$118:$BN$167),\"\") & \" \" & IF($A$8<=Daten!$B$8,LOOKUP($D$4,Daten!$A$118:$A$167,Daten!$BO$118:$BO$167),\"\")","v":" "}]
[null,"Donnerstag",{"$f":"IF($A$8<=Daten!$B$8,LOOKUP($B$4,Daten!$A$169:$A$218,Daten!$C$169:$C$218),\"\")","v":" "},null,null,null,null,null,{"$f":"IF($A$8<=Daten!$B$8,LOOKUP($D$4,Daten!$A$169:$A$218,Daten!$C$169:$C$218),\"\")","v":" "}]
[]
[]
[]
[]
[]
[null,null,"Energie","Fett","Gesättigte Fettsäuren","Kohlen- hydrate","Eiweiß","Salz","Energie","Fett","Gesättigte Fettsäuren","Kohlen- hydrate","Eiweiß","Salz"]
[null,null,{"$f":"IF($A$8<=Daten!$B$8,LOOKUP($B$4,Daten!$A$169:$A$218,Daten!$P$169:$P$218),\"\")& \" \" & IF($A$8<=Daten!$B$8,LOOKUP($B$4,Daten!$A$169:$A$218,Daten!$Q$169:$Q$218),\"\")","v":"1,4 Inhalt1Einh[1,4]"},{"$f":"IF($A$8<=Daten!$B$8,LOOKUP($B$4,Daten!$A$169:$A$218,Daten!$X$169:$X$218),\"\") & \" \" & IF($A$8<=Daten!$B$8,LOOKUP($B$4,Daten!$A$169:$A$218,Daten!$Y$169:$Y$218),\"\")","v":"1,4 Inhalt5Einh[1,4]"},{"$f":"IF($A$8<=Daten!$B$8,LOOKUP($B$4,Daten!$A$169:$A$218,Daten!$AF$169:$AF$218),\"\") & \" \" & IF($A$8<=Daten!$B$8,LOOKUP($B$4,Daten!$A$169:$A$218,Daten!$AG$169:$AG$218),\"\")","v":" "},{"$f":"IF($A$8<=Daten!$B$8,LOOKUP($B$4,Daten!$A$169:$A$218,Daten!$Z$169:$Z$218),\"\") & \" \" & IF($A$8<=Daten!$B$8,LOOKUP($B$4,Daten!$A$169:$A$218,Daten!$AA$169:$AA$218),\"\")","v":"1,4 Inhalt6Einh[1,4]"},{"$f":"IF($A$8<=Daten!$B$8,LOOKUP($B$4,Daten!$A$169:$A$218,Daten!$V$169:$V$218),\"\")&\" \"&IF($A$8<=Daten!$B$8,LOOKUP($B$4,Daten!$A$169:$A$218,Daten!$W$169:$W$218),\"\")","v":"1,4 Inhalt4Einh[1,4]"},{"$f":"IF($A$8<=Daten!$B$8,LOOKUP($B$4,Daten!$A$169:$A$218,Daten!$BN$169:$BN$218),\"\") & \" \" & IF($A$8<=Daten!$B$8,LOOKUP($B$4,Daten!$A$169:$A$218,Daten!$BO$169:$BO$218),\"\")","v":" "},{"$f":"IF($A$8<=Daten!$B$8,LOOKUP($D$4,Daten!$A$169:$A$218,Daten!$P$169:$P$218),\"\")& \" \" & IF($A$8<=Daten!$B$8,LOOKUP($D$4,Daten!$A$169:$A$218,Daten!$Q$169:$Q$218),\"\")","v":"2,4 Inhalt1Einh[2,4]"},{"$f":"IF($A$8<=Daten!$B$8,LOOKUP($D$4,Daten!$A$169:$A$218,Daten!$X$169:$X$218),\"\") & \" \" & IF($A$8<=Daten!$B$8,LOOKUP($D$4,Daten!$A$169:$A$218,Daten!$Y$169:$Y$218),\"\")","v":"2,4 Inhalt5Einh[2,4]"},{"$f":"IF($A$8<=Daten!$B$8,LOOKUP($D$4,Daten!$A$169:$A$218,Daten!$AF$169:$AF$218),\"\") & \" \" & IF($A$8<=Daten!$B$8,LOOKUP($D$4,Daten!$A$169:$A$218,Daten!$AG$169:$AG$218),\"\")","v":" "},{"$f":"IF($A$8<=Daten!$B$8,LOOKUP($D$4,Daten!$A$169:$A$218,Daten!$Z$169:$Z$218),\"\") & \" \" & IF($A$8<=Daten!$B$8,LOOKUP($D$4,Daten!$A$169:$A$218,Daten!$AA$169:$AA$218),\"\")","v":"2,4 Inhalt6Einh[2,4]"},{"$f":"IF($A$8<=Daten!$B$8,LOOKUP($D$4,Daten!$A$169:$A$218,Daten!$V$169:$V$218),\"\")&\" \"&IF($A$8<=Daten!$B$8,LOOKUP($D$4,Daten!$A$169:$A$218,Daten!$W$169:$W$218),\"\")","v":"2,4 Inhalt4Einh[2,4]"},{"$f":"IF($A$8<=Daten!$B$8,LOOKUP($D$4,Daten!$A$169:$A$218,Daten!$BN$169:$BN$218),\"\") & \" \" & IF($A$8<=Daten!$B$8,LOOKUP($D$4,Daten!$A$169:$A$218,Daten!$BO$169:$BO$218),\"\")","v":" "}]
[null,"Freitag",{"$f":"IF($A$8<=Daten!$B$8,LOOKUP($B$4,Daten!$A$220:$A$269,Daten!$C$220:$C$269),\"\")","v":" "},null,null,null,null,null,{"$f":"IF($A$8<=Daten!$B$8,LOOKUP($D$4,Daten!$A$220:$A$269,Daten!$C$220:$C$269),\"\")","v":" "}]
[]
[]
[]
[]
[]
[null,null,"Energie","Fett","Gesättigte Fettsäuren","Kohlen- hydrate","Eiweiß","Salz","Energie","Fett","Gesättigte Fettsäuren","Kohlen- hydrate","Eiweiß","Salz"]
[null,null,{"$f":"IF($A$8<=Daten!$B$8,LOOKUP($B$4,Daten!$A$220:$A$269,Daten!$P$220:$P$269),\"\")& \" \" & IF($A$8<=Daten!$B$8,LOOKUP($B$4,Daten!$A$220:$A$269,Daten!$Q$220:$Q$269),\"\")","v":"1,5 Inhalt1Einh[1,5]"},{"$f":"IF($A$8<=Daten!$B$8,LOOKUP($B$4,Daten!$A$220:$A$269,Daten!$X$220:$X$269),\"\")& \" \" & IF($A$8<=Daten!$B$8,LOOKUP($B$4,Daten!$A$220:$A$269,Daten!$Y$220:$Y$269),\"\")","v":"1,5 Inhalt5Einh[1,5]"},{"$f":"IF($A$8<=Daten!$B$8,LOOKUP($B$4,Daten!$A$220:$A$269,Daten!$AF$220:$AF$269),\"\")& \" \" & IF($A$8<=Daten!$B$8,LOOKUP($B$4,Daten!$A$220:$A$269,Daten!$AG$220:$AG$269),\"\")","v":" "},{"$f":"IF($A$8<=Daten!$B$8,LOOKUP($B$4,Daten!$A$220:$A$269,Daten!$Z$220:$Z$269),\"\")& \" \" & IF($A$8<=Daten!$B$8,LOOKUP($B$4,Daten!$A$220:$A$269,Daten!$AA$220:$AA$269),\"\")","v":"1,5 Inhalt6Einh[1,5]"},{"$f":"IF($A$8<=Daten!$B$8,LOOKUP($B$4,Daten!$A$220:$A$269,Daten!$V$220:$V$269),\"\")& \" \" & IF($A$8<=Daten!$B$8,LOOKUP($B$4,Daten!$A$220:$A$269,Daten!$W$220:$W$269),\"\")","v":"1,5 Inhalt4Einh[1,5]"},{"$f":"IF($A$8<=Daten!$B$8,LOOKUP($B$4,Daten!$A$220:$A$269,Daten!$BN$220:$BN$269),\"\")& \" \" & IF($A$8<=Daten!$B$8,LOOKUP($B$4,Daten!$A$220:$A$269,Daten!$BO$220:$BO$269),\"\")","v":" "},{"$f":"IF($A$8<=Daten!$B$8,LOOKUP($D$4,Daten!$A$220:$A$269,Daten!$P$220:$P$269),\"\")& \" \" & IF($A$8<=Daten!$B$8,LOOKUP($D$4,Daten!$A$220:$A$269,Daten!$Q$220:$Q$269),\"\")","v":"2,5 Inhalt1Einh[2,5]"},{"$f":"IF($A$8<=Daten!$B$8,LOOKUP($D$4,Daten!$A$220:$A$269,Daten!$X$220:$X$269),\"\")& \" \" & IF($A$8<=Daten!$B$8,LOOKUP($D$4,Daten!$A$220:$A$269,Daten!$Y$220:$Y$269),\"\")","v":"2,5 Inhalt5Einh[2,5]"},{"$f":"IF($A$8<=Daten!$B$8,LOOKUP($D$4,Daten!$A$220:$A$269,Daten!$AF$220:$AF$269),\"\")& \" \" & IF($A$8<=Daten!$B$8,LOOKUP($D$4,Daten!$A$220:$A$269,Daten!$AG$220:$AG$269),\"\")","v":" "},{"$f":"IF($A$8<=Daten!$B$8,LOOKUP($D$4,Daten!$A$220:$A$269,Daten!$Z$220:$Z$269),\"\")& \" \" & IF($A$8<=Daten!$B$8,LOOKUP($D$4,Daten!$A$220:$A$269,Daten!$AA$220:$AA$269),\"\")","v":"2,5 Inhalt6Einh[2,5]"},{"$f":"IF($A$8<=Daten!$B$8,LOOKUP($D$4,Daten!$A$220:$A$269,Daten!$V$220:$V$269),\"\")& \" \" & IF($A$8<=Daten!$B$8,LOOKUP($D$4,Daten!$A$220:$A$269,Daten!$W$220:$W$269),\"\")","v":"2,5 Inhalt4Einh[2,5]"},{"$f":"IF($A$8<=Daten!$B$8,LOOKUP($D$4,Daten!$A$220:$A$269,Daten!$BN$220:$BN$269),\"\")& \" \" & IF($A$8<=Daten!$B$8,LOOKUP($D$4,Daten!$A$220:$A$269,Daten!$BO$220:$BO$269),\"\")","v":" "}]
[null,null,null,null,null,"Wir nutzen ausschließlich Zutaten in Bio-Qualität",null,null,null,"außer: Fisch"]
[]
[null,null,null,"DE-ÖKO-070"]

{"sheet":"Speiseplan (WE)","index":1,"n_rows":364,"n_cols":16,"rows_kept":364,"cut":false,"hidden":false,"merged":[[350,12,355,12],[350,14,355,14],[359,5,363,12],[350,1,355,1],[350,2,355,2],[350,4,355,4],[350,6,355,6],[350,8,355,8],[350,10,355,10],[336,1,341,1],[336,2,341,2],[336,4,341,4],[336,6,341,6],[336,8,341,8],[336,10,341,10],[336,12,341,12],[336,14,341,14],[343,1,348,1],[343,2,348,2],[343,4,348,4],[343,6,348,6],[343,8,348,8],[343,10,348,10],[343,12,348,12],[343,14,348,14],[322,1,327,1],[322,2,327,2],[322,4,327,4],[322,6,327,6],[322,8,327,8],[322,10,327,10],[322,12,327,12],[322,14,327,14],[329,1,334,1],[329,2,334,2],[329,4,334,4],[329,6,334,6],[329,8,334,8],[329,10,334,10],[329,12,334,12],[329,14,334,14],[308,1,313,1],[308,2,313,2],[308,4,313,4],[308,6,313,6],[308,8,313,8],[308,10,313,10],[308,12,313,12],[308,14,313,14],[315,1,320,1],[315,2,320,2],[315,4,320,4],[315,6,320,6],[315,8,320,8],[315,10,320,10],[315,12,320,12],[315,14,320,14],[294,1,299,1],[294,2,299,2],[294,4,299,4],[294,6,299,6],[294,8,299,8],[294,10,299,10],[294,12,299,12],[294,14,299,14],[301,1,306,1],[301,2,306,2],[301,4,306,4],[301,6,306,6],[301,8,306,8],[301,10,306,10],[301,12,306,12],[301,14,306,14],[280,1,285,1],[280,2,285,2],[280,4,285,4],[280,6,285,6],[280,8,285,8],[280,10,285,10],[280,12,285,12],[280,14,285,14],[287,1,292,1],[287,2,292,2],[287,4,292,4],[287,6,292,6],[287,8,292,8],[287,10,292,10],[287,12,292,12],[287,14,292,14],[266,1,271,1],[266,2,271,2],[266,4,271,4],[266,6,271,6],[266,8,271,8],[266,10,271,10],[266,12,271,12],[266,14,271,14],[273,1,278,1],[273,2,278,2],[273,4,278,4],[273,6,278,6],[273,8,278,8],[273,10,278,10],[273,12,278,12],[273,14,278,14],[252,1,257,1],[252,2,257,2],[252,4,257,4],[252,6,257,6],[252,8,257,8],[252,10,257,10],[252,12,257,12],[252,14,257,14],[259,1,264,1],[259,2,264,2],[259,4,264,4],[259,6,264,6],[259,8,264,8],[259,10,264,10],[259,12,264,12],[259,14,264,14],[238,1,243,1],[238,2,243,2],[238,4,243,4],[238,6,243,6],[238,8,243,8],[238,10,243,10],[238,12,243,12],[238,14,243,14],[245,1,250,1],[245,2,250,2],[245,4,250,4],[245,6,250,6],[245,8,250,8],[245,10,250,10],[245,12,250,12],[245,14,250,14],[224,1,229,1],[224,2,229,2],[224,4,229,4],[224,6,229,6],[224,8,229,8],[224,10,229,10],[224,12,229,12],[224,14,229,14],[231,1,236,1],[231,2,236,2],[231,4,236,4],[231,6,236,6],[231,8,236,8],[231,10,236,10],[231,12,236,12],[231,14,236,14],[210,1,215,1],[210,2,215,2],[210,4,215,4],[210,6,215,6],[210,8,215,8],[210,10,215,10],[210,12,215,12],[210,14,215,14],[217,1,222,1],[217,2,222,2],[217,4,222,4],[217,6,222,6],[217,8,222,8],[217,10,222,10],[217,12,222,12],[217,14,222,14],[196,1,201,1],[196,2,201,2],[196,4,201,4],[196,6,201,6],[196,8,201,8],[196,10,201,10],[196,12,201,12],[196,14,201,14],[203,1,208,1],[203,2,208,2],[203,4,208,4],[203,6,208,6],[203,8,208,8],[203,10,208,10],[203,12,208,12],[203,14,208,14],[182,1,187,1],[182,2,187,2],[182,4,187,4],[182,6,187,6],[182,8,187,8],[182,10,187,10],[182,12,187,12],[182,14,187,14],[189,1,194,1],[189,2,194,2],[189,4,194,4],[189,6,194,6],[189,8,194,8],[189,10,194,10],[189,12,194,12],[189,14,194,14],[168,1,173,1],[168,2,173,2],[168,4,173,4],[168,6,173,6],[168,8,173,8],[168,10,173,10],[168,12,173,12],[168,14,173,14],[175,1,180,1],[175,2,180,2],[175,4,180,4],[175,6,180,6],[175,8,180,8],[175,10,180,10],[175,12,180,12],[175,14,180,14],[154,1,159,1],[154,2,159,2],[154,4,159,4],[154,6,159,6],[154,8,159,8],[154,10,159,10],[154,12,159,12],[154,14,159,14],[161,1,166,1],[161,2,166,2],[161,4,166,4],[161,6,166,6],[161,8,166,8],[161,10,166,10],[161,12,166,12],[161,14,166,14],[140,1,145,1],[140,2,145,2],[140,4,145,4],[140,6,145,6],[140,8,145,8],[140,10,145,10],[140,12,145,12],[140,14,145,14],[147,1,152,1],[147,2,152,2],[147,4,152,4],[147,6,152,6],[147,8,152,8],[147,10,152,10],[147,12,152,12],[147,14,152,14],[126,1,131,1],[126,2,131,2],[126,4,131,4],[126,6,131,6],[126,8,131,8],[126,10,131,10],[126,12,131,12],[126,14,131,14],[133,1,138,1],[133,2,138,2],[133,4,138,4],[133,6,138,6],[133,8,138,8],[133,10,138,10],[133,12,138,12],[133,14,138,14],[112,1,117,1],[112,2,117,2],[112,4,117,4],[112,6,117,6],[112,8,117,8],[112,10,117,10],[112,12,117,12],[112,14,117,14],[119,1,124,1],[119,2,124,2],[119,4,124,4],[119,6,124,6],[119,8,124,8],[119,10,124,10],[119,12,124,12],[119,14,124,14],[98,1,103,1],[98,2,103,2],[98,4,103,4],[98,6,103,6],[98,8,103,8],[98,10,103,10],[98,12,103,12],[98,14,103,14],[105,1,110,1],[105,2,110,2],[105,4,110,4],[105,6,110,6],[105,8,110,8],[105,10,110,10],[105,12,110,12],[105,14,110,14],[84,1,89,1],[84,2,89,2],[84,4,89,4],[84,6,89,6],[84,8,89,8],[84,10,89,10],[84,12,89,12],[84,14,89,14],[91,1,96,1],[91,2,96,2],[91,4,96,4],[91,6,96,6],[91,8,96,8],[91,10,96,10],[91,12,96,12],[91,14,96,14],[70,1,75,1],[70,2,75,2],[70,4,75,4],[70,6,75,6],[70,8,75,8],[70,10,75,10],[70,12,75,12],[70,14,75,14],[77,1,82,1],[77,2,82,2],[77,4,82,4],[77,6,82,6],[77,8,82,8],[77,10,82,10],[77,12,82,12],[77,14,82,14],[56,1,61,1],[56,2,61,2],[56,4,61,4],[56,6,61,6],[56,8,61,8],[56,10,61,10],[56,12,61,12],[56,14,61,14],[63,1,68,1],[63,2,68,2],[63,4,68,4],[63,6,68,6],[63,8,68,8],[63,10,68,10],[63,12,68,12],[63,14,68,14],[42,1,47,1],[42,2,47,2],[42,4,47,4],[42,6,47,6],[42,8,47,8],[42,10,47,10],[42,12,47,12],[42,14,47,14],[49,1,54,1],[49,2,54,2],[49,4,54,4],[49,6,54,6],[49,8,54,8],[49,10,54,10],[49,12,54,12],[49,14,54,14],[35,12,40,12],[35,14,40,14],[28,1,33,1],[28,2,33,2],[28,4,33,4],[28,6,33,6],[28,8,33,8],[28,10,33,10],[21,12,26,12],[21,14,26,14],[28,12,33,12],[28,14,33,14],[35,1,40,1],[35,2,40,2],[35,4,40,4],[35,6,40,6],[35,8,40,8],[35,10,40,10],[14,14,19,14],[7,14,12,14],[14,10,19,10],[14,12,19,12],[21,1,26,1],[21,2,26,2],[21,4,26,4],[21,6,26,6],[21,8,26,8],[21,10,26,10],[7,12,12,12],[7,2,12,2],[7,4,12,4],[7,6,12,6],[7,8,12,8],[7,10,12,10],[14,1,19,1],[14,2,19,2],[14,4,19,4],[14,6,19,6],[14,8,19,8],[7,1,12,1],[0,1,0,15],[2,1,2,15],[4,2,5,3],[4,4,5,5],[4,6,5,7],[6,14,6,15],[4,8,5,9],[6,2,6,3],[6,4,6,5],[6,6,6,7],[4,10,5,11],[4,12,5,13],[4,14,5,15],[6,10,6,11],[6,12,6,13],[6,8,6,9]]}
[null,{"$f":"Daten!B1","v":"Vorlageplan"}]
[]
[null,{"$f":"\"Speiseplan vom \"&TEXT(Daten!$B$3,\"tt.MM.jjjj\")&\" bis \"&TEXT(Daten!$B$4,\"tt.MM.jjjj\")&\", \"&TEXT(Daten!$B$2,\"0\")&\". Kalenderwoche\"","v":"Speiseplan vom   bis  ,  . Kalenderwoche"}]
[null,null,null,0,null,1,null,2,null,3,null,4,null,5,null,6]
[null,"Datum",{"$f":"Daten!$B$3+D$4","v":{"$error":"#VALUE!"}},null,{"$f":"Daten!$B$3+F$4","v":{"$error":"#VALUE!"}},null,{"$f":"Daten!$B$3+H$4","v":{"$error":"#VALUE!"}},null,{"$f":"Daten!$B$3+J$4","v":{"$error":"#VALUE!"}},null,{"$f":"Daten!$B$3+L$4","v":{"$error":"#VALUE!"}},null,{"$f":"Daten!$B$3+N$4","v":{"$error":"#VALUE!"}},null,{"$f":"Daten!$B$3+P$4","v":{"$error":"#VALUE!"}}]
[]
[null,"Menülinie",{"$f":"Daten!$B$3+D$4","v":{"$error":"#VALUE!"}},null,{"$f":"Daten!$B$3+F$4","v":{"$error":"#VALUE!"}},null,{"$f":"Daten!$B$3+H$4","v":{"$error":"#VALUE!"}},null,{"$f":"Daten!$B$3+J$4","v":{"$error":"#VALUE!"}},null,{"$f":"Daten!$B$3+L$4","v":{"$error":"#VALUE!"}},null,{"$f":"Daten!$B$3+N$4","v":{"$error":"#VALUE!"}},null,{"$f":"Daten!$B$3+P$4","v":{"$error":"#VALUE!"}}]
[1,{"$f":"IF(A8<=Daten!$B$8,Daten!B9,\"\")","v":"Menülinie 1"},{"$f":"IF($A8<=Daten!$B$8,LOOKUP($B8,Daten!$A$16:$A$65,Daten!$C$16:$C$65),\"\")","v":" "},{"$f":"IF($A8<=Daten!$B$8,LOOKUP($B8,Daten!$A$16:$A$65,Daten!$P$16:$P$65),\"\") & \" \" & IF($A8<=Daten!$B$8,LOOKUP($B8,Daten!$A$16:$A$65,Daten!$Q$16:$Q$65),\"\")","v":"1,1 Inhalt1Einh[1,1]"},{"$f":"IF($A8<=Daten!$B$8,LOOKUP($B8,Daten!$A$67:$A$116,Daten!$C$67:$C$116),\"\")","v":" "},{"$f":"IF($A8<=Daten!$B$8,LOOKUP($B8,Daten!$A$67:$A$116,Daten!$P$67:$P$116),\"\") & \" \" & IF($A8<=Daten!$B$8,LOOKUP($B8,Daten!$A$67:$A$116,Daten!$Q$67:$Q$116),\"\")","v":"1,2 Inhalt1Einh[1,2]"},{"$f":"IF($A8<=Daten!$B$8,LOOKUP($B8,Daten!$A$118:$A$167,Daten!$C$118:$C$167),\"\")","v":" "},{"$f":"IF($A8<=Daten!$B$8,LOOKUP($B8,Daten!$A$118:$A$167,Daten!$P$118:$P$167),\"\") & \" \" & IF($A8<=Daten!$B$8,LOOKUP($B8,Daten!$A$118:$A$167,Daten!$Q$118:$Q$167),\"\")","v":"1,3 Inhalt1Einh[1,3]"},{"$f":"IF($A8<=Daten!$B$8,LOOKUP($B8,Daten!$A$169:$A$218,Daten!$C$169:$C$218),\"\")","v":" "},{"$f":"IF($A8<=Daten!$B$8,LOOKUP($B8,Daten!$A$169:$A$218,Daten!$P$169:$P$218),\"\") & \" \" & IF($A8<=Daten!$B$8,LOOKUP($B8,Daten!$A$169:$A$218,Daten!$Q$169:$Q$218),\"\")","v":"1,4 Inhalt1Einh[1,4]"},{"$f":"IF($A8<=Daten!$B$8,LOOKUP($B8,Daten!$A$220:$A$269,Daten!$C$220:$C$269),\"\")","v":" "},{"$f":"IF($A8<=Daten!$B$8,LOOKUP($B8,Daten!$A$220:$A$269,Daten!$P$220:$P$269),\"\") & \" \" & IF($A8<=Daten!$B$8,LOOKUP($B8,Daten!$A$220:$A$269,Daten!$Q$220:$Q$269),\"\")","v":"1,5 Inhalt1Einh[1,5]"},{"$f":"IF($A8<=Daten!$B$8,LOOKUP($B8,Daten!$A$271:$A$320,Daten!$C$271:$C$320),\"\")","v":"Lang[1,6]"},{"$f":"IF($A8<=Daten!$B$8,LOOKUP($B8,Daten!$A$271:$A$320,Daten!$P$271:$P$320),\"\") & \" \" & IF($A8<=Daten!$B$8,LOOKUP($B8,Daten!$A$271:$A$320,Daten!$Q$271:$Q$320),\"\")","v":"1,6 Inhalt1Einh[1,6]"},{"$f":"IF($A8<=Daten!$B$8,LOOKUP($B8,Daten!$A$322:$A$371,Daten!$B$322:$C$371),\"\")","v":{"$error":"#N/A"}},{"$f":"IF($A8<=Daten!$B$8,LOOKUP($B8,Daten!$A$322:$A$371,Daten!$P$322:$P$371),\"\") & \" \" & IF($A8<=Daten!$B$8,LOOKUP($B8,Daten!$A$322:$A$371,Daten!$Q$322:$Q$371),\"\")","v":"1,7 Inhalt1Einh[1,7]"}]
[null,null,null,{"$f":"IF($A8<=Daten!$B$8,LOOKUP($B8,Daten!$A$16:$A$65,Daten!$R$16:$R$65),\"\") & \" \" & IF($A8<=Daten!$B$8,LOOKUP($B8,Daten!$A$16:$A$65,Daten!$S$16:$S$65),\"\")","v":"1,1 Inhalt2Einh[1,1]"},null,{"$f":"IF($A8<=Daten!$B$8,LOOKUP($B8,Daten!$A$67:$A$116,Daten!$R$67:$R$116),\"\") & \" \" & IF($A8<=Daten!$B$8,LOOKUP($B8,Daten!$A$67:$A$116,Daten!$S$67:$S$116),\"\")","v":"1,2 Inhalt2Einh[1,2]"},null,{"$f":"IF($A8<=Daten!$B$8,LOOKUP($B8,Daten!$A$118:$A$167,Daten!$R$118:$R$167),\"\") & \" \" & IF($A8<=Daten!$B$8,LOOKUP($B8,Daten!$A$118:$A$167,Daten!$S$118:$S$167),\"\")","v":"1,3 Inhalt2Einh[1,3]"},null,{"$f":"IF($A8<=Daten!$B$8,LOOKUP($B8,Daten!$A$169:$A$218,Daten!$R$169:$R$218),\"\") & \" \" & IF($A8<=Daten!$B$8,LOOKUP($B8,Daten!$A$169:$A$218,Daten!$S$169:$S$218),\"\")","v":"1,4 Inhalt2Einh[1,4]"},null,{"$f":"IF($A8<=Daten!$B$8,LOOKUP($B8,Daten!$A$220:$A$269,Daten!$R$220:$R$269),\"\") & \" \" & IF($A8<=Daten!$B$8,LOOKUP($B8,Daten!$A$220:$A$269,Daten!$S$220:$S$269),\"\")","v":"1,5 Inhalt2Einh[1,5]"},null,{"$f":"IF($A8<=Daten!$B$8,LOOKUP($B8,Daten!$A$271:$A$320,Daten!$R$271:$R$320),\"\") & \" \" & IF($A8<=Daten!$B$8,LOOKUP($B8,Daten!$A$271:$A$320,Daten!$S$271:$S$320),\"\")","v":"1,6 Inhalt2Einh[1,6]"},null,{"$f":"IF($A8<=Daten!$B$8,LOOKUP($B8,Daten!$A$322:$A$371,Daten!$R$322:$R$371),\"\") & \" \" & IF($A8<=Daten!$B$8,LOOKUP($B8,Daten!$A$322:$A$371,Daten!$S$322:$S$371),\"\")","v":"1,7 Inhalt2Einh[1,7]"}]
[null,null,null,{"$f":"IF($A8<=Daten!$B$8,LOOKUP($B8,Daten!$A$16:$A$65,Daten!$T$16:$T$65),\"\") & \" \" & IF($A8<=Daten!$B$8,LOOKUP($B8,Daten!$A$16:$A$65,Daten!$U$16:$U$65),\"\")","v":"1,1 Inhalt3Einh[1,1]"},null,{"$f":"IF($A8<=Daten!$B$8,LOOKUP($B8,Daten!$A$67:$A$116,Daten!$T$67:$T$116),\"\") & \" \" & IF($A8<=Daten!$B$8,LOOKUP($B8,Daten!$A$67:$A$116,Daten!$U$67:$U$116),\"\")","v":"1,2 Inhalt3Einh[1,2]"},null,{"$f":"IF($A8<=Daten!$B$8,LOOKUP($B8,Daten!$A$118:$A$167,Daten!$T$118:$T$167),\"\") & \" \" & IF($A8<=Daten!$B$8,LOOKUP($B8,Daten!$A$118:$A$167,Daten!$U$118:$U$167),\"\")","v":"1,3 Inhalt3Einh[1,3]"},null,{"$f":"IF($A8<=Daten!$B$8,LOOKUP($B8,Daten!$A$169:$A$218,Daten!$T$169:$T$218),\"\") & \" \" & IF($A8<=Daten!$B$8,LOOKUP($B8,Daten!$A$169:$A$218,Daten!$U$169:$U$218),\"\")","v":"1,4 Inhalt3Einh[1,4]"},null,{"$f":"IF($A8<=Daten!$B$8,LOOKUP($B8,Daten!$A$220:$A$269,Daten!$T$220:$T$269),\"\") & \" \" & IF($A8<=Daten!$B$8,LOOKUP($B8,Daten!$A$220:$A$269,Daten!$U$220:$U$269),\"\")","v":"1,5 Inhalt3Einh[1,5]"},null,{"$f":"IF($A8<=Daten!$B$8,LOOKUP($B8,Daten!$A$271:$A$320,Daten!$T$271:$T$320),\"\") & \" \" & IF($A8<=Daten!$B$8,LOOKUP($B8,Daten!$A$271:$A$320,Daten!$U$271:$U$320),\"\")","v":"1,6 Inhalt3Einh[1,6]"},null,{"$f":"IF($A8<=Daten!$B$8,LOOKUP($B8,Daten!$A$322:$A$371,Daten!$T$322:$T$371),\"\") & \" \" & IF($A8<=Daten!$B$8,LOOKUP($B8,Daten!$A$322:$A$371,Daten!$U$322:$U$371),\"\")","v":"1,7 Inhalt3Einh[1,7]"}]
[null,null,null,{"$f":"IF($A8<=Daten!$B$8,LOOKUP($B8,Daten!$A$16:$A$65,Daten!$V$16:$V$65),\"\") & \" \" & IF($A8<=Daten!$B$8,LOOKUP($B8,Daten!$A$16:$A$65,Daten!$W$16:$W$65),\"\")","v":"1,1 Inhalt4Einh[1,1]"},null,{"$f":"IF($A8<=Daten!$B$8,LOOKUP($B8,Daten!$A$67:$A$116,Daten!$V$67:$V$116),\"\") & \" \" & IF($A8<=Daten!$B$8,LOOKUP($B8,Daten!$A$67:$A$116,Daten!$W$67:$W$116),\"\")","v":"1,2 Inhalt4Einh[1,2]"},null,{"$f":"IF($A8<=Daten!$B$8,LOOKUP($B8,Daten!$A$118:$A$167,Daten!$V$118:$V$167),\"\") & \" \" & IF($A8<=Daten!$B$8,LOOKUP($B8,Daten!$A$118:$A$167,Daten!$W$118:$W$167),\"\")","v":"1,3 Inhalt4Einh[1,3]"},null,{"$f":"IF($A8<=Daten!$B$8,LOOKUP($B8,Daten!$A$169:$A$218,Daten!$V$169:$V$218),\"\") & \" \" & IF($A8<=Daten!$B$8,LOOKUP($B8,Daten!$A$169:$A$218,Daten!$W$169:$W$218),\"\")","v":"1,4 Inhalt4Einh[1,4]"},null,{"$f":"IF($A8<=Daten!$B$8,LOOKUP($B8,Daten!$A$220:$A$269,Daten!$V$220:$V$269),\"\") & \" \" & IF($A8<=Daten!$B$8,LOOKUP($B8,Daten!$A$220:$A$269,Daten!$W$220:$W$269),\"\")","v":"1,5 Inhalt4Einh[1,5]"},null,{"$f":"IF($A8<=Daten!$B$8,LOOKUP($B8,Daten!$A$271:$A$320,Daten!$V$271:$V$320),\"\") & \" \" & IF($A8<=Daten!$B$8,LOOKUP($B8,Daten!$A$271:$A$320,Daten!$W$271:$W$320),\"\")","v":"1,6 Inhalt4Einh[1,6]"},null,{"$f":"IF($A8<=Daten!$B$8,LOOKUP($B8,Daten!$A$322:$A$371,Daten!$V$322:$V$371),\"\") & \" \" & IF($A8<=Daten!$B$8,LOOKUP($B8,Daten!$A$322:$A$371,Daten!$W$322:$W$371),\"\")","v":"1,7 Inhalt4Einh[1,7]"}]
[null,null,null,{"$f":"IF($A8<=Daten!$B$8,LOOKUP($B8,Daten!$A$16:$A$65,Daten!$X$16:$X$65),\"\") & \" \" & IF($A8<=Daten!$B$8,LOOKUP($B8,Daten!$A$16:$A$65,Daten!$Y$16:$Y$65),\"\")","v":"1,1 Inhalt5Einh[1,1]"},null,{"$f":"IF($A8<=Daten!$B$8,LOOKUP($B8,Daten!$A$67:$A$116,Daten!$X$67:$X$116),\"\") & \" \" & IF($A8<=Daten!$B$8,LOOKUP($B8,Daten!$A$67:$A$116,Daten!$Y$67:$Y$116),\"\")","v":"1,2 Inhalt5Einh[1,2]"},null,{"$f":"IF($A8<=Daten!$B$8,LOOKUP($B8,Daten!$A$118:$A$167,Daten!$X$118:$X$167),\"\") & \" \" & IF($A8<=Daten!$B$8,LOOKUP($B8,Daten!$A$118:$A$167,Daten!$Y$118:$Y$167),\"\")","v":"1,3 Inhalt5Einh[1,3]"},null,{"$f":"IF($A8<=Daten!$B$8,LOOKUP($B8,Daten!$A$169:$A$218,Daten!$X$169:$X$218),\"\") & \" \" & IF($A8<=Daten!$B$8,LOOKUP($B8,Daten!$A$169:$A$218,Daten!$Y$169:$Y$218),\"\")","v":"1,4 Inhalt5Einh[1,4]"},null,{"$f":"IF($A8<=Daten!$B$8,LOOKUP($B8,Daten!$A$220:$A$269,Daten!$X$220:$X$269),\"\") & \" \" & IF($A8<=Daten!$B$8,LOOKUP($B8,Daten!$A$220:$A$269,Daten!$Y$220:$Y$269),\"\")","v":"1,5 Inhalt5Einh[1,5]"},null,{"$f":"IF($A8<=Daten!$B$8,LOOKUP($B8,Daten!$A$271:$A$320,Daten!$X$271:$X$320),\"\") & \" \" & IF($A8<=Daten!$B$8,LOOKUP($B8,Daten!$A$271:$A$320,Daten!$Y$271:$Y$320),\"\")","v":"1,6 Inhalt5Einh[1,6]"},null,{"$f":"IF($A8<=Daten!$B$8,LOOKUP($B8,Daten!$A$322:$A$371,Daten!$X$322:$X$371),\"\") & \" \" & IF($A8<=Daten!$B$8,LOOKUP($B8,Daten!$A$322:$A$371,Daten!$Y$322:$Y$371),\"\")","v":"1,7 Inhalt5Einh[1,7]"}]
[null,null,null,{"$f":"IF($A8<=Daten!$B$8,LOOKUP($B8,Daten!$A$16:$A$65,Daten!$Z$16:$Z$65),\"\") & \" \" & IF($A8<=Daten!$B$8,LOOKUP($B8,Daten!$A$16:$A$65,Daten!$AA$16:$AA$65),\"\")","v":"1,1 Inhalt6Einh[1,1]"},null,{"$f":"IF($A8<=Daten!$B$8,LOOKUP($B8,Daten!$A$67:$A$116,Daten!$Z$67:$Z$116),\"\") & \" \" & IF($A8<=Daten!$B$8,LOOKUP($B8,Daten!$A$67:$A$116,Daten!$AA$67:$AA$116),\"\")","v":"1,2 Inhalt6Einh[1,2]"},null,{"$f":"IF($A8<=Daten!$B$8,LOOKUP($B8,Daten!$A$118:$A$167,Daten!$Z$118:$Z$167),\"\") & \" \" & IF($A8<=Daten!$B$8,LOOKUP($B8,Daten!$A$118:$A$167,Daten!$AA$118:$AA$167),\"\")","v":"1,3 Inhalt6Einh[1,3]"},null,{"$f":"IF($A8<=Daten!$B$8,LOOKUP($B8,Daten!$A$169:$A$218,Daten!$Z$169:$Z$218),\"\") & \" \" & IF($A8<=Daten!$B$8,LOOKUP($B8,Daten!$A$169:$A$218,Daten!$AA$169:$AA$218),\"\")","v":"1,4 Inhalt6Einh[1,4]"},null,{"$f":"IF($A8<=Daten!$B$8,LOOKUP($B8,Daten!$A$220:$A$269,Daten!$Z$220:$Z$269),\"\") & \" \" & IF($A8<=Daten!$B$8,LOOKUP($B8,Daten!$A$220:$A$269,Daten!$AA$220:$AA$269),\"\")","v":"1,5 Inhalt6Einh[1,5]"},null,{"$f":"IF($A8<=Daten!$B$8,LOOKUP($B8,Daten!$A$271:$A$320,Daten!$Z$271:$Z$320),\"\") & \" \" & IF($A8<=Daten!$B$8,LOOKUP($B8,Daten!$A$271:$A$320,Daten!$AA$271:$AA$320),\"\")","v":"1,6 Inhalt6Einh[1,6]"},null,{"$f":"IF($A8<=Daten!$B$8,LOOKUP($B8,Daten!$A$322:$A$371,Daten!$Z$322:$Z$371),\"\") & \" \" & IF($A8<=Daten!$B$8,LOOKUP($B8,Daten!$A$322:$A$371,Daten!$AA$322:$AA$371),\"\")","v":"1,7 Inhalt6Einh[1,7]"}]
[null,{"$f":"IF(A8<=Daten!$B$8,\"Zusatzstoffe\",\"\")","v":"Zusatzstoffe"},{"$f":"IF($A8<=Daten!$B$8,LOOKUP($B8,Daten!$A$16:$A$65,Daten!$L$16:$L$65),\"\")","v":1.1000000000000001},{"$f":"IF($A8<=Daten!$B$8,LOOKUP($B8,Daten!$A$16:$A$65,Daten!$E$16:$E$65),\"\")","v":21.1},{"$f":"IF($A8<=Daten!$B$8,LOOKUP($B8,Daten!$A$67:$A$116,Daten!$L$67:$L$116),\"\")","v":1.2},{"$f":"IF($A8<=Daten!$B$8,LOOKUP($B8,Daten!$A$16:$A$65,Daten!$E$67:$E$116),\"\")","v":0},{"$f":"IF($A8<=Daten!$B$8,LOOKUP($B8,Daten!$A$118:$A$167,Daten!$L$118:$L$167),\"\")","v":1.3},{"$f":"IF($A8<=Daten!$B$8,LOOKUP($B8,Daten!$A$118:$A$167,Daten!$E$118:$E$167),\"\")","v":0},{"$f":"IF($A8<=Daten!$B$8,LOOKUP($B8,Daten!$A$169:$A$218,Daten!$L$169:$L$218),\"\")","v":1.4},{"$f":"IF($A8<=Daten!$B$8,LOOKUP($B8,Daten!$A$169:$A$218,Daten!$E$169:$E$218),\"\")","v":0},{"$f":"IF($A8<=Daten!$B$8,LOOKUP($B8,Daten!$A$220:$A$269,Daten!$L$220:$L$269),\"\")","v":1.5},{"$f":"IF($A8<=Daten!$B$8,LOOKUP($B8,Daten!$A$220:$A$269,Daten!$E$220:$E$269),\"\")","v":0},{"$f":"IF($A8<=Daten!$B$8,LOOKUP($B8,Daten!$A$271:$A$320,Daten!$L$271:$L$320),\"\")","v":1.6},{"$f":"IF($A8<=Daten!$B$8,LOOKUP($B8,Daten!$A$271:$A$320,Daten!$E$271:$E$320),\"\")","v":0},{"$f":"IF($A8<=Daten!$B$8,LOOKUP($B8,Daten!$A$322:$A$371,Daten!$L$322:$L$371),\"\")","v":1.7},{"$f":"IF($A8<=Daten!$B$8,LOOKUP($B8,Daten!$A$322:$A$371,Daten!$E$322:$E$371),\"\")","v":0}]
[2,{"$f":"IF(A15<=Daten!$B$8,Daten!C9,\"\")","v":"Menülinie 2"},{"$f":"IF($A15<=Daten!$B$8,LOOKUP($B15,Daten!$A$16:$A$65,Daten!$C$16:$C$65),\"\")","v":" "},{"$f":"IF($A15<=Daten!$B$8,LOOKUP($B15,Daten!$A$16:$A$65,Daten!$P$16:$P$65),\"\") & \" \" & IF($A15<=Daten!$B$8,LOOKUP($B15,Daten!$A$16:$A$65,Daten!$Q$16:$Q$65),\"\")","v":"2,1 Inhalt1Einh[2,1]"},{"$f":"IF($A15<=Daten!$B$8,LOOKUP($B15,Daten!$A$67:$A$116,Daten!$C$67:$C$116),\"\")","v":" "},{"$f":"IF($A15<=Daten!$B$8,LOOKUP($B15,Daten!$A$67:$A$116,Daten!$P$67:$P$116),\"\") & \" \" & IF($A15<=Daten!$B$8,LOOKUP($B15,Daten!$A$67:$A$116,Daten!$Q$67:$Q$116),\"\")","v":"2,2 Inhalt1Einh[2,2]"},{"$f":"IF($A15<=Daten!$B$8,LOOKUP($B15,Daten!$A$118:$A$167,Daten!$C$118:$C$167),\"\")","v":" "},{"$f":"IF($A15<=Daten!$B$8,LOOKUP($B15,Daten!$A$118:$A$167,Daten!$P$118:$P$167),\"\") & \" \" & IF($A15<=Daten!$B$8,LOOKUP($B15,Daten!$A$118:$A$167,Daten!$Q$118:$Q$167),\"\")","v":"2,3 Inhalt1Einh[2,3]"},{"$f":"IF($A15<=Daten!$B$8,LOOKUP($B15,Daten!$A$169:$A$218,Daten!$C$169:$C$218),\"\")","v":" "},{"$f":"IF($A15<=Daten!$B$8,LOOKUP($B15,Daten!$A$169:$A$218,Daten!$P$169:$P$218),\"\") & \" \" & IF($A15<=Daten!$B$8,LOOKUP($B15,Daten!$A$169:$A$218,Daten!$Q$169:$Q$218),\"\")","v":"2,4 Inhalt1Einh[2,4]"},{"$f":"IF($A15<=Daten!$B$8,LOOKUP($B15,Daten!$A$220:$A$269,Daten!$C$220:$C$269),\"\")","v":" "},{"$f":"IF($A15<=Daten!$B$8,LOOKUP($B15,Daten!$A$220:$A$269,Daten!$P$220:$P$269),\"\") & \" \" & IF($A15<=Daten!$B$8,LOOKUP($B15,Daten!$A$220:$A$269,Daten!$Q$220:$Q$269),\"\")","v":"2,5 Inhalt1Einh[2,5]"},{"$f":"IF($A15<=Daten!$B$8,LOOKUP($B15,Daten!$A$271:$A$320,Daten!$C$271:$C$320),\"\")","v":"Lang[2,6]"},{"$f":"IF($A15<=Daten!$B$8,LOOKUP($B15,Daten!$A$271:$A$320,Daten!$P$271:$P$320),\"\") & \" \" & IF($A15<=Daten!$B$8,LOOKUP($B15,Daten!$A$271:$A$320,Daten!$Q$271:$Q$320),\"\")","v":"2,6 Inhalt1Einh[2,6]"},{"$f":"IF($A15<=Daten!$B$8,LOOKUP($B15,Daten!$A$322:$A$371,Daten!$B$322:$C$371),\"\")","v":{"$error":"#N/A"}},{"$f":"IF($A15<=Daten!$B$8,LOOKUP($B15,Daten!$A$322:$A$371,Daten!$P$322:$P$371),\"\") & \" \" & IF($A15<=Daten!$B$8,LOOKUP($B15,Daten!$A$322:$A$371,Daten!$Q$322:$Q$371),\"\")","v":"2,7 Inhalt1Einh[2,7]"}]
[null,null,null,{"$f":"IF($A15<=Daten!$B$8,LOOKUP($B15,Daten!$A$16:$A$65,Daten!$R$16:$R$65),\"\") & \" \" & IF($A15<=Daten!$B$8,LOOKUP($B15,Daten!$A$16:$A$65,Daten!$S$16:$S$65),\"\")","v":"2,1 Inhalt2Einh[2,1]"},null,{"$f":"IF($A15<=Daten!$B$8,LOOKUP($B15,Daten!$A$67:$A$116,Daten!$R$67:$R$116),\"\") & \" \" & IF($A15<=Daten!$B$8,LOOKUP($B15,Daten!$A$67:$A$116,Daten!$S$67:$S$116),\"\")","v":"2,2 Inhalt2Einh[2,2]"},null,{"$f":"IF($A15<=Daten!$B$8,LOOKUP($B15,Daten!$A$118:$A$167,Daten!$R$118:$R$167),\"\") & \" \" & IF($A15<=Daten!$B$8,LOOKUP($B15,Daten!$A$118:$A$167,Daten!$S$118:$S$167),\"\")","v":"2,3 Inhalt2Einh[2,3]"},null,{"$f":"IF($A15<=Daten!$B$8,LOOKUP($B15,Daten!$A$169:$A$218,Daten!$R$169:$R$218),\"\") & \" \" & IF($A15<=Daten!$B$8,LOOKUP($B15,Daten!$A$169:$A$218,Daten!$S$169:$S$218),\"\")","v":"2,4 Inhalt2Einh[2,4]"},null,{"$f":"IF($A15<=Daten!$B$8,LOOKUP($B15,Daten!$A$220:$A$269,Daten!$R$220:$R$269),\"\") & \" \" & IF($A15<=Daten!$B$8,LOOKUP($B15,Daten!$A$220:$A$269,Daten!$S$220:$S$269),\"\")","v":"2,5 Inhalt2Einh[2,5]"},null,{"$f":"IF($A15<=Daten!$B$8,LOOKUP($B15,Daten!$A$271:$A$320,Daten!$R$271:$R$320),\"\") & \" \" & IF($A15<=Daten!$B$8,LOOKUP($B15,Daten!$A$271:$A$320,Daten!$S$271:$S$320),\"\")","v":"2,6 Inhalt2Einh[2,6]"},null,{"$f":"IF($A15<=Daten!$B$8,LOOKUP($B15,Daten!$A$322:$A$371,Daten!$R$322:$R$371),\"\") & \" \" & IF($A15<=Daten!$B$8,LOOKUP($B15,Daten!$A$322:$A$371,Daten!$S$322:$S$371),\"\")","v":"2,7 Inhalt2Einh[2,7]"}]
[null,null,null,{"$f":"IF($A15<=Daten!$B$8,LOOKUP($B15,Daten!$A$16:$A$65,Daten!$T$16:$T$65),\"\") & \" \" & IF($A15<=Daten!$B$8,LOOKUP($B15,Daten!$A$16:$A$65,Daten!$U$16:$U$65),\"\")","v":"2,1 Inhalt3Einh[2,1]"},null,{"$f":"IF($A15<=Daten!$B$8,LOOKUP($B15,Daten!$A$67:$A$116,Daten!$T$67:$T$116),\"\") & \" \" & IF($A15<=Daten!$B$8,LOOKUP($B15,Daten!$A$67:$A$116,Daten!$U$67:$U$116),\"\")","v":"2,2 Inhalt3Einh[2,2]"},null,{"$f":"IF($A15<=Daten!$B$8,LOOKUP($B15,Daten!$A$118:$A$167,Daten!$T$118:$T$167),\"\") & \" \" & IF($A15<=Daten!$B$8,LOOKUP($B15,Daten!$A$118:$A$167,Daten!$U$118:$U$167),\"\")","v":"2,3 Inhalt3Einh[2,3]"},null,{"$f":"IF($A15<=Daten!$B$8,LOOKUP($B15,Daten!$A$169:$A$218,Daten!$T$169:$T$218),\"\") & \" \" & IF($A15<=Daten!$B$8,LOOKUP($B15,Daten!$A$169:$A$218,Daten!$U$169:$U$218),\"\")","v":"2,4 Inhalt3Einh[2,4]"},null,{"$f":"IF($A15<=Daten!$B$8,LOOKUP($B15,Daten!$A$220:$A$269,Daten!$T$220:$T$269),\"\") & \" \" & IF($A15<=Daten!$B$8,LOOKUP($B15,Daten!$A$220:$A$269,Daten!$U$220:$U$269),\"\")","v":"2,5 Inhalt3Einh[2,5]"},null,{"$f":"IF($A15<=Daten!$B$8,LOOKUP($B15,Daten!$A$271:$A$320,Daten!$T$271:$T$320),\"\") & \" \" & IF($A15<=Daten!$B$8,LOOKUP($B15,Daten!$A$271:$A$320,Daten!$U$271:$U$320),\"\")","v":"2,6 Inhalt3Einh[2,6]"},null,{"$f":"IF($A15<=Daten!$B$8,LOOKUP($B15,Daten!$A$322:$A$371,Daten!$T$322:$T$371),\"\") & \" \" & IF($A15<=Daten!$B$8,LOOKUP($B15,Daten!$A$322:$A$371,Daten!$U$322:$U$371),\"\")","v":"2,7 Inhalt3Einh[2,7]"}]
[null,null,null,{"$f":"IF($A15<=Daten!$B$8,LOOKUP($B15,Daten!$A$16:$A$65,Daten!$V$16:$V$65),\"\") & \" \" & IF($A15<=Daten!$B$8,LOOKUP($B15,Daten!$A$16:$A$65,Daten!$W$16:$W$65),\"\")","v":"2,1 Inhalt4Einh[2,1]"},null,{"$f":"IF($A15<=Daten!$B$8,LOOKUP($B15,Daten!$A$67:$A$116,Daten!$V$67:$V$116),\"\") & \" \" & IF($A15<=Daten!$B$8,LOOKUP($B15,Daten!$A$67:$A$116,Daten!$W$67:$W$116),\"\")","v":"2,2 Inhalt4Einh[2,2]"},null,{"$f":"IF($A15<=Daten!$B$8,LOOKUP($B15,Daten!$A$118:$A$167,Daten!$V$118:$V$167),\"\") & \" \" & IF($A15<=Daten!$B$8,LOOKUP($B15,Daten!$A$118:$A$167,Daten!$W$118:$W$167),\"\")","v":"2,3 Inhalt4Einh[2,3]"},null,{"$f":"IF($A15<=Daten!$B$8,LOOKUP($B15,Daten!$A$169:$A$218,Daten!$V$169:$V$218),\"\") & \" \" & IF($A15<=Daten!$B$8,LOOKUP($B15,Daten!$A$169:$A$218,Daten!$W$169:$W$218),\"\")","v":"2,4 Inhalt4Einh[2,4]"},null,{"$f":"IF($A15<=Daten!$B$8,LOOKUP($B15,Daten!$A$220:$A$269,Daten!$V$220:$V$269),\"\") & \" \" & IF($A15<=Daten!$B$8,LOOKUP($B15,Daten!$A$220:$A$269,Daten!$W$220:$W$269),\"\")","v":"2,5 Inhalt4Einh[2,5]"},null,{"$f":"IF($A15<=Daten!$B$8,LOOKUP($B15,Daten!$A$271:$A$320,Daten!$V$271:$V$320),\"\") & \" \" & IF($A15<=Daten!$B$8,LOOKUP($B15,Daten!$A$271:$A$320,Daten!$W$271:$W$320),\"\")","v":"2,6 Inhalt4Einh[2,6]"},null,{"$f":"IF($A15<=Daten!$B$8,LOOKUP($B15,Daten!$A$322:$A$371,Daten!$V$322:$V$371),\"\") & \" \" & IF($A15<=Daten!$B$8,LOOKUP($B15,Daten!$A$322:$A$371,Daten!$W$322:$W$371),\"\")","v":"2,7 Inhalt4Einh[2,7]"}]
[null,null,null,{"$f":"IF($A15<=Daten!$B$8,LOOKUP($B15,Daten!$A$16:$A$65,Daten!$X$16:$X$65),\"\") & \" \" & IF($A15<=Daten!$B$8,LOOKUP($B15,Daten!$A$16:$A$65,Daten!$Y$16:$Y$65),\"\")","v":"2,1 Inhalt5Einh[2,1]"},null,{"$f":"IF($A15<=Daten!$B$8,LOOKUP($B15,Daten!$A$67:$A$116,Daten!$X$67:$X$116),\"\") & \" \" & IF($A15<=Daten!$B$8,LOOKUP($B15,Daten!$A$67:$A$116,Daten!$Y$67:$Y$116),\"\")","v":"2,2 Inhalt5Einh[2,2]"},null,{"$f":"IF($A15<=Daten!$B$8,LOOKUP($B15,Daten!$A$118:$A$167,Daten!$X$118:$X$167),\"\") & \" \" & IF($A15<=Daten!$B$8,LOOKUP($B15,Daten!$A$118:$A$167,Daten!$Y$118:$Y$167),\"\")","v":"2,3 Inhalt5Einh[2,3]"},null,{"$f":"IF($A15<=Daten!$B$8,LOOKUP($B15,Daten!$A$169:$A$218,Daten!$X$169:$X$218),\"\") & \" \" & IF($A15<=Daten!$B$8,LOOKUP($B15,Daten!$A$169:$A$218,Daten!$Y$169:$Y$218),\"\")","v":"2,4 Inhalt5Einh[2,4]"},null,{"$f":"IF($A15<=Daten!$B$8,LOOKUP($B15,Daten!$A$220:$A$269,Daten!$X$220:$X$269),\"\") & \" \" & IF($A15<=Daten!$B$8,LOOKUP($B15,Daten!$A$220:$A$269,Daten!$Y$220:$Y$269),\"\")","v":"2,5 Inhalt5Einh[2,5]"},null,{"$f":"IF($A15<=Daten!$B$8,LOOKUP($B15,Daten!$A$271:$A$320,Daten!$X$271:$X$320),\"\") & \" \" & IF($A15<=Daten!$B$8,LOOKUP($B15,Daten!$A$271:$A$320,Daten!$Y$271:$Y$320),\"\")","v":"2,6 Inhalt5Einh[2,6]"},null,{"$f":"IF($A15<=Daten!$B$8,LOOKUP($B15,Daten!$A$322:$A$371,Daten!$X$322:$X$371),\"\") & \" \" & IF($A15<=Daten!$B$8,LOOKUP($B15,Daten!$A$322:$A$371,Daten!$Y$322:$Y$371),\"\")","v":"2,7 Inhalt5Einh[2,7]"}]
[null,null,null,{"$f":"IF($A15<=Daten!$B$8,LOOKUP($B15,Daten!$A$16:$A$65,Daten!$Z$16:$Z$65),\"\") & \" \" & IF($A15<=Daten!$B$8,LOOKUP($B15,Daten!$A$16:$A$65,Daten!$AA$16:$AA$65),\"\")","v":"2,1 Inhalt6Einh[2,1]"},null,{"$f":"IF($A15<=Daten!$B$8,LOOKUP($B15,Daten!$A$67:$A$116,Daten!$Z$67:$Z$116),\"\") & \" \" & IF($A15<=Daten!$B$8,LOOKUP($B15,Daten!$A$67:$A$116,Daten!$AA$67:$AA$116),\"\")","v":"2,2 Inhalt6Einh[2,2]"},null,{"$f":"IF($A15<=Daten!$B$8,LOOKUP($B15,Daten!$A$118:$A$167,Daten!$Z$118:$Z$167),\"\") & \" \" & IF($A15<=Daten!$B$8,LOOKUP($B15,Daten!$A$118:$A$167,Daten!$AA$118:$AA$167),\"\")","v":"2,3 Inhalt6Einh[2,3]"},null,{"$f":"IF($A15<=Daten!$B$8,LOOKUP($B15,Daten!$A$169:$A$218,Daten!$Z$169:$Z$218),\"\") & \" \" & IF($A15<=Daten!$B$8,LOOKUP($B15,Daten!$A$169:$A$218,Daten!$AA$169:$AA$218),\"\")","v":"2,4 Inhalt6Einh[2,4]"},null,{"$f":"IF($A15<=Daten!$B$8,LOOKUP($B15,Daten!$A$220:$A$269,Daten!$Z$220:$Z$269),\"\") & \" \" & IF($A15<=Daten!$B$8,LOOKUP($B15,Daten!$A$220:$A$269,Daten!$AA$220:$AA$269),\"\")","v":"2,5 Inhalt6Einh[2,5]"},null,{"$f":"IF($A15<=Daten!$B$8,LOOKUP($B15,Daten!$A$271:$A$320,Daten!$Z$271:$Z$320),\"\") & \" \" & IF($A15<=Daten!$B$8,LOOKUP($B15,Daten!$A$271:$A$320,Daten!$AA$271:$AA$320),\"\")","v":"2,6 Inhalt6Einh[2,6]"},null,{"$f":"IF($A15<=Daten!$B$8,LOOKUP($B15,Daten!$A$322:$A$371,Daten!$Z$322:$Z$371),\"\") & \" \" & IF($A15<=Daten!$B$8,LOOKUP($B15,Daten!$A$322:$A$371,Daten!$AA$322:$AA$371),\"\")","v":"2,7 Inhalt6Einh[2,7]"}]
[null,{"$f":"IF(A15<=Daten!$B$8,\"Zusatzstoffe\",\"\")","v":"Zusatzstoffe"},{"$f":"IF($A15<=Daten!$B$8,LOOKUP($B15,Daten!$A$16:$A$65,Daten!$L$16:$L$65),\"\")","v":2.1},{"$f":"IF($A15<=Daten!$B$8,LOOKUP($B15,Daten!$A$16:$A$65,Daten!$E$16:$E$65),\"\")","v":21.1},{"$f":"IF($A15<=Daten!$B$8,LOOKUP($B15,Daten!$A$67:$A$116,Daten!$L$67:$L$116),\"\")","v":2.2000000000000002},{"$f":"IF($A15<=Daten!$B$8,LOOKUP($B15,Daten!$A$16:$A$65,Daten!$E$67:$E$116),\"\")","v":0},{"$f":"IF($A15<=Daten!$B$8,LOOKUP($B15,Daten!$A$118:$A$167,Daten!$L$118:$L$167),\"\")","v":2.2999999999999998},{"$f":"IF($A15<=Daten!$B$8,LOOKUP($B15,Daten!$A$118:$A$167,Daten!$E$118:$E$167),\"\")","v":0},{"$f":"IF($A15<=Daten!$B$8,LOOKUP($B15,Daten!$A$169:$A$218,Daten!$L$169:$L$218),\"\")","v":2.4},{"$f":"IF($A15<=Daten!$B$8,LOOKUP($B15,Daten!$A$169:$A$218,Daten!$E$169:$E$218),\"\")","v":0},{"$f":"IF($A15<=Daten!$B$8,LOOKUP($B15,Daten!$A$220:$A$269,Daten!$L$220:$L$269),\"\")","v":2.5},{"$f":"IF($A15<=Daten!$B$8,LOOKUP($B15,Daten!$A$220:$A$269,Daten!$E$220:$E$269),\"\")","v":0},{"$f":"IF($A15<=Daten!$B$8,LOOKUP($B15,Daten!$A$271:$A$320,Daten!$L$271:$L$320),\"\")","v":2.6},{"$f":"IF($A15<=Daten!$B$8,LOOKUP($B15,Daten!$A$271:$A$320,Daten!$E$271:$E$320),\"\")","v":0},{"$f":"IF($A15<=Daten!$B$8,LOOKUP($B15,Daten!$A$322:$A$371,Daten!$L$322:$L$371),\"\")","v":2.7},{"$f":"IF($A15<=Daten!$B$8,LOOKUP($B15,Daten!$A$322:$A$371,Daten!$E$322:$E$371),\"\")","v":0}]
[3,{"$f":"IF(A22<=Daten!$B$8,Daten!D9,\"\")","v":"Menülinie 3"},{"$f":"IF(A22<=Daten!$B$8,LOOKUP(B22,Daten!$A$16:$A$65,Daten!$C$16:$C$65),\"\")","v":"Lang[3,1]"},{"$f":"IF($A22<=Daten!$B$8,LOOKUP($B22,Daten!$A$16:$A$65,Daten!$P$16:$P$65),\"\") & \" \" & IF($A22<=Daten!$B$8,LOOKUP($B22,Daten!$A$16:$A$65,Daten!$Q$16:$Q$65),\"\")","v":"3,1 Inhalt1Einh[3,1]"},{"$f":"IF($A22<=Daten!$B$8,LOOKUP($B22,Daten!$A$67:$A$116,Daten!$C$67:$C$116),\"\")","v":"Lang[3,2]"},{"$f":"IF($A22<=Daten!$B$8,LOOKUP($B22,Daten!$A$67:$A$116,Daten!$P$67:$P$116),\"\") & \" \" & IF($A22<=Daten!$B$8,LOOKUP($B22,Daten!$A$67:$A$116,Daten!$Q$67:$Q$116),\"\")","v":"3,2 Inhalt1Einh[3,2]"},{"$f":"IF($A22<=Daten!$B$8,LOOKUP($B22,Daten!$A$118:$A$167,Daten!$C$118:$C$167),\"\")","v":"Lang[3,3]"},{"$f":"IF($A22<=Daten!$B$8,LOOKUP($B22,Daten!$A$118:$A$167,Daten!$P$118:$P$167),\"\") & \" \" & IF($A22<=Daten!$B$8,LOOKUP($B22,Daten!$A$118:$A$167,Daten!$Q$118:$Q$167),\"\")","v":"3,3 Inhalt1Einh[3,3]"},{"$f":"IF($A22<=Daten!$B$8,LOOKUP($B22,Daten!$A$169:$A$218,Daten!$C$169:$C$218),\"\")","v":"Lang[3,4]"},{"$f":"IF($A22<=Daten!$B$8,LOOKUP($B22,Daten!$A$169:$A$218,Daten!$P$169:$P$218),\"\") & \" \" & IF($A22<=Daten!$B$8,LOOKUP($B22,Daten!$A$169:$A$218,Daten!$Q$169:$Q$218),\"\")","v":"3,4 Inhalt1Einh[3,4]"},{"$f":"IF($A22<=Daten!$B$8,LOOKUP($B22,Daten!$A$220:$A$269,Daten!$C$220:$C$269),\"\")","v":"Lang[3,5]"},{"$f":"IF($A22<=Daten!$B$8,LOOKUP($B22,Daten!$A$220:$A$269,Daten!$P$220:$P$269),\"\") & \" \" & IF($A22<=Daten!$B$8,LOOKUP($B22,Daten!$A$220:$A$269,Daten!$Q$220:$Q$269),\"\")","v":"3,5 Inhalt1Einh[3,5]"},{"$f":"IF($A22<=Daten!$B$8,LOOKUP($B22,Daten!$A$271:$A$320,Daten!$C$271:$C$320),\"\")","v":"Lang[3,6]"},{"$f":"IF($A22<=Daten!$B$8,LOOKUP($B22,Daten!$A$271:$A$320,Daten!$P$271:$P$320),\"\") & \" \" & IF($A22<=Daten!$B$8,LOOKUP($B22,Daten!$A$271:$A$320,Daten!$Q$271:$Q$320),\"\")","v":"3,6 Inhalt1Einh[3,6]"},{"$f":"IF($A22<=Daten!$B$8,LOOKUP($B22,Daten!$A$322:$A$371,Daten!$B$322:$C$371),\"\")","v":{"$error":"#N/A"}},{"$f":"IF($A22<=Daten!$B$8,LOOKUP($B22,Daten!$A$322:$A$371,Daten!$P$322:$P$371),\"\") & \" \" & IF($A22<=Daten!$B$8,LOOKUP($B22,Daten!$A$322:$A$371,Daten!$Q$322:$Q$371),\"\")","v":"3,7 Inhalt1Einh[3,7]"}]
[null,null,null,{"$f":"IF($A22<=Daten!$B$8,LOOKUP($B22,Daten!$A$16:$A$65,Daten!$R$16:$R$65),\"\") & \" \" & IF($A22<=Daten!$B$8,LOOKUP($B22,Daten!$A$16:$A$65,Daten!$S$16:$S$65),\"\")","v":"3,1 Inhalt2Einh[3,1]"},null,{"$f":"IF($A22<=Daten!$B$8,LOOKUP($B22,Daten!$A$67:$A$116,Daten!$R$67:$R$116),\"\") & \" \" & IF($A22<=Daten!$B$8,LOOKUP($B22,Daten!$A$67:$A$116,Daten!$S$67:$S$116),\"\")","v":"3,2 Inhalt2Einh[3,2]"},null,{"$f":"IF($A22<=Daten!$B$8,LOOKUP($B22,Daten!$A$118:$A$167,Daten!$R$118:$R$167),\"\") & \" \" & IF($A22<=Daten!$B$8,LOOKUP($B22,Daten!$A$118:$A$167,Daten!$S$118:$S$167),\"\")","v":"3,3 Inhalt2Einh[3,3]"},null,{"$f":"IF($A22<=Daten!$B$8,LOOKUP($B22,Daten!$A$169:$A$218,Daten!$R$169:$R$218),\"\") & \" \" & IF($A22<=Daten!$B$8,LOOKUP($B22,Daten!$A$169:$A$218,Daten!$S$169:$S$218),\"\")","v":"3,4 Inhalt2Einh[3,4]"},null,{"$f":"IF($A22<=Daten!$B$8,LOOKUP($B22,Daten!$A$220:$A$269,Daten!$R$220:$R$269),\"\") & \" \" & IF($A22<=Daten!$B$8,LOOKUP($B22,Daten!$A$220:$A$269,Daten!$S$220:$S$269),\"\")","v":"3,5 Inhalt2Einh[3,5]"},null,{"$f":"IF($A22<=Daten!$B$8,LOOKUP($B22,Daten!$A$271:$A$320,Daten!$R$271:$R$320),\"\") & \" \" & IF($A22<=Daten!$B$8,LOOKUP($B22,Daten!$A$271:$A$320,Daten!$S$271:$S$320),\"\")","v":"3,6 Inhalt2Einh[3,6]"},null,{"$f":"IF($A22<=Daten!$B$8,LOOKUP($B22,Daten!$A$322:$A$371,Daten!$R$322:$R$371),\"\") & \" \" & IF($A22<=Daten!$B$8,LOOKUP($B22,Daten!$A$322:$A$371,Daten!$S$322:$S$371),\"\")","v":"3,7 Inhalt2Einh[3,7]"}]
[null,null,null,{"$f":"IF($A22<=Daten!$B$8,LOOKUP($B22,Daten!$A$16:$A$65,Daten!$T$16:$T$65),\"\") & \" \" & IF($A22<=Daten!$B$8,LOOKUP($B22,Daten!$A$16:$A$65,Daten!$U$16:$U$65),\"\")","v":"3,1 Inhalt3Einh[3,1]"},null,{"$f":"IF($A22<=Daten!$B$8,LOOKUP($B22,Daten!$A$67:$A$116,Daten!$T$67:$T$116),\"\") & \" \" & IF($A22<=Daten!$B$8,LOOKUP($B22,Daten!$A$67:$A$116,Daten!$U$67:$U$116),\"\")","v":"3,2 Inhalt3Einh[3,2]"},null,{"$f":"IF($A22<=Daten!$B$8,LOOKUP($B22,Daten!$A$118:$A$167,Daten!$T$118:$T$167),\"\") & \" \" & IF($A22<=Daten!$B$8,LOOKUP($B22,Daten!$A$118:$A$167,Daten!$U$118:$U$167),\"\")","v":"3,3 Inhalt3Einh[3,3]"},null,{"$f":"IF($A22<=Daten!$B$8,LOOKUP($B22,Daten!$A$169:$A$218,Daten!$T$169:$T$218),\"\") & \" \" & IF($A22<=Daten!$B$8,LOOKUP($B22,Daten!$A$169:$A$218,Daten!$U$169:$U$218),\"\")","v":"3,4 Inhalt3Einh[3,4]"},null,{"$f":"IF($A22<=Daten!$B$8,LOOKUP($B22,Daten!$A$220:$A$269,Daten!$T$220:$T$269),\"\") & \" \" & IF($A22<=Daten!$B$8,LOOKUP($B22,Daten!$A$220:$A$269,Daten!$U$220:$U$269),\"\")","v":"3,5 Inhalt3Einh[3,5]"},null,{"$f":"IF($A22<=Daten!$B$8,LOOKUP($B22,Daten!$A$271:$A$320,Daten!$T$271:$T$320),\"\") & \" \" & IF($A22<=Daten!$B$8,LOOKUP($B22,Daten!$A$271:$A$320,Daten!$U$271:$U$320),\"\")","v":"3,6 Inhalt3Einh[3,6]"},null,{"$f":"IF($A22<=Daten!$B$8,LOOKUP($B22,Daten!$A$322:$A$371,Daten!$T$322:$T$371),\"\") & \" \" & IF($A22<=Daten!$B$8,LOOKUP($B22,Daten!$A$322:$A$371,Daten!$U$322:$U$371),\"\")","v":"3,7 Inhalt3Einh[3,7]"}]
[null,null,null,{"$f":"IF($A22<=Daten!$B$8,LOOKUP($B22,Daten!$A$16:$A$65,Daten!$V$16:$V$65),\"\") & \" \" & IF($A22<=Daten!$B$8,LOOKUP($B22,Daten!$A$16:$A$65,Daten!$W$16:$W$65),\"\")","v":"3,1 Inhalt4Einh[3,1]"},null,{"$f":"IF($A22<=Daten!$B$8,LOOKUP($B22,Daten!$A$67:$A$116,Daten!$V$67:$V$116),\"\") & \" \" & IF($A22<=Daten!$B$8,LOOKUP($B22,Daten!$A$67:$A$116,Daten!$W$67:$W$116),\"\")","v":"3,2 Inhalt4Einh[3,2]"},null,{"$f":"IF($A22<=Daten!$B$8,LOOKUP($B22,Daten!$A$118:$A$167,Daten!$V$118:$V$167),\"\") & \" \" & IF($A22<=Daten!$B$8,LOOKUP($B22,Daten!$A$118:$A$167,Daten!$W$118:$W$167),\"\")","v":"3,3 Inhalt4Einh[3,3]"},null,{"$f":"IF($A22<=Daten!$B$8,LOOKUP($B22,Daten!$A$169:$A$218,Daten!$V$169:$V$218),\"\") & \" \" & IF($A22<=Daten!$B$8,LOOKUP($B22,Daten!$A$169:$A$218,Daten!$W$169:$W$218),\"\")","v":"3,4 Inhalt4Einh[3,4]"},null,{"$f":"IF($A22<=Daten!$B$8,LOOKUP($B22,Daten!$A$220:$A$269,Daten!$V$220:$V$269),\"\") & \" \" & IF($A22<=Daten!$B$8,LOOKUP($B22,Daten!$A$220:$A$269,Daten!$W$220:$W$269),\"\")","v":"3,5 Inhalt4Einh[3,5]"},null,{"$f":"IF($A22<=Daten!$B$8,LOOKUP($B22,Daten!$A$271:$A$320,Daten!$V$271:$V$320),\"\") & \" \" & IF($A22<=Daten!$B$8,LOOKUP($B22,Daten!$A$271:$A$320,Daten!$W$271:$W$320),\"\")","v":"3,6 Inhalt4Einh[3,6]"},null,{"$f":"IF($A22<=Daten!$B$8,LOOKUP($B22,Daten!$A$322:$A$371,Daten!$V$322:$V$371),\"\") & \" \" & IF($A22<=Daten!$B$8,LOOKUP($B22,Daten!$A$322:$A$371,Daten!$W$322:$W$371),\"\")","v":"3,7 Inhalt4Einh[3,7]"}]
[null,null,null,{"$f":"IF($A22<=Daten!$B$8,LOOKUP($B22,Daten!$A$16:$A$65,Daten!$X$16:$X$65),\"\") & \" \" & IF($A22<=Daten!$B$8,LOOKUP($B22,Daten!$A$16:$A$65,Daten!$Y$16:$Y$65),\"\")","v":"3,1 Inhalt5Einh[3,1]"},null,{"$f":"IF($A22<=Daten!$B$8,LOOKUP($B22,Daten!$A$67:$A$116,Daten!$X$67:$X$116),\"\") & \" \" & IF($A22<=Daten!$B$8,LOOKUP($B22,Daten!$A$67:$A$116,Daten!$Y$67:$Y$116),\"\")","v":"3,2 Inhalt5Einh[3,2]"},null,{"$f":"IF($A22<=Daten!$B$8,LOOKUP($B22,Daten!$A$118:$A$167,Daten!$X$118:$X$167),\"\") & \" \" & IF($A22<=Daten!$B$8,LOOKUP($B22,Daten!$A$118:$A$167,Daten!$Y$118:$Y$167),\"\")","v":"3,3 Inhalt5Einh[3,3]"},null,{"$f":"IF($A22<=Daten!$B$8,LOOKUP($B22,Daten!$A$169:$A$218,Daten!$X$169:$X$218),\"\") & \" \" & IF($A22<=Daten!$B$8,LOOKUP($B22,Daten!$A$169:$A$218,Daten!$Y$169:$Y$218),\"\")","v":"3,4 Inhalt5Einh[3,4]"},null,{"$f":"IF($A22<=Daten!$B$8,LOOKUP($B22,Daten!$A$220:$A$269,Daten!$X$220:$X$269),\"\") & \" \" & IF($A22<=Daten!$B$8,LOOKUP($B22,Daten!$A$220:$A$269,Daten!$Y$220:$Y$269),\"\")","v":"3,5 Inhalt5Einh[3,5]"},null,{"$f":"IF($A22<=Daten!$B$8,LOOKUP($B22,Daten!$A$271:$A$320,Daten!$X$271:$X$320),\"\") & \" \" & IF($A22<=Daten!$B$8,LOOKUP($B22,Daten!$A$271:$A$320,Daten!$Y$271:$Y$320),\"\")","v":"3,6 Inhalt5Einh[3,6]"},null,{"$f":"IF($A22<=Daten!$B$8,LOOKUP($B22,Daten!$A$322:$A$371,Daten!$X$322:$X$371),\"\") & \" \" & IF($A22<=Daten!$B$8,LOOKUP($B22,Daten!$A$322:$A$371,Daten!$Y$322:$Y$371),\"\")","v":"3,7 Inhalt5Einh[3,7]"}]
[null,null,null,{"$f":"IF($A22<=Daten!$B$8,LOOKUP($B22,Daten!$A$16:$A$65,Daten!$Z$16:$Z$65),\"\") & \" \" & IF($A22<=Daten!$B$8,LOOKUP($B22,Daten!$A$16:$A$65,Daten!$AA$16:$AA$65),\"\")","v":"3,1 Inhalt6Einh[3,1]"},null,{"$f":"IF($A22<=Daten!$B$8,LOOKUP($B22,Daten!$A$67:$A$116,Daten!$Z$67:$Z$116),\"\") & \" \" & IF($A22<=Daten!$B$8,LOOKUP($B22,Daten!$A$67:$A$116,Daten!$AA$67:$AA$116),\"\")","v":"3,2 Inhalt6Einh[3,2]"},null,{"$f":"IF($A22<=Daten!$B$8,LOOKUP($B22,Daten!$A$118:$A$167,Daten!$Z$118:$Z$167),\"\") & \" \" & IF($A22<=Daten!$B$8,LOOKUP($B22,Daten!$A$118:$A$167,Daten!$AA$118:$AA$167),\"\")","v":"3,3 Inhalt6Einh[3,3]"},null,{"$f":"IF($A22<=Daten!$B$8,LOOKUP($B22,Daten!$A$169:$A$218,Daten!$Z$169:$Z$218),\"\") & \" \" & IF($A22<=Daten!$B$8,LOOKUP($B22,Daten!$A$169:$A$218,Daten!$AA$169:$AA$218),\"\")","v":"3,4 Inhalt6Einh[3,4]"},null,{"$f":"IF($A22<=Daten!$B$8,LOOKUP($B22,Daten!$A$220:$A$269,Daten!$Z$220:$Z$269),\"\") & \" \" & IF($A22<=Daten!$B$8,LOOKUP($B22,Daten!$A$220:$A$269,Daten!$AA$220:$AA$269),\"\")","v":"3,5 Inhalt6Einh[3,5]"},null,{"$f":"IF($A22<=Daten!$B$8,LOOKUP($B22,Daten!$A$271:$A$320,Daten!$Z$271:$Z$320),\"\") & \" \" & IF($A22<=Daten!$B$8,LOOKUP($B22,Daten!$A$271:$A$320,Daten!$AA$271:$AA$320),\"\")","v":"3,6 Inhalt6Einh[3,6]"},null,{"$f":"IF($A22<=Daten!$B$8,LOOKUP($B22,Daten!$A$322:$A$371,Daten!$Z$322:$Z$371),\"\") & \" \" & IF($A22<=Daten!$B$8,LOOKUP($B22,Daten!$A$322:$A$371,Daten!$AA$322:$AA$371),\"\")","v":"3,7 Inhalt6Einh[3,7]"}]
[null,{"$f":"IF(A22<=Daten!$B$8,\"Zusatzstoffe\",\"\")","v":"Zusatzstoffe"},{"$f":"IF($A22<=Daten!$B$8,LOOKUP($B22,Daten!$A$16:$A$65,Daten!$L$16:$L$65),\"\")","v":3.1},{"$f":"IF($A22<=Daten!$B$8,LOOKUP($B22,Daten!$A$16:$A$65,Daten!$E$16:$E$65),\"\")","v":21.1},{"$f":"IF($A22<=Daten!$B$8,LOOKUP($B22,Daten!$A$67:$A$116,Daten!$L$67:$L$116),\"\")","v":3.2},{"$f":"IF($A22<=Daten!$B$8,LOOKUP($B22,Daten!$A$16:$A$65,Daten!$E$67:$E$116),\"\")","v":0},{"$f":"IF($A22<=Daten!$B$8,LOOKUP($B22,Daten!$A$118:$A$167,Daten!$L$118:$L$167),\"\")","v":3.3},{"$f":"IF($A22<=Daten!$B$8,LOOKUP($B22,Daten!$A$118:$A$167,Daten!$E$118:$E$167),\"\")","v":0},{"$f":"IF($A22<=Daten!$B$8,LOOKUP($B22,Daten!$A$169:$A$218,Daten!$L$169:$L$218),\"\")","v":3.4},{"$f":"IF($A22<=Daten!$B$8,LOOKUP($B22,Daten!$A$169:$A$218,Daten!$E$169:$E$218),\"\")","v":0},{"$f":"IF($A22<=Daten!$B$8,LOOKUP($B22,Daten!$A$220:$A$269,Daten!$L$220:$L$269),\"\")","v":3.5},{"$f":"IF($A22<=Daten!$B$8,LOOKUP($B22,Daten!$A$220:$A$269,Daten!$E$220:$E$269),\"\")","v":0},{"$f":"IF($A22<=Daten!$B$8,LOOKUP($B22,Daten!$A$271:$A$320,Daten!$L$271:$L$320),\"\")","v":3.6},{"$f":"IF($A22<=Daten!$B$8,LOOKUP($B22,Daten!$A$271:$A$320,Daten!$E$271:$E$320),\"\")","v":0},{"$f":"IF($A22<=Daten!$B$8,LOOKUP($B22,Daten!$A$322:$A$371,Daten!$L$322:$L$371),\"\")","v":3.7},{"$f":"IF($A22<=Daten!$B$8,LOOKUP($B22,Daten!$A$322:$A$371,Daten!$E$322:$E$371),\"\")","v":0}]
[4,{"$f":"IF(A29<=Daten!$B$8,Daten!E9,\"\")","v":"Menülinie 4"},{"$f":"IF(A29<=Daten!$B$8,LOOKUP(B29,Daten!$A$16:$A$65,Daten!$C$16:$C$65),\"\")","v":"Lang[4,1]"},{"$f":"IF($A29<=Daten!$B$8,LOOKUP($B29,Daten!$A$16:$A$65,Daten!$P$16:$P$65),\"\") & \" \" & IF($A29<=Daten!$B$8,LOOKUP($B29,Daten!$A$16:$A$65,Daten!$Q$16:$Q$65),\"\")","v":"4,1 Inhalt1Einh[4,1]"},{"$f":"IF($A29<=Daten!$B$8,LOOKUP($B29,Daten!$A$67:$A$116,Daten!$C$67:$C$116),\"\")","v":"Lang[4,2]"},{"$f":"IF($A29<=Daten!$B$8,LOOKUP($B29,Daten!$A$67:$A$116,Daten!$P$67:$P$116),\"\") & \" \" & IF($A29<=Daten!$B$8,LOOKUP($B29,Daten!$A$67:$A$116,Daten!$Q$67:$Q$116),\"\")","v":"4,2 Inhalt1Einh[4,2]"},{"$f":"IF($A29<=Daten!$B$8,LOOKUP($B29,Daten!$A$118:$A$167,Daten!$C$118:$C$167),\"\")","v":"Lang[4,3]"},{"$f":"IF($A29<=Daten!$B$8,LOOKUP($B29,Daten!$A$118:$A$167,Daten!$P$118:$P$167),\"\") & \" \" & IF($A29<=Daten!$B$8,LOOKUP($B29,Daten!$A$118:$A$167,Daten!$Q$118:$Q$167),\"\")","v":"4,3 Inhalt1Einh[4,3]"},{"$f":"IF($A29<=Daten!$B$8,LOOKUP($B29,Daten!$A$169:$A$218,Daten!$C$169:$C$218),\"\")","v":"Lang[4,4]"},{"$f":"IF($A29<=Daten!$B$8,LOOKUP($B29,Daten!$A$169:$A$218,Daten!$P$169:$P$218),\"\") & \" \" & IF($A29<=Daten!$B$8,LOOKUP($B29,Daten!$A$169:$A$218,Daten!$Q$169:$Q$218),\"\")","v":"4,4 Inhalt1Einh[4,4]"},{"$f":"IF($A29<=Daten!$B$8,LOOKUP($B29,Daten!$A$220:$A$269,Daten!$C$220:$C$269),\"\")","v":"Lang[4,5]"},{"$f":"IF($A29<=Daten!$B$8,LOOKUP($B29,Daten!$A$220:$A$269,Daten!$P$220:$P$269),\"\") & \" \" & IF($A29<=Daten!$B$8,LOOKUP($B29,Daten!$A$220:$A$269,Daten!$Q$220:$Q$269),\"\")","v":"4,5 Inhalt1Einh[4,5]"},{"$f":"IF($A29<=Daten!$B$8,LOOKUP($B29,Daten!$A$271:$A$320,Daten!$C$271:$C$320),\"\")","v":"Lang[4,6]"},{"$f":"IF($A29<=Daten!$B$8,LOOKUP($B29,Daten!$A$271:$A$320,Daten!$P$271:$P$320),\"\") & \" \" & IF($A29<=Daten!$B$8,LOOKUP($B29,Daten!$A$271:$A$320,Daten!$Q$271:$Q$320),\"\")","v":"4,6 Inhalt1Einh[4,6]"},{"$f":"IF($A29<=Daten!$B$8,LOOKUP($B29,Daten!$A$322:$A$371,Daten!$B$322:$C$371),\"\")","v":{"$error":"#N/A"}},{"$f":"IF($A29<=Daten!$B$8,LOOKUP($B29,Daten!$A$322:$A$371,Daten!$P$322:$P$371),\"\") & \" \" & IF($A29<=Daten!$B$8,LOOKUP($B29,Daten!$A$322:$A$371,Daten!$Q$322:$Q$371),\"\")","v":"4,7 Inhalt1Einh[4,7]"}]
[null,null,null,{"$f":"IF($A29<=Daten!$B$8,LOOKUP($B29,Daten!$A$16:$A$65,Daten!$R$16:$R$65),\"\") & \" \" & IF($A29<=Daten!$B$8,LOOKUP($B29,Daten!$A$16:$A$65,Daten!$S$16:$S$65),\"\")","v":"4,1 Inhalt2Einh[4,1]"},null,{"$f":"IF($A29<=Daten!$B$8,LOOKUP($B29,Daten!$A$67:$A$116,Daten!$R$67:$R$116),\"\") & \" \" & IF($A29<=Daten!$B$8,LOOKUP($B29,Daten!$A$67:$A$116,Daten!$S$67:$S$116),\"\")","v":"4,2 Inhalt2Einh[4,2]"},null,{"$f":"IF($A29<=Daten!$B$8,LOOKUP($B29,Daten!$A$118:$A$167,Daten!$R$118:$R$167),\"\") & \" \" & IF($A29<=Daten!$B$8,LOOKUP($B29,Daten!$A$118:$A$167,Daten!$S$118:$S$167),\"\")","v":"4,3 Inhalt2Einh[4,3]"},null,{"$f":"IF($A29<=Daten!$B$8,LOOKUP($B29,Daten!$A$169:$A$218,Daten!$R$169:$R$218),\"\") & \" \" & IF($A29<=Daten!$B$8,LOOKUP($B29,Daten!$A$169:$A$218,Daten!$S$169:$S$218),\"\")","v":"4,4 Inhalt2Einh[4,4]"},null,{"$f":"IF($A29<=Daten!$B$8,LOOKUP($B29,Daten!$A$220:$A$269,Daten!$R$220:$R$269),\"\") & \" \" & IF($A29<=Daten!$B$8,LOOKUP($B29,Daten!$A$220:$A$269,Daten!$S$220:$S$269),\"\")","v":"4,5 Inhalt2Einh[4,5]"},null,{"$f":"IF($A29<=Daten!$B$8,LOOKUP($B29,Daten!$A$271:$A$320,Daten!$R$271:$R$320),\"\") & \" \" & IF($A29<=Daten!$B$8,LOOKUP($B29,Daten!$A$271:$A$320,Daten!$S$271:$S$320),\"\")","v":"4,6 Inhalt2Einh[4,6]"},null,{"$f":"IF($A29<=Daten!$B$8,LOOKUP($B29,Daten!$A$322:$A$371,Daten!$R$322:$R$371),\"\") & \" \" & IF($A29<=Daten!$B$8,LOOKUP($B29,Daten!$A$322:$A$371,Daten!$S$322:$S$371),\"\")","v":"4,7 Inhalt2Einh[4,7]"}]
[null,null,null,{"$f":"IF($A29<=Daten!$B$8,LOOKUP($B29,Daten!$A$16:$A$65,Daten!$T$16:$T$65),\"\") & \" \" & IF($A29<=Daten!$B$8,LOOKUP($B29,Daten!$A$16:$A$65,Daten!$U$16:$U$65),\"\")","v":"4,1 Inhalt3Einh[4,1]"},null,{"$f":"IF($A29<=Daten!$B$8,LOOKUP($B29,Daten!$A$67:$A$116,Daten!$T$67:$T$116),\"\") & \" \" & IF($A29<=Daten!$B$8,LOOKUP($B29,Daten!$A$67:$A$116,Daten!$U$67:$U$116),\"\")","v":"4,2 Inhalt3Einh[4,2]"},null,{"$f":"IF($A29<=Daten!$B$8,LOOKUP($B29,Daten!$A$118:$A$167,Daten!$T$118:$T$167),\"\") & \" \" & IF($A29<=Daten!$B$8,LOOKUP($B29,Daten!$A$118:$A$167,Daten!$U$118:$U$167),\"\")","v":"4,3 Inhalt3Einh[4,3]"},null,{"$f":"IF($A29<=Daten!$B$8,LOOKUP($B29,Daten!$A$169:$A$218,Daten!$T$169:$T$218),\"\") & \" \" & IF($A29<=Daten!$B$8,LOOKUP($B29,Daten!$A$169:$A$218,Daten!$U$169:$U$218),\"\")","v":"4,4 Inhalt3Einh[4,4]"},null,{"$f":"IF($A29<=Daten!$B$8,LOOKUP($B29,Daten!$A$220:$A$269,Daten!$T$220:$T$269),\"\") & \" \" & IF($A29<=Daten!$B$8,LOOKUP($B29,Daten!$A$220:$A$269,Daten!$U$220:$U$269),\"\")","v":"4,5 Inhalt3Einh[4,5]"},null,{"$f":"IF($A29<=Daten!$B$8,LOOKUP($B29,Daten!$A$271:$A$320,Daten!$T$271:$T$320),\"\") & \" \" & IF($A29<=Daten!$B$8,LOOKUP($B29,Daten!$A$271:$A$320,Daten!$U$271:$U$320),\"\")","v":"4,6 Inhalt3Einh[4,6]"},null,{"$f":"IF($A29<=Daten!$B$8,LOOKUP($B29,Daten!$A$322:$A$371,Daten!$T$322:$T$371),\"\") & \" \" & IF($A29<=Daten!$B$8,LOOKUP($B29,Daten!$A$322:$A$371,Daten!$U$322:$U$371),\"\")","v":"4,7 Inhalt3Einh[4,7]"}]
[null,null,null,{"$f":"IF($A29<=Daten!$B$8,LOOKUP($B29,Daten!$A$16:$A$65,Daten!$V$16:$V$65),\"\") & \" \" & IF($A29<=Daten!$B$8,LOOKUP($B29,Daten!$A$16:$A$65,Daten!$W$16:$W$65),\"\")","v":"4,1 Inhalt4Einh[4,1]"},null,{"$f":"IF($A29<=Daten!$B$8,LOOKUP($B29,Daten!$A$67:$A$116,Daten!$V$67:$V$116),\"\") & \" \" & IF($A29<=Daten!$B$8,LOOKUP($B29,Daten!$A$67:$A$116,Daten!$W$67:$W$116),\"\")","v":"4,2 Inhalt4Einh[4,2]"},null,{"$f":"IF($A29<=Daten!$B$8,LOOKUP($B29,Daten!$A$118:$A$167,Daten!$V$118:$V$167),\"\") & \" \" & IF($A29<=Daten!$B$8,LOOKUP($B29,Daten!$A$118:$A$167,Daten!$W$118:$W$167),\"\")","v":"4,3 Inhalt4Einh[4,3]"},null,{"$f":"IF($A29<=Daten!$B$8,LOOKUP($B29,Daten!$A$169:$A$218,Daten!$V$169:$V$218),\"\") & \" \" & IF($A29<=Daten!$B$8,LOOKUP($B29,Daten!$A$169:$A$218,Daten!$W$169:$W$218),\"\")","v":"4,4 Inhalt4Einh[4,4]"},null,{"$f":"IF($A29<=Daten!$B$8,LOOKUP($B29,Daten!$A$220:$A$269,Daten!$V$220:$V$269),\"\") & \" \" & IF($A29<=Daten!$B$8,LOOKUP($B29,Daten!$A$220:$A$269,Daten!$W$220:$W$269),\"\")","v":"4,5 Inhalt4Einh[4,5]"},null,{"$f":"IF($A29<=Daten!$B$8,LOOKUP($B29,Daten!$A$271:$A$320,Daten!$V$271:$V$320),\"\") & \" \" & IF($A29<=Daten!$B$8,LOOKUP($B29,Daten!$A$271:$A$320,Daten!$W$271:$W$320),\"\")","v":"4,6 Inhalt4Einh[4,6]"},null,{"$f":"IF($A29<=Daten!$B$8,LOOKUP($B29,Daten!$A$322:$A$371,Daten!$V$322:$V$371),\"\") & \" \" & IF($A29<=Daten!$B$8,LOOKUP($B29,Daten!$A$322:$A$371,Daten!$W$322:$W$371),\"\")","v":"4,7 Inhalt4Einh[4,7]"}]
[null,null,null,{"$f":"IF($A29<=Daten!$B$8,LOOKUP($B29,Daten!$A$16:$A$65,Daten!$X$16:$X$65),\"\") & \" \" & IF($A29<=Daten!$B$8,LOOKUP($B29,Daten!$A$16:$A$65,Daten!$Y$16:$Y$65),\"\")","v":"4,1 Inhalt5Einh[4,1]"},null,{"$f":"IF($A29<=Daten!$B$8,LOOKUP($B29,Daten!$A$67:$A$116,Daten!$X$67:$X$116),\"\") & \" \" & IF($A29<=Daten!$B$8,LOOKUP($B29,Daten!$A$67:$A$116,Daten!$Y$67:$Y$116),\"\")","v":"4,2 Inhalt5Einh[4,2]"},null,{"$f":"IF($A29<=Daten!$B$8,LOOKUP($B29,Daten!$A$118:$A$167,Daten!$X$118:$X$167),\"\") & \" \" & IF($A29<=Daten!$B$8,LOOKUP($B29,Daten!$A$118:$A$167,Daten!$Y$118:$Y$167),\"\")","v":"4,3 Inhalt5Einh[4,3]"},null,{"$f":"IF($A29<=Daten!$B$8,LOOKUP($B29,Daten!$A$169:$A$218,Daten!$X$169:$X$218),\"\") & \" \" & IF($A29<=Daten!$B$8,LOOKUP($B29,Daten!$A$169:$A$218,Daten!$Y$169:$Y$218),\"\")","v":"4,4 Inhalt5Einh[4,4]"},null,{"$f":"IF($A29<=Daten!$B$8,LOOKUP($B29,Daten!$A$220:$A$269,Daten!$X$220:$X$269),\"\") & \" \" & IF($A29<=Daten!$B$8,LOOKUP($B29,Daten!$A$220:$A$269,Daten!$Y$220:$Y$269),\"\")","v":"4,5 Inhalt5Einh[4,5]"},null,{"$f":"IF($A29<=Daten!$B$8,LOOKUP($B29,Daten!$A$271:$A$320,Daten!$X$271:$X$320),\"\") & \" \" & IF($A29<=Daten!$B$8,LOOKUP($B29,Daten!$A$271:$A$320,Daten!$Y$271:$Y$320),\"\")","v":"4,6 Inhalt5Einh[4,6]"},null,{"$f":"IF($A29<=Daten!$B$8,LOOKUP($B29,Daten!$A$322:$A$371,Daten!$X$322:$X$371),\"\") & \" \" & IF($A29<=Daten!$B$8,LOOKUP($B29,Daten!$A$322:$A$371,Daten!$Y$322:$Y$371),\"\")","v":"4,7 Inhalt5Einh[4,7]"}]
[null,null,null,{"$f":"IF($A29<=Daten!$B$8,LOOKUP($B29,Daten!$A$16:$A$65,Daten!$Z$16:$Z$65),\"\") & \" \" & IF($A29<=Daten!$B$8,LOOKUP($B29,Daten!$A$16:$A$65,Daten!$AA$16:$AA$65),\"\")","v":"4,1 Inhalt6Einh[4,1]"},null,{"$f":"IF($A29<=Daten!$B$8,LOOKUP($B29,Daten!$A$67:$A$116,Daten!$Z$67:$Z$116),\"\") & \" \" & IF($A29<=Daten!$B$8,LOOKUP($B29,Daten!$A$67:$A$116,Daten!$AA$67:$AA$116),\"\")","v":"4,2 Inhalt6Einh[4,2]"},null,{"$f":"IF($A29<=Daten!$B$8,LOOKUP($B29,Daten!$A$118:$A$167,Daten!$Z$118:$Z$167),\"\") & \" \" & IF($A29<=Daten!$B$8,LOOKUP($B29,Daten!$A$118:$A$167,Daten!$AA$118:$AA$167),\"\")","v":"4,3 Inhalt6Einh[4,3]"},null,{"$f":"IF($A29<=Daten!$B$8,LOOKUP($B29,Daten!$A$169:$A$218,Daten!$Z$169:$Z$218),\"\") & \" \" & IF($A29<=Daten!$B$8,LOOKUP($B29,Daten!$A$169:$A$218,Daten!$AA$169:$AA$218),\"\")","v":"4,4 Inhalt6Einh[4,4]"},null,{"$f":"IF($A29<=Daten!$B$8,LOOKUP($B29,Daten!$A$220:$A$269,Daten!$Z$220:$Z$269),\"\") & \" \" & IF($A29<=Daten!$B$8,LOOKUP($B29,Daten!$A$220:$A$269,Daten!$AA$220:$AA$269),\"\")","v":"4,5 Inhalt6Einh[4,5]"},null,{"$f":"IF($A29<=Daten!$B$8,LOOKUP($B29,Daten!$A$271:$A$320,Daten!$Z$271:$Z$320),\"\") & \" \" & IF($A29<=Daten!$B$8,LOOKUP($B29,Daten!$A$271:$A$320,Daten!$AA$271:$AA$320),\"\")","v":"4,6 Inhalt6Einh[4,6]"},null,{"$f":"IF($A29<=Daten!$B$8,LOOKUP($B29,Daten!$A$322:$A$371,Daten!$Z$322:$Z$371),\"\") & \" \" & IF($A29<=Daten!$B$8,LOOKUP($B29,Daten!$A$322:$A$371,Daten!$AA$322:$AA$371),\"\")","v":"4,7 Inhalt6Einh[4,7]"}]
[null,{"$f":"IF(A29<=Daten!$B$8,\"Zusatzstoffe\",\"\")","v":"Zusatzstoffe"},{"$f":"IF($A29<=Daten!$B$8,LOOKUP($B29,Daten!$A$16:$A$65,Daten!$L$16:$L$65),\"\")","v":4.0999999999999996},{"$f":"IF($A29<=Daten!$B$8,LOOKUP($B29,Daten!$A$16:$A$65,Daten!$E$16:$E$65),\"\")","v":21.1},{"$f":"IF($A29<=Daten!$B$8,LOOKUP($B29,Daten!$A$67:$A$116,Daten!$L$67:$L$116),\"\")","v":4.2},{"$f":"IF($A29<=Daten!$B$8,LOOKUP($B29,Daten!$A$16:$A$65,Daten!$E$67:$E$116),\"\")","v":0},{"$f":"IF($A29<=Daten!$B$8,LOOKUP($B29,Daten!$A$118:$A$167,Daten!$L$118:$L$167),\"\")","v":4.3},{"$f":"IF($A29<=Daten!$B$8,LOOKUP($B29,Daten!$A$118:$A$167,Daten!$E$118:$E$167),\"\")","v":0},{"$f":"IF($A29<=Daten!$B$8,LOOKUP($B29,Daten!$A$169:$A$218,Daten!$L$169:$L$218),\"\")","v":4.4000000000000004},{"$f":"IF($A29<=Daten!$B$8,LOOKUP($B29,Daten!$A$169:$A$218,Daten!$E$169:$E$218),\"\")","v":0},{"$f":"IF($A29<=Daten!$B$8,LOOKUP($B29,Daten!$A$220:$A$269,Daten!$L$220:$L$269),\"\")","v":4.5},{"$f":"IF($A29<=Daten!$B$8,LOOKUP($B29,Daten!$A$220:$A$269,Daten!$E$220:$E$269),\"\")","v":0},{"$f":"IF($A29<=Daten!$B$8,LOOKUP($B29,Daten!$A$271:$A$320,Daten!$L$271:$L$320),\"\")","v":4.5999999999999996},{"$f":"IF($A29<=Daten!$B$8,LOOKUP($B29,Daten!$A$271:$A$320,Daten!$E$271:$E$320),\"\")","v":0},{"$f":"IF($A29<=Daten!$B$8,LOOKUP($B29,Daten!$A$322:$A$371,Daten!$L$322:$L$371),\"\")","v":4.7},{"$f":"IF($A29<=Daten!$B$8,LOOKUP($B29,Daten!$A$322:$A$371,Daten!$E$322:$E$371),\"\")","v":0}]
[5,{"$f":"IF(A36<=Daten!$B$8,Daten!F9,\"\")","v":"Menülinie 5"},{"$f":"IF(A36<=Daten!$B$8,LOOKUP(B36,Daten!$A$16:$A$65,Daten!$C$16:$C$65),\"\")","v":"Lang[5,1]"},{"$f":"IF($A36<=Daten!$B$8,LOOKUP($B36,Daten!$A$16:$A$65,Daten!$P$16:$P$65),\"\") & \" \" & IF($A36<=Daten!$B$8,LOOKUP($B36,Daten!$A$16:$A$65,Daten!$Q$16:$Q$65),\"\")","v":"5,1 Inhalt1Einh[5,1]"},{"$f":"IF($A36<=Daten!$B$8,LOOKUP($B36,Daten!$A$67:$A$116,Daten!$C$67:$C$116),\"\")","v":"Lang[5,2]"},{"$f":"IF($A36<=Daten!$B$8,LOOKUP($B36,Daten!$A$67:$A$116,Daten!$P$67:$P$116),\"\") & \" \" & IF($A36<=Daten!$B$8,LOOKUP($B36,Daten!$A$67:$A$116,Daten!$Q$67:$Q$116),\"\")","v":"5,2 Inhalt1Einh[5,2]"},{"$f":"IF($A36<=Daten!$B$8,LOOKUP($B36,Daten!$A$118:$A$167,Daten!$C$118:$C$167),\"\")","v":"Lang[5,3]"},{"$f":"IF($A36<=Daten!$B$8,LOOKUP($B36,Daten!$A$118:$A$167,Daten!$P$118:$P$167),\"\") & \" \" & IF($A36<=Daten!$B$8,LOOKUP($B36,Daten!$A$118:$A$167,Daten!$Q$118:$Q$167),\"\")","v":"5,3 Inhalt1Einh[5,3]"},{"$f":"IF($A36<=Daten!$B$8,LOOKUP($B36,Daten!$A$169:$A$218,Daten!$C$169:$C$218),\"\")","v":"Lang[5,4]"},{"$f":"IF($A36<=Daten!$B$8,LOOKUP($B36,Daten!$A$169:$A$218,Daten!$P$169:$P$218),\"\") & \" \" & IF($A36<=Daten!$B$8,LOOKUP($B36,Daten!$A$169:$A$218,Daten!$Q$169:$Q$218),\"\")","v":"5,4 Inhalt1Einh[5,4]"},{"$f":"IF($A36<=Daten!$B$8,LOOKUP($B36,Daten!$A$220:$A$269,Daten!$C$220:$C$269),\"\")","v":"Lang[5,5]"},{"$f":"IF($A36<=Daten!$B$8,LOOKUP($B36,Daten!$A$220:$A$269,Daten!$P$220:$P$269),\"\") & \" \" & IF($A36<=Daten!$B$8,LOOKUP($B36,Daten!$A$220:$A$269,Daten!$Q$220:$Q$269),\"\")","v":"5,5 Inhalt1Einh[5,5]"},{"$f":"IF($A36<=Daten!$B$8,LOOKUP($B36,Daten!$A$271:$A$320,Daten!$C$271:$C$320),\"\")","v":"Lang[5,6]"},{"$f":"IF($A36<=Daten!$B$8,LOOKUP($B36,Daten!$A$271:$A$320,Daten!$P$271:$P$320),\"\") & \" \" & IF($A36<=Daten!$B$8,LOOKUP($B36,Daten!$A$271:$A$320,Daten!$Q$271:$Q$320),\"\")","v":"5,6 Inhalt1Einh[5,6]"},{"$f":"IF($A36<=Daten!$B$8,LOOKUP($B36,Daten!$A$322:$A$371,Daten!$B$322:$C$371),\"\")","v":{"$error":"#N/A"}},{"$f":"IF($A36<=Daten!$B$8,LOOKUP($B36,Daten!$A$322:$A$371,Daten!$P$322:$P$371),\"\") & \" \" & IF($A36<=Daten!$B$8,LOOKUP($B36,Daten!$A$322:$A$371,Daten!$Q$322:$Q$371),\"\")","v":"5,7 Inhalt1Einh[5,7]"}]
[null,null,null,{"$f":"IF($A36<=Daten!$B$8,LOOKUP($B36,Daten!$A$16:$A$65,Daten!$R$16:$R$65),\"\") & \" \" & IF($A36<=Daten!$B$8,LOOKUP($B36,Daten!$A$16:$A$65,Daten!$S$16:$S$65),\"\")","v":"5,1 Inhalt2Einh[5,1]"},null,{"$f":"IF($A36<=Daten!$B$8,LOOKUP($B36,Daten!$A$67:$A$116,Daten!$R$67:$R$116),\"\") & \" \" & IF($A36<=Daten!$B$8,LOOKUP($B36,Daten!$A$67:$A$116,Daten!$S$67:$S$116),\"\")","v":"5,2 Inhalt2Einh[5,2]"},null,{"$f":"IF($A36<=Daten!$B$8,LOOKUP($B36,Daten!$A$118:$A$167,Daten!$R$118:$R$167),\"\") & \" \" & IF($A36<=Daten!$B$8,LOOKUP($B36,Daten!$A$118:$A$167,Daten!$S$118:$S$167),\"\")","v":"5,3 Inhalt2Einh[5,3]"},null,{"$f":"IF($A36<=Daten!$B$8,LOOKUP($B36,Daten!$A$169:$A$218,Daten!$R$169:$R$218),\"\") & \" \" & IF($A36<=Daten!$B$8,LOOKUP($B36,Daten!$A$169:$A$218,Daten!$S$169:$S$218),\"\")","v":"5,4 Inhalt2Einh[5,4]"},null,{"$f":"IF($A36<=Daten!$B$8,LOOKUP($B36,Daten!$A$220:$A$269,Daten!$R$220:$R$269),\"\") & \" \" & IF($A36<=Daten!$B$8,LOOKUP($B36,Daten!$A$220:$A$269,Daten!$S$220:$S$269),\"\")","v":"5,5 Inhalt2Einh[5,5]"},null,{"$f":"IF($A36<=Daten!$B$8,LOOKUP($B36,Daten!$A$271:$A$320,Daten!$R$271:$R$320),\"\") & \" \" & IF($A36<=Daten!$B$8,LOOKUP($B36,Daten!$A$271:$A$320,Daten!$S$271:$S$320),\"\")","v":"5,6 Inhalt2Einh[5,6]"},null,{"$f":"IF($A36<=Daten!$B$8,LOOKUP($B36,Daten!$A$322:$A$371,Daten!$R$322:$R$371),\"\") & \" \" & IF($A36<=Daten!$B$8,LOOKUP($B36,Daten!$A$322:$A$371,Daten!$S$322:$S$371),\"\")","v":"5,7 Inhalt2Einh[5,7]"}]
[null,null,null,{"$f":"IF($A36<=Daten!$B$8,LOOKUP($B36,Daten!$A$16:$A$65,Daten!$T$16:$T$65),\"\") & \" \" & IF($A36<=Daten!$B$8,LOOKUP($B36,Daten!$A$16:$A$65,Daten!$U$16:$U$65),\"\")","v":"5,1 Inhalt3Einh[5,1]"},null,{"$f":"IF($A36<=Daten!$B$8,LOOKUP($B36,Daten!$A$67:$A$116,Daten!$T$67:$T$116),\"\") & \" \" & IF($A36<=Daten!$B$8,LOOKUP($B36,Daten!$A$67:$A$116,Daten!$U$67:$U$116),\"\")","v":"5,2 Inhalt3Einh[5,2]"},null,{"$f":"IF($A36<=Daten!$B$8,LOOKUP($B36,Daten!$A$118:$A$167,Daten!$T$118:$T$167),\"\") & \" \" & IF($A36<=Daten!$B$8,LOOKUP($B36,Daten!$A$118:$A$167,Daten!$U$118:$U$167),\"\")","v":"5,3 Inhalt3Einh[5,3]"},null,{"$f":"IF($A36<=Daten!$B$8,LOOKUP($B36,Daten!$A$169:$A$218,Daten!$T$169:$T$218),\"\") & \" \" & IF($A36<=Daten!$B$8,LOOKUP($B36,Daten!$A$169:$A$218,Daten!$U$169:$U$218),\"\")","v":"5,4 Inhalt3Einh[5,4]"},null,{"$f":"IF($A36<=Daten!$B$8,LOOKUP($B36,Daten!$A$220:$A$269,Daten!$T$220:$T$269),\"\") & \" \" & IF($A36<=Daten!$B$8,LOOKUP($B36,Daten!$A$220:$A$269,Daten!$U$220:$U$269),\"\")","v":"5,5 Inhalt3Einh[5,5]"},null,{"$f":"IF($A36<=Daten!$B$8,LOOKUP($B36,Daten!$A$271:$A$320,Daten!$T$271:$T$320),\"\") & \" \" & IF($A36<=Daten!$B$8,LOOKUP($B36,Daten!$A$271:$A$320,Daten!$U$271:$U$320),\"\")","v":"5,6 Inhalt3Einh[5,6]"},null,{"$f":"IF($A36<=Daten!$B$8,LOOKUP($B36,Daten!$A$322:$A$371,Daten!$T$322:$T$371),\"\") & \" \" & IF($A36<=Daten!$B$8,LOOKUP($B36,Daten!$A$322:$A$371,Daten!$U$322:$U$371),\"\")","v":"5,7 Inhalt3Einh[5,7]"}]
[null,null,null,{"$f":"IF($A36<=Daten!$B$8,LOOKUP($B36,Daten!$A$16:$A$65,Daten!$V$16:$V$65),\"\") & \" \" & IF($A36<=Daten!$B$8,LOOKUP($B36,Daten!$A$16:$A$65,Daten!$W$16:$W$65),\"\")","v":"5,1 Inhalt4Einh[5,1]"},null,{"$f":"IF($A36<=Daten!$B$8,LOOKUP($B36,Daten!$A$67:$A$116,Daten!$V$67:$V$116),\"\") & \" \" & IF($A36<=Daten!$B$8,LOOKUP($B36,Daten!$A$67:$A$116,Daten!$W$67:$W$116),\"\")","v":"5,2 Inhalt4Einh[5,2]"},null,{"$f":"IF($A36<=Daten!$B$8,LOOKUP($B36,Daten!$A$118:$A$167,Daten!$V$118:$V$167),\"\") & \" \" & IF($A36<=Daten!$B$8,LOOKUP($B36,Daten!$A$118:$A$167,Daten!$W$118:$W$167),\"\")","v":"5,3 Inhalt4Einh[5,3]"},null,{"$f":"IF($A36<=Daten!$B$8,LOOKUP($B36,Daten!$A$169:$A$218,Daten!$V$169:$V$218),\"\") & \" \" & IF($A36<=Daten!$B$8,LOOKUP($B36,Daten!$A$169:$A$218,Daten!$W$169:$W$218),\"\")","v":"5,4 Inhalt4Einh[5,4]"},null,{"$f":"IF($A36<=Daten!$B$8,LOOKUP($B36,Daten!$A$220:$A$269,Daten!$V$220:$V$269),\"\") & \" \" & IF($A36<=Daten!$B$8,LOOKUP($B36,Daten!$A$220:$A$269,Daten!$W$220:$W$269),\"\")","v":"5,5 Inhalt4Einh[5,5]"},null,{"$f":"IF($A36<=Daten!$B$8,LOOKUP($B36,Daten!$A$271:$A$320,Daten!$V$271:$V$320),\"\") & \" \" & IF($A36<=Daten!$B$8,LOOKUP($B36,Daten!$A$271:$A$320,Daten!$W$271:$W$320),\"\")","v":"5,6 Inhalt4Einh[5,6]"},null,{"$f":"IF($A36<=Daten!$B$8,LOOKUP($B36,Daten!$A$322:$A$371,Daten!$V$322:$V$371),\"\") & \" \" & IF($A36<=Daten!$B$8,LOOKUP($B36,Daten!$A$322:$A$371,Daten!$W$322:$W$371),\"\")","v":"5,7 Inhalt4Einh[5,7]"}]
[null,null,null,{"$f":"IF($A36<=Daten!$B$8,LOOKUP($B36,Daten!$A$16:$A$65,Daten!$X$16:$X$65),\"\") & \" \" & IF($A36<=Daten!$B$8,LOOKUP($B36,Daten!$A$16:$A$65,Daten!$Y$16:$Y$65),\"\")","v":"5,1 Inhalt5Einh[5,1]"},null,{"$f":"IF($A36<=Daten!$B$8,LOOKUP($B36,Daten!$A$67:$A$116,Daten!$X$67:$X$116),\"\") & \" \" & IF($A36<=Daten!$B$8,LOOKUP($B36,Daten!$A$67:$A$116,Daten!$Y$67:$Y$116),\"\")","v":"5,2 Inhalt5Einh[5,2]"},null,{"$f":"IF($A36<=Daten!$B$8,LOOKUP($B36,Daten!$A$118:$A$167,Daten!$X$118:$X$167),\"\") & \" \" & IF($A36<=Daten!$B$8,LOOKUP($B36,Daten!$A$118:$A$167,Daten!$Y$118:$Y$167),\"\")","v":"5,3 Inhalt5Einh[5,3]"},null,{"$f":"IF($A36<=Daten!$B$8,LOOKUP($B36,Daten!$A$169:$A$218,Daten!$X$169:$X$218),\"\") & \" \" & IF($A36<=Daten!$B$8,LOOKUP($B36,Daten!$A$169:$A$218,Daten!$Y$169:$Y$218),\"\")","v":"5,4 Inhalt5Einh[5,4]"},null,{"$f":"IF($A36<=Daten!$B$8,LOOKUP($B36,Daten!$A$220:$A$269,Daten!$X$220:$X$269),\"\") & \" \" & IF($A36<=Daten!$B$8,LOOKUP($B36,Daten!$A$220:$A$269,Daten!$Y$220:$Y$269),\"\")","v":"5,5 Inhalt5Einh[5,5]"},null,{"$f":"IF($A36<=Daten!$B$8,LOOKUP($B36,Daten!$A$271:$A$320,Daten!$X$271:$X$320),\"\") & \" \" & IF($A36<=Daten!$B$8,LOOKUP($B36,Daten!$A$271:$A$320,Daten!$Y$271:$Y$320),\"\")","v":"5,6 Inhalt5Einh[5,6]"},null,{"$f":"IF($A36<=Daten!$B$8,LOOKUP($B36,Daten!$A$322:$A$371,Daten!$X$322:$X$371),\"\") & \" \" & IF($A36<=Daten!$B$8,LOOKUP($B36,Daten!$A$322:$A$371,Daten!$Y$322:$Y$371),\"\")","v":"5,7 Inhalt5Einh[5,7]"}]
[null,null,null,{"$f":"IF($A36<=Daten!$B$8,LOOKUP($B36,Daten!$A$16:$A$65,Daten!$Z$16:$Z$65),\"\") & \" \" & IF($A36<=Daten!$B$8,LOOKUP($B36,Daten!$A$16:$A$65,Daten!$AA$16:$AA$65),\"\")","v":"5,1 Inhalt6Einh[5,1]"},null,{"$f":"IF($A36<=Daten!$B$8,LOOKUP($B36,Daten!$A$67:$A$116,Daten!$Z$67:$Z$116),\"\") & \" \" & IF($A36<=Daten!$B$8,LOOKUP($B36,Daten!$A$67:$A$116,Daten!$AA$67:$AA$116),\"\")","v":"5,2 Inhalt6Einh[5,2]"},null,{"$f":"IF($A36<=Daten!$B$8,LOOKUP($B36,Daten!$A$118:$A$167,Daten!$Z$118:$Z$167),\"\") & \" \" & IF($A36<=Daten!$B$8,LOOKUP($B36,Daten!$A$118:$A$167,Daten!$AA$118:$AA$167),\"\")","v":"5,3 Inhalt6Einh[5,3]"},null,{"$f":"IF($A36<=Daten!$B$8,LOOKUP($B36,Daten!$A$169:$A$218,Daten!$Z$169:$Z$218),\"\") & \" \" & IF($A36<=Daten!$B$8,LOOKUP($B36,Daten!$A$169:$A$218,Daten!$AA$169:$AA$218),\"\")","v":"5,4 Inhalt6Einh[5,4]"},null,{"$f":"IF($A36<=Daten!$B$8,LOOKUP($B36,Daten!$A$220:$A$269,Daten!$Z$220:$Z$269),\"\") & \" \" & IF($A36<=Daten!$B$8,LOOKUP($B36,Daten!$A$220:$A$269,Daten!$AA$220:$AA$269),\"\")","v":"5,5 Inhalt6Einh[5,5]"},null,{"$f":"IF($A36<=Daten!$B$8,LOOKUP($B36,Daten!$A$271:$A$320,Daten!$Z$271:$Z$320),\"\") & \" \" & IF($A36<=Daten!$B$8,LOOKUP($B36,Daten!$A$271:$A$320,Daten!$AA$271:$AA$320),\"\")","v":"5,6 Inhalt6Einh[5,6]"},null,{"$f":"IF($A36<=Daten!$B$8,LOOKUP($B36,Daten!$A$322:$A$371,Daten!$Z$322:$Z$371),\"\") & \" \" & IF($A36<=Daten!$B$8,LOOKUP($B36,Daten!$A$322:$A$371,Daten!$AA$322:$AA$371),\"\")","v":"5,7 Inhalt6Einh[5,7]"}]
[null,{"$f":"IF(A36<=Daten!$B$8,\"Zusatzstoffe\",\"\")","v":"Zusatzstoffe"},{"$f":"IF($A36<=Daten!$B$8,LOOKUP($B36,Daten!$A$16:$A$65,Daten!$L$16:$L$65),\"\")","v":5.0999999999999996},{"$f":"IF($A36<=Daten!$B$8,LOOKUP($B36,Daten!$A$16:$A$65,Daten!$E$16:$E$65),\"\")","v":0},{"$f":"IF($A36<=Daten!$B$8,LOOKUP($B36,Daten!$A$67:$A$116,Daten!$L$67:$L$116),\"\")","v":5.2},{"$f":"IF($A36<=Daten!$B$8,LOOKUP($B36,Daten!$A$16:$A$65,Daten!$E$67:$E$116),\"\")","v":0},{"$f":"IF($A36<=Daten!$B$8,LOOKUP($B36,Daten!$A$118:$A$167,Daten!$L$118:$L$167),\"\")","v":5.3},{"$f":"IF($A36<=Daten!$B$8,LOOKUP($B36,Daten!$A$118:$A$167,Daten!$E$118:$E$167),\"\")","v":0},{"$f":"IF($A36<=Daten!$B$8,LOOKUP($B36,Daten!$A$169:$A$218,Daten!$L$169:$L$218),\"\")","v":5.4},{"$f":"IF($A36<=Daten!$B$8,LOOKUP($B36,Daten!$A$169:$A$218,Daten!$E$169:$E$218),\"\")","v":0},{"$f":"IF($A36<=Daten!$B$8,LOOKUP($B36,Daten!$A$220:$A$269,Daten!$L$220:$L$269),\"\")","v":5.5},{"$f":"IF($A36<=Daten!$B$8,LOOKUP($B36,Daten!$A$220:$A$269,Daten!$E$220:$E$269),\"\")","v":0},{"$f":"IF($A36<=Daten!$B$8,LOOKUP($B36,Daten!$A$271:$A$320,Daten!$L$271:$L$320),\"\")","v":5.6},{"$f":"IF($A36<=Daten!$B$8,LOOKUP($B36,Daten!$A$271:$A$320,Daten!$E$271:$E$320),\"\")","v":0},{"$f":"IF($A36<=Daten!$B$8,LOOKUP($B36,Daten!$A$322:$A$371,Daten!$L$322:$L$371),\"\")","v":5.7},{"$f":"IF($A36<=Daten!$B$8,LOOKUP($B36,Daten!$A$322:$A$371,Daten!$E$322:$E$371),\"\")","v":0}]
[6,{"$f":"IF(A43<=Daten!$B$8,Daten!G9,\"\")","v":"Menülinie 6"},{"$f":"IF(A43<=Daten!$B$8,LOOKUP(B43,Daten!$A$16:$A$65,Daten!$C$16:$C$65),\"\")","v":"Lang[6,1]"},{"$f":"IF($A43<=Daten!$B$8,LOOKUP($B43,Daten!$A$16:$A$65,Daten!$P$16:$P$65),\"\") & \" \" & IF($A43<=Daten!$B$8,LOOKUP($B43,Daten!$A$16:$A$65,Daten!$Q$16:$Q$65),\"\")","v":"6,1 Inhalt1Einh[6,1]"},{"$f":"IF($A43<=Daten!$B$8,LOOKUP($B43,Daten!$A$67:$A$116,Daten!$C$67:$C$116),\"\")","v":"Lang[6,2]"},{"$f":"IF($A43<=Daten!$B$8,LOOKUP($B43,Daten!$A$67:$A$116,Daten!$P$67:$P$116),\"\") & \" \" & IF($A43<=Daten!$B$8,LOOKUP($B43,Daten!$A$67:$A$116,Daten!$Q$67:$Q$116),\"\")","v":"6,2 Inhalt1Einh[6,2]"},{"$f":"IF($A43<=Daten!$B$8,LOOKUP($B43,Daten!$A$118:$A$167,Daten!$C$118:$C$167),\"\")","v":"Lang[6,3]"},{"$f":"IF($A43<=Daten!$B$8,LOOKUP($B43,Daten!$A$118:$A$167,Daten!$P$118:$P$167),\"\") & \" \" & IF($A43<=Daten!$B$8,LOOKUP($B43,Daten!$A$118:$A$167,Daten!$Q$118:$Q$167),\"\")","v":"6,3 Inhalt1Einh[6,3]"},{"$f":"IF($A43<=Daten!$B$8,LOOKUP($B43,Daten!$A$169:$A$218,Daten!$C$169:$C$218),\"\")","v":"Lang[6,4]"},{"$f":"IF($A43<=Daten!$B$8,LOOKUP($B43,Daten!$A$169:$A$218,Daten!$P$169:$P$218),\"\") & \" \" & IF($A43<=Daten!$B$8,LOOKUP($B43,Daten!$A$169:$A$218,Daten!$Q$169:$Q$218),\"\")","v":"6,4 Inhalt1Einh[6,4]"},{"$f":"IF($A43<=Daten!$B$8,LOOKUP($B43,Daten!$A$220:$A$269,Daten!$C$220:$C$269),\"\")","v":"Lang[6,5]"},{"$f":"IF($A43<=Daten!$B$8,LOOKUP($B43,Daten!$A$220:$A$269,Daten!$P$220:$P$269),\"\") & \" \" & IF($A43<=Daten!$B$8,LOOKUP($B43,Daten!$A$220:$A$269,Daten!$Q$220:$Q$269),\"\")","v":"6,5 Inhalt1Einh[6,5]"},{"$f":"IF($A43<=Daten!$B$8,LOOKUP($B43,Daten!$A$271:$A$320,Daten!$C$271:$C$320),\"\")","v":"Lang[6,6]"},{"$f":"IF($A43<=Daten!$B$8,LOOKUP($B43,Daten!$A$271:$A$320,Daten!$P$271:$P$320),\"\") & \" \" & IF($A43<=Daten!$B$8,LOOKUP($B43,Daten!$A$271:$A$320,Daten!$Q$271:$Q$320),\"\")","v":"6,6 Inhalt1Einh[6,6]"},{"$f":"IF($A43<=Daten!$B$8,LOOKUP($B43,Daten!$A$322:$A$371,Daten!$B$322:$C$371),\"\")","v":{"$error":"#N/A"}},{"$f":"IF($A43<=Daten!$B$8,LOOKUP($B43,Daten!$A$322:$A$371,Daten!$P$322:$P$371),\"\") & \" \" & IF($A43<=Daten!$B$8,LOOKUP($B43,Daten!$A$322:$A$371,Daten!$Q$322:$Q$371),\"\")","v":"6,7 Inhalt1Einh[6,7]"}]
[null,null,null,{"$f":"IF($A43<=Daten!$B$8,LOOKUP($B43,Daten!$A$16:$A$65,Daten!$R$16:$R$65),\"\") & \" \" & IF($A43<=Daten!$B$8,LOOKUP($B43,Daten!$A$16:$A$65,Daten!$S$16:$S$65),\"\")","v":"6,1 Inhalt2Einh[6,1]"},null,{"$f":"IF($A43<=Daten!$B$8,LOOKUP($B43,Daten!$A$67:$A$116,Daten!$R$67:$R$116),\"\") & \" \" & IF($A43<=Daten!$B$8,LOOKUP($B43,Daten!$A$67:$A$116,Daten!$S$67:$S$116),\"\")","v":"6,2 Inhalt2Einh[6,2]"},null,{"$f":"IF($A43<=Daten!$B$8,LOOKUP($B43,Daten!$A$118:$A$167,Daten!$R$118:$R$167),\"\") & \" \" & IF($A43<=Daten!$B$8,LOOKUP($B43,Daten!$A$118:$A$167,Daten!$S$118:$S$167),\"\")","v":"6,3 Inhalt2Einh[6,3]"},null,{"$f":"IF($A43<=Daten!$B$8,LOOKUP($B43,Daten!$A$169:$A$218,Daten!$R$169:$R$218),\"\") & \" \" & IF($A43<=Daten!$B$8,LOOKUP($B43,Daten!$A$169:$A$218,Daten!$S$169:$S$218),\"\")","v":"6,4 Inhalt2Einh[6,4]"},null,{"$f":"IF($A43<=Daten!$B$8,LOOKUP($B43,Daten!$A$220:$A$269,Daten!$R$220:$R$269),\"\") & \" \" & IF($A43<=Daten!$B$8,LOOKUP($B43,Daten!$A$220:$A$269,Daten!$S$220:$S$269),\"\")","v":"6,5 Inhalt2Einh[6,5]"},null,{"$f":"IF($A43<=Daten!$B$8,LOOKUP($B43,Daten!$A$271:$A$320,Daten!$R$271:$R$320),\"\") & \" \" & IF($A43<=Daten!$B$8,LOOKUP($B43,Daten!$A$271:$A$320,Daten!$S$271:$S$320),\"\")","v":"6,6 Inhalt2Einh[6,6]"},null,{"$f":"IF($A43<=Daten!$B$8,LOOKUP($B43,Daten!$A$322:$A$371,Daten!$R$322:$R$371),\"\") & \" \" & IF($A43<=Daten!$B$8,LOOKUP($B43,Daten!$A$322:$A$371,Daten!$S$322:$S$371),\"\")","v":"6,7 Inhalt2Einh[6,7]"}]
[null,null,null,{"$f":"IF($A43<=Daten!$B$8,LOOKUP($B43,Daten!$A$16:$A$65,Daten!$T$16:$T$65),\"\") & \" \" & IF($A43<=Daten!$B$8,LOOKUP($B43,Daten!$A$16:$A$65,Daten!$U$16:$U$65),\"\")","v":"6,1 Inhalt3Einh[6,1]"},null,{"$f":"IF($A43<=Daten!$B$8,LOOKUP($B43,Daten!$A$67:$A$116,Daten!$T$67:$T$116),\"\") & \" \" & IF($A43<=Daten!$B$8,LOOKUP($B43,Daten!$A$67:$A$116,Daten!$U$67:$U$116),\"\")","v":"6,2 Inhalt3Einh[6,2]"},null,{"$f":"IF($A43<=Daten!$B$8,LOOKUP($B43,Daten!$A$118:$A$167,Daten!$T$118:$T$167),\"\") & \" \" & IF($A43<=Daten!$B$8,LOOKUP($B43,Daten!$A$118:$A$167,Daten!$U$118:$U$167),\"\")","v":"6,3 Inhalt3Einh[6,3]"},null,{"$f":"IF($A43<=Daten!$B$8,LOOKUP($B43,Daten!$A$169:$A$218,Daten!$T$169:$T$218),\"\") & \" \" & IF($A43<=Daten!$B$8,LOOKUP($B43,Daten!$A$169:$A$218,Daten!$U$169:$U$218),\"\")","v":"6,4 Inhalt3Einh[6,4]"},null,{"$f":"IF($A43<=Daten!$B$8,LOOKUP($B43,Daten!$A$220:$A$269,Daten!$T$220:$T$269),\"\") & \" \" & IF($A43<=Daten!$B$8,LOOKUP($B43,Daten!$A$220:$A$269,Daten!$U$220:$U$269),\"\")","v":"6,5 Inhalt3Einh[6,5]"},null,{"$f":"IF($A43<=Daten!$B$8,LOOKUP($B43,Daten!$A$271:$A$320,Daten!$T$271:$T$320),\"\") & \" \" & IF($A43<=Daten!$B$8,LOOKUP($B43,Daten!$A$271:$A$320,Daten!$U$271:$U$320),\"\")","v":"6,6 Inhalt3Einh[6,6]"},null,{"$f":"IF($A43<=Daten!$B$8,LOOKUP($B43,Daten!$A$322:$A$371,Daten!$T$322:$T$371),\"\") & \" \" & IF($A43<=Daten!$B$8,LOOKUP($B43,Daten!$A$322:$A$371,Daten!$U$322:$U$371),\"\")","v":"6,7 Inhalt3Einh[6,7]"}]
[null,null,null,{"$f":"IF($A43<=Daten!$B$8,LOOKUP($B43,Daten!$A$16:$A$65,Daten!$V$16:$V$65),\"\") & \" \" & IF($A43<=Daten!$B$8,LOOKUP($B43,Daten!$A$16:$A$65,Daten!$W$16:$W$65),\"\")","v":"6,1 Inhalt4Einh[6,1]"},null,{"$f":"IF($A43<=Daten!$B$8,LOOKUP($B43,Daten!$A$67:$A$116,Daten!$V$67:$V$116),\"\") & \" \" & IF($A43<=Daten!$B$8,LOOKUP($B43,Daten!$A$67:$A$116,Daten!$W$67:$W$116),\"\")","v":"6,2 Inhalt4Einh[6,2]"},null,{"$f":"IF($A43<=Daten!$B$8,LOOKUP($B43,Daten!$A$118:$A$167,Daten!$V$118:$V$167),\"\") & \" \" & IF($A43<=Daten!$B$8,LOOKUP($B43,Daten!$A$118:$A$167,Daten!$W$118:$W$167),\"\")","v":"6,3 Inhalt4Einh[6,3]"},null,{"$f":"IF($A43<=Daten!$B$8,LOOKUP($B43,Daten!$A$169:$A$218,Daten!$V$169:$V$218),\"\") & \" \" & IF($A43<=Daten!$B$8,LOOKUP($B43,Daten!$A$169:$A$218,Daten!$W$169:$W$218),\"\")","v":"6,4 Inhalt4Einh[6,4]"},null,{"$f":"IF($A43<=Daten!$B$8,LOOKUP($B43,Daten!$A$220:$A$269,Daten!$V$220:$V$269),\"\") & \" \" & IF($A43<=Daten!$B$8,LOOKUP($B43,Daten!$A$220:$A$269,Daten!$W$220:$W$269),\"\")","v":"6,5 Inhalt4Einh[6,5]"},null,{"$f":"IF($A43<=Daten!$B$8,LOOKUP($B43,Daten!$A$271:$A$320,Daten!$V$271:$V$320),\"\") & \" \" & IF($A43<=Daten!$B$8,LOOKUP($B43,Daten!$A$271:$A$320,Daten!$W$271:$W$320),\"\")","v":"6,6 Inhalt4Einh[6,6]"},null,{"$f":"IF($A43<=Daten!$B$8,LOOKUP($B43,Daten!$A$322:$A$371,Daten!$V$322:$V$371),\"\") & \" \" & IF($A43<=Daten!$B$8,LOOKUP($B43,Daten!$A$322:$A$371,Daten!$W$322:$W$371),\"\")","v":"6,7 Inhalt4Einh[6,7]"}]
[null,null,null,{"$f":"IF($A43<=Daten!$B$8,LOOKUP($B43,Daten!$A$16:$A$65,Daten!$X$16:$X$65),\"\") & \" \" & IF($A43<=Daten!$B$8,LOOKUP($B43,Daten!$A$16:$A$65,Daten!$Y$16:$Y$65),\"\")","v":"6,1 Inhalt5Einh[6,1]"},null,{"$f":"IF($A43<=Daten!$B$8,LOOKUP($B43,Daten!$A$67:$A$116,Daten!$X$67:$X$116),\"\") & \" \" & IF($A43<=Daten!$B$8,LOOKUP($B43,Daten!$A$67:$A$116,Daten!$Y$67:$Y$116),\"\")","v":"6,2 Inhalt5Einh[6,2]"},null,{"$f":"IF($A43<=Daten!$B$8,LOOKUP($B43,Daten!$A$118:$A$167,Daten!$X$118:$X$167),\"\") & \" \" & IF($A43<=Daten!$B$8,LOOKUP($B43,Daten!$A$118:$A$167,Daten!$Y$118:$Y$167),\"\")","v":"6,3 Inhalt5Einh[6,3]"},null,{"$f":"IF($A43<=Daten!$B$8,LOOKUP($B43,Daten!$A$169:$A$218,Daten!$X$169:$X$218),\"\") & \" \" & IF($A43<=Daten!$B$8,LOOKUP($B43,Daten!$A$169:$A$218,Daten!$Y$169:$Y$218),\"\")","v":"6,4 Inhalt5Einh[6,4]"},null,{"$f":"IF($A43<=Daten!$B$8,LOOKUP($B43,Daten!$A$220:$A$269,Daten!$X$220:$X$269),\"\") & \" \" & IF($A43<=Daten!$B$8,LOOKUP($B43,Daten!$A$220:$A$269,Daten!$Y$220:$Y$269),\"\")","v":"6,5 Inhalt5Einh[6,5]"},null,{"$f":"IF($A43<=Daten!$B$8,LOOKUP($B43,Daten!$A$271:$A$320,Daten!$X$271:$X$320),\"\") & \" \" & IF($A43<=Daten!$B$8,LOOKUP($B43,Daten!$A$271:$A$320,Daten!$Y$271:$Y$320),\"\")","v":"6,6 Inhalt5Einh[6,6]"},null,{"$f":"IF($A43<=Daten!$B$8,LOOKUP($B43,Daten!$A$322:$A$371,Daten!$X$322:$X$371),\"\") & \" \" & IF($A43<=Daten!$B$8,LOOKUP($B43,Daten!$A$322:$A$371,Daten!$Y$322:$Y$371),\"\")","v":"6,7 Inhalt5Einh[6,7]"}]
[null,null,null,{"$f":"IF($A43<=Daten!$B$8,LOOKUP($B43,Daten!$A$16:$A$65,Daten!$Z$16:$Z$65),\"\") & \" \" & IF($A43<=Daten!$B$8,LOOKUP($B43,Daten!$A$16:$A$65,Daten!$AA$16:$AA$65),\"\")","v":"6,1 Inhalt6Einh[6,1]"},null,{"$f":"IF($A43<=Daten!$B$8,LOOKUP($B43,Daten!$A$67:$A$116,Daten!$Z$67:$Z$116),\"\") & \" \" & IF($A43<=Daten!$B$8,LOOKUP($B43,Daten!$A$67:$A$116,Daten!$AA$67:$AA$116),\"\")","v":"6,2 Inhalt6Einh[6,2]"},null,{"$f":"IF($A43<=Daten!$B$8,LOOKUP($B43,Daten!$A$118:$A$167,Daten!$Z$118:$Z$167),\"\") & \" \" & IF($A43<=Daten!$B$8,LOOKUP($B43,Daten!$A$118:$A$167,Daten!$AA$118:$AA$167),\"\")","v":"6,3 Inhalt6Einh[6,3]"},null,{"$f":"IF($A43<=Daten!$B$8,LOOKUP($B43,Daten!$A$169:$A$218,Daten!$Z$169:$Z$218),\"\") & \" \" & IF($A43<=Daten!$B$8,LOOKUP($B43,Daten!$A$169:$A$218,Daten!$AA$169:$AA$218),\"\")","v":"6,4 Inhalt6Einh[6,4]"},null,{"$f":"IF($A43<=Daten!$B$8,LOOKUP($B43,Daten!$A$220:$A$269,Daten!$Z$220:$Z$269),\"\") & \" \" & IF($A43<=Daten!$B$8,LOOKUP($B43,Daten!$A$220:$A$269,Daten!$AA$220:$AA$269),\"\")","v":"6,5 Inhalt6Einh[6,5]"},null,{"$f":"IF($A43<=Daten!$B$8,LOOKUP($B43,Daten!$A$271:$A$320,Daten!$Z$271:$Z$320),\"\") & \" \" & IF($A43<=Daten!$B$8,LOOKUP($B43,Daten!$A$271:$A$320,Daten!$AA$271:$AA$320),\"\")","v":"6,6 Inhalt6Einh[6,6]"},null,{"$f":"IF($A43<=Daten!$B$8,LOOKUP($B43,Daten!$A$322:$A$371,Daten!$Z$322:$Z$371),\"\") & \" \" & IF($A43<=Daten!$B$8,LOOKUP($B43,Daten!$A$322:$A$371,Daten!$AA$322:$AA$371),\"\")","v":"6,7 Inhalt6Einh[6,7]"}]
[null,{"$f":"IF(A43<=Daten!$B$8,\"Zusatzstoffe\",\"\")","v":"Zusatzstoffe"},{"$f":"IF($A43<=Daten!$B$8,LOOKUP($B43,Daten!$A$16:$A$65,Daten!$L$16:$L$65),\"\")","v":6.1},{"$f":"IF($A43<=Daten!$B$8,LOOKUP($B43,Daten!$A$16:$A$65,Daten!$E$16:$E$65),\"\")","v":0},{"$f":"IF($A43<=Daten!$B$8,LOOKUP($B43,Daten!$A$67:$A$116,Daten!$L$67:$L$116),\"\")","v":6.2},{"$f":"IF($A43<=Daten!$B$8,LOOKUP($B43,Daten!$A$16:$A$65,Daten!$E$67:$E$116),\"\")","v":0},{"$f":"IF($A43<=Daten!$B$8,LOOKUP($B43,Daten!$A$118:$A$167,Daten!$L$118:$L$167),\"\")","v":6.3},{"$f":"IF($A43<=Daten!$B$8,LOOKUP($B43,Daten!$A$118:$A$167,Daten!$E$118:$E$167),\"\")","v":0},{"$f":"IF($A43<=Daten!$B$8,LOOKUP($B43,Daten!$A$169:$A$218,Daten!$L$169:$L$218),\"\")","v":6.4},{"$f":"IF($A43<=Daten!$B$8,LOOKUP($B43,Daten!$A$169:$A$218,Daten!$E$169:$E$218),\"\")","v":0},{"$f":"IF($A43<=Daten!$B$8,LOOKUP($B43,Daten!$A$220:$A$269,Daten!$L$220:$L$269),\"\")","v":6.5},{"$f":"IF($A43<=Daten!$B$8,LOOKUP($B43,Daten!$A$220:$A$269,Daten!$E$220:$E$269),\"\")","v":0},{"$f":"IF($A43<=Daten!$B$8,LOOKUP($B43,Daten!$A$271:$A$320,Daten!$L$271:$L$320),\"\")","v":6.6},{"$f":"IF($A43<=Daten!$B$8,LOOKUP($B43,Daten!$A$271:$A$320,Daten!$E$271:$E$320),\"\")","v":0},{"$f":"IF($A43<=Daten!$B$8,LOOKUP($B43,Daten!$A$322:$A$371,Daten!$L$322:$L$371),\"\")","v":6.7},{"$f":"IF($A43<=Daten!$B$8,LOOKUP($B43,Daten!$A$322:$A$371,Daten!$E$322:$E$371),\"\")","v":0}]
[7,{"$f":"IF(A50<=Daten!$B$8,Daten!H9,\"\")","v":"Menülinie 7"},{"$f":"IF(A50<=Daten!$B$8,LOOKUP(B50,Daten!$A$16:$A$65,Daten!$C$16:$C$65),\"\")","v":"Lang[7,1]"},{"$f":"IF($A50<=Daten!$B$8,LOOKUP($B50,Daten!$A$16:$A$65,Daten!$P$16:$P$65),\"\") & \" \" & IF($A50<=Daten!$B$8,LOOKUP($B50,Daten!$A$16:$A$65,Daten!$Q$16:$Q$65),\"\")","v":"7,1 Inhalt1Einh[7,1]"},{"$f":"IF($A50<=Daten!$B$8,LOOKUP($B50,Daten!$A$67:$A$116,Daten!$C$67:$C$116),\"\")","v":"Lang[7,2]"},{"$f":"IF($A50<=Daten!$B$8,LOOKUP($B50,Daten!$A$67:$A$116,Daten!$P$67:$P$116),\"\") & \" \" & IF($A50<=Daten!$B$8,LOOKUP($B50,Daten!$A$67:$A$116,Daten!$Q$67:$Q$116),\"\")","v":"7,2 Inhalt1Einh[7,2]"},{"$f":"IF($A50<=Daten!$B$8,LOOKUP($B50,Daten!$A$118:$A$167,Daten!$C$118:$C$167),\"\")","v":"Lang[7,3]"},{"$f":"IF($A50<=Daten!$B$8,LOOKUP($B50,Daten!$A$118:$A$167,Daten!$P$118:$P$167),\"\") & \" \" & IF($A50<=Daten!$B$8,LOOKUP($B50,Daten!$A$118:$A$167,Daten!$Q$118:$Q$167),\"\")","v":"7,3 Inhalt1Einh[7,3]"},{"$f":"IF($A50<=Daten!$B$8,LOOKUP($B50,Daten!$A$169:$A$218,Daten!$C$169:$C$218),\"\")","v":"Lang[7,4]"},{"$f":"IF($A50<=Daten!$B$8,LOOKUP($B50,Daten!$A$169:$A$218,Daten!$P$169:$P$218),\"\") & \" \" & IF($A50<=Daten!$B$8,LOOKUP($B50,Daten!$A$169:$A$218,Daten!$Q$169:$Q$218),\"\")","v":"7,4 Inhalt1Einh[7,4]"},{"$f":"IF($A50<=Daten!$B$8,LOOKUP($B50,Daten!$A$220:$A$269,Daten!$C$220:$C$269),\"\")","v":"Lang[7,5]"},{"$f":"IF($A50<=Daten!$B$8,LOOKUP($B50,Daten!$A$220:$A$269,Daten!$P$220:$P$269),\"\") & \" \" & IF($A50<=Daten!$B$8,LOOKUP($B50,Daten!$A$220:$A$269,Daten!$Q$220:$Q$269),\"\")","v":"7,5 Inhalt1Einh[7,5]"},{"$f":"IF($A50<=Daten!$B$8,LOOKUP($B50,Daten!$A$271:$A$320,Daten!$C$271:$C$320),\"\")","v":"Lang[7,6]"},{"$f":"IF($A50<=Daten!$B$8,LOOKUP($B50,Daten!$A$271:$A$320,Daten!$P$271:$P$320),\"\") & \" \" & IF($A50<=Daten!$B$8,LOOKUP($B50,Daten!$A$271:$A$320,Daten!$Q$271:$Q$320),\"\")","v":"7,6 Inhalt1Einh[7,6]"},{"$f":"IF($A50<=Daten!$B$8,LOOKUP($B50,Daten!$A$322:$A$371,Daten!$B$322:$C$371),\"\")","v":{"$error":"#N/A"}},{"$f":"IF($A50<=Daten!$B$8,LOOKUP($B50,Daten!$A$322:$A$371,Daten!$P$322:$P$371),\"\") & \" \" & IF($A50<=Daten!$B$8,LOOKUP($B50,Daten!$A$322:$A$371,Daten!$Q$322:$Q$371),\"\")","v":"7,7 Inhalt1Einh[7,7]"}]
[null,null,null,{"$f":"IF($A50<=Daten!$B$8,LOOKUP($B50,Daten!$A$16:$A$65,Daten!$R$16:$R$65),\"\") & \" \" & IF($A50<=Daten!$B$8,LOOKUP($B50,Daten!$A$16:$A$65,Daten!$S$16:$S$65),\"\")","v":"7,1 Inhalt2Einh[7,1]"},null,{"$f":"IF($A50<=Daten!$B$8,LOOKUP($B50,Daten!$A$67:$A$116,Daten!$R$67:$R$116),\"\") & \" \" & IF($A50<=Daten!$B$8,LOOKUP($B50,Daten!$A$67:$A$116,Daten!$S$67:$S$116),\"\")","v":"7,2 Inhalt2Einh[7,2]"},null,{"$f":"IF($A50<=Daten!$B$8,LOOKUP($B50,Daten!$A$118:$A$167,Daten!$R$118:$R$167),\"\") & \" \" & IF($A50<=Daten!$B$8,LOOKUP($B50,Daten!$A$118:$A$167,Daten!$S$118:$S$167),\"\")","v":"7,3 Inhalt2Einh[7,3]"},null,{"$f":"IF($A50<=Daten!$B$8,LOOKUP($B50,Daten!$A$169:$A$218,Daten!$R$169:$R$218),\"\") & \" \" & IF($A50<=Daten!$B$8,LOOKUP($B50,Daten!$A$169:$A$218,Daten!$S$169:$S$218),\"\")","v":"7,4 Inhalt2Einh[7,4]"},null,{"$f":"IF($A50<=Daten!$B$8,LOOKUP($B50,Daten!$A$220:$A$269,Daten!$R$220:$R$269),\"\") & \" \" & IF($A50<=Daten!$B$8,LOOKUP($B50,Daten!$A$220:$A$269,Daten!$S$220:$S$269),\"\")","v":"7,5 Inhalt2Einh[7,5]"},null,{"$f":"IF($A50<=Daten!$B$8,LOOKUP($B50,Daten!$A$271:$A$320,Daten!$R$271:$R$320),\"\") & \" \" & IF($A50<=Daten!$B$8,LOOKUP($B50,Daten!$A$271:$A$320,Daten!$S$271:$S$320),\"\")","v":"7,6 Inhalt2Einh[7,6]"},null,{"$f":"IF($A50<=Daten!$B$8,LOOKUP($B50,Daten!$A$322:$A$371,Daten!$R$322:$R$371),\"\") & \" \" & IF($A50<=Daten!$B$8,LOOKUP($B50,Daten!$A$322:$A$371,Daten!$S$322:$S$371),\"\")","v":"7,7 Inhalt2Einh[7,7]"}]
[null,null,null,{"$f":"IF($A50<=Daten!$B$8,LOOKUP($B50,Daten!$A$16:$A$65,Daten!$T$16:$T$65),\"\") & \" \" & IF($A50<=Daten!$B$8,LOOKUP($B50,Daten!$A$16:$A$65,Daten!$U$16:$U$65),\"\")","v":"7,1 Inhalt3Einh[7,1]"},null,{"$f":"IF($A50<=Daten!$B$8,LOOKUP($B50,Daten!$A$67:$A$116,Daten!$T$67:$T$116),\"\") & \" \" & IF($A50<=Daten!$B$8,LOOKUP($B50,Daten!$A$67:$A$116,Daten!$U$67:$U$116),\"\")","v":"7,2 Inhalt3Einh[7,2]"},null,{"$f":"IF($A50<=Daten!$B$8,LOOKUP($B50,Daten!$A$118:$A$167,Daten!$T$118:$T$167),\"\") & \" \" & IF($A50<=Daten!$B$8,LOOKUP($B50,Daten!$A$118:$A$167,Daten!$U$118:$U$167),\"\")","v":"7,3 Inhalt3Einh[7,3]"},null,{"$f":"IF($A50<=Daten!$B$8,LOOKUP($B50,Daten!$A$169:$A$218,Daten!$T$169:$T$218),\"\") & \" \" & IF($A50<=Daten!$B$8,LOOKUP($B50,Daten!$A$169:$A$218,Daten!$U$169:$U$218),\"\")","v":"7,4 Inhalt3Einh[7,4]"},null,{"$f":"IF($A50<=Daten!$B$8,LOOKUP($B50,Daten!$A$220:$A$269,Daten!$T$220:$T$269),\"\") & \" \" & IF($A50<=Daten!$B$8,LOOKUP($B50,Daten!$A$220:$A$269,Daten!$U$220:$U$269),\"\")","v":"7,5 Inhalt3Einh[7,5]"},null,{"$f":"IF($A50<=Daten!$B$8,LOOKUP($B50,Daten!$A$271:$A$320,Daten!$T$271:$T$320),\"\") & \" \" & IF($A50<=Daten!$B$8,LOOKUP($B50,Daten!$A$271:$A$320,Daten!$U$271:$U$320),\"\")","v":"7,6 Inhalt3Einh[7,6]"},null,{"$f":"IF($A50<=Daten!$B$8,LOOKUP($B50,Daten!$A$322:$A$371,Daten!$T$322:$T$371),\"\") & \" \" & IF($A50<=Daten!$B$8,LOOKUP($B50,Daten!$A$322:$A$371,Daten!$U$322:$U$371),\"\")","v":"7,7 Inhalt3Einh[7,7]"}]
[null,null,null,{"$f":"IF($A50<=Daten!$B$8,LOOKUP($B50,Daten!$A$16:$A$65,Daten!$V$16:$V$65),\"\") & \" \" & IF($A50<=Daten!$B$8,LOOKUP($B50,Daten!$A$16:$A$65,Daten!$W$16:$W$65),\"\")","v":"7,1 Inhalt4Einh[7,1]"},null,{"$f":"IF($A50<=Daten!$B$8,LOOKUP($B50,Daten!$A$67:$A$116,Daten!$V$67:$V$116),\"\") & \" \" & IF($A50<=Daten!$B$8,LOOKUP($B50,Daten!$A$67:$A$116,Daten!$W$67:$W$116),\"\")","v":"7,2 Inhalt4Einh[7,2]"},null,{"$f":"IF($A50<=Daten!$B$8,LOOKUP($B50,Daten!$A$118:$A$167,Daten!$V$118:$V$167),\"\") & \" \" & IF($A50<=Daten!$B$8,LOOKUP($B50,Daten!$A$118:$A$167,Daten!$W$118:$W$167),\"\")","v":"7,3 Inhalt4Einh[7,3]"},null,{"$f":"IF($A50<=Daten!$B$8,LOOKUP($B50,Daten!$A$169:$A$218,Daten!$V$169:$V$218),\"\") & \" \" & IF($A50<=Daten!$B$8,LOOKUP($B50,Daten!$A$169:$A$218,Daten!$W$169:$W$218),\"\")","v":"7,4 Inhalt4Einh[7,4]"},null,{"$f":"IF($A50<=Daten!$B$8,LOOKUP($B50,Daten!$A$220:$A$269,Daten!$V$220:$V$269),\"\") & \" \" & IF($A50<=Daten!$B$8,LOOKUP($B50,Daten!$A$220:$A$269,Daten!$W$220:$W$269),\"\")","v":"7,5 Inhalt4Einh[7,5]"},null,{"$f":"IF($A50<=Daten!$B$8,LOOKUP($B50,Daten!$A$271:$A$320,Daten!$V$271:$V$320),\"\") & \" \" & IF($A50<=Daten!$B$8,LOOKUP($B50,Daten!$A$271:$A$320,Daten!$W$271:$W$320),\"\")","v":"7,6 Inhalt4Einh[7,6]"},null,{"$f":"IF($A50<=Daten!$B$8,LOOKUP($B50,Daten!$A$322:$A$371,Daten!$V$322:$V$371),\"\") & \" \" & IF($A50<=Daten!$B$8,LOOKUP($B50,Daten!$A$322:$A$371,Daten!$W$322:$W$371),\"\")","v":"7,7 Inhalt4Einh[7,7]"}]
[null,null,null,{"$f":"IF($A50<=Daten!$B$8,LOOKUP($B50,Daten!$A$16:$A$65,Daten!$X$16:$X$65),\"\") & \" \" & IF($A50<=Daten!$B$8,LOOKUP($B50,Daten!$A$16:$A$65,Daten!$Y$16:$Y$65),\"\")","v":"7,1 Inhalt5Einh[7,1]"},null,{"$f":"IF($A50<=Daten!$B$8,LOOKUP($B50,Daten!$A$67:$A$116,Daten!$X$67:$X$116),\"\") & \" \" & IF($A50<=Daten!$B$8,LOOKUP($B50,Daten!$A$67:$A$116,Daten!$Y$67:$Y$116),\"\")","v":"7,2 Inhalt5Einh[7,2]"},null,{"$f":"IF($A50<=Daten!$B$8,LOOKUP($B50,Daten!$A$118:$A$167,Daten!$X$118:$X$167),\"\") & \" \" & IF($A50<=Daten!$B$8,LOOKUP($B50,Daten!$A$118:$A$167,Daten!$Y$118:$Y$167),\"\")","v":"7,3 Inhalt5Einh[7,3]"},null,{"$f":"IF($A50<=Daten!$B$8,LOOKUP($B50,Daten!$A$169:$A$218,Daten!$X$169:$X$218),\"\") & \" \" & IF($A50<=Daten!$B$8,LOOKUP($B50,Daten!$A$169:$A$218,Daten!$Y$169:$Y$218),\"\")","v":"7,4 Inhalt5Einh[7,4]"},null,{"$f":"IF($A50<=Daten!$B$8,LOOKUP($B50,Daten!$A$220:$A$269,Daten!$X$220:$X$269),\"\") & \" \" & IF($A50<=Daten!$B$8,LOOKUP($B50,Daten!$A$220:$A$269,Daten!$Y$220:$Y$269),\"\")","v":"7,5 Inhalt5Einh[7,5]"},null,{"$f":"IF($A50<=Daten!$B$8,LOOKUP($B50,Daten!$A$271:$A$320,Daten!$X$271:$X$320),\"\") & \" \" & IF($A50<=Daten!$B$8,LOOKUP($B50,Daten!$A$271:$A$320,Daten!$Y$271:$Y$320),\"\")","v":"7,6 Inhalt5Einh[7,6]"},null,{"$f":"IF($A50<=Daten!$B$8,LOOKUP($B50,Daten!$A$322:$A$371,Daten!$X$322:$X$371),\"\") & \" \" & IF($A50<=Daten!$B$8,LOOKUP($B50,Daten!$A$322:$A$371,Daten!$Y$322:$Y$371),\"\")","v":"7,7 Inhalt5Einh[7,7]"}]
[null,null,null,{"$f":"IF($A50<=Daten!$B$8,LOOKUP($B50,Daten!$A$16:$A$65,Daten!$Z$16:$Z$65),\"\") & \" \" & IF($A50<=Daten!$B$8,LOOKUP($B50,Daten!$A$16:$A$65,Daten!$AA$16:$AA$65),\"\")","v":"7,1 Inhalt6Einh[7,1]"},null,{"$f":"IF($A50<=Daten!$B$8,LOOKUP($B50,Daten!$A$67:$A$116,Daten!$Z$67:$Z$116),\"\") & \" \" & IF($A50<=Daten!$B$8,LOOKUP($B50,Daten!$A$67:$A$116,Daten!$AA$67:$AA$116),\"\")","v":"7,2 Inhalt6Einh[7,2]"},null,{"$f":"IF($A50<=Daten!$B$8,LOOKUP($B50,Daten!$A$118:$A$167,Daten!$Z$118:$Z$167),\"\") & \" \" & IF($A50<=Daten!$B$8,LOOKUP($B50,Daten!$A$118:$A$167,Daten!$AA$118:$AA$167),\"\")","v":"7,3 Inhalt6Einh[7,3]"},null,{"$f":"IF($A50<=Daten!$B$8,LOOKUP($B50,Daten!$A$169:$A$218,Daten!$Z$169:$Z$218),\"\") & \" \" & IF($A50<=Daten!$B$8,LOOKUP($B50,Daten!$A$169:$A$218,Daten!$AA$169:$AA$218),\"\")","v":"7,4 Inhalt6Einh[7,4]"},null,{"$f":"IF($A50<=Daten!$B$8,LOOKUP($B50,Daten!$A$220:$A$269,Daten!$Z$220:$Z$269),\"\") & \" \" & IF($A50<=Daten!$B$8,LOOKUP($B50,Daten!$A$220:$A$269,Daten!$AA$220:$AA$269),\"\")","v":"7,5 Inhalt6Einh[7,5]"},null,{"$f":"IF($A50<=Daten!$B$8,LOOKUP($B50,Daten!$A$271:$A$320,Daten!$Z$271:$Z$320),\"\") & \" \" & IF($A50<=Daten!$B$8,LOOKUP($B50,Daten!$A$271:$A$320,Daten!$AA$271:$AA$320),\"\")","v":"7,6 Inhalt6Einh[7,6]"},null,{"$f":"IF($A50<=Daten!$B$8,LOOKUP($B50,Daten!$A$322:$A$371,Daten!$Z$322:$Z$371),\"\") & \" \" & IF($A50<=Daten!$B$8,LOOKUP($B50,Daten!$A$322:$A$371,Daten!$AA$322:$AA$371),\"\")","v":"7,7 Inhalt6Einh[7,7]"}]
[null,{"$f":"IF(A50<=Daten!$B$8,\"Zusatzstoffe\",\"\")","v":"Zusatzstoffe"},{"$f":"IF($A50<=Daten!$B$8,LOOKUP($B50,Daten!$A$16:$A$65,Daten!$L$16:$L$65),\"\")","v":7.1},{"$f":"IF($A50<=Daten!$B$8,LOOKUP($B50,Daten!$A$16:$A$65,Daten!$E$16:$E$65),\"\")","v":0},{"$f":"IF($A50<=Daten!$B$8,LOOKUP($B50,Daten!$A$67:$A$116,Daten!$L$67:$L$116),\"\")","v":7.2},{"$f":"IF($A50<=Daten!$B$8,LOOKUP($B50,Daten!$A$16:$A$65,Daten!$E$67:$E$116),\"\")","v":0},{"$f":"IF($A50<=Daten!$B$8,LOOKUP($B50,Daten!$A$118:$A$167,Daten!$L$118:$L$167),\"\")","v":7.3},{"$f":"IF($A50<=Daten!$B$8,LOOKUP($B50,Daten!$A$118:$A$167,Daten!$E$118:$E$167),\"\")","v":0},{"$f":"IF($A50<=Daten!$B$8,LOOKUP($B50,Daten!$A$169:$A$218,Daten!$L$169:$L$218),\"\")","v":7.4},{"$f":"IF($A50<=Daten!$B$8,LOOKUP($B50,Daten!$A$169:$A$218,Daten!$E$169:$E$218),\"\")","v":0},{"$f":"IF($A50<=Daten!$B$8,LOOKUP($B50,Daten!$A$220:$A$269,Daten!$L$220:$L$269),\"\")","v":7.5},{"$f":"IF($A50<=Daten!$B$8,LOOKUP($B50,Daten!$A$220:$A$269,Daten!$E$220:$E$269),\"\")","v":0},{"$f":"IF($A50<=Daten!$B$8,LOOKUP($B50,Daten!$A$271:$A$320,Daten!$L$271:$L$320),\"\")","v":7.6},{"$f":"IF($A50<=Daten!$B$8,LOOKUP($B50,Daten!$A$271:$A$320,Daten!$E$271:$E$320),\"\")","v":0},{"$f":"IF($A50<=Daten!$B$8,LOOKUP($B50,Daten!$A$322:$A$371,Daten!$L$322:$L$371),\"\")","v":7.7},{"$f":"IF($A50<=Daten!$B$8,LOOKUP($B50,Daten!$A$322:$A$371,Daten!$E$322:$E$371),\"\")","v":0}]
[8,{"$f":"IF(A57<=Daten!$B$8,Daten!I9,\"\")","v":"Menülinie 8"},{"$f":"IF(A57<=Daten!$B$8,LOOKUP(B57,Daten!$A$16:$A$65,Daten!$C$16:$C$65),\"\")","v":"Lang[8,1]"},{"$f":"IF($A57<=Daten!$B$8,LOOKUP($B57,Daten!$A$16:$A$65,Daten!$P$16:$P$65),\"\") & \" \" & IF($A57<=Daten!$B$8,LOOKUP($B57,Daten!$A$16:$A$65,Daten!$Q$16:$Q$65),\"\")","v":"8,1 Inhalt1Einh[8,1]"},{"$f":"IF($A57<=Daten!$B$8,LOOKUP($B57,Daten!$A$57:$A$116,Daten!$C$57:$C$116),\"\")","v":"Lang[8,2]"},{"$f":"IF($A57<=Daten!$B$8,LOOKUP($B57,Daten!$A$57:$A$116,Daten!$P$57:$P$116),\"\") & \" \" & IF($A57<=Daten!$B$8,LOOKUP($B57,Daten!$A$57:$A$116,Daten!$Q$57:$Q$116),\"\")","v":"8,2 Inhalt1Einh[8,2]"},{"$f":"IF($A57<=Daten!$B$8,LOOKUP($B57,Daten!$A$118:$A$167,Daten!$C$118:$C$167),\"\")","v":"Lang[8,3]"},{"$f":"IF($A57<=Daten!$B$8,LOOKUP($B57,Daten!$A$118:$A$167,Daten!$P$118:$P$167),\"\") & \" \" & IF($A57<=Daten!$B$8,LOOKUP($B57,Daten!$A$118:$A$167,Daten!$Q$118:$Q$167),\"\")","v":"8,3 Inhalt1Einh[8,3]"},{"$f":"IF($A57<=Daten!$B$8,LOOKUP($B57,Daten!$A$169:$A$218,Daten!$C$169:$C$218),\"\")","v":"Lang[8,4]"},{"$f":"IF($A57<=Daten!$B$8,LOOKUP($B57,Daten!$A$169:$A$218,Daten!$P$169:$P$218),\"\") & \" \" & IF($A57<=Daten!$B$8,LOOKUP($B57,Daten!$A$169:$A$218,Daten!$Q$169:$Q$218),\"\")","v":"8,4 Inhalt1Einh[8,4]"},{"$f":"IF($A57<=Daten!$B$8,LOOKUP($B57,Daten!$A$220:$A$269,Daten!$C$220:$C$269),\"\")","v":"Lang[8,5]"},{"$f":"IF($A57<=Daten!$B$8,LOOKUP($B57,Daten!$A$220:$A$269,Daten!$P$220:$P$269),\"\") & \" \" & IF($A57<=Daten!$B$8,LOOKUP($B57,Daten!$A$220:$A$269,Daten!$Q$220:$Q$269),\"\")","v":"8,5 Inhalt1Einh[8,5]"},{"$f":"IF($A57<=Daten!$B$8,LOOKUP($B57,Daten!$A$271:$A$320,Daten!$C$271:$C$320),\"\")","v":"Lang[8,6]"},{"$f":"IF($A57<=Daten!$B$8,LOOKUP($B57,Daten!$A$271:$A$320,Daten!$P$271:$P$320),\"\") & \" \" & IF($A57<=Daten!$B$8,LOOKUP($B57,Daten!$A$271:$A$320,Daten!$Q$271:$Q$320),\"\")","v":"8,6 Inhalt1Einh[8,6]"},{"$f":"IF($A57<=Daten!$B$8,LOOKUP($B57,Daten!$A$322:$A$371,Daten!$B$322:$C$371),\"\")","v":{"$error":"#N/A"}},{"$f":"IF($A57<=Daten!$B$8,LOOKUP($B57,Daten!$A$322:$A$371,Daten!$P$322:$P$371),\"\") & \" \" & IF($A57<=Daten!$B$8,LOOKUP($B57,Daten!$A$322:$A$371,Daten!$Q$322:$Q$371),\"\")","v":"8,7 Inhalt1Einh[8,7]"}]
[null,null,null,{"$f":"IF($A57<=Daten!$B$8,LOOKUP($B57,Daten!$A$16:$A$65,Daten!$R$16:$R$65),\"\") & \" \" & IF($A57<=Daten!$B$8,LOOKUP($B57,Daten!$A$16:$A$65,Daten!$S$16:$S$65),\"\")","v":"8,1 Inhalt2Einh[8,1]"},null,{"$f":"IF($A57<=Daten!$B$8,LOOKUP($B57,Daten!$A$57:$A$116,Daten!$R$57:$R$116),\"\") & \" \" & IF($A57<=Daten!$B$8,LOOKUP($B57,Daten!$A$57:$A$116,Daten!$S$57:$S$116),\"\")","v":"8,2 Inhalt2Einh[8,2]"},null,{"$f":"IF($A57<=Daten!$B$8,LOOKUP($B57,Daten!$A$118:$A$167,Daten!$R$118:$R$167),\"\") & \" \" & IF($A57<=Daten!$B$8,LOOKUP($B57,Daten!$A$118:$A$167,Daten!$S$118:$S$167),\"\")","v":"8,3 Inhalt2Einh[8,3]"},null,{"$f":"IF($A57<=Daten!$B$8,LOOKUP($B57,Daten!$A$169:$A$218,Daten!$R$169:$R$218),\"\") & \" \" & IF($A57<=Daten!$B$8,LOOKUP($B57,Daten!$A$169:$A$218,Daten!$S$169:$S$218),\"\")","v":"8,4 Inhalt2Einh[8,4]"},null,{"$f":"IF($A57<=Daten!$B$8,LOOKUP($B57,Daten!$A$220:$A$269,Daten!$R$220:$R$269),\"\") & \" \" & IF($A57<=Daten!$B$8,LOOKUP($B57,Daten!$A$220:$A$269,Daten!$S$220:$S$269),\"\")","v":"8,5 Inhalt2Einh[8,5]"},null,{"$f":"IF($A57<=Daten!$B$8,LOOKUP($B57,Daten!$A$271:$A$320,Daten!$R$271:$R$320),\"\") & \" \" & IF($A57<=Daten!$B$8,LOOKUP($B57,Daten!$A$271:$A$320,Daten!$S$271:$S$320),\"\")","v":"8,6 Inhalt2Einh[8,6]"},null,{"$f":"IF($A57<=Daten!$B$8,LOOKUP($B57,Daten!$A$322:$A$371,Daten!$R$322:$R$371),\"\") & \" \" & IF($A57<=Daten!$B$8,LOOKUP($B57,Daten!$A$322:$A$371,Daten!$S$322:$S$371),\"\")","v":"8,7 Inhalt2Einh[8,7]"}]
[null,null,null,{"$f":"IF($A57<=Daten!$B$8,LOOKUP($B57,Daten!$A$16:$A$65,Daten!$T$16:$T$65),\"\") & \" \" & IF($A57<=Daten!$B$8,LOOKUP($B57,Daten!$A$16:$A$65,Daten!$U$16:$U$65),\"\")","v":"8,1 Inhalt3Einh[8,1]"},null,{"$f":"IF($A57<=Daten!$B$8,LOOKUP($B57,Daten!$A$57:$A$116,Daten!$T$57:$T$116),\"\") & \" \" & IF($A57<=Daten!$B$8,LOOKUP($B57,Daten!$A$57:$A$116,Daten!$U$57:$U$116),\"\")","v":"8,2 Inhalt3Einh[8,2]"},null,{"$f":"IF($A57<=Daten!$B$8,LOOKUP($B57,Daten!$A$118:$A$167,Daten!$T$118:$T$167),\"\") & \" \" & IF($A57<=Daten!$B$8,LOOKUP($B57,Daten!$A$118:$A$167,Daten!$U$118:$U$167),\"\")","v":"8,3 Inhalt3Einh[8,3]"},null,{"$f":"IF($A57<=Daten!$B$8,LOOKUP($B57,Daten!$A$169:$A$218,Daten!$T$169:$T$218),\"\") & \" \" & IF($A57<=Daten!$B$8,LOOKUP($B57,Daten!$A$169:$A$218,Daten!$U$169:$U$218),\"\")","v":"8,4 Inhalt3Einh[8,4]"},null,{"$f":"IF($A57<=Daten!$B$8,LOOKUP($B57,Daten!$A$220:$A$269,Daten!$T$220:$T$269),\"\") & \" \" & IF($A57<=Daten!$B$8,LOOKUP($B57,Daten!$A$220:$A$269,Daten!$U$220:$U$269),\"\")","v":"8,5 Inhalt3Einh[8,5]"},null,{"$f":"IF($A57<=Daten!$B$8,LOOKUP($B57,Daten!$A$271:$A$320,Daten!$T$271:$T$320),\"\") & \" \" & IF($A57<=Daten!$B$8,LOOKUP($B57,Daten!$A$271:$A$320,Daten!$U$271:$U$320),\"\")","v":"8,6 Inhalt3Einh[8,6]"},null,{"$f":"IF($A57<=Daten!$B$8,LOOKUP($B57,Daten!$A$322:$A$371,Daten!$T$322:$T$371),\"\") & \" \" & IF($A57<=Daten!$B$8,LOOKUP($B57,Daten!$A$322:$A$371,Daten!$U$322:$U$371),\"\")","v":"8,7 Inhalt3Einh[8,7]"}]
[null,null,null,{"$f":"IF($A57<=Daten!$B$8,LOOKUP($B57,Daten!$A$16:$A$65,Daten!$V$16:$V$65),\"\") & \" \" & IF($A57<=Daten!$B$8,LOOKUP($B57,Daten!$A$16:$A$65,Daten!$W$16:$W$65),\"\")","v":"8,1 Inhalt4Einh[8,1]"},null,{"$f":"IF($A57<=Daten!$B$8,LOOKUP($B57,Daten!$A$57:$A$116,Daten!$V$57:$V$116),\"\") & \" \" & IF($A57<=Daten!$B$8,LOOKUP($B57,Daten!$A$57:$A$116,Daten!$W$57:$W$116),\"\")","v":"8,2 Inhalt4Einh[8,2]"},null,{"$f":"IF($A57<=Daten!$B$8,LOOKUP($B57,Daten!$A$118:$A$167,Daten!$V$118:$V$167),\"\") & \" \" & IF($A57<=Daten!$B$8,LOOKUP($B57,Daten!$A$118:$A$167,Daten!$W$118:$W$167),\"\")","v":"8,3 Inhalt4Einh[8,3]"},null,{"$f":"IF($A57<=Daten!$B$8,LOOKUP($B57,Daten!$A$169:$A$218,Daten!$V$169:$V$218),\"\") & \" \" & IF($A57<=Daten!$B$8,LOOKUP($B57,Daten!$A$169:$A$218,Daten!$W$169:$W$218),\"\")","v":"8,4 Inhalt4Einh[8,4]"},null,{"$f":"IF($A57<=Daten!$B$8,LOOKUP($B57,Daten!$A$220:$A$269,Daten!$V$220:$V$269),\"\") & \" \" & IF($A57<=Daten!$B$8,LOOKUP($B57,Daten!$A$220:$A$269,Daten!$W$220:$W$269),\"\")","v":"8,5 Inhalt4Einh[8,5]"},null,{"$f":"IF($A57<=Daten!$B$8,LOOKUP($B57,Daten!$A$271:$A$320,Daten!$V$271:$V$320),\"\") & \" \" & IF($A57<=Daten!$B$8,LOOKUP($B57,Daten!$A$271:$A$320,Daten!$W$271:$W$320),\"\")","v":"8,6 Inhalt4Einh[8,6]"},null,{"$f":"IF($A57<=Daten!$B$8,LOOKUP($B57,Daten!$A$322:$A$371,Daten!$V$322:$V$371),\"\") & \" \" & IF($A57<=Daten!$B$8,LOOKUP($B57,Daten!$A$322:$A$371,Daten!$W$322:$W$371),\"\")","v":"8,7 Inhalt4Einh[8,7]"}]
[null,null,null,{"$f":"IF($A57<=Daten!$B$8,LOOKUP($B57,Daten!$A$16:$A$65,Daten!$X$16:$X$65),\"\") & \" \" & IF($A57<=Daten!$B$8,LOOKUP($B57,Daten!$A$16:$A$65,Daten!$Y$16:$Y$65),\"\")","v":"8,1 Inhalt5Einh[8,1]"},null,{"$f":"IF($A57<=Daten!$B$8,LOOKUP($B57,Daten!$A$57:$A$116,Daten!$X$57:$X$116),\"\") & \" \" & IF($A57<=Daten!$B$8,LOOKUP($B57,Daten!$A$57:$A$116,Daten!$Y$57:$Y$116),\"\")","v":"8,2 Inhalt5Einh[8,2]"},null,{"$f":"IF($A57<=Daten!$B$8,LOOKUP($B57,Daten!$A$118:$A$167,Daten!$X$118:$X$167),\"\") & \" \" & IF($A57<=Daten!$B$8,LOOKUP($B57,Daten!$A$118:$A$167,Daten!$Y$118:$Y$167),\"\")","v":"8,3 Inhalt5Einh[8,3]"},null,{"$f":"IF($A57<=Daten!$B$8,LOOKUP($B57,Daten!$A$169:$A$218,Daten!$X$169:$X$218),\"\") & \" \" & IF($A57<=Daten!$B$8,LOOKUP($B57,Daten!$A$169:$A$218,Daten!$Y$169:$Y$218),\"\")","v":"8,4 Inhalt5Einh[8,4]"},null,{"$f":"IF($A57<=Daten!$B$8,LOOKUP($B57,Daten!$A$220:$A$269,Daten!$X$220:$X$269),\"\") & \" \" & IF($A57<=Daten!$B$8,LOOKUP($B57,Daten!$A$220:$A$269,Daten!$Y$220:$Y$269),\"\")","v":"8,5 Inhalt5Einh[8,5]"},null,{"$f":"IF($A57<=Daten!$B$8,LOOKUP($B57,Daten!$A$271:$A$320,Daten!$X$271:$X$320),\"\") & \" \" & IF($A57<=Daten!$B$8,LOOKUP($B57,Daten!$A$271:$A$320,Daten!$Y$271:$Y$320),\"\")","v":"8,6 Inhalt5Einh[8,6]"},null,{"$f":"IF($A57<=Daten!$B$8,LOOKUP($B57,Daten!$A$322:$A$371,Daten!$X$322:$X$371),\"\") & \" \" & IF($A57<=Daten!$B$8,LOOKUP($B57,Daten!$A$322:$A$371,Daten!$Y$322:$Y$371),\"\")","v":"8,7 Inhalt5Einh[8,7]"}]
[null,null,null,{"$f":"IF($A57<=Daten!$B$8,LOOKUP($B57,Daten!$A$16:$A$65,Daten!$Z$16:$Z$65),\"\") & \" \" & IF($A57<=Daten!$B$8,LOOKUP($B57,Daten!$A$16:$A$65,Daten!$AA$16:$AA$65),\"\")","v":"8,1 Inhalt6Einh[8,1]"},null,{"$f":"IF($A57<=Daten!$B$8,LOOKUP($B57,Daten!$A$57:$A$116,Daten!$Z$57:$Z$116),\"\") & \" \" & IF($A57<=Daten!$B$8,LOOKUP($B57,Daten!$A$57:$A$116,Daten!$AA$57:$AA$116),\"\")","v":"8,2 Inhalt6Einh[8,2]"},null,{"$f":"IF($A57<=Daten!$B$8,LOOKUP($B57,Daten!$A$118:$A$167,Daten!$Z$118:$Z$167),\"\") & \" \" & IF($A57<=Daten!$B$8,LOOKUP($B57,Daten!$A$118:$A$167,Daten!$AA$118:$AA$167),\"\")","v":"8,3 Inhalt6Einh[8,3]"},null,{"$f":"IF($A57<=Daten!$B$8,LOOKUP($B57,Daten!$A$169:$A$218,Daten!$Z$169:$Z$218),\"\") & \" \" & IF($A57<=Daten!$B$8,LOOKUP($B57,Daten!$A$169:$A$218,Daten!$AA$169:$AA$218),\"\")","v":"8,4 Inhalt6Einh[8,4]"},null,{"$f":"IF($A57<=Daten!$B$8,LOOKUP($B57,Daten!$A$220:$A$269,Daten!$Z$220:$Z$269),\"\") & \" \" & IF($A57<=Daten!$B$8,LOOKUP($B57,Daten!$A$220:$A$269,Daten!$AA$220:$AA$269),\"\")","v":"8,5 Inhalt6Einh[8,5]"},null,{"$f":"IF($A57<=Daten!$B$8,LOOKUP($B57,Daten!$A$271:$A$320,Daten!$Z$271:$Z$320),\"\") & \" \" & IF($A57<=Daten!$B$8,LOOKUP($B57,Daten!$A$271:$A$320,Daten!$AA$271:$AA$320),\"\")","v":"8,6 Inhalt6Einh[8,6]"},null,{"$f":"IF($A57<=Daten!$B$8,LOOKUP($B57,Daten!$A$322:$A$371,Daten!$Z$322:$Z$371),\"\") & \" \" & IF($A57<=Daten!$B$8,LOOKUP($B57,Daten!$A$322:$A$371,Daten!$AA$322:$AA$371),\"\")","v":"8,7 Inhalt6Einh[8,7]"}]
[null,{"$f":"IF(A57<=Daten!$B$8,\"Zusatzstoffe\",\"\")","v":"Zusatzstoffe"},{"$f":"IF($A57<=Daten!$B$8,LOOKUP($B57,Daten!$A$16:$A$65,Daten!$L$16:$L$65),\"\")","v":8.1},{"$f":"IF($A57<=Daten!$B$8,LOOKUP($B57,Daten!$A$16:$A$65,Daten!$E$16:$E$65),\"\")","v":0},{"$f":"IF($A57<=Daten!$B$8,LOOKUP($B57,Daten!$A$67:$A$116,Daten!$L$67:$L$116),\"\")","v":8.1999999999999993},{"$f":"IF($A57<=Daten!$B$8,LOOKUP($B57,Daten!$A$16:$A$65,Daten!$E$67:$E$116),\"\")","v":0},{"$f":"IF($A57<=Daten!$B$8,LOOKUP($B57,Daten!$A$118:$A$167,Daten!$L$118:$L$167),\"\")","v":8.3000000000000007},{"$f":"IF($A57<=Daten!$B$8,LOOKUP($B57,Daten!$A$118:$A$167,Daten!$E$118:$E$167),\"\")","v":0},{"$f":"IF($A57<=Daten!$B$8,LOOKUP($B57,Daten!$A$169:$A$218,Daten!$L$169:$L$218),\"\")","v":8.4},{"$f":"IF($A57<=Daten!$B$8,LOOKUP($B57,Daten!$A$169:$A$218,Daten!$E$169:$E$218),\"\")","v":0},{"$f":"IF($A57<=Daten!$B$8,LOOKUP($B57,Daten!$A$220:$A$269,Daten!$L$220:$L$269),\"\")","v":8.5},{"$f":"IF($A57<=Daten!$B$8,LOOKUP($B57,Daten!$A$220:$A$269,Daten!$E$220:$E$269),\"\")","v":0},{"$f":"IF($A57<=Daten!$B$8,LOOKUP($B57,Daten!$A$271:$A$320,Daten!$L$271:$L$320),\"\")","v":8.6},{"$f":"IF($A57<=Daten!$B$8,LOOKUP($B57,Daten!$A$271:$A$320,Daten!$E$271:$E$320),\"\")","v":0},{"$f":"IF($A57<=Daten!$B$8,LOOKUP($B57,Daten!$A$322:$A$371,Daten!$L$322:$L$371),\"\")","v":8.6999999999999993},{"$f":"IF($A57<=Daten!$B$8,LOOKUP($B57,Daten!$A$322:$A$371,Daten!$E$322:$E$371),\"\")","v":0}]
[9,{"$f":"IF(A64<=Daten!$B$8,Daten!J9,\"\")","v":"Menülinie 9"},{"$f":"IF(A64<=Daten!$B$8,LOOKUP(B64,Daten!$A$16:$A$65,Daten!$C$16:$C$65),\"\")","v":"Lang[9,1]"},{"$f":"IF($A64<=Daten!$B$8,LOOKUP($B64,Daten!$A$16:$A$65,Daten!$P$16:$P$65),\"\") & \" \" & IF($A64<=Daten!$B$8,LOOKUP($B64,Daten!$A$16:$A$65,Daten!$Q$16:$Q$65),\"\")","v":"9,1 Inhalt1Einh[9,1]"},{"$f":"IF($A64<=Daten!$B$8,LOOKUP($B64,Daten!$A$67:$A$116,Daten!$C$67:$C$116),\"\")","v":"Lang[9,2]"},{"$f":"IF($A64<=Daten!$B$8,LOOKUP($B64,Daten!$A$67:$A$116,Daten!$P$67:$P$116),\"\") & \" \" & IF($A64<=Daten!$B$8,LOOKUP($B64,Daten!$A$67:$A$116,Daten!$Q$67:$Q$116),\"\")","v":"9,2 Inhalt1Einh[9,2]"},{"$f":"IF($A64<=Daten!$B$8,LOOKUP($B64,Daten!$A$118:$A$167,Daten!$C$118:$C$167),\"\")","v":"Lang[9,3]"},{"$f":"IF($A64<=Daten!$B$8,LOOKUP($B64,Daten!$A$118:$A$167,Daten!$P$118:$P$167),\"\") & \" \" & IF($A64<=Daten!$B$8,LOOKUP($B64,Daten!$A$118:$A$167,Daten!$Q$118:$Q$167),\"\")","v":"9,3 Inhalt1Einh[9,3]"},{"$f":"IF($A64<=Daten!$B$8,LOOKUP($B64,Daten!$A$169:$A$218,Daten!$C$169:$C$218),\"\")","v":"Lang[9,4]"},{"$f":"IF($A64<=Daten!$B$8,LOOKUP($B64,Daten!$A$169:$A$218,Daten!$P$169:$P$218),\"\") & \" \" & IF($A64<=Daten!$B$8,LOOKUP($B64,Daten!$A$169:$A$218,Daten!$Q$169:$Q$218),\"\")","v":"9,4 Inhalt1Einh[9,4]"},{"$f":"IF($A64<=Daten!$B$8,LOOKUP($B64,Daten!$A$220:$A$269,Daten!$C$220:$C$269),\"\")","v":"Lang[9,5]"},{"$f":"IF($A64<=Daten!$B$8,LOOKUP($B64,Daten!$A$220:$A$269,Daten!$P$220:$P$269),\"\") & \" \" & IF($A64<=Daten!$B$8,LOOKUP($B64,Daten!$A$220:$A$269,Daten!$Q$220:$Q$269),\"\")","v":"9,5 Inhalt1Einh[9,5]"},{"$f":"IF($A64<=Daten!$B$8,LOOKUP($B64,Daten!$A$271:$A$320,Daten!$C$271:$C$320),\"\")","v":"Lang[9,6]"},{"$f":"IF($A64<=Daten!$B$8,LOOKUP($B64,Daten!$A$271:$A$320,Daten!$P$271:$P$320),\"\") & \" \" & IF($A64<=Daten!$B$8,LOOKUP($B64,Daten!$A$271:$A$320,Daten!$Q$271:$Q$320),\"\")","v":"9,6 Inhalt1Einh[9,6]"},{"$f":"IF($A64<=Daten!$B$8,LOOKUP($B64,Daten!$A$322:$A$371,Daten!$B$322:$C$371),\"\")","v":{"$error":"#N/A"}},{"$f":"IF($A64<=Daten!$B$8,LOOKUP($B64,Daten!$A$322:$A$371,Daten!$P$322:$P$371),\"\") & \" \" & IF($A64<=Daten!$B$8,LOOKUP($B64,Daten!$A$322:$A$371,Daten!$Q$322:$Q$371),\"\")","v":"9,7 Inhalt1Einh[9,7]"}]
[null,null,null,{"$f":"IF($A64<=Daten!$B$8,LOOKUP($B64,Daten!$A$16:$A$65,Daten!$R$16:$R$65),\"\") & \" \" & IF($A64<=Daten!$B$8,LOOKUP($B64,Daten!$A$16:$A$65,Daten!$S$16:$S$65),\"\")","v":"9,1 Inhalt2Einh[9,1]"},null,{"$f":"IF($A64<=Daten!$B$8,LOOKUP($B64,Daten!$A$67:$A$116,Daten!$R$67:$R$116),\"\") & \" \" & IF($A64<=Daten!$B$8,LOOKUP($B64,Daten!$A$67:$A$116,Daten!$S$67:$S$116),\"\")","v":"9,2 Inhalt2Einh[9,2]"},null,{"$f":"IF($A64<=Daten!$B$8,LOOKUP($B64,Daten!$A$118:$A$167,Daten!$R$118:$R$167),\"\") & \" \" & IF($A64<=Daten!$B$8,LOOKUP($B64,Daten!$A$118:$A$167,Daten!$S$118:$S$167),\"\")","v":"9,3 Inhalt2Einh[9,3]"},null,{"$f":"IF($A64<=Daten!$B$8,LOOKUP($B64,Daten!$A$169:$A$218,Daten!$R$169:$R$218),\"\") & \" \" & IF($A64<=Daten!$B$8,LOOKUP($B64,Daten!$A$169:$A$218,Daten!$S$169:$S$218),\"\")","v":"9,4 Inhalt2Einh[9,4]"},null,{"$f":"IF($A64<=Daten!$B$8,LOOKUP($B64,Daten!$A$220:$A$269,Daten!$R$220:$R$269),\"\") & \" \" & IF($A64<=Daten!$B$8,LOOKUP($B64,Daten!$A$220:$A$269,Daten!$S$220:$S$269),\"\")","v":"9,5 Inhalt2Einh[9,5]"},null,{"$f":"IF($A64<=Daten!$B$8,LOOKUP($B64,Daten!$A$271:$A$320,Daten!$R$271:$R$320),\"\") & \" \" & IF($A64<=Daten!$B$8,LOOKUP($B64,Daten!$A$271:$A$320,Daten!$S$271:$S$320),\"\")","v":"9,6 Inhalt2Einh[9,6]"},null,{"$f":"IF($A64<=Daten!$B$8,LOOKUP($B64,Daten!$A$322:$A$371,Daten!$R$322:$R$371),\"\") & \" \" & IF($A64<=Daten!$B$8,LOOKUP($B64,Daten!$A$322:$A$371,Daten!$S$322:$S$371),\"\")","v":"9,7 Inhalt2Einh[9,7]"}]
[null,null,null,{"$f":"IF($A64<=Daten!$B$8,LOOKUP($B64,Daten!$A$16:$A$65,Daten!$T$16:$T$65),\"\") & \" \" & IF($A64<=Daten!$B$8,LOOKUP($B64,Daten!$A$16:$A$65,Daten!$U$16:$U$65),\"\")","v":"9,1 Inhalt3Einh[9,1]"},null,{"$f":"IF($A64<=Daten!$B$8,LOOKUP($B64,Daten!$A$67:$A$116,Daten!$T$67:$T$116),\"\") & \" \" & IF($A64<=Daten!$B$8,LOOKUP($B64,Daten!$A$67:$A$116,Daten!$U$67:$U$116),\"\")","v":"9,2 Inhalt3Einh[9,2]"},null,{"$f":"IF($A64<=Daten!$B$8,LOOKUP($B64,Daten!$A$118:$A$167,Daten!$T$118:$T$167),\"\") & \" \" & IF($A64<=Daten!$B$8,LOOKUP($B64,Daten!$A$118:$A$167,Daten!$U$118:$U$167),\"\")","v":"9,3 Inhalt3Einh[9,3]"},null,{"$f":"IF($A64<=Daten!$B$8,LOOKUP($B64,Daten!$A$169:$A$218,Daten!$T$169:$T$218),\"\") & \" \" & IF($A64<=Daten!$B$8,LOOKUP($B64,Daten!$A$169:$A$218,Daten!$U$169:$U$218),\"\")","v":"9,4 Inhalt3Einh[9,4]"},null,{"$f":"IF($A64<=Daten!$B$8,LOOKUP($B64,Daten!$A$220:$A$269,Daten!$T$220:$T$269),\"\") & \" \" & IF($A64<=Daten!$B$8,LOOKUP($B64,Daten!$A$220:$A$269,Daten!$U$220:$U$269),\"\")","v":"9,5 Inhalt3Einh[9,5]"},null,{"$f":"IF($A64<=Daten!$B$8,LOOKUP($B64,Daten!$A$271:$A$320,Daten!$T$271:$T$320),\"\") & \" \" & IF($A64<=Daten!$B$8,LOOKUP($B64,Daten!$A$271:$A$320,Daten!$U$271:$U$320),\"\")","v":"9,6 Inhalt3Einh[9,6]"},null,{"$f":"IF($A64<=Daten!$B$8,LOOKUP($B64,Daten!$A$322:$A$371,Daten!$T$322:$T$371),\"\") & \" \" & IF($A64<=Daten!$B$8,LOOKUP($B64,Daten!$A$322:$A$371,Daten!$U$322:$U$371),\"\")","v":"9,7 Inhalt3Einh[9,7]"}]
[null,null,null,{"$f":"IF($A64<=Daten!$B$8,LOOKUP($B64,Daten!$A$16:$A$65,Daten!$V$16:$V$65),\"\") & \" \" & IF($A64<=Daten!$B$8,LOOKUP($B64,Daten!$A$16:$A$65,Daten!$W$16:$W$65),\"\")","v":"9,1 Inhalt4Einh[9,1]"},null,{"$f":"IF($A64<=Daten!$B$8,LOOKUP($B64,Daten!$A$67:$A$116,Daten!$V$67:$V$116),\"\") & \" \" & IF($A64<=Daten!$B$8,LOOKUP($B64,Daten!$A$67:$A$116,Daten!$W$67:$W$116),\"\")","v":"9,2 Inhalt4Einh[9,2]"},null,{"$f":"IF($A64<=Daten!$B$8,LOOKUP($B64,Daten!$A$118:$A$167,Daten!$V$118:$V$167),\"\") & \" \" & IF($A64<=Daten!$B$8,LOOKUP($B64,Daten!$A$118:$A$167,Daten!$W$118:$W$167),\"\")","v":"9,3 Inhalt4Einh[9,3]"},null,{"$f":"IF($A64<=Daten!$B$8,LOOKUP($B64,Daten!$A$169:$A$218,Daten!$V$169:$V$218),\"\") & \" \" & IF($A64<=Daten!$B$8,LOOKUP($B64,Daten!$A$169:$A$218,Daten!$W$169:$W$218),\"\")","v":"9,4 Inhalt4Einh[9,4]"},null,{"$f":"IF($A64<=Daten!$B$8,LOOKUP($B64,Daten!$A$220:$A$269,Daten!$V$220:$V$269),\"\") & \" \" & IF($A64<=Daten!$B$8,LOOKUP($B64,Daten!$A$220:$A$269,Daten!$W$220:$W$269),\"\")","v":"9,5 Inhalt4Einh[9,5]"},null,{"$f":"IF($A64<=Daten!$B$8,LOOKUP($B64,Daten!$A$271:$A$320,Daten!$V$271:$V$320),\"\") & \" \" & IF($A64<=Daten!$B$8,LOOKUP($B64,Daten!$A$271:$A$320,Daten!$W$271:$W$320),\"\")","v":"9,6 Inhalt4Einh[9,6]"},null,{"$f":"IF($A64<=Daten!$B$8,LOOKUP($B64,Daten!$A$322:$A$371,Daten!$V$322:$V$371),\"\") & \" \" & IF($A64<=Daten!$B$8,LOOKUP($B64,Daten!$A$322:$A$371,Daten!$W$322:$W$371),\"\")","v":"9,7 Inhalt4Einh[9,7]"}]
[null,null,null,{"$f":"IF($A64<=Daten!$B$8,LOOKUP($B64,Daten!$A$16:$A$65,Daten!$X$16:$X$65),\"\") & \" \" & IF($A64<=Daten!$B$8,LOOKUP($B64,Daten!$A$16:$A$65,Daten!$Y$16:$Y$65),\"\")","v":"9,1 Inhalt5Einh[9,1]"},null,{"$f":"IF($A64<=Daten!$B$8,LOOKUP($B64,Daten!$A$67:$A$116,Daten!$X$67:$X$116),\"\") & \" \" & IF($A64<=Daten!$B$8,LOOKUP($B64,Daten!$A$67:$A$116,Daten!$Y$67:$Y$116),\"\")","v":"9,2 Inhalt5Einh[9,2]"},null,{"$f":"IF($A64<=Daten!$B$8,LOOKUP($B64,Daten!$A$118:$A$167,Daten!$X$118:$X$167),\"\") & \" \" & IF($A64<=Daten!$B$8,LOOKUP($B64,Daten!$A$118:$A$167,Daten!$Y$118:$Y$167),\"\")","v":"9,3 Inhalt5Einh[9,3]"},null,{"$f":"IF($A64<=Daten!$B$8,LOOKUP($B64,Daten!$A$169:$A$218,Daten!$X$169:$X$218),\"\") & \" \" & IF($A64<=Daten!$B$8,LOOKUP($B64,Daten!$A$169:$A$218,Daten!$Y$169:$Y$218),\"\")","v":"9,4 Inhalt5Einh[9,4]"},null,{"$f":"IF($A64<=Daten!$B$8,LOOKUP($B64,Daten!$A$220:$A$269,Daten!$X$220:$X$269),\"\") & \" \" & IF($A64<=Daten!$B$8,LOOKUP($B64,Daten!$A$220:$A$269,Daten!$Y$220:$Y$269),\"\")","v":"9,5 Inhalt5Einh[9,5]"},null,{"$f":"IF($A64<=Daten!$B$8,LOOKUP($B64,Daten!$A$271:$A$320,Daten!$X$271:$X$320),\"\") & \" \" & IF($A64<=Daten!$B$8,LOOKUP($B64,Daten!$A$271:$A$320,Daten!$Y$271:$Y$320),\"\")","v":"9,6 Inhalt5Einh[9,6]"},null,{"$f":"IF($A64<=Daten!$B$8,LOOKUP($B64,Daten!$A$322:$A$371,Daten!$X$322:$X$371),\"\") & \" \" & IF($A64<=Daten!$B$8,LOOKUP($B64,Daten!$A$322:$A$371,Daten!$Y$322:$Y$371),\"\")","v":"9,7 Inhalt5Einh[9,7]"}]
[null,null,null,{"$f":"IF($A64<=Daten!$B$8,LOOKUP($B64,Daten!$A$16:$A$65,Daten!$Z$16:$Z$65),\"\") & \" \" & IF($A64<=Daten!$B$8,LOOKUP($B64,Daten!$A$16:$A$65,Daten!$AA$16:$AA$65),\"\")","v":"9,1 Inhalt6Einh[9,1]"},null,{"$f":"IF($A64<=Daten!$B$8,LOOKUP($B64,Daten!$A$67:$A$116,Daten!$Z$67:$Z$116),\"\") & \" \" & IF($A64<=Daten!$B$8,LOOKUP($B64,Daten!$A$67:$A$116,Daten!$AA$67:$AA$116),\"\")","v":"9,2 Inhalt6Einh[9,2]"},null,{"$f":"IF($A64<=Daten!$B$8,LOOKUP($B64,Daten!$A$118:$A$167,Daten!$Z$118:$Z$167),\"\") & \" \" & IF($A64<=Daten!$B$8,LOOKUP($B64,Daten!$A$118:$A$167,Daten!$AA$118:$AA$167),\"\")","v":"9,3 Inhalt6Einh[9,3]"},null,{"$f":"IF($A64<=Daten!$B$8,LOOKUP($B64,Daten!$A$169:$A$218,Daten!$Z$169:$Z$218),\"\") & \" \" & IF($A64<=Daten!$B$8,LOOKUP($B64,Daten!$A$169:$A$218,Daten!$AA$169:$AA$218),\"\")","v":"9,4 Inhalt6Einh[9,4]"},null,{"$f":"IF($A64<=Daten!$B$8,LOOKUP($B64,Daten!$A$220:$A$269,Daten!$Z$220:$Z$269),\"\") & \" \" & IF($A64<=Daten!$B$8,LOOKUP($B64,Daten!$A$220:$A$269,Daten!$AA$220:$AA$269),\"\")","v":"9,5 Inhalt6Einh[9,5]"},null,{"$f":"IF($A64<=Daten!$B$8,LOOKUP($B64,Daten!$A$271:$A$320,Daten!$Z$271:$Z$320),\"\") & \" \" & IF($A64<=Daten!$B$8,LOOKUP($B64,Daten!$A$271:$A$320,Daten!$AA$271:$AA$320),\"\")","v":"9,6 Inhalt6Einh[9,6]"},null,{"$f":"IF($A64<=Daten!$B$8,LOOKUP($B64,Daten!$A$322:$A$371,Daten!$Z$322:$Z$371),\"\") & \" \" & IF($A64<=Daten!$B$8,LOOKUP($B64,Daten!$A$322:$A$371,Daten!$AA$322:$AA$371),\"\")","v":"9,7 Inhalt6Einh[9,7]"}]
[null,{"$f":"IF(A64<=Daten!$B$8,\"Zusatzstoffe\",\"\")","v":"Zusatzstoffe"},{"$f":"IF($A64<=Daten!$B$8,LOOKUP($B64,Daten!$A$16:$A$65,Daten!$L$16:$L$65),\"\")","v":9.1},{"$f":"IF($A64<=Daten!$B$8,LOOKUP($B64,Daten!$A$16:$A$65,Daten!$E$16:$E$65),\"\")","v":0},{"$f":"IF($A64<=Daten!$B$8,LOOKUP($B64,Daten!$A$67:$A$116,Daten!$L$67:$L$116),\"\")","v":9.1999999999999993},{"$f":"IF($A64<=Daten!$B$8,LOOKUP($B64,Daten!$A$16:$A$65,Daten!$E$67:$E$116),\"\")","v":0},{"$f":"IF($A64<=Daten!$B$8,LOOKUP($B64,Daten!$A$118:$A$167,Daten!$L$118:$L$167),\"\")","v":9.3000000000000007},{"$f":"IF($A64<=Daten!$B$8,LOOKUP($B64,Daten!$A$118:$A$167,Daten!$E$118:$E$167),\"\")","v":0},{"$f":"IF($A64<=Daten!$B$8,LOOKUP($B64,Daten!$A$169:$A$218,Daten!$L$169:$L$218),\"\")","v":9.4},{"$f":"IF($A64<=Daten!$B$8,LOOKUP($B64,Daten!$A$169:$A$218,Daten!$E$169:$E$218),\"\")","v":0},{"$f":"IF($A64<=Daten!$B$8,LOOKUP($B64,Daten!$A$220:$A$269,Daten!$L$220:$L$269),\"\")","v":9.5},{"$f":"IF($A64<=Daten!$B$8,LOOKUP($B64,Daten!$A$220:$A$269,Daten!$E$220:$E$269),\"\")","v":0},{"$f":"IF($A64<=Daten!$B$8,LOOKUP($B64,Daten!$A$271:$A$320,Daten!$L$271:$L$320),\"\")","v":9.6},{"$f":"IF($A64<=Daten!$B$8,LOOKUP($B64,Daten!$A$271:$A$320,Daten!$E$271:$E$320),\"\")","v":0},{"$f":"IF($A64<=Daten!$B$8,LOOKUP($B64,Daten!$A$322:$A$371,Daten!$L$322:$L$371),\"\")","v":9.6999999999999993},{"$f":"IF($A64<=Daten!$B$8,LOOKUP($B64,Daten!$A$322:$A$371,Daten!$E$322:$E$371),\"\")","v":0}]
[10,{"$f":"IF(A71<=Daten!$B$8,Daten!K9,\"\")","v":"Menülinie 10"},{"$f":"IF(A71<=Daten!$B$8,LOOKUP(B71,Daten!$A$16:$A$65,Daten!$C$16:$C$65),\"\")","v":"Lang[10,1]"},{"$f":"IF($A71<=Daten!$B$8,LOOKUP($B71,Daten!$A$16:$A$65,Daten!$P$16:$P$65),\"\") & \" \" & IF($A71<=Daten!$B$8,LOOKUP($B71,Daten!$A$16:$A$65,Daten!$Q$16:$Q$65),\"\")","v":"10,1 Inhalt1Einh[10,1]"},{"$f":"IF($A71<=Daten!$B$8,LOOKUP($B71,Daten!$A$67:$A$116,Daten!$C$67:$C$116),\"\")","v":"Lang[10,2]"},{"$f":"IF($A71<=Daten!$B$8,LOOKUP($B71,Daten!$A$67:$A$116,Daten!$P$67:$P$116),\"\") & \" \" & IF($A71<=Daten!$B$8,LOOKUP($B71,Daten!$A$67:$A$116,Daten!$Q$67:$Q$116),\"\")","v":"10,2 Inhalt1Einh[10,2]"},{"$f":"IF($A71<=Daten!$B$8,LOOKUP($B71,Daten!$A$118:$A$167,Daten!$C$118:$C$167),\"\")","v":"Lang[10,3]"},{"$f":"IF($A71<=Daten!$B$8,LOOKUP($B71,Daten!$A$118:$A$167,Daten!$P$118:$P$167),\"\") & \" \" & IF($A71<=Daten!$B$8,LOOKUP($B71,Daten!$A$118:$A$167,Daten!$Q$118:$Q$167),\"\")","v":"10,3 Inhalt1Einh[10,3]"},{"$f":"IF($A71<=Daten!$B$8,LOOKUP($B71,Daten!$A$169:$A$218,Daten!$C$169:$C$218),\"\")","v":"Lang[10,4]"},{"$f":"IF($A71<=Daten!$B$8,LOOKUP($B71,Daten!$A$169:$A$218,Daten!$P$169:$P$218),\"\") & \" \" & IF($A71<=Daten!$B$8,LOOKUP($B71,Daten!$A$169:$A$218,Daten!$Q$169:$Q$218),\"\")","v":"10,4 Inhalt1Einh[10,4]"},{"$f":"IF($A71<=Daten!$B$8,LOOKUP($B71,Daten!$A$220:$A$269,Daten!$C$220:$C$269),\"\")","v":"Lang[10,5]"},{"$f":"IF($A71<=Daten!$B$8,LOOKUP($B71,Daten!$A$220:$A$269,Daten!$P$220:$P$269),\"\") & \" \" & IF($A71<=Daten!$B$8,LOOKUP($B71,Daten!$A$220:$A$269,Daten!$Q$220:$Q$269),\"\")","v":"10,5 Inhalt1Einh[10,5]"},{"$f":"IF($A71<=Daten!$B$8,LOOKUP($B71,Daten!$A$271:$A$320,Daten!$C$271:$C$320),\"\")","v":"Lang[10,6]"},{"$f":"IF($A71<=Daten!$B$8,LOOKUP($B71,Daten!$A$271:$A$320,Daten!$P$271:$P$320),\"\") & \" \" & IF($A71<=Daten!$B$8,LOOKUP($B71,Daten!$A$271:$A$320,Daten!$Q$271:$Q$320),\"\")","v":"10,6 Inhalt1Einh[10,6]"},{"$f":"IF($A71<=Daten!$B$8,LOOKUP($B71,Daten!$A$322:$A$371,Daten!$B$322:$C$371),\"\")","v":{"$error":"#N/A"}},{"$f":"IF($A71<=Daten!$B$8,LOOKUP($B71,Daten!$A$322:$A$371,Daten!$P$322:$P$371),\"\") & \" \" & IF($A71<=Daten!$B$8,LOOKUP($B71,Daten!$A$322:$A$371,Daten!$Q$322:$Q$371),\"\")","v":"10,7 Inhalt1Einh[10,7]"}]
[null,null,null,{"$f":"IF($A71<=Daten!$B$8,LOOKUP($B71,Daten!$A$16:$A$65,Daten!$R$16:$R$65),\"\") & \" \" & IF($A71<=Daten!$B$8,LOOKUP($B71,Daten!$A$16:$A$65,Daten!$S$16:$S$65),\"\")","v":"10,1 Inhalt2Einh[10,1]"},null,{"$f":"IF($A71<=Daten!$B$8,LOOKUP($B71,Daten!$A$67:$A$116,Daten!$R$67:$R$116),\"\") & \" \" & IF($A71<=Daten!$B$8,LOOKUP($B71,Daten!$A$67:$A$116,Daten!$S$67:$S$116),\"\")","v":"10,2 Inhalt2Einh[10,2]"},null,{"$f":"IF($A71<=Daten!$B$8,LOOKUP($B71,Daten!$A$118:$A$167,Daten!$R$118:$R$167),\"\") & \" \" & IF($A71<=Daten!$B$8,LOOKUP($B71,Daten!$A$118:$A$167,Daten!$S$118:$S$167),\"\")","v":"10,3 Inhalt2Einh[10,3]"},null,{"$f":"IF($A71<=Daten!$B$8,LOOKUP($B71,Daten!$A$169:$A$218,Daten!$R$169:$R$218),\"\") & \" \" & IF($A71<=Daten!$B$8,LOOKUP($B71,Daten!$A$169:$A$218,Daten!$S$169:$S$218),\"\")","v":"10,4 Inhalt2Einh[10,4]"},null,{"$f":"IF($A71<=Daten!$B$8,LOOKUP($B71,Daten!$A$220:$A$269,Daten!$R$220:$R$269),\"\") & \" \" & IF($A71<=Daten!$B$8,LOOKUP($B71,Daten!$A$220:$A$269,Daten!$S$220:$S$269),\"\")","v":"10,5 Inhalt2Einh[10,5]"},null,{"$f":"IF($A71<=Daten!$B$8,LOOKUP($B71,Daten!$A$271:$A$320,Daten!$R$271:$R$320),\"\") & \" \" & IF($A71<=Daten!$B$8,LOOKUP($B71,Daten!$A$271:$A$320,Daten!$S$271:$S$320),\"\")","v":"10,6 Inhalt2Einh[10,6]"},null,{"$f":"IF($A71<=Daten!$B$8,LOOKUP($B71,Daten!$A$322:$A$371,Daten!$R$322:$R$371),\"\") & \" \" & IF($A71<=Daten!$B$8,LOOKUP($B71,Daten!$A$322:$A$371,Daten!$S$322:$S$371),\"\")","v":"10,7 Inhalt2Einh[10,7]"}]
[null,null,null,{"$f":"IF($A71<=Daten!$B$8,LOOKUP($B71,Daten!$A$16:$A$65,Daten!$T$16:$T$65),\"\") & \" \" & IF($A71<=Daten!$B$8,LOOKUP($B71,Daten!$A$16:$A$65,Daten!$U$16:$U$65),\"\")","v":"10,1 Inhalt3Einh[10,1]"},null,{"$f":"IF($A71<=Daten!$B$8,LOOKUP($B71,Daten!$A$67:$A$116,Daten!$T$67:$T$116),\"\") & \" \" & IF($A71<=Daten!$B$8,LOOKUP($B71,Daten!$A$67:$A$116,Daten!$U$67:$U$116),\"\")","v":"10,2 Inhalt3Einh[10,2]"},null,{"$f":"IF($A71<=Daten!$B$8,LOOKUP($B71,Daten!$A$118:$A$167,Daten!$T$118:$T$167),\"\") & \" \" & IF($A71<=Daten!$B$8,LOOKUP($B71,Daten!$A$118:$A$167,Daten!$U$118:$U$167),\"\")","v":"10,3 Inhalt3Einh[10,3]"},null,{"$f":"IF($A71<=Daten!$B$8,LOOKUP($B71,Daten!$A$169:$A$218,Daten!$T$169:$T$218),\"\") & \" \" & IF($A71<=Daten!$B$8,LOOKUP($B71,Daten!$A$169:$A$218,Daten!$U$169:$U$218),\"\")","v":"10,4 Inhalt3Einh[10,4]"},null,{"$f":"IF($A71<=Daten!$B$8,LOOKUP($B71,Daten!$A$220:$A$269,Daten!$T$220:$T$269),\"\") & \" \" & IF($A71<=Daten!$B$8,LOOKUP($B71,Daten!$A$220:$A$269,Daten!$U$220:$U$269),\"\")","v":"10,5 Inhalt3Einh[10,5]"},null,{"$f":"IF($A71<=Daten!$B$8,LOOKUP($B71,Daten!$A$271:$A$320,Daten!$T$271:$T$320),\"\") & \" \" & IF($A71<=Daten!$B$8,LOOKUP($B71,Daten!$A$271:$A$320,Daten!$U$271:$U$320),\"\")","v":"10,6 Inhalt3Einh[10,6]"},null,{"$f":"IF($A71<=Daten!$B$8,LOOKUP($B71,Daten!$A$322:$A$371,Daten!$T$322:$T$371),\"\") & \" \" & IF($A71<=Daten!$B$8,LOOKUP($B71,Daten!$A$322:$A$371,Daten!$U$322:$U$371),\"\")","v":"10,7 Inhalt3Einh[10,7]"}]
[null,null,null,{"$f":"IF($A71<=Daten!$B$8,LOOKUP($B71,Daten!$A$16:$A$65,Daten!$V$16:$V$65),\"\") & \" \" & IF($A71<=Daten!$B$8,LOOKUP($B71,Daten!$A$16:$A$65,Daten!$W$16:$W$65),\"\")","v":"10,1 Inhalt4Einh[10,1]"},null,{"$f":"IF($A71<=Daten!$B$8,LOOKUP($B71,Daten!$A$67:$A$116,Daten!$V$67:$V$116),\"\") & \" \" & IF($A71<=Daten!$B$8,LOOKUP($B71,Daten!$A$67:$A$116,Daten!$W$67:$W$116),\"\")","v":"10,2 Inhalt4Einh[10,2]"},null,{"$f":"IF($A71<=Daten!$B$8,LOOKUP($B71,Daten!$A$118:$A$167,Daten!$V$118:$V$167),\"\") & \" \" & IF($A71<=Daten!$B$8,LOOKUP($B71,Daten!$A$118:$A$167,Daten!$W$118:$W$167),\"\")","v":"10,3 Inhalt4Einh[10,3]"},null,{"$f":"IF($A71<=Daten!$B$8,LOOKUP($B71,Daten!$A$169:$A$218,Daten!$V$169:$V$218),\"\") & \" \" & IF($A71<=Daten!$B$8,LOOKUP($B71,Daten!$A$169:$A$218,Daten!$W$169:$W$218),\"\")","v":"10,4 Inhalt4Einh[10,4]"},null,{"$f":"IF($A71<=Daten!$B$8,LOOKUP($B71,Daten!$A$220:$A$269,Daten!$V$220:$V$269),\"\") & \" \" & IF($A71<=Daten!$B$8,LOOKUP($B71,Daten!$A$220:$A$269,Daten!$W$220:$W$269),\"\")","v":"10,5 Inhalt4Einh[10,5]"},null,{"$f":"IF($A71<=Daten!$B$8,LOOKUP($B71,Daten!$A$271:$A$320,Daten!$V$271:$V$320),\"\") & \" \" & IF($A71<=Daten!$B$8,LOOKUP($B71,Daten!$A$271:$A$320,Daten!$W$271:$W$320),\"\")","v":"10,6 Inhalt4Einh[10,6]"},null,{"$f":"IF($A71<=Daten!$B$8,LOOKUP($B71,Daten!$A$322:$A$371,Daten!$V$322:$V$371),\"\") & \" \" & IF($A71<=Daten!$B$8,LOOKUP($B71,Daten!$A$322:$A$371,Daten!$W$322:$W$371),\"\")","v":"10,7 Inhalt4Einh[10,7]"}]
[null,null,null,{"$f":"IF($A71<=Daten!$B$8,LOOKUP($B71,Daten!$A$16:$A$65,Daten!$X$16:$X$65),\"\") & \" \" & IF($A71<=Daten!$B$8,LOOKUP($B71,Daten!$A$16:$A$65,Daten!$Y$16:$Y$65),\"\")","v":"10,1 Inhalt5Einh[10,1]"},null,{"$f":"IF($A71<=Daten!$B$8,LOOKUP($B71,Daten!$A$67:$A$116,Daten!$X$67:$X$116),\"\") & \" \" & IF($A71<=Daten!$B$8,LOOKUP($B71,Daten!$A$67:$A$116,Daten!$Y$67:$Y$116),\"\")","v":"10,2 Inhalt5Einh[10,2]"},null,{"$f":"IF($A71<=Daten!$B$8,LOOKUP($B71,Daten!$A$118:$A$167,Daten!$X$118:$X$167),\"\") & \" \" & IF($A71<=Daten!$B$8,LOOKUP($B71,Daten!$A$118:$A$167,Daten!$Y$118:$Y$167),\"\")","v":"10,3 Inhalt5Einh[10,3]"},null,{"$f":"IF($A71<=Daten!$B$8,LOOKUP($B71,Daten!$A$169:$A$218,Daten!$X$169:$X$218),\"\") & \" \" & IF($A71<=Daten!$B$8,LOOKUP($B71,Daten!$A$169:$A$218,Daten!$Y$169:$Y$218),\"\")","v":"10,4 Inhalt5Einh[10,4]"},null,{"$f":"IF($A71<=Daten!$B$8,LOOKUP($B71,Daten!$A$220:$A$269,Daten!$X$220:$X$269),\"\") & \" \" & IF($A71<=Daten!$B$8,LOOKUP($B71,Daten!$A$220:$A$269,Daten!$Y$220:$Y$269),\"\")","v":"10,5 Inhalt5Einh[10,5]"},null,{"$f":"IF($A71<=Daten!$B$8,LOOKUP($B71,Daten!$A$271:$A$320,Daten!$X$271:$X$320),\"\") & \" \" & IF($A71<=Daten!$B$8,LOOKUP($B71,Daten!$A$271:$A$320,Daten!$Y$271:$Y$320),\"\")","v":"10,6 Inhalt5Einh[10,6]"},null,{"$f":"IF($A71<=Daten!$B$8,LOOKUP($B71,Daten!$A$322:$A$371,Daten!$X$322:$X$371),\"\") & \" \" & IF($A71<=Daten!$B$8,LOOKUP($B71,Daten!$A$322:$A$371,Daten!$Y$322:$Y$371),\"\")","v":"10,7 Inhalt5Einh[10,7]"}]
[null,null,null,{"$f":"IF($A71<=Daten!$B$8,LOOKUP($B71,Daten!$A$16:$A$65,Daten!$Z$16:$Z$65),\"\") & \" \" & IF($A71<=Daten!$B$8,LOOKUP($B71,Daten!$A$16:$A$65,Daten!$AA$16:$AA$65),\"\")","v":"10,1 Inhalt6Einh[10,1]"},null,{"$f":"IF($A71<=Daten!$B$8,LOOKUP($B71,Daten!$A$67:$A$116,Daten!$Z$67:$Z$116),\"\") & \" \" & IF($A71<=Daten!$B$8,LOOKUP($B71,Daten!$A$67:$A$116,Daten!$AA$67:$AA$116),\"\")","v":"10,2 Inhalt6Einh[10,2]"},null,{"$f":"IF($A71<=Daten!$B$8,LOOKUP($B71,Daten!$A$118:$A$167,Daten!$Z$118:$Z$167),\"\") & \" \" & IF($A71<=Daten!$B$8,LOOKUP($B71,Daten!$A$118:$A$167,Daten!$AA$118:$AA$167),\"\")","v":"10,3 Inhalt6Einh[10,3]"},null,{"$f":"IF($A71<=Daten!$B$8,LOOKUP($B71,Daten!$A$169:$A$218,Daten!$Z$169:$Z$218),\"\") & \" \" & IF($A71<=Daten!$B$8,LOOKUP($B71,Daten!$A$169:$A$218,Daten!$AA$169:$AA$218),\"\")","v":"10,4 Inhalt6Einh[10,4]"},null,{"$f":"IF($A71<=Daten!$B$8,LOOKUP($B71,Daten!$A$220:$A$269,Daten!$Z$220:$Z$269),\"\") & \" \" & IF($A71<=Daten!$B$8,LOOKUP($B71,Daten!$A$220:$A$269,Daten!$AA$220:$AA$269),\"\")","v":"10,5 Inhalt6Einh[10,5]"},null,{"$f":"IF($A71<=Daten!$B$8,LOOKUP($B71,Daten!$A$271:$A$320,Daten!$Z$271:$Z$320),\"\") & \" \" & IF($A71<=Daten!$B$8,LOOKUP($B71,Daten!$A$271:$A$320,Daten!$AA$271:$AA$320),\"\")","v":"10,6 Inhalt6Einh[10,6]"},null,{"$f":"IF($A71<=Daten!$B$8,LOOKUP($B71,Daten!$A$322:$A$371,Daten!$Z$322:$Z$371),\"\") & \" \" & IF($A71<=Daten!$B$8,LOOKUP($B71,Daten!$A$322:$A$371,Daten!$AA$322:$AA$371),\"\")","v":"10,7 Inhalt6Einh[10,7]"}]
[null,{"$f":"IF(A71<=Daten!$B$8,\"Zusatzstoffe\",\"\")","v":"Zusatzstoffe"},{"$f":"IF($A71<=Daten!$B$8,LOOKUP($B71,Daten!$A$16:$A$65,Daten!$L$16:$L$65),\"\")","v":10.1},{"$f":"IF($A71<=Daten!$B$8,LOOKUP($B71,Daten!$A$16:$A$65,Daten!$E$16:$E$65),\"\")","v":210.1},{"$f":"IF($A71<=Daten!$B$8,LOOKUP($B71,Daten!$A$67:$A$116,Daten!$L$67:$L$116),\"\")","v":10.199999999999999},{"$f":"IF($A71<=Daten!$B$8,LOOKUP($B71,Daten!$A$16:$A$65,Daten!$E$67:$E$116),\"\")","v":0},{"$f":"IF($A71<=Daten!$B$8,LOOKUP($B71,Daten!$A$118:$A$167,Daten!$L$118:$L$167),\"\")","v":10.3},{"$f":"IF($A71<=Daten!$B$8,LOOKUP($B71,Daten!$A$118:$A$167,Daten!$E$118:$E$167),\"\")","v":0},{"$f":"IF($A71<=Daten!$B$8,LOOKUP($B71,Daten!$A$169:$A$218,Daten!$L$169:$L$218),\"\")","v":10.4},{"$f":"IF($A71<=Daten!$B$8,LOOKUP($B71,Daten!$A$169:$A$218,Daten!$E$169:$E$218),\"\")","v":0},{"$f":"IF($A71<=Daten!$B$8,LOOKUP($B71,Daten!$A$220:$A$269,Daten!$L$220:$L$269),\"\")","v":10.5},{"$f":"IF($A71<=Daten!$B$8,LOOKUP($B71,Daten!$A$220:$A$269,Daten!$E$220:$E$269),\"\")","v":0},{"$f":"IF($A71<=Daten!$B$8,LOOKUP($B71,Daten!$A$271:$A$320,Daten!$L$271:$L$320),\"\")","v":10.6},{"$f":"IF($A71<=Daten!$B$8,LOOKUP($B71,Daten!$A$271:$A$320,Daten!$E$271:$E$320),\"\")","v":0},{"$f":"IF($A71<=Daten!$B$8,LOOKUP($B71,Daten!$A$322:$A$371,Daten!$L$322:$L$371),\"\")","v":10.7},{"$f":"IF($A71<=Daten!$B$8,LOOKUP($B71,Daten!$A$322:$A$371,Daten!$E$322:$E$371),\"\")","v":0}]
[11,{"$f":"IF(A78<=Daten!$B$8,Daten!L9,\"\")","v":"Menülinie 11"},{"$f":"IF($A78<=Daten!$B$8,LOOKUP($B78,Daten!$A$16:$A$65,Daten!$C$16:$C$65),\"\")","v":"Lang[11,1]"},{"$f":"IF($A78<=Daten!$B$8,LOOKUP($B78,Daten!$A$16:$A$65,Daten!$P$16:$P$65),\"\") & \" \" & IF($A78<=Daten!$B$8,LOOKUP($B78,Daten!$A$16:$A$65,Daten!$Q$16:$Q$65),\"\")","v":"11,1 Inhalt1Einh[11,1]"},{"$f":"IF($A78<=Daten!$B$8,LOOKUP($B78,Daten!$A$67:$A$116,Daten!$C$67:$C$116),\"\")","v":"Lang[11,2]"},{"$f":"IF($A78<=Daten!$B$8,LOOKUP($B78,Daten!$A$67:$A$116,Daten!$P$67:$P$116),\"\") & \" \" & IF($A78<=Daten!$B$8,LOOKUP($B78,Daten!$A$67:$A$116,Daten!$Q$67:$Q$116),\"\")","v":"11,2 Inhalt1Einh[11,2]"},{"$f":"IF($A78<=Daten!$B$8,LOOKUP($B78,Daten!$A$118:$A$167,Daten!$C$118:$C$167),\"\")","v":"Lang[11,3]"},{"$f":"IF($A78<=Daten!$B$8,LOOKUP($B78,Daten!$A$118:$A$167,Daten!$P$118:$P$167),\"\") & \" \" & IF($A78<=Daten!$B$8,LOOKUP($B78,Daten!$A$118:$A$167,Daten!$Q$118:$Q$167),\"\")","v":"11,3 Inhalt1Einh[11,3]"},{"$f":"IF($A78<=Daten!$B$8,LOOKUP($B78,Daten!$A$169:$A$218,Daten!$C$169:$C$218),\"\")","v":"Lang[11,4]"},{"$f":"IF($A78<=Daten!$B$8,LOOKUP($B78,Daten!$A$169:$A$218,Daten!$P$169:$P$218),\"\") & \" \" & IF($A78<=Daten!$B$8,LOOKUP($B78,Daten!$A$169:$A$218,Daten!$Q$169:$Q$218),\"\")","v":"11,4 Inhalt1Einh[11,4]"},{"$f":"IF($A78<=Daten!$B$8,LOOKUP($B78,Daten!$A$220:$A$269,Daten!$C$220:$C$269),\"\")","v":"Lang[11,5]"},{"$f":"IF($A78<=Daten!$B$8,LOOKUP($B78,Daten!$A$220:$A$269,Daten!$P$220:$P$269),\"\") & \" \" & IF($A78<=Daten!$B$8,LOOKUP($B78,Daten!$A$220:$A$269,Daten!$Q$220:$Q$269),\"\")","v":"11,5 Inhalt1Einh[11,5]"},{"$f":"IF($A78<=Daten!$B$8,LOOKUP($B78,Daten!$A$271:$A$320,Daten!$C$271:$C$320),\"\")","v":"Lang[11,6]"},{"$f":"IF($A78<=Daten!$B$8,LOOKUP($B78,Daten!$A$271:$A$320,Daten!$P$271:$P$320),\"\") & \" \" & IF($A78<=Daten!$B$8,LOOKUP($B78,Daten!$A$271:$A$320,Daten!$Q$271:$Q$320),\"\")","v":"11,6 Inhalt1Einh[11,6]"},{"$f":"IF($A78<=Daten!$B$8,LOOKUP($B78,Daten!$A$322:$A$371,Daten!$B$322:$C$371),\"\")","v":{"$error":"#N/A"}},{"$f":"IF($A78<=Daten!$B$8,LOOKUP($B78,Daten!$A$322:$A$371,Daten!$P$322:$P$371),\"\") & \" \" & IF($A78<=Daten!$B$8,LOOKUP($B78,Daten!$A$322:$A$371,Daten!$Q$322:$Q$371),\"\")","v":"11,7 Inhalt1Einh[11,7]"}]
[null,null,null,{"$f":"IF($A78<=Daten!$B$8,LOOKUP($B78,Daten!$A$16:$A$65,Daten!$R$16:$R$65),\"\") & \" \" & IF($A78<=Daten!$B$8,LOOKUP($B78,Daten!$A$16:$A$65,Daten!$S$16:$S$65),\"\")","v":"11,1 Inhalt2Einh[11,1]"},null,{"$f":"IF($A78<=Daten!$B$8,LOOKUP($B78,Daten!$A$67:$A$116,Daten!$R$67:$R$116),\"\") & \" \" & IF($A78<=Daten!$B$8,LOOKUP($B78,Daten!$A$67:$A$116,Daten!$S$67:$S$116),\"\")","v":"11,2 Inhalt2Einh[11,2]"},null,{"$f":"IF($A78<=Daten!$B$8,LOOKUP($B78,Daten!$A$118:$A$167,Daten!$R$118:$R$167),\"\") & \" \" & IF($A78<=Daten!$B$8,LOOKUP($B78,Daten!$A$118:$A$167,Daten!$S$118:$S$167),\"\")","v":"11,3 Inhalt2Einh[11,3]"},null,{"$f":"IF($A78<=Daten!$B$8,LOOKUP($B78,Daten!$A$169:$A$218,Daten!$R$169:$R$218),\"\") & \" \" & IF($A78<=Daten!$B$8,LOOKUP($B78,Daten!$A$169:$A$218,Daten!$S$169:$S$218),\"\")","v":"11,4 Inhalt2Einh[11,4]"},null,{"$f":"IF($A78<=Daten!$B$8,LOOKUP($B78,Daten!$A$220:$A$269,Daten!$R$220:$R$269),\"\") & \" \" & IF($A78<=Daten!$B$8,LOOKUP($B78,Daten!$A$220:$A$269,Daten!$S$220:$S$269),\"\")","v":"11,5 Inhalt2Einh[11,5]"},null,{"$f":"IF($A78<=Daten!$B$8,LOOKUP($B78,Daten!$A$271:$A$320,Daten!$R$271:$R$320),\"\") & \" \" & IF($A78<=Daten!$B$8,LOOKUP($B78,Daten!$A$271:$A$320,Daten!$S$271:$S$320),\"\")","v":"11,6 Inhalt2Einh[11,6]"},null,{"$f":"IF($A78<=Daten!$B$8,LOOKUP($B78,Daten!$A$322:$A$371,Daten!$R$322:$R$371),\"\") & \" \" & IF($A78<=Daten!$B$8,LOOKUP($B78,Daten!$A$322:$A$371,Daten!$S$322:$S$371),\"\")","v":"11,7 Inhalt2Einh[11,7]"}]
[null,null,null,{"$f":"IF($A78<=Daten!$B$8,LOOKUP($B78,Daten!$A$16:$A$65,Daten!$T$16:$T$65),\"\") & \" \" & IF($A78<=Daten!$B$8,LOOKUP($B78,Daten!$A$16:$A$65,Daten!$U$16:$U$65),\"\")","v":"11,1 Inhalt3Einh[11,1]"},null,{"$f":"IF($A78<=Daten!$B$8,LOOKUP($B78,Daten!$A$67:$A$116,Daten!$T$67:$T$116),\"\") & \" \" & IF($A78<=Daten!$B$8,LOOKUP($B78,Daten!$A$67:$A$116,Daten!$U$67:$U$116),\"\")","v":"11,2 Inhalt3Einh[11,2]"},null,{"$f":"IF($A78<=Daten!$B$8,LOOKUP($B78,Daten!$A$118:$A$167,Daten!$T$118:$T$167),\"\") & \" \" & IF($A78<=Daten!$B$8,LOOKUP($B78,Daten!$A$118:$A$167,Daten!$U$118:$U$167),\"\")","v":"11,3 Inhalt3Einh[11,3]"},null,{"$f":"IF($A78<=Daten!$B$8,LOOKUP($B78,Daten!$A$169:$A$218,Daten!$T$169:$T$218),\"\") & \" \" & IF($A78<=Daten!$B$8,LOOKUP($B78,Daten!$A$169:$A$218,Daten!$U$169:$U$218),\"\")","v":"11,4 Inhalt3Einh[11,4]"},null,{"$f":"IF($A78<=Daten!$B$8,LOOKUP($B78,Daten!$A$220:$A$269,Daten!$T$220:$T$269),\"\") & \" \" & IF($A78<=Daten!$B$8,LOOKUP($B78,Daten!$A$220:$A$269,Daten!$U$220:$U$269),\"\")","v":"11,5 Inhalt3Einh[11,5]"},null,{"$f":"IF($A78<=Daten!$B$8,LOOKUP($B78,Daten!$A$271:$A$320,Daten!$T$271:$T$320),\"\") & \" \" & IF($A78<=Daten!$B$8,LOOKUP($B78,Daten!$A$271:$A$320,Daten!$U$271:$U$320),\"\")","v":"11,6 Inhalt3Einh[11,6]"},null,{"$f":"IF($A78<=Daten!$B$8,LOOKUP($B78,Daten!$A$322:$A$371,Daten!$T$322:$T$371),\"\") & \" \" & IF($A78<=Daten!$B$8,LOOKUP($B78,Daten!$A$322:$A$371,Daten!$U$322:$U$371),\"\")","v":"11,7 Inhalt3Einh[11,7]"}]
[null,null,null,{"$f":"IF($A78<=Daten!$B$8,LOOKUP($B78,Daten!$A$16:$A$65,Daten!$V$16:$V$65),\"\") & \" \" & IF($A78<=Daten!$B$8,LOOKUP($B78,Daten!$A$16:$A$65,Daten!$W$16:$W$65),\"\")","v":"11,1 Inhalt4Einh[11,1]"},null,{"$f":"IF($A78<=Daten!$B$8,LOOKUP($B78,Daten!$A$67:$A$116,Daten!$V$67:$V$116),\"\") & \" \" & IF($A78<=Daten!$B$8,LOOKUP($B78,Daten!$A$67:$A$116,Daten!$W$67:$W$116),\"\")","v":"11,2 Inhalt4Einh[11,2]"},null,{"$f":"IF($A78<=Daten!$B$8,LOOKUP($B78,Daten!$A$118:$A$167,Daten!$V$118:$V$167),\"\") & \" \" & IF($A78<=Daten!$B$8,LOOKUP($B78,Daten!$A$118:$A$167,Daten!$W$118:$W$167),\"\")","v":"11,3 Inhalt4Einh[11,3]"},null,{"$f":"IF($A78<=Daten!$B$8,LOOKUP($B78,Daten!$A$169:$A$218,Daten!$V$169:$V$218),\"\") & \" \" & IF($A78<=Daten!$B$8,LOOKUP($B78,Daten!$A$169:$A$218,Daten!$W$169:$W$218),\"\")","v":"11,4 Inhalt4Einh[11,4]"},null,{"$f":"IF($A78<=Daten!$B$8,LOOKUP($B78,Daten!$A$220:$A$269,Daten!$V$220:$V$269),\"\") & \" \" & IF($A78<=Daten!$B$8,LOOKUP($B78,Daten!$A$220:$A$269,Daten!$W$220:$W$269),\"\")","v":"11,5 Inhalt4Einh[11,5]"},null,{"$f":"IF($A78<=Daten!$B$8,LOOKUP($B78,Daten!$A$271:$A$320,Daten!$V$271:$V$320),\"\") & \" \" & IF($A78<=Daten!$B$8,LOOKUP($B78,Daten!$A$271:$A$320,Daten!$W$271:$W$320),\"\")","v":"11,6 Inhalt4Einh[11,6]"},null,{"$f":"IF($A78<=Daten!$B$8,LOOKUP($B78,Daten!$A$322:$A$371,Daten!$V$322:$V$371),\"\") & \" \" & IF($A78<=Daten!$B$8,LOOKUP($B78,Daten!$A$322:$A$371,Daten!$W$322:$W$371),\"\")","v":"11,7 Inhalt4Einh[11,7]"}]
[null,null,null,{"$f":"IF($A78<=Daten!$B$8,LOOKUP($B78,Daten!$A$16:$A$65,Daten!$X$16:$X$65),\"\") & \" \" & IF($A78<=Daten!$B$8,LOOKUP($B78,Daten!$A$16:$A$65,Daten!$Y$16:$Y$65),\"\")","v":"11,1 Inhalt5Einh[11,1]"},null,{"$f":"IF($A78<=Daten!$B$8,LOOKUP($B78,Daten!$A$67:$A$116,Daten!$X$67:$X$116),\"\") & \" \" & IF($A78<=Daten!$B$8,LOOKUP($B78,Daten!$A$67:$A$116,Daten!$Y$67:$Y$116),\"\")","v":"11,2 Inhalt5Einh[11,2]"},null,{"$f":"IF($A78<=Daten!$B$8,LOOKUP($B78,Daten!$A$118:$A$167,Daten!$X$118:$X$167),\"\") & \" \" & IF($A78<=Daten!$B$8,LOOKUP($B78,Daten!$A$118:$A$167,Daten!$Y$118:$Y$167),\"\")","v":"11,3 Inhalt5Einh[11,3]"},null,{"$f":"IF($A78<=Daten!$B$8,LOOKUP($B78,Daten!$A$169:$A$218,Daten!$X$169:$X$218),\"\") & \" \" & IF($A78<=Daten!$B$8,LOOKUP($B78,Daten!$A$169:$A$218,Daten!$Y$169:$Y$218),\"\")","v":"11,4 Inhalt5Einh[11,4]"},null,{"$f":"IF($A78<=Daten!$B$8,LOOKUP($B78,Daten!$A$220:$A$269,Daten!$X$220:$X$269),\"\") & \" \" & IF($A78<=Daten!$B$8,LOOKUP($B78,Daten!$A$220:$A$269,Daten!$Y$220:$Y$269),\"\")","v":"11,5 Inhalt5Einh[11,5]"},null,{"$f":"IF($A78<=Daten!$B$8,LOOKUP($B78,Daten!$A$271:$A$320,Daten!$X$271:$X$320),\"\") & \" \" & IF($A78<=Daten!$B$8,LOOKUP($B78,Daten!$A$271:$A$320,Daten!$Y$271:$Y$320),\"\")","v":"11,6 Inhalt5Einh[11,6]"},null,{"$f":"IF($A78<=Daten!$B$8,LOOKUP($B78,Daten!$A$322:$A$371,Daten!$X$322:$X$371),\"\") & \" \" & IF($A78<=Daten!$B$8,LOOKUP($B78,Daten!$A$322:$A$371,Daten!$Y$322:$Y$371),\"\")","v":"11,7 Inhalt5Einh[11,7]"}]
[null,null,null,{"$f":"IF($A78<=Daten!$B$8,LOOKUP($B78,Daten!$A$16:$A$65,Daten!$Z$16:$Z$65),\"\") & \" \" & IF($A78<=Daten!$B$8,LOOKUP($B78,Daten!$A$16:$A$65,Daten!$AA$16:$AA$65),\"\")","v":"11,1 Inhalt6Einh[11,1]"},null,{"$f":"IF($A78<=Daten!$B$8,LOOKUP($B78,Daten!$A$67:$A$116,Daten!$Z$67:$Z$116),\"\") & \" \" & IF($A78<=Daten!$B$8,LOOKUP($B78,Daten!$A$67:$A$116,Daten!$AA$67:$AA$116),\"\")","v":"11,2 Inhalt6Einh[11,2]"},null,{"$f":"IF($A78<=Daten!$B$8,LOOKUP($B78,Daten!$A$118:$A$167,Daten!$Z$118:$Z$167),\"\") & \" \" & IF($A78<=Daten!$B$8,LOOKUP($B78,Daten!$A$118:$A$167,Daten!$AA$118:$AA$167),\"\")","v":"11,3 Inhalt6Einh[11,3]"},null,{"$f":"IF($A78<=Daten!$B$8,LOOKUP($B78,Daten!$A$169:$A$218,Daten!$Z$169:$Z$218),\"\") & \" \" & IF($A78<=Daten!$B$8,LOOKUP($B78,Daten!$A$169:$A$218,Daten!$AA$169:$AA$218),\"\")","v":"11,4 Inhalt6Einh[11,4]"},null,{"$f":"IF($A78<=Daten!$B$8,LOOKUP($B78,Daten!$A$220:$A$269,Daten!$Z$220:$Z$269),\"\") & \" \" & IF($A78<=Daten!$B$8,LOOKUP($B78,Daten!$A$220:$A$269,Daten!$AA$220:$AA$269),\"\")","v":"11,5 Inhalt6Einh[11,5]"},null,{"$f":"IF($A78<=Daten!$B$8,LOOKUP($B78,Daten!$A$271:$A$320,Daten!$Z$271:$Z$320),\"\") & \" \" & IF($A78<=Daten!$B$8,LOOKUP($B78,Daten!$A$271:$A$320,Daten!$AA$271:$AA$320),\"\")","v":"11,6 Inhalt6Einh[11,6]"},null,{"$f":"IF($A78<=Daten!$B$8,LOOKUP($B78,Daten!$A$322:$A$371,Daten!$Z$322:$Z$371),\"\") & \" \" & IF($A78<=Daten!$B$8,LOOKUP($B78,Daten!$A$322:$A$371,Daten!$AA$322:$AA$371),\"\")","v":"11,7 Inhalt6Einh[11,7]"}]
[null,{"$f":"IF(A78<=Daten!$B$8,\"Zusatzstoffe\",\"\")","v":"Zusatzstoffe"},{"$f":"IF($A78<=Daten!$B$8,LOOKUP($B78,Daten!$A$16:$A$65,Daten!$L$16:$L$65),\"\")","v":11.1},{"$f":"IF($A78<=Daten!$B$8,LOOKUP($B78,Daten!$A$16:$A$65,Daten!$E$16:$E$65),\"\")","v":211.1},{"$f":"IF($A78<=Daten!$B$8,LOOKUP($B78,Daten!$A$67:$A$116,Daten!$L$67:$L$116),\"\")","v":11.2},{"$f":"IF($A78<=Daten!$B$8,LOOKUP($B78,Daten!$A$16:$A$65,Daten!$E$67:$E$116),\"\")","v":0},{"$f":"IF($A78<=Daten!$B$8,LOOKUP($B78,Daten!$A$118:$A$167,Daten!$L$118:$L$167),\"\")","v":11.3},{"$f":"IF($A78<=Daten!$B$8,LOOKUP($B78,Daten!$A$118:$A$167,Daten!$E$118:$E$167),\"\")","v":0},{"$f":"IF($A78<=Daten!$B$8,LOOKUP($B78,Daten!$A$169:$A$218,Daten!$L$169:$L$218),\"\")","v":11.4},{"$f":"IF($A78<=Daten!$B$8,LOOKUP($B78,Daten!$A$169:$A$218,Daten!$E$169:$E$218),\"\")","v":0},{"$f":"IF($A78<=Daten!$B$8,LOOKUP($B78,Daten!$A$220:$A$269,Daten!$L$220:$L$269),\"\")","v":11.5},{"$f":"IF($A78<=Daten!$B$8,LOOKUP($B78,Daten!$A$220:$A$269,Daten!$E$220:$E$269),\"\")","v":0},{"$f":"IF($A78<=Daten!$B$8,LOOKUP($B78,Daten!$A$271:$A$320,Daten!$L$271:$L$320),\"\")","v":11.6},{"$f":"IF($A78<=Daten!$B$8,LOOKUP($B78,Daten!$A$271:$A$320,Daten!$E$271:$E$320),\"\")","v":0},{"$f":"IF($A78<=Daten!$B$8,LOOKUP($B78,Daten!$A$322:$A$371,Daten!$L$322:$L$371),\"\")","v":11.7},{"$f":"IF($A78<=Daten!$B$8,LOOKUP($B78,Daten!$A$322:$A$371,Daten!$E$322:$E$371),\"\")","v":0}]
[12,{"$f":"IF(A85<=Daten!$B$8,Daten!M9,\"\")","v":"Menülinie 12"},{"$f":"IF($A85<=Daten!$B$8,LOOKUP($B85,Daten!$A$16:$A$65,Daten!$C$16:$C$65),\"\")","v":"Lang[12,1]"},{"$f":"IF($A85<=Daten!$B$8,LOOKUP($B85,Daten!$A$16:$A$65,Daten!$P$16:$P$65),\"\") & \" \" & IF($A85<=Daten!$B$8,LOOKUP($B85,Daten!$A$16:$A$65,Daten!$Q$16:$Q$65),\"\")","v":"12,1 Inhalt1Einh[12,1]"},{"$f":"IF($A85<=Daten!$B$8,LOOKUP($B85,Daten!$A$67:$A$116,Daten!$C$67:$C$116),\"\")","v":"Lang[12,2]"},{"$f":"IF($A85<=Daten!$B$8,LOOKUP($B85,Daten!$A$67:$A$116,Daten!$P$67:$P$116),\"\") & \" \" & IF($A85<=Daten!$B$8,LOOKUP($B85,Daten!$A$67:$A$116,Daten!$Q$67:$Q$116),\"\")","v":"12,2 Inhalt1Einh[12,2]"},{"$f":"IF($A85<=Daten!$B$8,LOOKUP($B85,Daten!$A$118:$A$167,Daten!$C$118:$C$167),\"\")","v":"Lang[12,3]"},{"$f":"IF($A85<=Daten!$B$8,LOOKUP($B85,Daten!$A$118:$A$167,Daten!$P$118:$P$167),\"\") & \" \" & IF($A85<=Daten!$B$8,LOOKUP($B85,Daten!$A$118:$A$167,Daten!$Q$118:$Q$167),\"\")","v":"12,3 Inhalt1Einh[12,3]"},{"$f":"IF($A85<=Daten!$B$8,LOOKUP($B85,Daten!$A$169:$A$218,Daten!$C$169:$C$218),\"\")","v":"Lang[12,4]"},{"$f":"IF($A85<=Daten!$B$8,LOOKUP($B85,Daten!$A$169:$A$218,Daten!$P$169:$P$218),\"\") & \" \" & IF($A85<=Daten!$B$8,LOOKUP($B85,Daten!$A$169:$A$218,Daten!$Q$169:$Q$218),\"\")","v":"12,4 Inhalt1Einh[12,4]"},{"$f":"IF($A85<=Daten!$B$8,LOOKUP($B85,Daten!$A$220:$A$269,Daten!$C$220:$C$269),\"\")","v":"Lang[12,5]"},{"$f":"IF($A85<=Daten!$B$8,LOOKUP($B85,Daten!$A$220:$A$269,Daten!$P$220:$P$269),\"\") & \" \" & IF($A85<=Daten!$B$8,LOOKUP($B85,Daten!$A$220:$A$269,Daten!$Q$220:$Q$269),\"\")","v":"12,5 Inhalt1Einh[12,5]"},{"$f":"IF($A85<=Daten!$B$8,LOOKUP($B85,Daten!$A$271:$A$320,Daten!$C$271:$C$320),\"\")","v":"Lang[12,6]"},{"$f":"IF($A85<=Daten!$B$8,LOOKUP($B85,Daten!$A$271:$A$320,Daten!$P$271:$P$320),\"\") & \" \" & IF($A85<=Daten!$B$8,LOOKUP($B85,Daten!$A$271:$A$320,Daten!$Q$271:$Q$320),\"\")","v":"12,6 Inhalt1Einh[12,6]"},{"$f":"IF($A85<=Daten!$B$8,LOOKUP($B85,Daten!$A$322:$A$371,Daten!$B$322:$C$371),\"\")","v":{"$error":"#N/A"}},{"$f":"IF($A85<=Daten!$B$8,LOOKUP($B85,Daten!$A$322:$A$371,Daten!$P$322:$P$371),\"\") & \" \" & IF($A85<=Daten!$B$8,LOOKUP($B85,Daten!$A$322:$A$371,Daten!$Q$322:$Q$371),\"\")","v":"12,7 Inhalt1Einh[12,7]"}]
[null,null,null,{"$f":"IF($A85<=Daten!$B$8,LOOKUP($B85,Daten!$A$16:$A$65,Daten!$R$16:$R$65),\"\") & \" \" & IF($A85<=Daten!$B$8,LOOKUP($B85,Daten!$A$16:$A$65,Daten!$S$16:$S$65),\"\")","v":"12,1 Inhalt2Einh[12,1]"},null,{"$f":"IF($A85<=Daten!$B$8,LOOKUP($B85,Daten!$A$67:$A$116,Daten!$R$67:$R$116),\"\") & \" \" & IF($A85<=Daten!$B$8,LOOKUP($B85,Daten!$A$67:$A$116,Daten!$S$67:$S$116),\"\")","v":"12,2 Inhalt2Einh[12,2]"},null,{"$f":"IF($A85<=Daten!$B$8,LOOKUP($B85,Daten!$A$118:$A$167,Daten!$R$118:$R$167),\"\") & \" \" & IF($A85<=Daten!$B$8,LOOKUP($B85,Daten!$A$118:$A$167,Daten!$S$118:$S$167),\"\")","v":"12,3 Inhalt2Einh[12,3]"},null,{"$f":"IF($A85<=Daten!$B$8,LOOKUP($B85,Daten!$A$169:$A$218,Daten!$R$169:$R$218),\"\") & \" \" & IF($A85<=Daten!$B$8,LOOKUP($B85,Daten!$A$169:$A$218,Daten!$S$169:$S$218),\"\")","v":"12,4 Inhalt2Einh[12,4]"},null,{"$f":"IF($A85<=Daten!$B$8,LOOKUP($B85,Daten!$A$220:$A$269,Daten!$R$220:$R$269),\"\") & \" \" & IF($A85<=Daten!$B$8,LOOKUP($B85,Daten!$A$220:$A$269,Daten!$S$220:$S$269),\"\")","v":"12,5 Inhalt2Einh[12,5]"},null,{"$f":"IF($A85<=Daten!$B$8,LOOKUP($B85,Daten!$A$271:$A$320,Daten!$R$271:$R$320),\"\") & \" \" & IF($A85<=Daten!$B$8,LOOKUP($B85,Daten!$A$271:$A$320,Daten!$S$271:$S$320),\"\")","v":"12,6 Inhalt2Einh[12,6]"},null,{"$f":"IF($A85<=Daten!$B$8,LOOKUP($B85,Daten!$A$322:$A$371,Daten!$R$322:$R$371),\"\") & \" \" & IF($A85<=Daten!$B$8,LOOKUP($B85,Daten!$A$322:$A$371,Daten!$S$322:$S$371),\"\")","v":"12,7 Inhalt2Einh[12,7]"}]
[null,null,null,{"$f":"IF($A85<=Daten!$B$8,LOOKUP($B85,Daten!$A$16:$A$65,Daten!$T$16:$T$65),\"\") & \" \" & IF($A85<=Daten!$B$8,LOOKUP($B85,Daten!$A$16:$A$65,Daten!$U$16:$U$65),\"\")","v":"12,1 Inhalt3Einh[12,1]"},null,{"$f":"IF($A85<=Daten!$B$8,LOOKUP($B85,Daten!$A$67:$A$116,Daten!$T$67:$T$116),\"\") & \" \" & IF($A85<=Daten!$B$8,LOOKUP($B85,Daten!$A$67:$A$116,Daten!$U$67:$U$116),\"\")","v":"12,2 Inhalt3Einh[12,2]"},null,{"$f":"IF($A85<=Daten!$B$8,LOOKUP($B85,Daten!$A$118:$A$167,Daten!$T$118:$T$167),\"\") & \" \" & IF($A85<=Daten!$B$8,LOOKUP($B85,Daten!$A$118:$A$167,Daten!$U$118:$U$167),\"\")","v":"12,3 Inhalt3Einh[12,3]"},null,{"$f":"IF($A85<=Daten!$B$8,LOOKUP($B85,Daten!$A$169:$A$218,Daten!$T$169:$T$218),\"\") & \" \" & IF($A85<=Daten!$B$8,LOOKUP($B85,Daten!$A$169:$A$218,Daten!$U$169:$U$218),\"\")","v":"12,4 Inhalt3Einh[12,4]"},null,{"$f":"IF($A85<=Daten!$B$8,LOOKUP($B85,Daten!$A$220:$A$269,Daten!$T$220:$T$269),\"\") & \" \" & IF($A85<=Daten!$B$8,LOOKUP($B85,Daten!$A$220:$A$269,Daten!$U$220:$U$269),\"\")","v":"12,5 Inhalt3Einh[12,5]"},null,{"$f":"IF($A85<=Daten!$B$8,LOOKUP($B85,Daten!$A$271:$A$320,Daten!$T$271:$T$320),\"\") & \" \" & IF($A85<=Daten!$B$8,LOOKUP($B85,Daten!$A$271:$A$320,Daten!$U$271:$U$320),\"\")","v":"12,6 Inhalt3Einh[12,6]"},null,{"$f":"IF($A85<=Daten!$B$8,LOOKUP($B85,Daten!$A$322:$A$371,Daten!$T$322:$T$371),\"\") & \" \" & IF($A85<=Daten!$B$8,LOOKUP($B85,Daten!$A$322:$A$371,Daten!$U$322:$U$371),\"\")","v":"12,7 Inhalt3Einh[12,7]"}]
[null,null,null,{"$f":"IF($A85<=Daten!$B$8,LOOKUP($B85,Daten!$A$16:$A$65,Daten!$V$16:$V$65),\"\") & \" \" & IF($A85<=Daten!$B$8,LOOKUP($B85,Daten!$A$16:$A$65,Daten!$W$16:$W$65),\"\")","v":"12,1 Inhalt4Einh[12,1]"},null,{"$f":"IF($A85<=Daten!$B$8,LOOKUP($B85,Daten!$A$67:$A$116,Daten!$V$67:$V$116),\"\") & \" \" & IF($A85<=Daten!$B$8,LOOKUP($B85,Daten!$A$67:$A$116,Daten!$W$67:$W$116),\"\")","v":"12,2 Inhalt4Einh[12,2]"},null,{"$f":"IF($A85<=Daten!$B$8,LOOKUP($B85,Daten!$A$118:$A$167,Daten!$V$118:$V$167),\"\") & \" \" & IF($A85<=Daten!$B$8,LOOKUP($B85,Daten!$A$118:$A$167,Daten!$W$118:$W$167),\"\")","v":"12,3 Inhalt4Einh[12,3]"},null,{"$f":"IF($A85<=Daten!$B$8,LOOKUP($B85,Daten!$A$169:$A$218,Daten!$V$169:$V$218),\"\") & \" \" & IF($A85<=Daten!$B$8,LOOKUP($B85,Daten!$A$169:$A$218,Daten!$W$169:$W$218),\"\")","v":"12,4 Inhalt4Einh[12,4]"},null,{"$f":"IF($A85<=Daten!$B$8,LOOKUP($B85,Daten!$A$220:$A$269,Daten!$V$220:$V$269),\"\") & \" \" & IF($A85<=Daten!$B$8,LOOKUP($B85,Daten!$A$220:$A$269,Daten!$W$220:$W$269),\"\")","v":"12,5 Inhalt4Einh[12,5]"},null,{"$f":"IF($A85<=Daten!$B$8,LOOKUP($B85,Daten!$A$271:$A$320,Daten!$V$271:$V$320),\"\") & \" \" & IF($A85<=Daten!$B$8,LOOKUP($B85,Daten!$A$271:$A$320,Daten!$W$271:$W$320),\"\")","v":"12,6 Inhalt4Einh[12,6]"},null,{"$f":"IF($A85<=Daten!$B$8,LOOKUP($B85,Daten!$A$322:$A$371,Daten!$V$322:$V$371),\"\") & \" \" & IF($A85<=Daten!$B$8,LOOKUP($B85,Daten!$A$322:$A$371,Daten!$W$322:$W$371),\"\")","v":"12,7 Inhalt4Einh[12,7]"}]
[null,null,null,{"$f":"IF($A85<=Daten!$B$8,LOOKUP($B85,Daten!$A$16:$A$65,Daten!$X$16:$X$65),\"\") & \" \" & IF($A85<=Daten!$B$8,LOOKUP($B85,Daten!$A$16:$A$65,Daten!$Y$16:$Y$65),\"\")","v":"12,1 Inhalt5Einh[12,1]"},null,{"$f":"IF($A85<=Daten!$B$8,LOOKUP($B85,Daten!$A$67:$A$116,Daten!$X$67:$X$116),\"\") & \" \" & IF($A85<=Daten!$B$8,LOOKUP($B85,Daten!$A$67:$A$116,Daten!$Y$67:$Y$116),\"\")","v":"12,2 Inhalt5Einh[12,2]"},null,{"$f":"IF($A85<=Daten!$B$8,LOOKUP($B85,Daten!$A$118:$A$167,Daten!$X$118:$X$167),\"\") & \" \" & IF($A85<=Daten!$B$8,LOOKUP($B85,Daten!$A$118:$A$167,Daten!$Y$118:$Y$167),\"\")","v":"12,3 Inhalt5Einh[12,3]"},null,{"$f":"IF($A85<=Daten!$B$8,LOOKUP($B85,Daten!$A$169:$A$218,Daten!$X$169:$X$218),\"\") & \" \" & IF($A85<=Daten!$B$8,LOOKUP($B85,Daten!$A$169:$A$218,Daten!$Y$169:$Y$218),\"\")","v":"12,4 Inhalt5Einh[12,4]"},null,{"$f":"IF($A85<=Daten!$B$8,LOOKUP($B85,Daten!$A$220:$A$269,Daten!$X$220:$X$269),\"\") & \" \" & IF($A85<=Daten!$B$8,LOOKUP($B85,Daten!$A$220:$A$269,Daten!$Y$220:$Y$269),\"\")","v":"12,5 Inhalt5Einh[12,5]"},null,{"$f":"IF($A85<=Daten!$B$8,LOOKUP($B85,Daten!$A$271:$A$320,Daten!$X$271:$X$320),\"\") & \" \" & IF($A85<=Daten!$B$8,LOOKUP($B85,Daten!$A$271:$A$320,Daten!$Y$271:$Y$320),\"\")","v":"12,6 Inhalt5Einh[12,6]"},null,{"$f":"IF($A85<=Daten!$B$8,LOOKUP($B85,Daten!$A$322:$A$371,Daten!$X$322:$X$371),\"\") & \" \" & IF($A85<=Daten!$B$8,LOOKUP($B85,Daten!$A$322:$A$371,Daten!$Y$322:$Y$371),\"\")","v":"12,7 Inhalt5Einh[12,7]"}]
[null,null,null,{"$f":"IF($A85<=Daten!$B$8,LOOKUP($B85,Daten!$A$16:$A$65,Daten!$Z$16:$Z$65),\"\") & \" \" & IF($A85<=Daten!$B$8,LOOKUP($B85,Daten!$A$16:$A$65,Daten!$AA$16:$AA$65),\"\")","v":"12,1 Inhalt6Einh[12,1]"},null,{"$f":"IF($A85<=Daten!$B$8,LOOKUP($B85,Daten!$A$67:$A$116,Daten!$Z$67:$Z$116),\"\") & \" \" & IF($A85<=Daten!$B$8,LOOKUP($B85,Daten!$A$67:$A$116,Daten!$AA$67:$AA$116),\"\")","v":"12,2 Inhalt6Einh[12,2]"},null,{"$f":"IF($A85<=Daten!$B$8,LOOKUP($B85,Daten!$A$118:$A$167,Daten!$Z$118:$Z$167),\"\") & \" \" & IF($A85<=Daten!$B$8,LOOKUP($B85,Daten!$A$118:$A$167,Daten!$AA$118:$AA$167),\"\")","v":"12,3 Inhalt6Einh[12,3]"},null,{"$f":"IF($A85<=Daten!$B$8,LOOKUP($B85,Daten!$A$169:$A$218,Daten!$Z$169:$Z$218),\"\") & \" \" & IF($A85<=Daten!$B$8,LOOKUP($B85,Daten!$A$169:$A$218,Daten!$AA$169:$AA$218),\"\")","v":"12,4 Inhalt6Einh[12,4]"},null,{"$f":"IF($A85<=Daten!$B$8,LOOKUP($B85,Daten!$A$220:$A$269,Daten!$Z$220:$Z$269),\"\") & \" \" & IF($A85<=Daten!$B$8,LOOKUP($B85,Daten!$A$220:$A$269,Daten!$AA$220:$AA$269),\"\")","v":"12,5 Inhalt6Einh[12,5]"},null,{"$f":"IF($A85<=Daten!$B$8,LOOKUP($B85,Daten!$A$271:$A$320,Daten!$Z$271:$Z$320),\"\") & \" \" & IF($A85<=Daten!$B$8,LOOKUP($B85,Daten!$A$271:$A$320,Daten!$AA$271:$AA$320),\"\")","v":"12,6 Inhalt6Einh[12,6]"},null,{"$f":"IF($A85<=Daten!$B$8,LOOKUP($B85,Daten!$A$322:$A$371,Daten!$Z$322:$Z$371),\"\") & \" \" & IF($A85<=Daten!$B$8,LOOKUP($B85,Daten!$A$322:$A$371,Daten!$AA$322:$AA$371),\"\")","v":"12,7 Inhalt6Einh[12,7]"}]
[null,{"$f":"IF(A85<=Daten!$B$8,\"Zusatzstoffe\",\"\")","v":"Zusatzstoffe"},{"$f":"IF($A85<=Daten!$B$8,LOOKUP($B85,Daten!$A$16:$A$65,Daten!$L$16:$L$65),\"\")","v":12.1},{"$f":"IF($A85<=Daten!$B$8,LOOKUP($B85,Daten!$A$16:$A$65,Daten!$E$16:$E$65),\"\")","v":212.1},{"$f":"IF($A85<=Daten!$B$8,LOOKUP($B85,Daten!$A$67:$A$116,Daten!$L$67:$L$116),\"\")","v":12.2},{"$f":"IF($A85<=Daten!$B$8,LOOKUP($B85,Daten!$A$16:$A$65,Daten!$E$67:$E$116),\"\")","v":0},{"$f":"IF($A85<=Daten!$B$8,LOOKUP($B85,Daten!$A$118:$A$167,Daten!$L$118:$L$167),\"\")","v":12.3},{"$f":"IF($A85<=Daten!$B$8,LOOKUP($B85,Daten!$A$118:$A$167,Daten!$E$118:$E$167),\"\")","v":0},{"$f":"IF($A85<=Daten!$B$8,LOOKUP($B85,Daten!$A$169:$A$218,Daten!$L$169:$L$218),\"\")","v":12.4},{"$f":"IF($A85<=Daten!$B$8,LOOKUP($B85,Daten!$A$169:$A$218,Daten!$E$169:$E$218),\"\")","v":0},{"$f":"IF($A85<=Daten!$B$8,LOOKUP($B85,Daten!$A$220:$A$269,Daten!$L$220:$L$269),\"\")","v":12.5},{"$f":"IF($A85<=Daten!$B$8,LOOKUP($B85,Daten!$A$220:$A$269,Daten!$E$220:$E$269),\"\")","v":0},{"$f":"IF($A85<=Daten!$B$8,LOOKUP($B85,Daten!$A$271:$A$320,Daten!$L$271:$L$320),\"\")","v":12.6},{"$f":"IF($A85<=Daten!$B$8,LOOKUP($B85,Daten!$A$271:$A$320,Daten!$E$271:$E$320),\"\")","v":0},{"$f":"IF($A85<=Daten!$B$8,LOOKUP($B85,Daten!$A$322:$A$371,Daten!$L$322:$L$371),\"\")","v":12.7},{"$f":"IF($A85<=Daten!$B$8,LOOKUP($B85,Daten!$A$322:$A$371,Daten!$E$322:$E$371),\"\")","v":0}]
[13,{"$f":"IF(A92<=Daten!$B$8,Daten!N9,\"\")","v":"Menülinie 13"},{"$f":"IF(A92<=Daten!$B$8,LOOKUP(B92,Daten!$A$16:$A$65,Daten!$C$16:$C$65),\"\")","v":"Lang[13,1]"},{"$f":"IF($A92<=Daten!$B$8,LOOKUP($B92,Daten!$A$16:$A$65,Daten!$P$16:$P$65),\"\") & \" \" & IF($A92<=Daten!$B$8,LOOKUP($B92,Daten!$A$16:$A$65,Daten!$Q$16:$Q$65),\"\")","v":"13,1 Inhalt1Einh[13,1]"},{"$f":"IF($A92<=Daten!$B$8,LOOKUP($B92,Daten!$A$67:$A$116,Daten!$C$67:$C$116),\"\")","v":"Lang[13,2]"},{"$f":"IF($A92<=Daten!$B$8,LOOKUP($B92,Daten!$A$67:$A$116,Daten!$P$67:$P$116),\"\") & \" \" & IF($A92<=Daten!$B$8,LOOKUP($B92,Daten!$A$67:$A$116,Daten!$Q$67:$Q$116),\"\")","v":"13,2 Inhalt1Einh[13,2]"},{"$f":"IF($A92<=Daten!$B$8,LOOKUP($B92,Daten!$A$118:$A$167,Daten!$C$118:$C$167),\"\")","v":"Lang[13,3]"},{"$f":"IF($A92<=Daten!$B$8,LOOKUP($B92,Daten!$A$118:$A$167,Daten!$P$118:$P$167),\"\") & \" \" & IF($A92<=Daten!$B$8,LOOKUP($B92,Daten!$A$118:$A$167,Daten!$Q$118:$Q$167),\"\")","v":"13,3 Inhalt1Einh[13,3]"},{"$f":"IF($A92<=Daten!$B$8,LOOKUP($B92,Daten!$A$169:$A$218,Daten!$C$169:$C$218),\"\")","v":"Lang[13,4]"},{"$f":"IF($A92<=Daten!$B$8,LOOKUP($B92,Daten!$A$169:$A$218,Daten!$P$169:$P$218),\"\") & \" \" & IF($A92<=Daten!$B$8,LOOKUP($B92,Daten!$A$169:$A$218,Daten!$Q$169:$Q$218),\"\")","v":"13,4 Inhalt1Einh[13,4]"},{"$f":"IF($A92<=Daten!$B$8,LOOKUP($B92,Daten!$A$220:$A$269,Daten!$C$220:$C$269),\"\")","v":"Lang[13,5]"},{"$f":"IF($A92<=Daten!$B$8,LOOKUP($B92,Daten!$A$220:$A$269,Daten!$P$220:$P$269),\"\") & \" \" & IF($A92<=Daten!$B$8,LOOKUP($B92,Daten!$A$220:$A$269,Daten!$Q$220:$Q$269),\"\")","v":"13,5 Inhalt1Einh[13,5]"},{"$f":"IF($A92<=Daten!$B$8,LOOKUP($B92,Daten!$A$271:$A$320,Daten!$C$271:$C$320),\"\")","v":"Lang[13,6]"},{"$f":"IF($A92<=Daten!$B$8,LOOKUP($B92,Daten!$A$271:$A$320,Daten!$P$271:$P$320),\"\") & \" \" & IF($A92<=Daten!$B$8,LOOKUP($B92,Daten!$A$271:$A$320,Daten!$Q$271:$Q$320),\"\")","v":"13,6 Inhalt1Einh[13,6]"},{"$f":"IF($A92<=Daten!$B$8,LOOKUP($B92,Daten!$A$322:$A$371,Daten!$B$322:$C$371),\"\")","v":{"$error":"#N/A"}},{"$f":"IF($A92<=Daten!$B$8,LOOKUP($B92,Daten!$A$322:$A$371,Daten!$P$322:$P$371),\"\") & \" \" & IF($A92<=Daten!$B$8,LOOKUP($B92,Daten!$A$322:$A$371,Daten!$Q$322:$Q$371),\"\")","v":"13,7 Inhalt1Einh[13,7]"}]
[null,null,null,{"$f":"IF($A92<=Daten!$B$8,LOOKUP($B92,Daten!$A$16:$A$65,Daten!$R$16:$R$65),\"\") & \" \" & IF($A92<=Daten!$B$8,LOOKUP($B92,Daten!$A$16:$A$65,Daten!$S$16:$S$65),\"\")","v":"13,1 Inhalt2Einh[13,1]"},null,{"$f":"IF($A92<=Daten!$B$8,LOOKUP($B92,Daten!$A$67:$A$116,Daten!$R$67:$R$116),\"\") & \" \" & IF($A92<=Daten!$B$8,LOOKUP($B92,Daten!$A$67:$A$116,Daten!$S$67:$S$116),\"\")","v":"13,2 Inhalt2Einh[13,2]"},null,{"$f":"IF($A92<=Daten!$B$8,LOOKUP($B92,Daten!$A$118:$A$167,Daten!$R$118:$R$167),\"\") & \" \" & IF($A92<=Daten!$B$8,LOOKUP($B92,Daten!$A$118:$A$167,Daten!$S$118:$S$167),\"\")","v":"13,3 Inhalt2Einh[13,3]"},null,{"$f":"IF($A92<=Daten!$B$8,LOOKUP($B92,Daten!$A$169:$A$218,Daten!$R$169:$R$218),\"\") & \" \" & IF($A92<=Daten!$B$8,LOOKUP($B92,Daten!$A$169:$A$218,Daten!$S$169:$S$218),\"\")","v":"13,4 Inhalt2Einh[13,4]"},null,{"$f":"IF($A92<=Daten!$B$8,LOOKUP($B92,Daten!$A$220:$A$269,Daten!$R$220:$R$269),\"\") & \" \" & IF($A92<=Daten!$B$8,LOOKUP($B92,Daten!$A$220:$A$269,Daten!$S$220:$S$269),\"\")","v":"13,5 Inhalt2Einh[13,5]"},null,{"$f":"IF($A92<=Daten!$B$8,LOOKUP($B92,Daten!$A$271:$A$320,Daten!$R$271:$R$320),\"\") & \" \" & IF($A92<=Daten!$B$8,LOOKUP($B92,Daten!$A$271:$A$320,Daten!$S$271:$S$320),\"\")","v":"13,6 Inhalt2Einh[13,6]"},null,{"$f":"IF($A92<=Daten!$B$8,LOOKUP($B92,Daten!$A$322:$A$371,Daten!$R$322:$R$371),\"\") & \" \" & IF($A92<=Daten!$B$8,LOOKUP($B92,Daten!$A$322:$A$371,Daten!$S$322:$S$371),\"\")","v":"13,7 Inhalt2Einh[13,7]"}]
[null,null,null,{"$f":"IF($A92<=Daten!$B$8,LOOKUP($B92,Daten!$A$16:$A$65,Daten!$T$16:$T$65),\"\") & \" \" & IF($A92<=Daten!$B$8,LOOKUP($B92,Daten!$A$16:$A$65,Daten!$U$16:$U$65),\"\")","v":"13,1 Inhalt3Einh[13,1]"},null,{"$f":"IF($A92<=Daten!$B$8,LOOKUP($B92,Daten!$A$67:$A$116,Daten!$T$67:$T$116),\"\") & \" \" & IF($A92<=Daten!$B$8,LOOKUP($B92,Daten!$A$67:$A$116,Daten!$U$67:$U$116),\"\")","v":"13,2 Inhalt3Einh[13,2]"},null,{"$f":"IF($A92<=Daten!$B$8,LOOKUP($B92,Daten!$A$118:$A$167,Daten!$T$118:$T$167),\"\") & \" \" & IF($A92<=Daten!$B$8,LOOKUP($B92,Daten!$A$118:$A$167,Daten!$U$118:$U$167),\"\")","v":"13,3 Inhalt3Einh[13,3]"},null,{"$f":"IF($A92<=Daten!$B$8,LOOKUP($B92,Daten!$A$169:$A$218,Daten!$T$169:$T$218),\"\") & \" \" & IF($A92<=Daten!$B$8,LOOKUP($B92,Daten!$A$169:$A$218,Daten!$U$169:$U$218),\"\")","v":"13,4 Inhalt3Einh[13,4]"},null,{"$f":"IF($A92<=Daten!$B$8,LOOKUP($B92,Daten!$A$220:$A$269,Daten!$T$220:$T$269),\"\") & \" \" & IF($A92<=Daten!$B$8,LOOKUP($B92,Daten!$A$220:$A$269,Daten!$U$220:$U$269),\"\")","v":"13,5 Inhalt3Einh[13,5]"},null,{"$f":"IF($A92<=Daten!$B$8,LOOKUP($B92,Daten!$A$271:$A$320,Daten!$T$271:$T$320),\"\") & \" \" & IF($A92<=Daten!$B$8,LOOKUP($B92,Daten!$A$271:$A$320,Daten!$U$271:$U$320),\"\")","v":"13,6 Inhalt3Einh[13,6]"},null,{"$f":"IF($A92<=Daten!$B$8,LOOKUP($B92,Daten!$A$322:$A$371,Daten!$T$322:$T$371),\"\") & \" \" & IF($A92<=Daten!$B$8,LOOKUP($B92,Daten!$A$322:$A$371,Daten!$U$322:$U$371),\"\")","v":"13,7 Inhalt3Einh[13,7]"}]
[null,null,null,{"$f":"IF($A92<=Daten!$B$8,LOOKUP($B92,Daten!$A$16:$A$65,Daten!$V$16:$V$65),\"\") & \" \" & IF($A92<=Daten!$B$8,LOOKUP($B92,Daten!$A$16:$A$65,Daten!$W$16:$W$65),\"\")","v":"13,1 Inhalt4Einh[13,1]"},null,{"$f":"IF($A92<=Daten!$B$8,LOOKUP($B92,Daten!$A$67:$A$116,Daten!$V$67:$V$116),\"\") & \" \" & IF($A92<=Daten!$B$8,LOOKUP($B92,Daten!$A$67:$A$116,Daten!$W$67:$W$116),\"\")","v":"13,2 Inhalt4Einh[13,2]"},null,{"$f":"IF($A92<=Daten!$B$8,LOOKUP($B92,Daten!$A$118:$A$167,Daten!$V$118:$V$167),\"\") & \" \" & IF($A92<=Daten!$B$8,LOOKUP($B92,Daten!$A$118:$A$167,Daten!$W$118:$W$167),\"\")","v":"13,3 Inhalt4Einh[13,3]"},null,{"$f":"IF($A92<=Daten!$B$8,LOOKUP($B92,Daten!$A$169:$A$218,Daten!$V$169:$V$218),\"\") & \" \" & IF($A92<=Daten!$B$8,LOOKUP($B92,Daten!$A$169:$A$218,Daten!$W$169:$W$218),\"\")","v":"13,4 Inhalt4Einh[13,4]"},null,{"$f":"IF($A92<=Daten!$B$8,LOOKUP($B92,Daten!$A$220:$A$269,Daten!$V$220:$V$269),\"\") & \" \" & IF($A92<=Daten!$B$8,LOOKUP($B92,Daten!$A$220:$A$269,Daten!$W$220:$W$269),\"\")","v":"13,5 Inhalt4Einh[13,5]"},null,{"$f":"IF($A92<=Daten!$B$8,LOOKUP($B92,Daten!$A$271:$A$320,Daten!$V$271:$V$320),\"\") & \" \" & IF($A92<=Daten!$B$8,LOOKUP($B92,Daten!$A$271:$A$320,Daten!$W$271:$W$320),\"\")","v":"13,6 Inhalt4Einh[13,6]"},null,{"$f":"IF($A92<=Daten!$B$8,LOOKUP($B92,Daten!$A$322:$A$371,Daten!$V$322:$V$371),\"\") & \" \" & IF($A92<=Daten!$B$8,LOOKUP($B92,Daten!$A$322:$A$371,Daten!$W$322:$W$371),\"\")","v":"13,7 Inhalt4Einh[13,7]"}]
[null,null,null,{"$f":"IF($A92<=Daten!$B$8,LOOKUP($B92,Daten!$A$16:$A$65,Daten!$X$16:$X$65),\"\") & \" \" & IF($A92<=Daten!$B$8,LOOKUP($B92,Daten!$A$16:$A$65,Daten!$Y$16:$Y$65),\"\")","v":"13,1 Inhalt5Einh[13,1]"},null,{"$f":"IF($A92<=Daten!$B$8,LOOKUP($B92,Daten!$A$67:$A$116,Daten!$X$67:$X$116),\"\") & \" \" & IF($A92<=Daten!$B$8,LOOKUP($B92,Daten!$A$67:$A$116,Daten!$Y$67:$Y$116),\"\")","v":"13,2 Inhalt5Einh[13,2]"},null,{"$f":"IF($A92<=Daten!$B$8,LOOKUP($B92,Daten!$A$118:$A$167,Daten!$X$118:$X$167),\"\") & \" \" & IF($A92<=Daten!$B$8,LOOKUP($B92,Daten!$A$118:$A$167,Daten!$Y$118:$Y$167),\"\")","v":"13,3 Inhalt5Einh[13,3]"},null,{"$f":"IF($A92<=Daten!$B$8,LOOKUP($B92,Daten!$A$169:$A$218,Daten!$X$169:$X$218),\"\") & \" \" & IF($A92<=Daten!$B$8,LOOKUP($B92,Daten!$A$169:$A$218,Daten!$Y$169:$Y$218),\"\")","v":"13,4 Inhalt5Einh[13,4]"},null,{"$f":"IF($A92<=Daten!$B$8,LOOKUP($B92,Daten!$A$220:$A$269,Daten!$X$220:$X$269),\"\") & \" \" & IF($A92<=Daten!$B$8,LOOKUP($B92,Daten!$A$220:$A$269,Daten!$Y$220:$Y$269),\"\")","v":"13,5 Inhalt5Einh[13,5]"},null,{"$f":"IF($A92<=Daten!$B$8,LOOKUP($B92,Daten!$A$271:$A$320,Daten!$X$271:$X$320),\"\") & \" \" & IF($A92<=Daten!$B$8,LOOKUP($B92,Daten!$A$271:$A$320,Daten!$Y$271:$Y$320),\"\")","v":"13,6 Inhalt5Einh[13,6]"},null,{"$f":"IF($A92<=Daten!$B$8,LOOKUP($B92,Daten!$A$322:$A$371,Daten!$X$322:$X$371),\"\") & \" \" & IF($A92<=Daten!$B$8,LOOKUP($B92,Daten!$A$322:$A$371,Daten!$Y$322:$Y$371),\"\")","v":"13,7 Inhalt5Einh[13,7]"}]
[null,null,null,{"$f":"IF($A92<=Daten!$B$8,LOOKUP($B92,Daten!$A$16:$A$65,Daten!$Z$16:$Z$65),\"\") & \" \" & IF($A92<=Daten!$B$8,LOOKUP($B92,Daten!$A$16:$A$65,Daten!$AA$16:$AA$65),\"\")","v":"13,1 Inhalt6Einh[13,1]"},null,{"$f":"IF($A92<=Daten!$B$8,LOOKUP($B92,Daten!$A$67:$A$116,Daten!$Z$67:$Z$116),\"\") & \" \" & IF($A92<=Daten!$B$8,LOOKUP($B92,Daten!$A$67:$A$116,Daten!$AA$67:$AA$116),\"\")","v":"13,2 Inhalt6Einh[13,2]"},null,{"$f":"IF($A92<=Daten!$B$8,LOOKUP($B92,Daten!$A$118:$A$167,Daten!$Z$118:$Z$167),\"\") & \" \" & IF($A92<=Daten!$B$8,LOOKUP($B92,Daten!$A$118:$A$167,Daten!$AA$118:$AA$167),\"\")","v":"13,3 Inhalt6Einh[13,3]"},null,{"$f":"IF($A92<=Daten!$B$8,LOOKUP($B92,Daten!$A$169:$A$218,Daten!$Z$169:$Z$218),\"\") & \" \" & IF($A92<=Daten!$B$8,LOOKUP($B92,Daten!$A$169:$A$218,Daten!$AA$169:$AA$218),\"\")","v":"13,4 Inhalt6Einh[13,4]"},null,{"$f":"IF($A92<=Daten!$B$8,LOOKUP($B92,Daten!$A$220:$A$269,Daten!$Z$220:$Z$269),\"\") & \" \" & IF($A92<=Daten!$B$8,LOOKUP($B92,Daten!$A$220:$A$269,Daten!$AA$220:$AA$269),\"\")","v":"13,5 Inhalt6Einh[13,5]"},null,{"$f":"IF($A92<=Daten!$B$8,LOOKUP($B92,Daten!$A$271:$A$320,Daten!$Z$271:$Z$320),\"\") & \" \" & IF($A92<=Daten!$B$8,LOOKUP($B92,Daten!$A$271:$A$320,Daten!$AA$271:$AA$320),\"\")","v":"13,6 Inhalt6Einh[13,6]"},null,{"$f":"IF($A92<=Daten!$B$8,LOOKUP($B92,Daten!$A$322:$A$371,Daten!$Z$322:$Z$371),\"\") & \" \" & IF($A92<=Daten!$B$8,LOOKUP($B92,Daten!$A$322:$A$371,Daten!$AA$322:$AA$371),\"\")","v":"13,7 Inhalt6Einh[13,7]"}]
[null,{"$f":"IF(A92<=Daten!$B$8,\"Zusatzstoffe\",\"\")","v":"Zusatzstoffe"},{"$f":"IF($A92<=Daten!$B$8,LOOKUP($B92,Daten!$A$16:$A$65,Daten!$L$16:$L$65),\"\")","v":13.1},{"$f":"IF($A92<=Daten!$B$8,LOOKUP($B92,Daten!$A$16:$A$65,Daten!$E$16:$E$65),\"\")","v":213.1},{"$f":"IF($A92<=Daten!$B$8,LOOKUP($B92,Daten!$A$67:$A$116,Daten!$L$67:$L$116),\"\")","v":13.2},{"$f":"IF($A92<=Daten!$B$8,LOOKUP($B92,Daten!$A$16:$A$65,Daten!$E$67:$E$116),\"\")","v":0},{"$f":"IF($A92<=Daten!$B$8,LOOKUP($B92,Daten!$A$118:$A$167,Daten!$L$118:$L$167),\"\")","v":13.3},{"$f":"IF($A92<=Daten!$B$8,LOOKUP($B92,Daten!$A$118:$A$167,Daten!$E$118:$E$167),\"\")","v":0},{"$f":"IF($A92<=Daten!$B$8,LOOKUP($B92,Daten!$A$169:$A$218,Daten!$L$169:$L$218),\"\")","v":13.4},{"$f":"IF($A92<=Daten!$B$8,LOOKUP($B92,Daten!$A$169:$A$218,Daten!$E$169:$E$218),\"\")","v":0},{"$f":"IF($A92<=Daten!$B$8,LOOKUP($B92,Daten!$A$220:$A$269,Daten!$L$220:$L$269),\"\")","v":13.5},{"$f":"IF($A92<=Daten!$B$8,LOOKUP($B92,Daten!$A$220:$A$269,Daten!$E$220:$E$269),\"\")","v":0},{"$f":"IF($A92<=Daten!$B$8,LOOKUP($B92,Daten!$A$271:$A$320,Daten!$L$271:$L$320),\"\")","v":13.6},{"$f":"IF($A92<=Daten!$B$8,LOOKUP($B92,Daten!$A$271:$A$320,Daten!$E$271:$E$320),\"\")","v":0},{"$f":"IF($A92<=Daten!$B$8,LOOKUP($B92,Daten!$A$322:$A$371,Daten!$L$322:$L$371),\"\")","v":13.7},{"$f":"IF($A92<=Daten!$B$8,LOOKUP($B92,Daten!$A$322:$A$371,Daten!$E$322:$E$371),\"\")","v":0}]
[14,{"$f":"IF(A99<=Daten!$B$8,Daten!O9,\"\")","v":"Menülinie 14"},{"$f":"IF(A99<=Daten!$B$8,LOOKUP(B99,Daten!$A$16:$A$65,Daten!$C$16:$C$65),\"\")","v":"Lang[14,1]"},{"$f":"IF($A99<=Daten!$B$8,LOOKUP($B99,Daten!$A$16:$A$65,Daten!$P$16:$P$65),\"\") & \" \" & IF($A99<=Daten!$B$8,LOOKUP($B99,Daten!$A$16:$A$65,Daten!$Q$16:$Q$65),\"\")","v":"14,1 Inhalt1Einh[14,1]"},{"$f":"IF($A99<=Daten!$B$8,LOOKUP($B99,Daten!$A$67:$A$116,Daten!$C$67:$C$116),\"\")","v":"Lang[14,2]"},{"$f":"IF($A99<=Daten!$B$8,LOOKUP($B99,Daten!$A$67:$A$116,Daten!$P$67:$P$116),\"\") & \" \" & IF($A99<=Daten!$B$8,LOOKUP($B99,Daten!$A$67:$A$116,Daten!$Q$67:$Q$116),\"\")","v":"14,2 Inhalt1Einh[14,2]"},{"$f":"IF($A99<=Daten!$B$8,LOOKUP($B99,Daten!$A$118:$A$167,Daten!$C$118:$C$167),\"\")","v":"Lang[14,3]"},{"$f":"IF($A99<=Daten!$B$8,LOOKUP($B99,Daten!$A$118:$A$167,Daten!$P$118:$P$167),\"\") & \" \" & IF($A99<=Daten!$B$8,LOOKUP($B99,Daten!$A$118:$A$167,Daten!$Q$118:$Q$167),\"\")","v":"14,3 Inhalt1Einh[14,3]"},{"$f":"IF($A99<=Daten!$B$8,LOOKUP($B99,Daten!$A$169:$A$218,Daten!$C$169:$C$218),\"\")","v":"Lang[14,4]"},{"$f":"IF($A99<=Daten!$B$8,LOOKUP($B99,Daten!$A$169:$A$218,Daten!$P$169:$P$218),\"\") & \" \" & IF($A99<=Daten!$B$8,LOOKUP($B99,Daten!$A$169:$A$218,Daten!$Q$169:$Q$218),\"\")","v":"14,4 Inhalt1Einh[14,4]"},{"$f":"IF($A99<=Daten!$B$8,LOOKUP($B99,Daten!$A$220:$A$269,Daten!$C$220:$C$269),\"\")","v":"Lang[14,5]"},{"$f":"IF($A99<=Daten!$B$8,LOOKUP($B99,Daten!$A$220:$A$269,Daten!$P$220:$P$269),\"\") & \" \" & IF($A99<=Daten!$B$8,LOOKUP($B99,Daten!$A$220:$A$269,Daten!$Q$220:$Q$269),\"\")","v":"14,5 Inhalt1Einh[14,5]"},{"$f":"IF($A99<=Daten!$B$8,LOOKUP($B99,Daten!$A$271:$A$320,Daten!$C$271:$C$320),\"\")","v":"Lang[14,6]"},{"$f":"IF($A99<=Daten!$B$8,LOOKUP($B99,Daten!$A$271:$A$320,Daten!$P$271:$P$320),\"\") & \" \" & IF($A99<=Daten!$B$8,LOOKUP($B99,Daten!$A$271:$A$320,Daten!$Q$271:$Q$320),\"\")","v":"14,6 Inhalt1Einh[14,6]"},{"$f":"IF($A99<=Daten!$B$8,LOOKUP($B99,Daten!$A$322:$A$371,Daten!$B$322:$C$371),\"\")","v":{"$error":"#N/A"}},{"$f":"IF($A99<=Daten!$B$8,LOOKUP($B99,Daten!$A$322:$A$371,Daten!$P$322:$P$371),\"\") & \" \" & IF($A99<=Daten!$B$8,LOOKUP($B99,Daten!$A$322:$A$371,Daten!$Q$322:$Q$371),\"\")","v":"14,7 Inhalt1Einh[14,7]"}]
[null,null,null,{"$f":"IF($A99<=Daten!$B$8,LOOKUP($B99,Daten!$A$16:$A$65,Daten!$R$16:$R$65),\"\") & \" \" & IF($A99<=Daten!$B$8,LOOKUP($B99,Daten!$A$16:$A$65,Daten!$S$16:$S$65),\"\")","v":"14,1 Inhalt2Einh[14,1]"},null,{"$f":"IF($A99<=Daten!$B$8,LOOKUP($B99,Daten!$A$67:$A$116,Daten!$R$67:$R$116),\"\") & \" \" & IF($A99<=Daten!$B$8,LOOKUP($B99,Daten!$A$67:$A$116,Daten!$S$67:$S$116),\"\")","v":"14,2 Inhalt2Einh[14,2]"},null,{"$f":"IF($A99<=Daten!$B$8,LOOKUP($B99,Daten!$A$118:$A$167,Daten!$R$118:$R$167),\"\") & \" \" & IF($A99<=Daten!$B$8,LOOKUP($B99,Daten!$A$118:$A$167,Daten!$S$118:$S$167),\"\")","v":"14,3 Inhalt2Einh[14,3]"},null,{"$f":"IF($A99<=Daten!$B$8,LOOKUP($B99,Daten!$A$169:$A$218,Daten!$R$169:$R$218),\"\") & \" \" & IF($A99<=Daten!$B$8,LOOKUP($B99,Daten!$A$169:$A$218,Daten!$S$169:$S$218),\"\")","v":"14,4 Inhalt2Einh[14,4]"},null,{"$f":"IF($A99<=Daten!$B$8,LOOKUP($B99,Daten!$A$220:$A$269,Daten!$R$220:$R$269),\"\") & \" \" & IF($A99<=Daten!$B$8,LOOKUP($B99,Daten!$A$220:$A$269,Daten!$S$220:$S$269),\"\")","v":"14,5 Inhalt2Einh[14,5]"},null,{"$f":"IF($A99<=Daten!$B$8,LOOKUP($B99,Daten!$A$271:$A$320,Daten!$R$271:$R$320),\"\") & \" \" & IF($A99<=Daten!$B$8,LOOKUP($B99,Daten!$A$271:$A$320,Daten!$S$271:$S$320),\"\")","v":"14,6 Inhalt2Einh[14,6]"},null,{"$f":"IF($A99<=Daten!$B$8,LOOKUP($B99,Daten!$A$322:$A$371,Daten!$R$322:$R$371),\"\") & \" \" & IF($A99<=Daten!$B$8,LOOKUP($B99,Daten!$A$322:$A$371,Daten!$S$322:$S$371),\"\")","v":"14,7 Inhalt2Einh[14,7]"}]
[null,null,null,{"$f":"IF($A99<=Daten!$B$8,LOOKUP($B99,Daten!$A$16:$A$65,Daten!$T$16:$T$65),\"\") & \" \" & IF($A99<=Daten!$B$8,LOOKUP($B99,Daten!$A$16:$A$65,Daten!$U$16:$U$65),\"\")","v":"14,1 Inhalt3Einh[14,1]"},null,{"$f":"IF($A99<=Daten!$B$8,LOOKUP($B99,Daten!$A$67:$A$116,Daten!$T$67:$T$116),\"\") & \" \" & IF($A99<=Daten!$B$8,LOOKUP($B99,Daten!$A$67:$A$116,Daten!$U$67:$U$116),\"\")","v":"14,2 Inhalt3Einh[14,2]"},null,{"$f":"IF($A99<=Daten!$B$8,LOOKUP($B99,Daten!$A$118:$A$167,Daten!$T$118:$T$167),\"\") & \" \" & IF($A99<=Daten!$B$8,LOOKUP($B99,Daten!$A$118:$A$167,Daten!$U$118:$U$167),\"\")","v":"14,3 Inhalt3Einh[14,3]"},null,{"$f":"IF($A99<=Daten!$B$8,LOOKUP($B99,Daten!$A$169:$A$218,Daten!$T$169:$T$218),\"\") & \" \" & IF($A99<=Daten!$B$8,LOOKUP($B99,Daten!$A$169:$A$218,Daten!$U$169:$U$218),\"\")","v":"14,4 Inhalt3Einh[14,4]"},null,{"$f":"IF($A99<=Daten!$B$8,LOOKUP($B99,Daten!$A$220:$A$269,Daten!$T$220:$T$269),\"\") & \" \" & IF($A99<=Daten!$B$8,LOOKUP($B99,Daten!$A$220:$A$269,Daten!$U$220:$U$269),\"\")","v":"14,5 Inhalt3Einh[14,5]"},null,{"$f":"IF($A99<=Daten!$B$8,LOOKUP($B99,Daten!$A$271:$A$320,Daten!$T$271:$T$320),\"\") & \" \" & IF($A99<=Daten!$B$8,LOOKUP($B99,Daten!$A$271:$A$320,Daten!$U$271:$U$320),\"\")","v":"14,6 Inhalt3Einh[14,6]"},null,{"$f":"IF($A99<=Daten!$B$8,LOOKUP($B99,Daten!$A$322:$A$371,Daten!$T$322:$T$371),\"\") & \" \" & IF($A99<=Daten!$B$8,LOOKUP($B99,Daten!$A$322:$A$371,Daten!$U$322:$U$371),\"\")","v":"14,7 Inhalt3Einh[14,7]"}]
[null,null,null,{"$f":"IF($A99<=Daten!$B$8,LOOKUP($B99,Daten!$A$16:$A$65,Daten!$V$16:$V$65),\"\") & \" \" & IF($A99<=Daten!$B$8,LOOKUP($B99,Daten!$A$16:$A$65,Daten!$W$16:$W$65),\"\")","v":"14,1 Inhalt4Einh[14,1]"},null,{"$f":"IF($A99<=Daten!$B$8,LOOKUP($B99,Daten!$A$67:$A$116,Daten!$V$67:$V$116),\"\") & \" \" & IF($A99<=Daten!$B$8,LOOKUP($B99,Daten!$A$67:$A$116,Daten!$W$67:$W$116),\"\")","v":"14,2 Inhalt4Einh[14,2]"},null,{"$f":"IF($A99<=Daten!$B$8,LOOKUP($B99,Daten!$A$118:$A$167,Daten!$V$118:$V$167),\"\") & \" \" & IF($A99<=Daten!$B$8,LOOKUP($B99,Daten!$A$118:$A$167,Daten!$W$118:$W$167),\"\")","v":"14,3 Inhalt4Einh[14,3]"},null,{"$f":"IF($A99<=Daten!$B$8,LOOKUP($B99,Daten!$A$169:$A$218,Daten!$V$169:$V$218),\"\") & \" \" & IF($A99<=Daten!$B$8,LOOKUP($B99,Daten!$A$169:$A$218,Daten!$W$169:$W$218),\"\")","v":"14,4 Inhalt4Einh[14,4]"},null,{"$f":"IF($A99<=Daten!$B$8,LOOKUP($B99,Daten!$A$220:$A$269,Daten!$V$220:$V$269),\"\") & \" \" & IF($A99<=Daten!$B$8,LOOKUP($B99,Daten!$A$220:$A$269,Daten!$W$220:$W$269),\"\")","v":"14,5 Inhalt4Einh[14,5]"},null,{"$f":"IF($A99<=Daten!$B$8,LOOKUP($B99,Daten!$A$271:$A$320,Daten!$V$271:$V$320),\"\") & \" \" & IF($A99<=Daten!$B$8,LOOKUP($B99,Daten!$A$271:$A$320,Daten!$W$271:$W$320),\"\")","v":"14,6 Inhalt4Einh[14,6]"},null,{"$f":"IF($A99<=Daten!$B$8,LOOKUP($B99,Daten!$A$322:$A$371,Daten!$V$322:$V$371),\"\") & \" \" & IF($A99<=Daten!$B$8,LOOKUP($B99,Daten!$A$322:$A$371,Daten!$W$322:$W$371),\"\")","v":"14,7 Inhalt4Einh[14,7]"}]
[null,null,null,{"$f":"IF($A99<=Daten!$B$8,LOOKUP($B99,Daten!$A$16:$A$65,Daten!$X$16:$X$65),\"\") & \" \" & IF($A99<=Daten!$B$8,LOOKUP($B99,Daten!$A$16:$A$65,Daten!$Y$16:$Y$65),\"\")","v":"14,1 Inhalt5Einh[14,1]"},null,{"$f":"IF($A99<=Daten!$B$8,LOOKUP($B99,Daten!$A$67:$A$116,Daten!$X$67:$X$116),\"\") & \" \" & IF($A99<=Daten!$B$8,LOOKUP($B99,Daten!$A$67:$A$116,Daten!$Y$67:$Y$116),\"\")","v":"14,2 Inhalt5Einh[14,2]"},null,{"$f":"IF($A99<=Daten!$B$8,LOOKUP($B99,Daten!$A$118:$A$167,Daten!$X$118:$X$167),\"\") & \" \" & IF($A99<=Daten!$B$8,LOOKUP($B99,Daten!$A$118:$A$167,Daten!$Y$118:$Y$167),\"\")","v":"14,3 Inhalt5Einh[14,3]"},null,{"$f":"IF($A99<=Daten!$B$8,LOOKUP($B99,Daten!$A$169:$A$218,Daten!$X$169:$X$218),\"\") & \" \" & IF($A99<=Daten!$B$8,LOOKUP($B99,Daten!$A$169:$A$218,Daten!$Y$169:$Y$218),\"\")","v":"14,4 Inhalt5Einh[14,4]"},null,{"$f":"IF($A99<=Daten!$B$8,LOOKUP($B99,Daten!$A$220:$A$269,Daten!$X$220:$X$269),\"\") & \" \" & IF($A99<=Daten!$B$8,LOOKUP($B99,Daten!$A$220:$A$269,Daten!$Y$220:$Y$269),\"\")","v":"14,5 Inhalt5Einh[14,5]"},null,{"$f":"IF($A99<=Daten!$B$8,LOOKUP($B99,Daten!$A$271:$A$320,Daten!$X$271:$X$320),\"\") & \" \" & IF($A99<=Daten!$B$8,LOOKUP($B99,Daten!$A$271:$A$320,Daten!$Y$271:$Y$320),\"\")","v":"14,6 Inhalt5Einh[14,6]"},null,{"$f":"IF($A99<=Daten!$B$8,LOOKUP($B99,Daten!$A$322:$A$371,Daten!$X$322:$X$371),\"\") & \" \" & IF($A99<=Daten!$B$8,LOOKUP($B99,Daten!$A$322:$A$371,Daten!$Y$322:$Y$371),\"\")","v":"14,7 Inhalt5Einh[14,7]"}]
[null,null,null,{"$f":"IF($A99<=Daten!$B$8,LOOKUP($B99,Daten!$A$16:$A$65,Daten!$Z$16:$Z$65),\"\") & \" \" & IF($A99<=Daten!$B$8,LOOKUP($B99,Daten!$A$16:$A$65,Daten!$AA$16:$AA$65),\"\")","v":"14,1 Inhalt6Einh[14,1]"},null,{"$f":"IF($A99<=Daten!$B$8,LOOKUP($B99,Daten!$A$67:$A$116,Daten!$Z$67:$Z$116),\"\") & \" \" & IF($A99<=Daten!$B$8,LOOKUP($B99,Daten!$A$67:$A$116,Daten!$AA$67:$AA$116),\"\")","v":"14,2 Inhalt6Einh[14,2]"},null,{"$f":"IF($A99<=Daten!$B$8,LOOKUP($B99,Daten!$A$118:$A$167,Daten!$Z$118:$Z$167),\"\") & \" \" & IF($A99<=Daten!$B$8,LOOKUP($B99,Daten!$A$118:$A$167,Daten!$AA$118:$AA$167),\"\")","v":"14,3 Inhalt6Einh[14,3]"},null,{"$f":"IF($A99<=Daten!$B$8,LOOKUP($B99,Daten!$A$169:$A$218,Daten!$Z$169:$Z$218),\"\") & \" \" & IF($A99<=Daten!$B$8,LOOKUP($B99,Daten!$A$169:$A$218,Daten!$AA$169:$AA$218),\"\")","v":"14,4 Inhalt6Einh[14,4]"},null,{"$f":"IF($A99<=Daten!$B$8,LOOKUP($B99,Daten!$A$220:$A$269,Daten!$Z$220:$Z$269),\"\") & \" \" & IF($A99<=Daten!$B$8,LOOKUP($B99,Daten!$A$220:$A$269,Daten!$AA$220:$AA$269),\"\")","v":"14,5 Inhalt6Einh[14,5]"},null,{"$f":"IF($A99<=Daten!$B$8,LOOKUP($B99,Daten!$A$271:$A$320,Daten!$Z$271:$Z$320),\"\") & \" \" & IF($A99<=Daten!$B$8,LOOKUP($B99,Daten!$A$271:$A$320,Daten!$AA$271:$AA$320),\"\")","v":"14,6 Inhalt6Einh[14,6]"},null,{"$f":"IF($A99<=Daten!$B$8,LOOKUP($B99,Daten!$A$322:$A$371,Daten!$Z$322:$Z$371),\"\") & \" \" & IF($A99<=Daten!$B$8,LOOKUP($B99,Daten!$A$322:$A$371,Daten!$AA$322:$AA$371),\"\")","v":"14,7 Inhalt6Einh[14,7]"}]
[null,{"$f":"IF(A99<=Daten!$B$8,\"Zusatzstoffe\",\"\")","v":"Zusatzstoffe"},{"$f":"IF($A99<=Daten!$B$8,LOOKUP($B99,Daten!$A$16:$A$65,Daten!$L$16:$L$65),\"\")","v":14.1},{"$f":"IF($A99<=Daten!$B$8,LOOKUP($B99,Daten!$A$16:$A$65,Daten!$E$16:$E$65),\"\")","v":214.1},{"$f":"IF($A99<=Daten!$B$8,LOOKUP($B99,Daten!$A$67:$A$116,Daten!$L$67:$L$116),\"\")","v":14.2},{"$f":"IF($A99<=Daten!$B$8,LOOKUP($B99,Daten!$A$16:$A$65,Daten!$E$67:$E$116),\"\")","v":0},{"$f":"IF($A99<=Daten!$B$8,LOOKUP($B99,Daten!$A$118:$A$167,Daten!$L$118:$L$167),\"\")","v":14.3},{"$f":"IF($A99<=Daten!$B$8,LOOKUP($B99,Daten!$A$118:$A$167,Daten!$E$118:$E$167),\"\")","v":0},{"$f":"IF($A99<=Daten!$B$8,LOOKUP($B99,Daten!$A$169:$A$218,Daten!$L$169:$L$218),\"\")","v":14.4},{"$f":"IF($A99<=Daten!$B$8,LOOKUP($B99,Daten!$A$169:$A$218,Daten!$E$169:$E$218),\"\")","v":0},{"$f":"IF($A99<=Daten!$B$8,LOOKUP($B99,Daten!$A$220:$A$269,Daten!$L$220:$L$269),\"\")","v":14.5},{"$f":"IF($A99<=Daten!$B$8,LOOKUP($B99,Daten!$A$220:$A$269,Daten!$E$220:$E$269),\"\")","v":0},{"$f":"IF($A99<=Daten!$B$8,LOOKUP($B99,Daten!$A$271:$A$320,Daten!$L$271:$L$320),\"\")","v":14.6},{"$f":"IF($A99<=Daten!$B$8,LOOKUP($B99,Daten!$A$271:$A$320,Daten!$E$271:$E$320),\"\")","v":0},{"$f":"IF($A99<=Daten!$B$8,LOOKUP($B99,Daten!$A$322:$A$371,Daten!$L$322:$L$371),\"\")","v":14.7},{"$f":"IF($A99<=Daten!$B$8,LOOKUP($B99,Daten!$A$322:$A$371,Daten!$E$322:$E$371),\"\")","v":0}]
[15,{"$f":"IF(A106<=Daten!$B$8,Daten!P9,\"\")","v":"Menülinie 15"},{"$f":"IF(A106<=Daten!$B$8,LOOKUP(B106,Daten!$A$16:$A$65,Daten!$C$16:$C$65),\"\")","v":"Lang[15,1]"},{"$f":"IF($A106<=Daten!$B$8,LOOKUP($B106,Daten!$A$16:$A$65,Daten!$P$16:$P$65),\"\") & \" \" & IF($A106<=Daten!$B$8,LOOKUP($B106,Daten!$A$16:$A$65,Daten!$Q$16:$Q$65),\"\")","v":"15,1 Inhalt1Einh[15,1]"},{"$f":"IF($A106<=Daten!$B$8,LOOKUP($B106,Daten!$A$67:$A$116,Daten!$C$67:$C$116),\"\")","v":"Lang[15,2]"},{"$f":"IF($A106<=Daten!$B$8,LOOKUP($B106,Daten!$A$67:$A$116,Daten!$P$67:$P$116),\"\") & \" \" & IF($A106<=Daten!$B$8,LOOKUP($B106,Daten!$A$67:$A$116,Daten!$Q$67:$Q$116),\"\")","v":"15,2 Inhalt1Einh[15,2]"},{"$f":"IF($A106<=Daten!$B$8,LOOKUP($B106,Daten!$A$118:$A$167,Daten!$C$118:$C$167),\"\")","v":"Lang[15,3]"},{"$f":"IF($A106<=Daten!$B$8,LOOKUP($B106,Daten!$A$118:$A$167,Daten!$P$118:$P$167),\"\") & \" \" & IF($A106<=Daten!$B$8,LOOKUP($B106,Daten!$A$118:$A$167,Daten!$Q$118:$Q$167),\"\")","v":"15,3 Inhalt1Einh[15,3]"},{"$f":"IF($A106<=Daten!$B$8,LOOKUP($B106,Daten!$A$169:$A$218,Daten!$C$169:$C$218),\"\")","v":"Lang[15,4]"},{"$f":"IF($A106<=Daten!$B$8,LOOKUP($B106,Daten!$A$169:$A$218,Daten!$P$169:$P$218),\"\") & \" \" & IF($A106<=Daten!$B$8,LOOKUP($B106,Daten!$A$169:$A$218,Daten!$Q$169:$Q$218),\"\")","v":"15,4 Inhalt1Einh[15,4]"},{"$f":"IF($A106<=Daten!$B$8,LOOKUP($B106,Daten!$A$220:$A$269,Daten!$C$220:$C$269),\"\")","v":"Lang[15,5]"},{"$f":"IF($A106<=Daten!$B$8,LOOKUP($B106,Daten!$A$220:$A$269,Daten!$P$220:$P$269),\"\") & \" \" & IF($A106<=Daten!$B$8,LOOKUP($B106,Daten!$A$220:$A$269,Daten!$Q$220:$Q$269),\"\")","v":"15,5 Inhalt1Einh[15,5]"},{"$f":"IF($A106<=Daten!$B$8,LOOKUP($B106,Daten!$A$271:$A$320,Daten!$C$271:$C$320),\"\")","v":"Lang[15,6]"},{"$f":"IF($A106<=Daten!$B$8,LOOKUP($B106,Daten!$A$271:$A$320,Daten!$P$271:$P$320),\"\") & \" \" & IF($A106<=Daten!$B$8,LOOKUP($B106,Daten!$A$271:$A$320,Daten!$Q$271:$Q$320),\"\")","v":"15,6 Inhalt1Einh[15,6]"},{"$f":"IF($A106<=Daten!$B$8,LOOKUP($B106,Daten!$A$322:$A$371,Daten!$B$322:$C$371),\"\")","v":{"$error":"#N/A"}},{"$f":"IF($A106<=Daten!$B$8,LOOKUP($B106,Daten!$A$322:$A$371,Daten!$P$322:$P$371),\"\") & \" \" & IF($A106<=Daten!$B$8,LOOKUP($B106,Daten!$A$322:$A$371,Daten!$Q$322:$Q$371),\"\")","v":"15,7 Inhalt1Einh[15,7]"}]
[null,null,null,{"$f":"IF($A106<=Daten!$B$8,LOOKUP($B106,Daten!$A$16:$A$65,Daten!$R$16:$R$65),\"\") & \" \" & IF($A106<=Daten!$B$8,LOOKUP($B106,Daten!$A$16:$A$65,Daten!$S$16:$S$65),\"\")","v":"15,1 Inhalt2Einh[15,1]"},null,{"$f":"IF($A106<=Daten!$B$8,LOOKUP($B106,Daten!$A$67:$A$116,Daten!$R$67:$R$116),\"\") & \" \" & IF($A106<=Daten!$B$8,LOOKUP($B106,Daten!$A$67:$A$116,Daten!$S$67:$S$116),\"\")","v":"15,2 Inhalt2Einh[15,2]"},null,{"$f":"IF($A106<=Daten!$B$8,LOOKUP($B106,Daten!$A$118:$A$167,Daten!$R$118:$R$167),\"\") & \" \" & IF($A106<=Daten!$B$8,LOOKUP($B106,Daten!$A$118:$A$167,Daten!$S$118:$S$167),\"\")","v":"15,3 Inhalt2Einh[15,3]"},null,{"$f":"IF($A106<=Daten!$B$8,LOOKUP($B106,Daten!$A$169:$A$218,Daten!$R$169:$R$218),\"\") & \" \" & IF($A106<=Daten!$B$8,LOOKUP($B106,Daten!$A$169:$A$218,Daten!$S$169:$S$218),\"\")","v":"15,4 Inhalt2Einh[15,4]"},null,{"$f":"IF($A106<=Daten!$B$8,LOOKUP($B106,Daten!$A$220:$A$269,Daten!$R$220:$R$269),\"\") & \" \" & IF($A106<=Daten!$B$8,LOOKUP($B106,Daten!$A$220:$A$269,Daten!$S$220:$S$269),\"\")","v":"15,5 Inhalt2Einh[15,5]"},null,{"$f":"IF($A106<=Daten!$B$8,LOOKUP($B106,Daten!$A$271:$A$320,Daten!$R$271:$R$320),\"\") & \" \" & IF($A106<=Daten!$B$8,LOOKUP($B106,Daten!$A$271:$A$320,Daten!$S$271:$S$320),\"\")","v":"15,6 Inhalt2Einh[15,6]"},null,{"$f":"IF($A106<=Daten!$B$8,LOOKUP($B106,Daten!$A$322:$A$371,Daten!$R$322:$R$371),\"\") & \" \" & IF($A106<=Daten!$B$8,LOOKUP($B106,Daten!$A$322:$A$371,Daten!$S$322:$S$371),\"\")","v":"15,7 Inhalt2Einh[15,7]"}]
[null,null,null,{"$f":"IF($A106<=Daten!$B$8,LOOKUP($B106,Daten!$A$16:$A$65,Daten!$T$16:$T$65),\"\") & \" \" & IF($A106<=Daten!$B$8,LOOKUP($B106,Daten!$A$16:$A$65,Daten!$U$16:$U$65),\"\")","v":"15,1 Inhalt3Einh[15,1]"},null,{"$f":"IF($A106<=Daten!$B$8,LOOKUP($B106,Daten!$A$67:$A$116,Daten!$T$67:$T$116),\"\") & \" \" & IF($A106<=Daten!$B$8,LOOKUP($B106,Daten!$A$67:$A$116,Daten!$U$67:$U$116),\"\")","v":"15,2 Inhalt3Einh[15,2]"},null,{"$f":"IF($A106<=Daten!$B$8,LOOKUP($B106,Daten!$A$118:$A$167,Daten!$T$118:$T$167),\"\") & \" \" & IF($A106<=Daten!$B$8,LOOKUP($B106,Daten!$A$118:$A$167,Daten!$U$118:$U$167),\"\")","v":"15,3 Inhalt3Einh[15,3]"},null,{"$f":"IF($A106<=Daten!$B$8,LOOKUP($B106,Daten!$A$169:$A$218,Daten!$T$169:$T$218),\"\") & \" \" & IF($A106<=Daten!$B$8,LOOKUP($B106,Daten!$A$169:$A$218,Daten!$U$169:$U$218),\"\")","v":"15,4 Inhalt3Einh[15,4]"},null,{"$f":"IF($A106<=Daten!$B$8,LOOKUP($B106,Daten!$A$220:$A$269,Daten!$T$220:$T$269),\"\") & \" \" & IF($A106<=Daten!$B$8,LOOKUP($B106,Daten!$A$220:$A$269,Daten!$U$220:$U$269),\"\")","v":"15,5 Inhalt3Einh[15,5]"},null,{"$f":"IF($A106<=Daten!$B$8,LOOKUP($B106,Daten!$A$271:$A$320,Daten!$T$271:$T$320),\"\") & \" \" & IF($A106<=Daten!$B$8,LOOKUP($B106,Daten!$A$271:$A$320,Daten!$U$271:$U$320),\"\")","v":"15,6 Inhalt3Einh[15,6]"},null,{"$f":"IF($A106<=Daten!$B$8,LOOKUP($B106,Daten!$A$322:$A$371,Daten!$T$322:$T$371),\"\") & \" \" & IF($A106<=Daten!$B$8,LOOKUP($B106,Daten!$A$322:$A$371,Daten!$U$322:$U$371),\"\")","v":"15,7 Inhalt3Einh[15,7]"}]
[null,null,null,{"$f":"IF($A106<=Daten!$B$8,LOOKUP($B106,Daten!$A$16:$A$65,Daten!$V$16:$V$65),\"\") & \" \" & IF($A106<=Daten!$B$8,LOOKUP($B106,Daten!$A$16:$A$65,Daten!$W$16:$W$65),\"\")","v":"15,1 Inhalt4Einh[15,1]"},null,{"$f":"IF($A106<=Daten!$B$8,LOOKUP($B106,Daten!$A$67:$A$116,Daten!$V$67:$V$116),\"\") & \" \" & IF($A106<=Daten!$B$8,LOOKUP($B106,Daten!$A$67:$A$116,Daten!$W$67:$W$116),\"\")","v":"15,2 Inhalt4Einh[15,2]"},null,{"$f":"IF($A106<=Daten!$B$8,LOOKUP($B106,Daten!$A$118:$A$167,Daten!$V$118:$V$167),\"\") & \" \" & IF($A106<=Daten!$B$8,LOOKUP($B106,Daten!$A$118:$A$167,Daten!$W$118:$W$167),\"\")","v":"15,3 Inhalt4Einh[15,3]"},null,{"$f":"IF($A106<=Daten!$B$8,LOOKUP($B106,Daten!$A$169:$A$218,Daten!$V$169:$V$218),\"\") & \" \" & IF($A106<=Daten!$B$8,LOOKUP($B106,Daten!$A$169:$A$218,Daten!$W$169:$W$218),\"\")","v":"15,4 Inhalt4Einh[15,4]"},null,{"$f":"IF($A106<=Daten!$B$8,LOOKUP($B106,Daten!$A$220:$A$269,Daten!$V$220:$V$269),\"\") & \" \" & IF($A106<=Daten!$B$8,LOOKUP($B106,Daten!$A$220:$A$269,Daten!$W$220:$W$269),\"\")","v":"15,5 Inhalt4Einh[15,5]"},null,{"$f":"IF($A106<=Daten!$B$8,LOOKUP($B106,Daten!$A$271:$A$320,Daten!$V$271:$V$320),\"\") & \" \" & IF($A106<=Daten!$B$8,LOOKUP($B106,Daten!$A$271:$A$320,Daten!$W$271:$W$320),\"\")","v":"15,6 Inhalt4Einh[15,6]"},null,{"$f":"IF($A106<=Daten!$B$8,LOOKUP($B106,Daten!$A$322:$A$371,Daten!$V$322:$V$371),\"\") & \" \" & IF($A106<=Daten!$B$8,LOOKUP($B106,Daten!$A$322:$A$371,Daten!$W$322:$W$371),\"\")","v":"15,7 Inhalt4Einh[15,7]"}]
[null,null,null,{"$f":"IF($A106<=Daten!$B$8,LOOKUP($B106,Daten!$A$16:$A$65,Daten!$X$16:$X$65),\"\") & \" \" & IF($A106<=Daten!$B$8,LOOKUP($B106,Daten!$A$16:$A$65,Daten!$Y$16:$Y$65),\"\")","v":"15,1 Inhalt5Einh[15,1]"},null,{"$f":"IF($A106<=Daten!$B$8,LOOKUP($B106,Daten!$A$67:$A$116,Daten!$X$67:$X$116),\"\") & \" \" & IF($A106<=Daten!$B$8,LOOKUP($B106,Daten!$A$67:$A$116,Daten!$Y$67:$Y$116),\"\")","v":"15,2 Inhalt5Einh[15,2]"},null,{"$f":"IF($A106<=Daten!$B$8,LOOKUP($B106,Daten!$A$118:$A$167,Daten!$X$118:$X$167),\"\") & \" \" & IF($A106<=Daten!$B$8,LOOKUP($B106,Daten!$A$118:$A$167,Daten!$Y$118:$Y$167),\"\")","v":"15,3 Inhalt5Einh[15,3]"},null,{"$f":"IF($A106<=Daten!$B$8,LOOKUP($B106,Daten!$A$169:$A$218,Daten!$X$169:$X$218),\"\") & \" \" & IF($A106<=Daten!$B$8,LOOKUP($B106,Daten!$A$169:$A$218,Daten!$Y$169:$Y$218),\"\")","v":"15,4 Inhalt5Einh[15,4]"},null,{"$f":"IF($A106<=Daten!$B$8,LOOKUP($B106,Daten!$A$220:$A$269,Daten!$X$220:$X$269),\"\") & \" \" & IF($A106<=Daten!$B$8,LOOKUP($B106,Daten!$A$220:$A$269,Daten!$Y$220:$Y$269),\"\")","v":"15,5 Inhalt5Einh[15,5]"},null,{"$f":"IF($A106<=Daten!$B$8,LOOKUP($B106,Daten!$A$271:$A$320,Daten!$X$271:$X$320),\"\") & \" \" & IF($A106<=Daten!$B$8,LOOKUP($B106,Daten!$A$271:$A$320,Daten!$Y$271:$Y$320),\"\")","v":"15,6 Inhalt5Einh[15,6]"},null,{"$f":"IF($A106<=Daten!$B$8,LOOKUP($B106,Daten!$A$322:$A$371,Daten!$X$322:$X$371),\"\") & \" \" & IF($A106<=Daten!$B$8,LOOKUP($B106,Daten!$A$322:$A$371,Daten!$Y$322:$Y$371),\"\")","v":"15,7 Inhalt5Einh[15,7]"}]
[null,null,null,{"$f":"IF($A106<=Daten!$B$8,LOOKUP($B106,Daten!$A$16:$A$65,Daten!$Z$16:$Z$65),\"\") & \" \" & IF($A106<=Daten!$B$8,LOOKUP($B106,Daten!$A$16:$A$65,Daten!$AA$16:$AA$65),\"\")","v":"15,1 Inhalt6Einh[15,1]"},null,{"$f":"IF($A106<=Daten!$B$8,LOOKUP($B106,Daten!$A$67:$A$116,Daten!$Z$67:$Z$116),\"\") & \" \" & IF($A106<=Daten!$B$8,LOOKUP($B106,Daten!$A$67:$A$116,Daten!$AA$67:$AA$116),\"\")","v":"15,2 Inhalt6Einh[15,2]"},null,{"$f":"IF($A106<=Daten!$B$8,LOOKUP($B106,Daten!$A$118:$A$167,Daten!$Z$118:$Z$167),\"\") & \" \" & IF($A106<=Daten!$B$8,LOOKUP($B106,Daten!$A$118:$A$167,Daten!$AA$118:$AA$167),\"\")","v":"15,3 Inhalt6Einh[15,3]"},null,{"$f":"IF($A106<=Daten!$B$8,LOOKUP($B106,Daten!$A$169:$A$218,Daten!$Z$169:$Z$218),\"\") & \" \" & IF($A106<=Daten!$B$8,LOOKUP($B106,Daten!$A$169:$A$218,Daten!$AA$169:$AA$218),\"\")","v":"15,4 Inhalt6Einh[15,4]"},null,{"$f":"IF($A106<=Daten!$B$8,LOOKUP($B106,Daten!$A$220:$A$269,Daten!$Z$220:$Z$269),\"\") & \" \" & IF($A106<=Daten!$B$8,LOOKUP($B106,Daten!$A$220:$A$269,Daten!$AA$220:$AA$269),\"\")","v":"15,5 Inhalt6Einh[15,5]"},null,{"$f":"IF($A106<=Daten!$B$8,LOOKUP($B106,Daten!$A$271:$A$320,Daten!$Z$271:$Z$320),\"\") & \" \" & IF($A106<=Daten!$B$8,LOOKUP($B106,Daten!$A$271:$A$320,Daten!$AA$271:$AA$320),\"\")","v":"15,6 Inhalt6Einh[15,6]"},null,{"$f":"IF($A106<=Daten!$B$8,LOOKUP($B106,Daten!$A$322:$A$371,Daten!$Z$322:$Z$371),\"\") & \" \" & IF($A106<=Daten!$B$8,LOOKUP($B106,Daten!$A$322:$A$371,Daten!$AA$322:$AA$371),\"\")","v":"15,7 Inhalt6Einh[15,7]"}]
[null,{"$f":"IF(A106<=Daten!$B$8,\"Zusatzstoffe\",\"\")","v":"Zusatzstoffe"},{"$f":"IF($A106<=Daten!$B$8,LOOKUP($B106,Daten!$A$16:$A$65,Daten!$L$16:$L$65),\"\")","v":15.1},{"$f":"IF($A106<=Daten!$B$8,LOOKUP($B106,Daten!$A$16:$A$65,Daten!$E$16:$E$65),\"\")","v":215.1},{"$f":"IF($A106<=Daten!$B$8,LOOKUP($B106,Daten!$A$67:$A$116,Daten!$L$67:$L$116),\"\")","v":15.2},{"$f":"IF($A106<=Daten!$B$8,LOOKUP($B106,Daten!$A$16:$A$65,Daten!$E$67:$E$116),\"\")","v":0},{"$f":"IF($A106<=Daten!$B$8,LOOKUP($B106,Daten!$A$118:$A$167,Daten!$L$118:$L$167),\"\")","v":15.3},{"$f":"IF($A106<=Daten!$B$8,LOOKUP($B106,Daten!$A$118:$A$167,Daten!$E$118:$E$167),\"\")","v":0},{"$f":"IF($A106<=Daten!$B$8,LOOKUP($B106,Daten!$A$169:$A$218,Daten!$L$169:$L$218),\"\")","v":15.4},{"$f":"IF($A106<=Daten!$B$8,LOOKUP($B106,Daten!$A$169:$A$218,Daten!$E$169:$E$218),\"\")","v":0},{"$f":"IF($A106<=Daten!$B$8,LOOKUP($B106,Daten!$A$220:$A$269,Daten!$L$220:$L$269),\"\")","v":15.5},{"$f":"IF($A106<=Daten!$B$8,LOOKUP($B106,Daten!$A$220:$A$269,Daten!$E$220:$E$269),\"\")","v":0},{"$f":"IF($A106<=Daten!$B$8,LOOKUP($B106,Daten!$A$271:$A$320,Daten!$L$271:$L$320),\"\")","v":15.6},{"$f":"IF($A106<=Daten!$B$8,LOOKUP($B106,Daten!$A$271:$A$320,Daten!$E$271:$E$320),\"\")","v":0},{"$f":"IF($A106<=Daten!$B$8,LOOKUP($B106,Daten!$A$322:$A$371,Daten!$L$322:$L$371),\"\")","v":15.7},{"$f":"IF($A106<=Daten!$B$8,LOOKUP($B106,Daten!$A$322:$A$371,Daten!$E$322:$E$371),\"\")","v":0}]
[16,{"$f":"IF(A113<=Daten!$B$8,Daten!Q9,\"\")","v":"Menülinie 16"},{"$f":"IF(A113<=Daten!$B$8,LOOKUP(B113,Daten!$A$16:$A$65,Daten!$C$16:$C$65),\"\")","v":"Lang[16,1]"},{"$f":"IF($A113<=Daten!$B$8,LOOKUP($B113,Daten!$A$16:$A$65,Daten!$P$16:$P$65),\"\") & \" \" & IF($A113<=Daten!$B$8,LOOKUP($B113,Daten!$A$16:$A$65,Daten!$Q$16:$Q$65),\"\")","v":"16,1 Inhalt1Einh[16,1]"},{"$f":"IF($A113<=Daten!$B$8,LOOKUP($B113,Daten!$A$67:$A$116,Daten!$C$67:$C$116),\"\")","v":"Lang[16,2]"},{"$f":"IF($A113<=Daten!$B$8,LOOKUP($B113,Daten!$A$67:$A$116,Daten!$P$67:$P$116),\"\") & \" \" & IF($A113<=Daten!$B$8,LOOKUP($B113,Daten!$A$67:$A$116,Daten!$Q$67:$Q$116),\"\")","v":"16,2 Inhalt1Einh[16,2]"},{"$f":"IF($A113<=Daten!$B$8,LOOKUP($B113,Daten!$A$118:$A$167,Daten!$C$118:$C$167),\"\")","v":"Lang[16,3]"},{"$f":"IF($A113<=Daten!$B$8,LOOKUP($B113,Daten!$A$118:$A$167,Daten!$P$118:$P$167),\"\") & \" \" & IF($A113<=Daten!$B$8,LOOKUP($B113,Daten!$A$118:$A$167,Daten!$Q$118:$Q$167),\"\")","v":"16,3 Inhalt1Einh[16,3]"},{"$f":"IF($A113<=Daten!$B$8,LOOKUP($B113,Daten!$A$169:$A$218,Daten!$C$169:$C$218),\"\")","v":"Lang[16,4]"},{"$f":"IF($A113<=Daten!$B$8,LOOKUP($B113,Daten!$A$169:$A$218,Daten!$P$169:$P$218),\"\") & \" \" & IF($A113<=Daten!$B$8,LOOKUP($B113,Daten!$A$169:$A$218,Daten!$Q$169:$Q$218),\"\")","v":"16,4 Inhalt1Einh[16,4]"},{"$f":"IF($A113<=Daten!$B$8,LOOKUP($B113,Daten!$A$220:$A$269,Daten!$C$220:$C$269),\"\")","v":"Lang[16,5]"},{"$f":"IF($A113<=Daten!$B$8,LOOKUP($B113,Daten!$A$220:$A$269,Daten!$P$220:$P$269),\"\") & \" \" & IF($A113<=Daten!$B$8,LOOKUP($B113,Daten!$A$220:$A$269,Daten!$Q$220:$Q$269),\"\")","v":"16,5 Inhalt1Einh[16,5]"},{"$f":"IF($A113<=Daten!$B$8,LOOKUP($B113,Daten!$A$271:$A$320,Daten!$C$271:$C$320),\"\")","v":"Lang[16,6]"},{"$f":"IF($A113<=Daten!$B$8,LOOKUP($B113,Daten!$A$271:$A$320,Daten!$P$271:$P$320),\"\") & \" \" & IF($A113<=Daten!$B$8,LOOKUP($B113,Daten!$A$271:$A$320,Daten!$Q$271:$Q$320),\"\")","v":"16,6 Inhalt1Einh[16,6]"},{"$f":"IF($A113<=Daten!$B$8,LOOKUP($B113,Daten!$A$322:$A$371,Daten!$B$322:$C$371),\"\")","v":{"$error":"#N/A"}},{"$f":"IF($A113<=Daten!$B$8,LOOKUP($B113,Daten!$A$322:$A$371,Daten!$P$322:$P$371),\"\") & \" \" & IF($A113<=Daten!$B$8,LOOKUP($B113,Daten!$A$322:$A$371,Daten!$Q$322:$Q$371),\"\")","v":"16,7 Inhalt1Einh[16,7]"}]
[null,null,null,{"$f":"IF($A113<=Daten!$B$8,LOOKUP($B113,Daten!$A$16:$A$65,Daten!$R$16:$R$65),\"\") & \" \" & IF($A113<=Daten!$B$8,LOOKUP($B113,Daten!$A$16:$A$65,Daten!$S$16:$S$65),\"\")","v":"16,1 Inhalt2Einh[16,1]"},null,{"$f":"IF($A113<=Daten!$B$8,LOOKUP($B113,Daten!$A$67:$A$116,Daten!$R$67:$R$116),\"\") & \" \" & IF($A113<=Daten!$B$8,LOOKUP($B113,Daten!$A$67:$A$116,Daten!$S$67:$S$116),\"\")","v":"16,2 Inhalt2Einh[16,2]"},null,{"$f":"IF($A113<=Daten!$B$8,LOOKUP($B113,Daten!$A$118:$A$167,Daten!$R$118:$R$167),\"\") & \" \" & IF($A113<=Daten!$B$8,LOOKUP($B113,Daten!$A$118:$A$167,Daten!$S$118:$S$167),\"\")","v":"16,3 Inhalt2Einh[16,3]"},null,{"$f":"IF($A113<=Daten!$B$8,LOOKUP($B113,Daten!$A$169:$A$218,Daten!$R$169:$R$218),\"\") & \" \" & IF($A113<=Daten!$B$8,LOOKUP($B113,Daten!$A$169:$A$218,Daten!$S$169:$S$218),\"\")","v":"16,4 Inhalt2Einh[16,4]"},null,{"$f":"IF($A113<=Daten!$B$8,LOOKUP($B113,Daten!$A$220:$A$269,Daten!$R$220:$R$269),\"\") & \" \" & IF($A113<=Daten!$B$8,LOOKUP($B113,Daten!$A$220:$A$269,Daten!$S$220:$S$269),\"\")","v":"16,5 Inhalt2Einh[16,5]"},null,{"$f":"IF($A113<=Daten!$B$8,LOOKUP($B113,Daten!$A$271:$A$320,Daten!$R$271:$R$320),\"\") & \" \" & IF($A113<=Daten!$B$8,LOOKUP($B113,Daten!$A$271:$A$320,Daten!$S$271:$S$320),\"\")","v":"16,6 Inhalt2Einh[16,6]"},null,{"$f":"IF($A113<=Daten!$B$8,LOOKUP($B113,Daten!$A$322:$A$371,Daten!$R$322:$R$371),\"\") & \" \" & IF($A113<=Daten!$B$8,LOOKUP($B113,Daten!$A$322:$A$371,Daten!$S$322:$S$371),\"\")","v":"16,7 Inhalt2Einh[16,7]"}]
[null,null,null,{"$f":"IF($A113<=Daten!$B$8,LOOKUP($B113,Daten!$A$16:$A$65,Daten!$T$16:$T$65),\"\") & \" \" & IF($A113<=Daten!$B$8,LOOKUP($B113,Daten!$A$16:$A$65,Daten!$U$16:$U$65),\"\")","v":"16,1 Inhalt3Einh[16,1]"},null,{"$f":"IF($A113<=Daten!$B$8,LOOKUP($B113,Daten!$A$67:$A$116,Daten!$T$67:$T$116),\"\") & \" \" & IF($A113<=Daten!$B$8,LOOKUP($B113,Daten!$A$67:$A$116,Daten!$U$67:$U$116),\"\")","v":"16,2 Inhalt3Einh[16,2]"},null,{"$f":"IF($A113<=Daten!$B$8,LOOKUP($B113,Daten!$A$118:$A$167,Daten!$T$118:$T$167),\"\") & \" \" & IF($A113<=Daten!$B$8,LOOKUP($B113,Daten!$A$118:$A$167,Daten!$U$118:$U$167),\"\")","v":"16,3 Inhalt3Einh[16,3]"},null,{"$f":"IF($A113<=Daten!$B$8,LOOKUP($B113,Daten!$A$169:$A$218,Daten!$T$169:$T$218),\"\") & \" \" & IF($A113<=Daten!$B$8,LOOKUP($B113,Daten!$A$169:$A$218,Daten!$U$169:$U$218),\"\")","v":"16,4 Inhalt3Einh[16,4]"},null,{"$f":"IF($A113<=Daten!$B$8,LOOKUP($B113,Daten!$A$220:$A$269,Daten!$T$220:$T$269),\"\") & \" \" & IF($A113<=Daten!$B$8,LOOKUP($B113,Daten!$A$220:$A$269,Daten!$U$220:$U$269),\"\")","v":"16,5 Inhalt3Einh[16,5]"},null,{"$f":"IF($A113<=Daten!$B$8,LOOKUP($B113,Daten!$A$271:$A$320,Daten!$T$271:$T$320),\"\") & \" \" & IF($A113<=Daten!$B$8,LOOKUP($B113,Daten!$A$271:$A$320,Daten!$U$271:$U$320),\"\")","v":"16,6 Inhalt3Einh[16,6]"},null,{"$f":"IF($A113<=Daten!$B$8,LOOKUP($B113,Daten!$A$322:$A$371,Daten!$T$322:$T$371),\"\") & \" \" & IF($A113<=Daten!$B$8,LOOKUP($B113,Daten!$A$322:$A$371,Daten!$U$322:$U$371),\"\")","v":"16,7 Inhalt3Einh[16,7]"}]
[null,null,null,{"$f":"IF($A113<=Daten!$B$8,LOOKUP($B113,Daten!$A$16:$A$65,Daten!$V$16:$V$65),\"\") & \" \" & IF($A113<=Daten!$B$8,LOOKUP($B113,Daten!$A$16:$A$65,Daten!$W$16:$W$65),\"\")","v":"16,1 Inhalt4Einh[16,1]"},null,{"$f":"IF($A113<=Daten!$B$8,LOOKUP($B113,Daten!$A$67:$A$116,Daten!$V$67:$V$116),\"\") & \" \" & IF($A113<=Daten!$B$8,LOOKUP($B113,Daten!$A$67:$A$116,Daten!$W$67:$W$116),\"\")","v":"16,2 Inhalt4Einh[16,2]"},null,{"$f":"IF($A113<=Daten!$B$8,LOOKUP($B113,Daten!$A$118:$A$167,Daten!$V$118:$V$167),\"\") & \" \" & IF($A113<=Daten!$B$8,LOOKUP($B113,Daten!$A$118:$A$167,Daten!$W$118:$W$167),\"\")","v":"16,3 Inhalt4Einh[16,3]"},null,{"$f":"IF($A113<=Daten!$B$8,LOOKUP($B113,Daten!$A$169:$A$218,Daten!$V$169:$V$218),\"\") & \" \" & IF($A113<=Daten!$B$8,LOOKUP($B113,Daten!$A$169:$A$218,Daten!$W$169:$W$218),\"\")","v":"16,4 Inhalt4Einh[16,4]"},null,{"$f":"IF($A113<=Daten!$B$8,LOOKUP($B113,Daten!$A$220:$A$269,Daten!$V$220:$V$269),\"\") & \" \" & IF($A113<=Daten!$B$8,LOOKUP($B113,Daten!$A$220:$A$269,Daten!$W$220:$W$269),\"\")","v":"16,5 Inhalt4Einh[16,5]"},null,{"$f":"IF($A113<=Daten!$B$8,LOOKUP($B113,Daten!$A$271:$A$320,Daten!$V$271:$V$320),\"\") & \" \" & IF($A113<=Daten!$B$8,LOOKUP($B113,Daten!$A$271:$A$320,Daten!$W$271:$W$320),\"\")","v":"16,6 Inhalt4Einh[16,6]"},null,{"$f":"IF($A113<=Daten!$B$8,LOOKUP($B113,Daten!$A$322:$A$371,Daten!$V$322:$V$371),\"\") & \" \" & IF($A113<=Daten!$B$8,LOOKUP($B113,Daten!$A$322:$A$371,Daten!$W$322:$W$371),\"\")","v":"16,7 Inhalt4Einh[16,7]"}]
[null,null,null,{"$f":"IF($A113<=Daten!$B$8,LOOKUP($B113,Daten!$A$16:$A$65,Daten!$X$16:$X$65),\"\") & \" \" & IF($A113<=Daten!$B$8,LOOKUP($B113,Daten!$A$16:$A$65,Daten!$Y$16:$Y$65),\"\")","v":"16,1 Inhalt5Einh[16,1]"},null,{"$f":"IF($A113<=Daten!$B$8,LOOKUP($B113,Daten!$A$67:$A$116,Daten!$X$67:$X$116),\"\") & \" \" & IF($A113<=Daten!$B$8,LOOKUP($B113,Daten!$A$67:$A$116,Daten!$Y$67:$Y$116),\"\")","v":"16,2 Inhalt5Einh[16,2]"},null,{"$f":"IF($A113<=Daten!$B$8,LOOKUP($B113,Daten!$A$118:$A$167,Daten!$X$118:$X$167),\"\") & \" \" & IF($A113<=Daten!$B$8,LOOKUP($B113,Daten!$A$118:$A$167,Daten!$Y$118:$Y$167),\"\")","v":"16,3 Inhalt5Einh[16,3]"},null,{"$f":"IF($A113<=Daten!$B$8,LOOKUP($B113,Daten!$A$169:$A$218,Daten!$X$169:$X$218),\"\") & \" \" & IF($A113<=Daten!$B$8,LOOKUP($B113,Daten!$A$169:$A$218,Daten!$Y$169:$Y$218),\"\")","v":"16,4 Inhalt5Einh[16,4]"},null,{"$f":"IF($A113<=Daten!$B$8,LOOKUP($B113,Daten!$A$220:$A$269,Daten!$X$220:$X$269),\"\") & \" \" & IF($A113<=Daten!$B$8,LOOKUP($B113,Daten!$A$220:$A$269,Daten!$Y$220:$Y$269),\"\")","v":"16,5 Inhalt5Einh[16,5]"},null,{"$f":"IF($A113<=Daten!$B$8,LOOKUP($B113,Daten!$A$271:$A$320,Daten!$X$271:$X$320),\"\") & \" \" & IF($A113<=Daten!$B$8,LOOKUP($B113,Daten!$A$271:$A$320,Daten!$Y$271:$Y$320),\"\")","v":"16,6 Inhalt5Einh[16,6]"},null,{"$f":"IF($A113<=Daten!$B$8,LOOKUP($B113,Daten!$A$322:$A$371,Daten!$X$322:$X$371),\"\") & \" \" & IF($A113<=Daten!$B$8,LOOKUP($B113,Daten!$A$322:$A$371,Daten!$Y$322:$Y$371),\"\")","v":"16,7 Inhalt5Einh[16,7]"}]
[null,null,null,{"$f":"IF($A113<=Daten!$B$8,LOOKUP($B113,Daten!$A$16:$A$65,Daten!$Z$16:$Z$65),\"\") & \" \" & IF($A113<=Daten!$B$8,LOOKUP($B113,Daten!$A$16:$A$65,Daten!$AA$16:$AA$65),\"\")","v":"16,1 Inhalt6Einh[16,1]"},null,{"$f":"IF($A113<=Daten!$B$8,LOOKUP($B113,Daten!$A$67:$A$116,Daten!$Z$67:$Z$116),\"\") & \" \" & IF($A113<=Daten!$B$8,LOOKUP($B113,Daten!$A$67:$A$116,Daten!$AA$67:$AA$116),\"\")","v":"16,2 Inhalt6Einh[16,2]"},null,{"$f":"IF($A113<=Daten!$B$8,LOOKUP($B113,Daten!$A$118:$A$167,Daten!$Z$118:$Z$167),\"\") & \" \" & IF($A113<=Daten!$B$8,LOOKUP($B113,Daten!$A$118:$A$167,Daten!$AA$118:$AA$167),\"\")","v":"16,3 Inhalt6Einh[16,3]"},null,{"$f":"IF($A113<=Daten!$B$8,LOOKUP($B113,Daten!$A$169:$A$218,Daten!$Z$169:$Z$218),\"\") & \" \" & IF($A113<=Daten!$B$8,LOOKUP($B113,Daten!$A$169:$A$218,Daten!$AA$169:$AA$218),\"\")","v":"16,4 Inhalt6Einh[16,4]"},null,{"$f":"IF($A113<=Daten!$B$8,LOOKUP($B113,Daten!$A$220:$A$269,Daten!$Z$220:$Z$269),\"\") & \" \" & IF($A113<=Daten!$B$8,LOOKUP($B113,Daten!$A$220:$A$269,Daten!$AA$220:$AA$269),\"\")","v":"16,5 Inhalt6Einh[16,5]"},null,{"$f":"IF($A113<=Daten!$B$8,LOOKUP($B113,Daten!$A$271:$A$320,Daten!$Z$271:$Z$320),\"\") & \" \" & IF($A113<=Daten!$B$8,LOOKUP($B113,Daten!$A$271:$A$320,Daten!$AA$271:$AA$320),\"\")","v":"16,6 Inhalt6Einh[16,6]"},null,{"$f":"IF($A113<=Daten!$B$8,LOOKUP($B113,Daten!$A$322:$A$371,Daten!$Z$322:$Z$371),\"\") & \" \" & IF($A113<=Daten!$B$8,LOOKUP($B113,Daten!$A$322:$A$371,Daten!$AA$322:$AA$371),\"\")","v":"16,7 Inhalt6Einh[16,7]"}]
[null,{"$f":"IF(A113<=Daten!$B$8,\"Zusatzstoffe\",\"\")","v":"Zusatzstoffe"},{"$f":"IF($A113<=Daten!$B$8,LOOKUP($B113,Daten!$A$16:$A$65,Daten!$L$16:$L$65),\"\")","v":16.100000000000001},{"$f":"IF($A113<=Daten!$B$8,LOOKUP($B113,Daten!$A$16:$A$65,Daten!$E$16:$E$65),\"\")","v":216.1},{"$f":"IF($A113<=Daten!$B$8,LOOKUP($B113,Daten!$A$67:$A$116,Daten!$L$67:$L$116),\"\")","v":16.2},{"$f":"IF($A113<=Daten!$B$8,LOOKUP($B113,Daten!$A$16:$A$65,Daten!$E$67:$E$116),\"\")","v":0},{"$f":"IF($A113<=Daten!$B$8,LOOKUP($B113,Daten!$A$118:$A$167,Daten!$L$118:$L$167),\"\")","v":16.3},{"$f":"IF($A113<=Daten!$B$8,LOOKUP($B113,Daten!$A$118:$A$167,Daten!$E$118:$E$167),\"\")","v":0},{"$f":"IF($A113<=Daten!$B$8,LOOKUP($B113,Daten!$A$169:$A$218,Daten!$L$169:$L$218),\"\")","v":16.399999999999999},{"$f":"IF($A113<=Daten!$B$8,LOOKUP($B113,Daten!$A$169:$A$218,Daten!$E$169:$E$218),\"\")","v":0},{"$f":"IF($A113<=Daten!$B$8,LOOKUP($B113,Daten!$A$220:$A$269,Daten!$L$220:$L$269),\"\")","v":16.5},{"$f":"IF($A113<=Daten!$B$8,LOOKUP($B113,Daten!$A$220:$A$269,Daten!$E$220:$E$269),\"\")","v":0},{"$f":"IF($A113<=Daten!$B$8,LOOKUP($B113,Daten!$A$271:$A$320,Daten!$L$271:$L$320),\"\")","v":16.600000000000001},{"$f":"IF($A113<=Daten!$B$8,LOOKUP($B113,Daten!$A$271:$A$320,Daten!$E$271:$E$320),\"\")","v":0},{"$f":"IF($A113<=Daten!$B$8,LOOKUP($B113,Daten!$A$322:$A$371,Daten!$L$322:$L$371),\"\")","v":16.7},{"$f":"IF($A113<=Daten!$B$8,LOOKUP($B113,Daten!$A$322:$A$371,Daten!$E$322:$E$371),\"\")","v":0}]
[17,{"$f":"IF(A120<=Daten!$B$8,Daten!R9,\"\")","v":"Menülinie 17"},{"$f":"IF(A120<=Daten!$B$8,LOOKUP(B120,Daten!$A$16:$A$65,Daten!$C$16:$C$65),\"\")","v":"Lang[17,1]"},{"$f":"IF($A120<=Daten!$B$8,LOOKUP($B120,Daten!$A$16:$A$65,Daten!$P$16:$P$65),\"\") & \" \" & IF($A120<=Daten!$B$8,LOOKUP($B120,Daten!$A$16:$A$65,Daten!$Q$16:$Q$65),\"\")","v":"17,1 Inhalt1Einh[17,1]"},{"$f":"IF($A120<=Daten!$B$8,LOOKUP($B120,Daten!$A$67:$A$116,Daten!$C$67:$C$116),\"\")","v":"Lang[17,2]"},{"$f":"IF($A120<=Daten!$B$8,LOOKUP($B120,Daten!$A$67:$A$116,Daten!$P$67:$P$116),\"\") & \" \" & IF($A120<=Daten!$B$8,LOOKUP($B120,Daten!$A$67:$A$116,Daten!$Q$67:$Q$116),\"\")","v":"17,2 Inhalt1Einh[17,2]"},{"$f":"IF($A120<=Daten!$B$8,LOOKUP($B120,Daten!$A$118:$A$167,Daten!$C$118:$C$167),\"\")","v":"Lang[17,3]"},{"$f":"IF($A120<=Daten!$B$8,LOOKUP($B120,Daten!$A$118:$A$167,Daten!$P$118:$P$167),\"\") & \" \" & IF($A120<=Daten!$B$8,LOOKUP($B120,Daten!$A$118:$A$167,Daten!$Q$118:$Q$167),\"\")","v":"17,3 Inhalt1Einh[17,3]"},{"$f":"IF($A120<=Daten!$B$8,LOOKUP($B120,Daten!$A$169:$A$218,Daten!$C$169:$C$218),\"\")","v":"Lang[17,4]"},{"$f":"IF($A120<=Daten!$B$8,LOOKUP($B120,Daten!$A$169:$A$218,Daten!$P$169:$P$218),\"\") & \" \" & IF($A120<=Daten!$B$8,LOOKUP($B120,Daten!$A$169:$A$218,Daten!$Q$169:$Q$218),\"\")","v":"17,4 Inhalt1Einh[17,4]"},{"$f":"IF($A120<=Daten!$B$8,LOOKUP($B120,Daten!$A$220:$A$269,Daten!$C$220:$C$269),\"\")","v":"Lang[17,5]"},{"$f":"IF($A120<=Daten!$B$8,LOOKUP($B120,Daten!$A$220:$A$269,Daten!$P$220:$P$269),\"\") & \" \" & IF($A120<=Daten!$B$8,LOOKUP($B120,Daten!$A$220:$A$269,Daten!$Q$220:$Q$269),\"\")","v":"17,5 Inhalt1Einh[17,5]"},{"$f":"IF($A120<=Daten!$B$8,LOOKUP($B120,Daten!$A$271:$A$320,Daten!$C$271:$C$320),\"\")","v":"Lang[17,6]"},{"$f":"IF($A120<=Daten!$B$8,LOOKUP($B120,Daten!$A$271:$A$320,Daten!$P$271:$P$320),\"\") & \" \" & IF($A120<=Daten!$B$8,LOOKUP($B120,Daten!$A$271:$A$320,Daten!$Q$271:$Q$320),\"\")","v":"17,6 Inhalt1Einh[17,6]"},{"$f":"IF($A120<=Daten!$B$8,LOOKUP($B120,Daten!$A$322:$A$371,Daten!$B$322:$C$371),\"\")","v":{"$error":"#N/A"}},{"$f":"IF($A120<=Daten!$B$8,LOOKUP($B120,Daten!$A$322:$A$371,Daten!$P$322:$P$371),\"\") & \" \" & IF($A120<=Daten!$B$8,LOOKUP($B120,Daten!$A$322:$A$371,Daten!$Q$322:$Q$371),\"\")","v":"17,7 Inhalt1Einh[17,7]"}]
[null,null,null,{"$f":"IF($A120<=Daten!$B$8,LOOKUP($B120,Daten!$A$16:$A$65,Daten!$R$16:$R$65),\"\") & \" \" & IF($A120<=Daten!$B$8,LOOKUP($B120,Daten!$A$16:$A$65,Daten!$S$16:$S$65),\"\")","v":"17,1 Inhalt2Einh[17,1]"},null,{"$f":"IF($A120<=Daten!$B$8,LOOKUP($B120,Daten!$A$67:$A$116,Daten!$R$67:$R$116),\"\") & \" \" & IF($A120<=Daten!$B$8,LOOKUP($B120,Daten!$A$67:$A$116,Daten!$S$67:$S$116),\"\")","v":"17,2 Inhalt2Einh[17,2]"},null,{"$f":"IF($A120<=Daten!$B$8,LOOKUP($B120,Daten!$A$118:$A$167,Daten!$R$118:$R$167),\"\") & \" \" & IF($A120<=Daten!$B$8,LOOKUP($B120,Daten!$A$118:$A$167,Daten!$S$118:$S$167),\"\")","v":"17,3 Inhalt2Einh[17,3]"},null,{"$f":"IF($A120<=Daten!$B$8,LOOKUP($B120,Daten!$A$169:$A$218,Daten!$R$169:$R$218),\"\") & \" \" & IF($A120<=Daten!$B$8,LOOKUP($B120,Daten!$A$169:$A$218,Daten!$S$169:$S$218),\"\")","v":"17,4 Inhalt2Einh[17,4]"},null,{"$f":"IF($A120<=Daten!$B$8,LOOKUP($B120,Daten!$A$220:$A$269,Daten!$R$220:$R$269),\"\") & \" \" & IF($A120<=Daten!$B$8,LOOKUP($B120,Daten!$A$220:$A$269,Daten!$S$220:$S$269),\"\")","v":"17,5 Inhalt2Einh[17,5]"},null,{"$f":"IF($A120<=Daten!$B$8,LOOKUP($B120,Daten!$A$271:$A$320,Daten!$R$271:$R$320),\"\") & \" \" & IF($A120<=Daten!$B$8,LOOKUP($B120,Daten!$A$271:$A$320,Daten!$S$271:$S$320),\"\")","v":"17,6 Inhalt2Einh[17,6]"},null,{"$f":"IF($A120<=Daten!$B$8,LOOKUP($B120,Daten!$A$322:$A$371,Daten!$R$322:$R$371),\"\") & \" \" & IF($A120<=Daten!$B$8,LOOKUP($B120,Daten!$A$322:$A$371,Daten!$S$322:$S$371),\"\")","v":"17,7 Inhalt2Einh[17,7]"}]
[null,null,null,{"$f":"IF($A120<=Daten!$B$8,LOOKUP($B120,Daten!$A$16:$A$65,Daten!$T$16:$T$65),\"\") & \" \" & IF($A120<=Daten!$B$8,LOOKUP($B120,Daten!$A$16:$A$65,Daten!$U$16:$U$65),\"\")","v":"17,1 Inhalt3Einh[17,1]"},null,{"$f":"IF($A120<=Daten!$B$8,LOOKUP($B120,Daten!$A$67:$A$116,Daten!$T$67:$T$116),\"\") & \" \" & IF($A120<=Daten!$B$8,LOOKUP($B120,Daten!$A$67:$A$116,Daten!$U$67:$U$116),\"\")","v":"17,2 Inhalt3Einh[17,2]"},null,{"$f":"IF($A120<=Daten!$B$8,LOOKUP($B120,Daten!$A$118:$A$167,Daten!$T$118:$T$167),\"\") & \" \" & IF($A120<=Daten!$B$8,LOOKUP($B120,Daten!$A$118:$A$167,Daten!$U$118:$U$167),\"\")","v":"17,3 Inhalt3Einh[17,3]"},null,{"$f":"IF($A120<=Daten!$B$8,LOOKUP($B120,Daten!$A$169:$A$218,Daten!$T$169:$T$218),\"\") & \" \" & IF($A120<=Daten!$B$8,LOOKUP($B120,Daten!$A$169:$A$218,Daten!$U$169:$U$218),\"\")","v":"17,4 Inhalt3Einh[17,4]"},null,{"$f":"IF($A120<=Daten!$B$8,LOOKUP($B120,Daten!$A$220:$A$269,Daten!$T$220:$T$269),\"\") & \" \" & IF($A120<=Daten!$B$8,LOOKUP($B120,Daten!$A$220:$A$269,Daten!$U$220:$U$269),\"\")","v":"17,5 Inhalt3Einh[17,5]"},null,{"$f":"IF($A120<=Daten!$B$8,LOOKUP($B120,Daten!$A$271:$A$320,Daten!$T$271:$T$320),\"\") & \" \" & IF($A120<=Daten!$B$8,LOOKUP($B120,Daten!$A$271:$A$320,Daten!$U$271:$U$320),\"\")","v":"17,6 Inhalt3Einh[17,6]"},null,{"$f":"IF($A120<=Daten!$B$8,LOOKUP($B120,Daten!$A$322:$A$371,Daten!$T$322:$T$371),\"\") & \" \" & IF($A120<=Daten!$B$8,LOOKUP($B120,Daten!$A$322:$A$371,Daten!$U$322:$U$371),\"\")","v":"17,7 Inhalt3Einh[17,7]"}]
[null,null,null,{"$f":"IF($A120<=Daten!$B$8,LOOKUP($B120,Daten!$A$16:$A$65,Daten!$V$16:$V$65),\"\") & \" \" & IF($A120<=Daten!$B$8,LOOKUP($B120,Daten!$A$16:$A$65,Daten!$W$16:$W$65),\"\")","v":"17,1 Inhalt4Einh[17,1]"},null,{"$f":"IF($A120<=Daten!$B$8,LOOKUP($B120,Daten!$A$67:$A$116,Daten!$V$67:$V$116),\"\") & \" \" & IF($A120<=Daten!$B$8,LOOKUP($B120,Daten!$A$67:$A$116,Daten!$W$67:$W$116),\"\")","v":"17,2 Inhalt4Einh[17,2]"},null,{"$f":"IF($A120<=Daten!$B$8,LOOKUP($B120,Daten!$A$118:$A$167,Daten!$V$118:$V$167),\"\") & \" \" & IF($A120<=Daten!$B$8,LOOKUP($B120,Daten!$A$118:$A$167,Daten!$W$118:$W$167),\"\")","v":"17,3 Inhalt4Einh[17,3]"},null,{"$f":"IF($A120<=Daten!$B$8,LOOKUP($B120,Daten!$A$169:$A$218,Daten!$V$169:$V$218),\"\") & \" \" & IF($A120<=Daten!$B$8,LOOKUP($B120,Daten!$A$169:$A$218,Daten!$W$169:$W$218),\"\")","v":"17,4 Inhalt4Einh[17,4]"},null,{"$f":"IF($A120<=Daten!$B$8,LOOKUP($B120,Daten!$A$220:$A$269,Daten!$V$220:$V$269),\"\") & \" \" & IF($A120<=Daten!$B$8,LOOKUP($B120,Daten!$A$220:$A$269,Daten!$W$220:$W$269),\"\")","v":"17,5 Inhalt4Einh[17,5]"},null,{"$f":"IF($A120<=Daten!$B$8,LOOKUP($B120,Daten!$A$271:$A$320,Daten!$V$271:$V$320),\"\") & \" \" & IF($A120<=Daten!$B$8,LOOKUP($B120,Daten!$A$271:$A$320,Daten!$W$271:$W$320),\"\")","v":"17,6 Inhalt4Einh[17,6]"},null,{"$f":"IF($A120<=Daten!$B$8,LOOKUP($B120,Daten!$A$322:$A$371,Daten!$V$322:$V$371),\"\") & \" \" & IF($A120<=Daten!$B$8,LOOKUP($B120,Daten!$A$322:$A$371,Daten!$W$322:$W$371),\"\")","v":"17,7 Inhalt4Einh[17,7]"}]
[null,null,null,{"$f":"IF($A120<=Daten!$B$8,LOOKUP($B120,Daten!$A$16:$A$65,Daten!$X$16:$X$65),\"\") & \" \" & IF($A120<=Daten!$B$8,LOOKUP($B120,Daten!$A$16:$A$65,Daten!$Y$16:$Y$65),\"\")","v":"17,1 Inhalt5Einh[17,1]"},null,{"$f":"IF($A120<=Daten!$B$8,LOOKUP($B120,Daten!$A$67:$A$116,Daten!$X$67:$X$116),\"\") & \" \" & IF($A120<=Daten!$B$8,LOOKUP($B120,Daten!$A$67:$A$116,Daten!$Y$67:$Y$116),\"\")","v":"17,2 Inhalt5Einh[17,2]"},null,{"$f":"IF($A120<=Daten!$B$8,LOOKUP($B120,Daten!$A$118:$A$167,Daten!$X$118:$X$167),\"\") & \" \" & IF($A120<=Daten!$B$8,LOOKUP($B120,Daten!$A$118:$A$167,Daten!$Y$118:$Y$167),\"\")","v":"17,3 Inhalt5Einh[17,3]"},null,{"$f":"IF($A120<=Daten!$B$8,LOOKUP($B120,Daten!$A$169:$A$218,Daten!$X$169:$X$218),\"\") & \" \" & IF($A120<=Daten!$B$8,LOOKUP($B120,Daten!$A$169:$A$218,Daten!$Y$169:$Y$218),\"\")","v":"17,4 Inhalt5Einh[17,4]"},null,{"$f":"IF($A120<=Daten!$B$8,LOOKUP($B120,Daten!$A$220:$A$269,Daten!$X$220:$X$269),\"\") & \" \" & IF($A120<=Daten!$B$8,LOOKUP($B120,Daten!$A$220:$A$269,Daten!$Y$220:$Y$269),\"\")","v":"17,5 Inhalt5Einh[17,5]"},null,{"$f":"IF($A120<=Daten!$B$8,LOOKUP($B120,Daten!$A$271:$A$320,Daten!$X$271:$X$320),\"\") & \" \" & IF($A120<=Daten!$B$8,LOOKUP($B120,Daten!$A$271:$A$320,Daten!$Y$271:$Y$320),\"\")","v":"17,6 Inhalt5Einh[17,6]"},null,{"$f":"IF($A120<=Daten!$B$8,LOOKUP($B120,Daten!$A$322:$A$371,Daten!$X$322:$X$371),\"\") & \" \" & IF($A120<=Daten!$B$8,LOOKUP($B120,Daten!$A$322:$A$371,Daten!$Y$322:$Y$371),\"\")","v":"17,7 Inhalt5Einh[17,7]"}]
[null,null,null,{"$f":"IF($A120<=Daten!$B$8,LOOKUP($B120,Daten!$A$16:$A$65,Daten!$Z$16:$Z$65),\"\") & \" \" & IF($A120<=Daten!$B$8,LOOKUP($B120,Daten!$A$16:$A$65,Daten!$AA$16:$AA$65),\"\")","v":"17,1 Inhalt6Einh[17,1]"},null,{"$f":"IF($A120<=Daten!$B$8,LOOKUP($B120,Daten!$A$67:$A$116,Daten!$Z$67:$Z$116),\"\") & \" \" & IF($A120<=Daten!$B$8,LOOKUP($B120,Daten!$A$67:$A$116,Daten!$AA$67:$AA$116),\"\")","v":"17,2 Inhalt6Einh[17,2]"},null,{"$f":"IF($A120<=Daten!$B$8,LOOKUP($B120,Daten!$A$118:$A$167,Daten!$Z$118:$Z$167),\"\") & \" \" & IF($A120<=Daten!$B$8,LOOKUP($B120,Daten!$A$118:$A$167,Daten!$AA$118:$AA$167),\"\")","v":"17,3 Inhalt6Einh[17,3]"},null,{"$f":"IF($A120<=Daten!$B$8,LOOKUP($B120,Daten!$A$169:$A$218,Daten!$Z$169:$Z$218),\"\") & \" \" & IF($A120<=Daten!$B$8,LOOKUP($B120,Daten!$A$169:$A$218,Daten!$AA$169:$AA$218),\"\")","v":"17,4 Inhalt6Einh[17,4]"},null,{"$f":"IF($A120<=Daten!$B$8,LOOKUP($B120,Daten!$A$220:$A$269,Daten!$Z$220:$Z$269),\"\") & \" \" & IF($A120<=Daten!$B$8,LOOKUP($B120,Daten!$A$220:$A$269,Daten!$AA$220:$AA$269),\"\")","v":"17,5 Inhalt6Einh[17,5]"},null,{"$f":"IF($A120<=Daten!$B$8,LOOKUP($B120,Daten!$A$271:$A$320,Daten!$Z$271:$Z$320),\"\") & \" \" & IF($A120<=Daten!$B$8,LOOKUP($B120,Daten!$A$271:$A$320,Daten!$AA$271:$AA$320),\"\")","v":"17,6 Inhalt6Einh[17,6]"},null,{"$f":"IF($A120<=Daten!$B$8,LOOKUP($B120,Daten!$A$322:$A$371,Daten!$Z$322:$Z$371),\"\") & \" \" & IF($A120<=Daten!$B$8,LOOKUP($B120,Daten!$A$322:$A$371,Daten!$AA$322:$AA$371),\"\")","v":"17,7 Inhalt6Einh[17,7]"}]
[null,{"$f":"IF(A120<=Daten!$B$8,\"Zusatzstoffe\",\"\")","v":"Zusatzstoffe"},{"$f":"IF($A120<=Daten!$B$8,LOOKUP($B120,Daten!$A$16:$A$65,Daten!$L$16:$L$65),\"\")","v":17.100000000000001},{"$f":"IF($A120<=Daten!$B$8,LOOKUP($B120,Daten!$A$16:$A$65,Daten!$E$16:$E$65),\"\")","v":217.1},{"$f":"IF($A120<=Daten!$B$8,LOOKUP($B120,Daten!$A$67:$A$116,Daten!$L$67:$L$116),\"\")","v":17.2},{"$f":"IF($A120<=Daten!$B$8,LOOKUP($B120,Daten!$A$16:$A$65,Daten!$E$67:$E$116),\"\")","v":0},{"$f":"IF($A120<=Daten!$B$8,LOOKUP($B120,Daten!$A$118:$A$167,Daten!$L$118:$L$167),\"\")","v":17.3},{"$f":"IF($A120<=Daten!$B$8,LOOKUP($B120,Daten!$A$118:$A$167,Daten!$E$118:$E$167),\"\")","v":0},{"$f":"IF($A120<=Daten!$B$8,LOOKUP($B120,Daten!$A$169:$A$218,Daten!$L$169:$L$218),\"\")","v":17.399999999999999},{"$f":"IF($A120<=Daten!$B$8,LOOKUP($B120,Daten!$A$169:$A$218,Daten!$E$169:$E$218),\"\")","v":0},{"$f":"IF($A120<=Daten!$B$8,LOOKUP($B120,Daten!$A$220:$A$269,Daten!$L$220:$L$269),\"\")","v":17.5},{"$f":"IF($A120<=Daten!$B$8,LOOKUP($B120,Daten!$A$220:$A$269,Daten!$E$220:$E$269),\"\")","v":0},{"$f":"IF($A120<=Daten!$B$8,LOOKUP($B120,Daten!$A$271:$A$320,Daten!$L$271:$L$320),\"\")","v":17.600000000000001},{"$f":"IF($A120<=Daten!$B$8,LOOKUP($B120,Daten!$A$271:$A$320,Daten!$E$271:$E$320),\"\")","v":0},{"$f":"IF($A120<=Daten!$B$8,LOOKUP($B120,Daten!$A$322:$A$371,Daten!$L$322:$L$371),\"\")","v":17.7},{"$f":"IF($A120<=Daten!$B$8,LOOKUP($B120,Daten!$A$322:$A$371,Daten!$E$322:$E$371),\"\")","v":0}]
[18,{"$f":"IF(A127<=Daten!$B$8,Daten!S9,\"\")","v":"Menülinie 18"},{"$f":"IF(A127<=Daten!$B$8,LOOKUP(B127,Daten!$A$16:$A$65,Daten!$C$16:$C$65),\"\")","v":"Lang[18,1]"},{"$f":"IF($A127<=Daten!$B$8,LOOKUP($B127,Daten!$A$16:$A$65,Daten!$P$16:$P$65),\"\") & \" \" & IF($A127<=Daten!$B$8,LOOKUP($B127,Daten!$A$16:$A$65,Daten!$Q$16:$Q$65),\"\")","v":"18,1 Inhalt1Einh[18,1]"},{"$f":"IF($A127<=Daten!$B$8,LOOKUP($B127,Daten!$A$57:$A$116,Daten!$C$57:$C$116),\"\")","v":"Lang[18,2]"},{"$f":"IF($A127<=Daten!$B$8,LOOKUP($B127,Daten!$A$57:$A$116,Daten!$P$57:$P$116),\"\") & \" \" & IF($A127<=Daten!$B$8,LOOKUP($B127,Daten!$A$57:$A$116,Daten!$Q$57:$Q$116),\"\")","v":"18,2 Inhalt1Einh[18,2]"},{"$f":"IF($A127<=Daten!$B$8,LOOKUP($B127,Daten!$A$118:$A$167,Daten!$C$118:$C$167),\"\")","v":"Lang[18,3]"},{"$f":"IF($A127<=Daten!$B$8,LOOKUP($B127,Daten!$A$118:$A$167,Daten!$P$118:$P$167),\"\") & \" \" & IF($A127<=Daten!$B$8,LOOKUP($B127,Daten!$A$118:$A$167,Daten!$Q$118:$Q$167),\"\")","v":"18,3 Inhalt1Einh[18,3]"},{"$f":"IF($A127<=Daten!$B$8,LOOKUP($B127,Daten!$A$169:$A$218,Daten!$C$169:$C$218),\"\")","v":"Lang[18,4]"},{"$f":"IF($A127<=Daten!$B$8,LOOKUP($B127,Daten!$A$169:$A$218,Daten!$P$169:$P$218),\"\") & \" \" & IF($A127<=Daten!$B$8,LOOKUP($B127,Daten!$A$169:$A$218,Daten!$Q$169:$Q$218),\"\")","v":"18,4 Inhalt1Einh[18,4]"},{"$f":"IF($A127<=Daten!$B$8,LOOKUP($B127,Daten!$A$220:$A$269,Daten!$C$220:$C$269),\"\")","v":"Lang[18,5]"},{"$f":"IF($A127<=Daten!$B$8,LOOKUP($B127,Daten!$A$220:$A$269,Daten!$P$220:$P$269),\"\") & \" \" & IF($A127<=Daten!$B$8,LOOKUP($B127,Daten!$A$220:$A$269,Daten!$Q$220:$Q$269),\"\")","v":"18,5 Inhalt1Einh[18,5]"},{"$f":"IF($A127<=Daten!$B$8,LOOKUP($B127,Daten!$A$271:$A$320,Daten!$C$271:$C$320),\"\")","v":"Lang[18,6]"},{"$f":"IF($A127<=Daten!$B$8,LOOKUP($B127,Daten!$A$271:$A$320,Daten!$P$271:$P$320),\"\") & \" \" & IF($A127<=Daten!$B$8,LOOKUP($B127,Daten!$A$271:$A$320,Daten!$Q$271:$Q$320),\"\")","v":"18,6 Inhalt1Einh[18,6]"},{"$f":"IF($A127<=Daten!$B$8,LOOKUP($B127,Daten!$A$322:$A$371,Daten!$B$322:$C$371),\"\")","v":{"$error":"#N/A"}},{"$f":"IF($A127<=Daten!$B$8,LOOKUP($B127,Daten!$A$322:$A$371,Daten!$P$322:$P$371),\"\") & \" \" & IF($A127<=Daten!$B$8,LOOKUP($B127,Daten!$A$322:$A$371,Daten!$Q$322:$Q$371),\"\")","v":"18,7 Inhalt1Einh[18,7]"}]
[null,null,null,{"$f":"IF($A127<=Daten!$B$8,LOOKUP($B127,Daten!$A$16:$A$65,Daten!$R$16:$R$65),\"\") & \" \" & IF($A127<=Daten!$B$8,LOOKUP($B127,Daten!$A$16:$A$65,Daten!$S$16:$S$65),\"\")","v":"18,1 Inhalt2Einh[18,1]"},null,{"$f":"IF($A127<=Daten!$B$8,LOOKUP($B127,Daten!$A$57:$A$116,Daten!$R$57:$R$116),\"\") & \" \" & IF($A127<=Daten!$B$8,LOOKUP($B127,Daten!$A$57:$A$116,Daten!$S$57:$S$116),\"\")","v":"18,2 Inhalt2Einh[18,2]"},null,{"$f":"IF($A127<=Daten!$B$8,LOOKUP($B127,Daten!$A$118:$A$167,Daten!$R$118:$R$167),\"\") & \" \" & IF($A127<=Daten!$B$8,LOOKUP($B127,Daten!$A$118:$A$167,Daten!$S$118:$S$167),\"\")","v":"18,3 Inhalt2Einh[18,3]"},null,{"$f":"IF($A127<=Daten!$B$8,LOOKUP($B127,Daten!$A$169:$A$218,Daten!$R$169:$R$218),\"\") & \" \" & IF($A127<=Daten!$B$8,LOOKUP($B127,Daten!$A$169:$A$218,Daten!$S$169:$S$218),\"\")","v":"18,4 Inhalt2Einh[18,4]"},null,{"$f":"IF($A127<=Daten!$B$8,LOOKUP($B127,Daten!$A$220:$A$269,Daten!$R$220:$R$269),\"\") & \" \" & IF($A127<=Daten!$B$8,LOOKUP($B127,Daten!$A$220:$A$269,Daten!$S$220:$S$269),\"\")","v":"18,5 Inhalt2Einh[18,5]"},null,{"$f":"IF($A127<=Daten!$B$8,LOOKUP($B127,Daten!$A$271:$A$320,Daten!$R$271:$R$320),\"\") & \" \" & IF($A127<=Daten!$B$8,LOOKUP($B127,Daten!$A$271:$A$320,Daten!$S$271:$S$320),\"\")","v":"18,6 Inhalt2Einh[18,6]"},null,{"$f":"IF($A127<=Daten!$B$8,LOOKUP($B127,Daten!$A$322:$A$371,Daten!$R$322:$R$371),\"\") & \" \" & IF($A127<=Daten!$B$8,LOOKUP($B127,Daten!$A$322:$A$371,Daten!$S$322:$S$371),\"\")","v":"18,7 Inhalt2Einh[18,7]"}]
[null,null,null,{"$f":"IF($A127<=Daten!$B$8,LOOKUP($B127,Daten!$A$16:$A$65,Daten!$T$16:$T$65),\"\") & \" \" & IF($A127<=Daten!$B$8,LOOKUP($B127,Daten!$A$16:$A$65,Daten!$U$16:$U$65),\"\")","v":"18,1 Inhalt3Einh[18,1]"},null,{"$f":"IF($A127<=Daten!$B$8,LOOKUP($B127,Daten!$A$57:$A$116,Daten!$T$57:$T$116),\"\") & \" \" & IF($A127<=Daten!$B$8,LOOKUP($B127,Daten!$A$57:$A$116,Daten!$U$57:$U$116),\"\")","v":"18,2 Inhalt3Einh[18,2]"},null,{"$f":"IF($A127<=Daten!$B$8,LOOKUP($B127,Daten!$A$118:$A$167,Daten!$T$118:$T$167),\"\") & \" \" & IF($A127<=Daten!$B$8,LOOKUP($B127,Daten!$A$118:$A$167,Daten!$U$118:$U$167),\"\")","v":"18,3 Inhalt3Einh[18,3]"},null,{"$f":"IF($A127<=Daten!$B$8,LOOKUP($B127,Daten!$A$169:$A$218,Daten!$T$169:$T$218),\"\") & \" \" & IF($A127<=Daten!$B$8,LOOKUP($B127,Daten!$A$169:$A$218,Daten!$U$169:$U$218),\"\")","v":"18,4 Inhalt3Einh[18,4]"},null,{"$f":"IF($A127<=Daten!$B$8,LOOKUP($B127,Daten!$A$220:$A$269,Daten!$T$220:$T$269),\"\") & \" \" & IF($A127<=Daten!$B$8,LOOKUP($B127,Daten!$A$220:$A$269,Daten!$U$220:$U$269),\"\")","v":"18,5 Inhalt3Einh[18,5]"},null,{"$f":"IF($A127<=Daten!$B$8,LOOKUP($B127,Daten!$A$271:$A$320,Daten!$T$271:$T$320),\"\") & \" \" & IF($A127<=Daten!$B$8,LOOKUP($B127,Daten!$A$271:$A$320,Daten!$U$271:$U$320),\"\")","v":"18,6 Inhalt3Einh[18,6]"},null,{"$f":"IF($A127<=Daten!$B$8,LOOKUP($B127,Daten!$A$322:$A$371,Daten!$T$322:$T$371),\"\") & \" \" & IF($A127<=Daten!$B$8,LOOKUP($B127,Daten!$A$322:$A$371,Daten!$U$322:$U$371),\"\")","v":"18,7 Inhalt3Einh[18,7]"}]
[null,null,null,{"$f":"IF($A127<=Daten!$B$8,LOOKUP($B127,Daten!$A$16:$A$65,Daten!$V$16:$V$65),\"\") & \" \" & IF($A127<=Daten!$B$8,LOOKUP($B127,Daten!$A$16:$A$65,Daten!$W$16:$W$65),\"\")","v":"18,1 Inhalt4Einh[18,1]"},null,{"$f":"IF($A127<=Daten!$B$8,LOOKUP($B127,Daten!$A$57:$A$116,Daten!$V$57:$V$116),\"\") & \" \" & IF($A127<=Daten!$B$8,LOOKUP($B127,Daten!$A$57:$A$116,Daten!$W$57:$W$116),\"\")","v":"18,2 Inhalt4Einh[18,2]"},null,{"$f":"IF($A127<=Daten!$B$8,LOOKUP($B127,Daten!$A$118:$A$167,Daten!$V$118:$V$167),\"\") & \" \" & IF($A127<=Daten!$B$8,LOOKUP($B127,Daten!$A$118:$A$167,Daten!$W$118:$W$167),\"\")","v":"18,3 Inhalt4Einh[18,3]"},null,{"$f":"IF($A127<=Daten!$B$8,LOOKUP($B127,Daten!$A$169:$A$218,Daten!$V$169:$V$218),\"\") & \" \" & IF($A127<=Daten!$B$8,LOOKUP($B127,Daten!$A$169:$A$218,Daten!$W$169:$W$218),\"\")","v":"18,4 Inhalt4Einh[18,4]"},null,{"$f":"IF($A127<=Daten!$B$8,LOOKUP($B127,Daten!$A$220:$A$269,Daten!$V$220:$V$269),\"\") & \" \" & IF($A127<=Daten!$B$8,LOOKUP($B127,Daten!$A$220:$A$269,Daten!$W$220:$W$269),\"\")","v":"18,5 Inhalt4Einh[18,5]"},null,{"$f":"IF($A127<=Daten!$B$8,LOOKUP($B127,Daten!$A$271:$A$320,Daten!$V$271:$V$320),\"\") & \" \" & IF($A127<=Daten!$B$8,LOOKUP($B127,Daten!$A$271:$A$320,Daten!$W$271:$W$320),\"\")","v":"18,6 Inhalt4Einh[18,6]"},null,{"$f":"IF($A127<=Daten!$B$8,LOOKUP($B127,Daten!$A$322:$A$371,Daten!$V$322:$V$371),\"\") & \" \" & IF($A127<=Daten!$B$8,LOOKUP($B127,Daten!$A$322:$A$371,Daten!$W$322:$W$371),\"\")","v":"18,7 Inhalt4Einh[18,7]"}]
[null,null,null,{"$f":"IF($A127<=Daten!$B$8,LOOKUP($B127,Daten!$A$16:$A$65,Daten!$X$16:$X$65),\"\") & \" \" & IF($A127<=Daten!$B$8,LOOKUP($B127,Daten!$A$16:$A$65,Daten!$Y$16:$Y$65),\"\")","v":"18,1 Inhalt5Einh[18,1]"},null,{"$f":"IF($A127<=Daten!$B$8,LOOKUP($B127,Daten!$A$57:$A$116,Daten!$X$57:$X$116),\"\") & \" \" & IF($A127<=Daten!$B$8,LOOKUP($B127,Daten!$A$57:$A$116,Daten!$Y$57:$Y$116),\"\")","v":"18,2 Inhalt5Einh[18,2]"},null,{"$f":"IF($A127<=Daten!$B$8,LOOKUP($B127,Daten!$A$118:$A$167,Daten!$X$118:$X$167),\"\") & \" \" & IF($A127<=Daten!$B$8,LOOKUP($B127,Daten!$A$118:$A$167,Daten!$Y$118:$Y$167),\"\")","v":"18,3 Inhalt5Einh[18,3]"},null,{"$f":"IF($A127<=Daten!$B$8,LOOKUP($B127,Daten!$A$169:$A$218,Daten!$X$169:$X$218),\"\") & \" \" & IF($A127<=Daten!$B$8,LOOKUP($B127,Daten!$A$169:$A$218,Daten!$Y$169:$Y$218),\"\")","v":"18,4 Inhalt5Einh[18,4]"},null,{"$f":"IF($A127<=Daten!$B$8,LOOKUP($B127,Daten!$A$220:$A$269,Daten!$X$220:$X$269),\"\") & \" \" & IF($A127<=Daten!$B$8,LOOKUP($B127,Daten!$A$220:$A$269,Daten!$Y$220:$Y$269),\"\")","v":"18,5 Inhalt5Einh[18,5]"},null,{"$f":"IF($A127<=Daten!$B$8,LOOKUP($B127,Daten!$A$271:$A$320,Daten!$X$271:$X$320),\"\") & \" \" & IF($A127<=Daten!$B$8,LOOKUP($B127,Daten!$A$271:$A$320,Daten!$Y$271:$Y$320),\"\")","v":"18,6 Inhalt5Einh[18,6]"},null,{"$f":"IF($A127<=Daten!$B$8,LOOKUP($B127,Daten!$A$322:$A$371,Daten!$X$322:$X$371),\"\") & \" \" & IF($A127<=Daten!$B$8,LOOKUP($B127,Daten!$A$322:$A$371,Daten!$Y$322:$Y$371),\"\")","v":"18,7 Inhalt5Einh[18,7]"}]
[null,null,null,{"$f":"IF($A127<=Daten!$B$8,LOOKUP($B127,Daten!$A$16:$A$65,Daten!$Z$16:$Z$65),\"\") & \" \" & IF($A127<=Daten!$B$8,LOOKUP($B127,Daten!$A$16:$A$65,Daten!$AA$16:$AA$65),\"\")","v":"18,1 Inhalt6Einh[18,1]"},null,{"$f":"IF($A127<=Daten!$B$8,LOOKUP($B127,Daten!$A$57:$A$116,Daten!$Z$57:$Z$116),\"\") & \" \" & IF($A127<=Daten!$B$8,LOOKUP($B127,Daten!$A$57:$A$116,Daten!$AA$57:$AA$116),\"\")","v":"18,2 Inhalt6Einh[18,2]"},null,{"$f":"IF($A127<=Daten!$B$8,LOOKUP($B127,Daten!$A$118:$A$167,Daten!$Z$118:$Z$167),\"\") & \" \" & IF($A127<=Daten!$B$8,LOOKUP($B127,Daten!$A$118:$A$167,Daten!$AA$118:$AA$167),\"\")","v":"18,3 Inhalt6Einh[18,3]"},null,{"$f":"IF($A127<=Daten!$B$8,LOOKUP($B127,Daten!$A$169:$A$218,Daten!$Z$169:$Z$218),\"\") & \" \" & IF($A127<=Daten!$B$8,LOOKUP($B127,Daten!$A$169:$A$218,Daten!$AA$169:$AA$218),\"\")","v":"18,4 Inhalt6Einh[18,4]"},null,{"$f":"IF($A127<=Daten!$B$8,LOOKUP($B127,Daten!$A$220:$A$269,Daten!$Z$220:$Z$269),\"\") & \" \" & IF($A127<=Daten!$B$8,LOOKUP($B127,Daten!$A$220:$A$269,Daten!$AA$220:$AA$269),\"\")","v":"18,5 Inhalt6Einh[18,5]"},null,{"$f":"IF($A127<=Daten!$B$8,LOOKUP($B127,Daten!$A$271:$A$320,Daten!$Z$271:$Z$320),\"\") & \" \" & IF($A127<=Daten!$B$8,LOOKUP($B127,Daten!$A$271:$A$320,Daten!$AA$271:$AA$320),\"\")","v":"18,6 Inhalt6Einh[18,6]"},null,{"$f":"IF($A127<=Daten!$B$8,LOOKUP($B127,Daten!$A$322:$A$371,Daten!$Z$322:$Z$371),\"\") & \" \" & IF($A127<=Daten!$B$8,LOOKUP($B127,Daten!$A$322:$A$371,Daten!$AA$322:$AA$371),\"\")","v":"18,7 Inhalt6Einh[18,7]"}]
[null,{"$f":"IF(A127<=Daten!$B$8,\"Zusatzstoffe\",\"\")","v":"Zusatzstoffe"},{"$f":"IF($A127<=Daten!$B$8,LOOKUP($B127,Daten!$A$16:$A$65,Daten!$L$16:$L$65),\"\")","v":18.100000000000001},{"$f":"IF($A127<=Daten!$B$8,LOOKUP($B127,Daten!$A$16:$A$65,Daten!$E$16:$E$65),\"\")","v":218.1},{"$f":"IF($A127<=Daten!$B$8,LOOKUP($B127,Daten!$A$67:$A$116,Daten!$L$67:$L$116),\"\")","v":18.2},{"$f":"IF($A127<=Daten!$B$8,LOOKUP($B127,Daten!$A$16:$A$65,Daten!$E$67:$E$116),\"\")","v":0},{"$f":"IF($A127<=Daten!$B$8,LOOKUP($B127,Daten!$A$118:$A$167,Daten!$L$118:$L$167),\"\")","v":18.3},{"$f":"IF($A127<=Daten!$B$8,LOOKUP($B127,Daten!$A$118:$A$167,Daten!$E$118:$E$167),\"\")","v":0},{"$f":"IF($A127<=Daten!$B$8,LOOKUP($B127,Daten!$A$169:$A$218,Daten!$L$169:$L$218),\"\")","v":18.399999999999999},{"$f":"IF($A127<=Daten!$B$8,LOOKUP($B127,Daten!$A$169:$A$218,Daten!$E$169:$E$218),\"\")","v":0},{"$f":"IF($A127<=Daten!$B$8,LOOKUP($B127,Daten!$A$220:$A$269,Daten!$L$220:$L$269),\"\")","v":18.5},{"$f":"IF($A127<=Daten!$B$8,LOOKUP($B127,Daten!$A$220:$A$269,Daten!$E$220:$E$269),\"\")","v":0},{"$f":"IF($A127<=Daten!$B$8,LOOKUP($B127,Daten!$A$271:$A$320,Daten!$L$271:$L$320),\"\")","v":18.600000000000001},{"$f":"IF($A127<=Daten!$B$8,LOOKUP($B127,Daten!$A$271:$A$320,Daten!$E$271:$E$320),\"\")","v":0},{"$f":"IF($A127<=Daten!$B$8,LOOKUP($B127,Daten!$A$322:$A$371,Daten!$L$322:$L$371),\"\")","v":18.7},{"$f":"IF($A127<=Daten!$B$8,LOOKUP($B127,Daten!$A$322:$A$371,Daten!$E$322:$E$371),\"\")","v":0}]
[19,{"$f":"IF(A134<=Daten!$B$8,Daten!T9,\"\")","v":"Menülinie 19"},{"$f":"IF(A134<=Daten!$B$8,LOOKUP(B134,Daten!$A$16:$A$65,Daten!$C$16:$C$65),\"\")","v":"Lang[19,1]"},{"$f":"IF($A134<=Daten!$B$8,LOOKUP($B134,Daten!$A$16:$A$65,Daten!$P$16:$P$65),\"\") & \" \" & IF($A134<=Daten!$B$8,LOOKUP($B134,Daten!$A$16:$A$65,Daten!$Q$16:$Q$65),\"\")","v":"19,1 Inhalt1Einh[19,1]"},{"$f":"IF($A134<=Daten!$B$8,LOOKUP($B134,Daten!$A$67:$A$116,Daten!$C$67:$C$116),\"\")","v":"Lang[19,2]"},{"$f":"IF($A134<=Daten!$B$8,LOOKUP($B134,Daten!$A$67:$A$116,Daten!$P$67:$P$116),\"\") & \" \" & IF($A134<=Daten!$B$8,LOOKUP($B134,Daten!$A$67:$A$116,Daten!$Q$67:$Q$116),\"\")","v":"19,2 Inhalt1Einh[19,2]"},{"$f":"IF($A134<=Daten!$B$8,LOOKUP($B134,Daten!$A$118:$A$167,Daten!$C$118:$C$167),\"\")","v":"Lang[19,3]"},{"$f":"IF($A134<=Daten!$B$8,LOOKUP($B134,Daten!$A$118:$A$167,Daten!$P$118:$P$167),\"\") & \" \" & IF($A134<=Daten!$B$8,LOOKUP($B134,Daten!$A$118:$A$167,Daten!$Q$118:$Q$167),\"\")","v":"19,3 Inhalt1Einh[19,3]"},{"$f":"IF($A134<=Daten!$B$8,LOOKUP($B134,Daten!$A$169:$A$218,Daten!$C$169:$C$218),\"\")","v":"Lang[19,4]"},{"$f":"IF($A134<=Daten!$B$8,LOOKUP($B134,Daten!$A$169:$A$218,Daten!$P$169:$P$218),\"\") & \" \" & IF($A134<=Daten!$B$8,LOOKUP($B134,Daten!$A$169:$A$218,Daten!$Q$169:$Q$218),\"\")","v":"19,4 Inhalt1Einh[19,4]"},{"$f":"IF($A134<=Daten!$B$8,LOOKUP($B134,Daten!$A$220:$A$269,Daten!$C$220:$C$269),\"\")","v":"Lang[19,5]"},{"$f":"IF($A134<=Daten!$B$8,LOOKUP($B134,Daten!$A$220:$A$269,Daten!$P$220:$P$269),\"\") & \" \" & IF($A134<=Daten!$B$8,LOOKUP($B134,Daten!$A$220:$A$269,Daten!$Q$220:$Q$269),\"\")","v":"19,5 Inhalt1Einh[19,5]"},{"$f":"IF($A134<=Daten!$B$8,LOOKUP($B134,Daten!$A$271:$A$320,Daten!$C$271:$C$320),\"\")","v":"Lang[19,6]"},{"$f":"IF($A134<=Daten!$B$8,LOOKUP($B134,Daten!$A$271:$A$320,Daten!$P$271:$P$320),\"\") & \" \" & IF($A134<=Daten!$B$8,LOOKUP($B134,Daten!$A$271:$A$320,Daten!$Q$271:$Q$320),\"\")","v":"19,6 Inhalt1Einh[19,6]"},{"$f":"IF($A134<=Daten!$B$8,LOOKUP($B134,Daten!$A$322:$A$371,Daten!$B$322:$C$371),\"\")","v":{"$error":"#N/A"}},{"$f":"IF($A134<=Daten!$B$8,LOOKUP($B134,Daten!$A$322:$A$371,Daten!$P$322:$P$371),\"\") & \" \" & IF($A134<=Daten!$B$8,LOOKUP($B134,Daten!$A$322:$A$371,Daten!$Q$322:$Q$371),\"\")","v":"19,7 Inhalt1Einh[19,7]"}]
[null,null,null,{"$f":"IF($A134<=Daten!$B$8,LOOKUP($B134,Daten!$A$16:$A$65,Daten!$R$16:$R$65),\"\") & \" \" & IF($A134<=Daten!$B$8,LOOKUP($B134,Daten!$A$16:$A$65,Daten!$S$16:$S$65),\"\")","v":"19,1 Inhalt2Einh[19,1]"},null,{"$f":"IF($A134<=Daten!$B$8,LOOKUP($B134,Daten!$A$67:$A$116,Daten!$R$67:$R$116),\"\") & \" \" & IF($A134<=Daten!$B$8,LOOKUP($B134,Daten!$A$67:$A$116,Daten!$S$67:$S$116),\"\")","v":"19,2 Inhalt2Einh[19,2]"},null,{"$f":"IF($A134<=Daten!$B$8,LOOKUP($B134,Daten!$A$118:$A$167,Daten!$R$118:$R$167),\"\") & \" \" & IF($A134<=Daten!$B$8,LOOKUP($B134,Daten!$A$118:$A$167,Daten!$S$118:$S$167),\"\")","v":"19,3 Inhalt2Einh[19,3]"},null,{"$f":"IF($A134<=Daten!$B$8,LOOKUP($B134,Daten!$A$169:$A$218,Daten!$R$169:$R$218),\"\") & \" \" & IF($A134<=Daten!$B$8,LOOKUP($B134,Daten!$A$169:$A$218,Daten!$S$169:$S$218),\"\")","v":"19,4 Inhalt2Einh[19,4]"},null,{"$f":"IF($A134<=Daten!$B$8,LOOKUP($B134,Daten!$A$220:$A$269,Daten!$R$220:$R$269),\"\") & \" \" & IF($A134<=Daten!$B$8,LOOKUP($B134,Daten!$A$220:$A$269,Daten!$S$220:$S$269),\"\")","v":"19,5 Inhalt2Einh[19,5]"},null,{"$f":"IF($A134<=Daten!$B$8,LOOKUP($B134,Daten!$A$271:$A$320,Daten!$R$271:$R$320),\"\") & \" \" & IF($A134<=Daten!$B$8,LOOKUP($B134,Daten!$A$271:$A$320,Daten!$S$271:$S$320),\"\")","v":"19,6 Inhalt2Einh[19,6]"},null,{"$f":"IF($A134<=Daten!$B$8,LOOKUP($B134,Daten!$A$322:$A$371,Daten!$R$322:$R$371),\"\") & \" \" & IF($A134<=Daten!$B$8,LOOKUP($B134,Daten!$A$322:$A$371,Daten!$S$322:$S$371),\"\")","v":"19,7 Inhalt2Einh[19,7]"}]
[null,null,null,{"$f":"IF($A134<=Daten!$B$8,LOOKUP($B134,Daten!$A$16:$A$65,Daten!$T$16:$T$65),\"\") & \" \" & IF($A134<=Daten!$B$8,LOOKUP($B134,Daten!$A$16:$A$65,Daten!$U$16:$U$65),\"\")","v":"19,1 Inhalt3Einh[19,1]"},null,{"$f":"IF($A134<=Daten!$B$8,LOOKUP($B134,Daten!$A$67:$A$116,Daten!$T$67:$T$116),\"\") & \" \" & IF($A134<=Daten!$B$8,LOOKUP($B134,Daten!$A$67:$A$116,Daten!$U$67:$U$116),\"\")","v":"19,2 Inhalt3Einh[19,2]"},null,{"$f":"IF($A134<=Daten!$B$8,LOOKUP($B134,Daten!$A$118:$A$167,Daten!$T$118:$T$167),\"\") & \" \" & IF($A134<=Daten!$B$8,LOOKUP($B134,Daten!$A$118:$A$167,Daten!$U$118:$U$167),\"\")","v":"19,3 Inhalt3Einh[19,3]"},null,{"$f":"IF($A134<=Daten!$B$8,LOOKUP($B134,Daten!$A$169:$A$218,Daten!$T$169:$T$218),\"\") & \" \" & IF($A134<=Daten!$B$8,LOOKUP($B134,Daten!$A$169:$A$218,Daten!$U$169:$U$218),\"\")","v":"19,4 Inhalt3Einh[19,4]"},null,{"$f":"IF($A134<=Daten!$B$8,LOOKUP($B134,Daten!$A$220:$A$269,Daten!$T$220:$T$269),\"\") & \" \" & IF($A134<=Daten!$B$8,LOOKUP($B134,Daten!$A$220:$A$269,Daten!$U$220:$U$269),\"\")","v":"19,5 Inhalt3Einh[19,5]"},null,{"$f":"IF($A134<=Daten!$B$8,LOOKUP($B134,Daten!$A$271:$A$320,Daten!$T$271:$T$320),\"\") & \" \" & IF($A134<=Daten!$B$8,LOOKUP($B134,Daten!$A$271:$A$320,Daten!$U$271:$U$320),\"\")","v":"19,6 Inhalt3Einh[19,6]"},null,{"$f":"IF($A134<=Daten!$B$8,LOOKUP($B134,Daten!$A$322:$A$371,Daten!$T$322:$T$371),\"\") & \" \" & IF($A134<=Daten!$B$8,LOOKUP($B134,Daten!$A$322:$A$371,Daten!$U$322:$U$371),\"\")","v":"19,7 Inhalt3Einh[19,7]"}]
[null,null,null,{"$f":"IF($A134<=Daten!$B$8,LOOKUP($B134,Daten!$A$16:$A$65,Daten!$V$16:$V$65),\"\") & \" \" & IF($A134<=Daten!$B$8,LOOKUP($B134,Daten!$A$16:$A$65,Daten!$W$16:$W$65),\"\")","v":"19,1 Inhalt4Einh[19,1]"},null,{"$f":"IF($A134<=Daten!$B$8,LOOKUP($B134,Daten!$A$67:$A$116,Daten!$V$67:$V$116),\"\") & \" \" & IF($A134<=Daten!$B$8,LOOKUP($B134,Daten!$A$67:$A$116,Daten!$W$67:$W$116),\"\")","v":"19,2 Inhalt4Einh[19,2]"},null,{"$f":"IF($A134<=Daten!$B$8,LOOKUP($B134,Daten!$A$118:$A$167,Daten!$V$118:$V$167),\"\") & \" \" & IF($A134<=Daten!$B$8,LOOKUP($B134,Daten!$A$118:$A$167,Daten!$W$118:$W$167),\"\")","v":"19,3 Inhalt4Einh[19,3]"},null,{"$f":"IF($A134<=Daten!$B$8,LOOKUP($B134,Daten!$A$169:$A$218,Daten!$V$169:$V$218),\"\") & \" \" & IF($A134<=Daten!$B$8,LOOKUP($B134,Daten!$A$169:$A$218,Daten!$W$169:$W$218),\"\")","v":"19,4 Inhalt4Einh[19,4]"},null,{"$f":"IF($A134<=Daten!$B$8,LOOKUP($B134,Daten!$A$220:$A$269,Daten!$V$220:$V$269),\"\") & \" \" & IF($A134<=Daten!$B$8,LOOKUP($B134,Daten!$A$220:$A$269,Daten!$W$220:$W$269),\"\")","v":"19,5 Inhalt4Einh[19,5]"},null,{"$f":"IF($A134<=Daten!$B$8,LOOKUP($B134,Daten!$A$271:$A$320,Daten!$V$271:$V$320),\"\") & \" \" & IF($A134<=Daten!$B$8,LOOKUP($B134,Daten!$A$271:$A$320,Daten!$W$271:$W$320),\"\")","v":"19,6 Inhalt4Einh[19,6]"},null,{"$f":"IF($A134<=Daten!$B$8,LOOKUP($B134,Daten!$A$322:$A$371,Daten!$V$322:$V$371),\"\") & \" \" & IF($A134<=Daten!$B$8,LOOKUP($B134,Daten!$A$322:$A$371,Daten!$W$322:$W$371),\"\")","v":"19,7 Inhalt4Einh[19,7]"}]
[null,null,null,{"$f":"IF($A134<=Daten!$B$8,LOOKUP($B134,Daten!$A$16:$A$65,Daten!$X$16:$X$65),\"\") & \" \" & IF($A134<=Daten!$B$8,LOOKUP($B134,Daten!$A$16:$A$65,Daten!$Y$16:$Y$65),\"\")","v":"19,1 Inhalt5Einh[19,1]"},null,{"$f":"IF($A134<=Daten!$B$8,LOOKUP($B134,Daten!$A$67:$A$116,Daten!$X$67:$X$116),\"\") & \" \" & IF($A134<=Daten!$B$8,LOOKUP($B134,Daten!$A$67:$A$116,Daten!$Y$67:$Y$116),\"\")","v":"19,2 Inhalt5Einh[19,2]"},null,{"$f":"IF($A134<=Daten!$B$8,LOOKUP($B134,Daten!$A$118:$A$167,Daten!$X$118:$X$167),\"\") & \" \" & IF($A134<=Daten!$B$8,LOOKUP($B134,Daten!$A$118:$A$167,Daten!$Y$118:$Y$167),\"\")","v":"19,3 Inhalt5Einh[19,3]"},null,{"$f":"IF($A134<=Daten!$B$8,LOOKUP($B134,Daten!$A$169:$A$218,Daten!$X$169:$X$218),\"\") & \" \" & IF($A134<=Daten!$B$8,LOOKUP($B134,Daten!$A$169:$A$218,Daten!$Y$169:$Y$218),\"\")","v":"19,4 Inhalt5Einh[19,4]"},null,{"$f":"IF($A134<=Daten!$B$8,LOOKUP($B134,Daten!$A$220:$A$269,Daten!$X$220:$X$269),\"\") & \" \" & IF($A134<=Daten!$B$8,LOOKUP($B134,Daten!$A$220:$A$269,Daten!$Y$220:$Y$269),\"\")","v":"19,5 Inhalt5Einh[19,5]"},null,{"$f":"IF($A134<=Daten!$B$8,LOOKUP($B134,Daten!$A$271:$A$320,Daten!$X$271:$X$320),\"\") & \" \" & IF($A134<=Daten!$B$8,LOOKUP($B134,Daten!$A$271:$A$320,Daten!$Y$271:$Y$320),\"\")","v":"19,6 Inhalt5Einh[19,6]"},null,{"$f":"IF($A134<=Daten!$B$8,LOOKUP($B134,Daten!$A$322:$A$371,Daten!$X$322:$X$371),\"\") & \" \" & IF($A134<=Daten!$B$8,LOOKUP($B134,Daten!$A$322:$A$371,Daten!$Y$322:$Y$371),\"\")","v":"19,7 Inhalt5Einh[19,7]"}]
[null,null,null,{"$f":"IF($A134<=Daten!$B$8,LOOKUP($B134,Daten!$A$16:$A$65,Daten!$Z$16:$Z$65),\"\") & \" \" & IF($A134<=Daten!$B$8,LOOKUP($B134,Daten!$A$16:$A$65,Daten!$AA$16:$AA$65),\"\")","v":"19,1 Inhalt6Einh[19,1]"},null,{"$f":"IF($A134<=Daten!$B$8,LOOKUP($B134,Daten!$A$67:$A$116,Daten!$Z$67:$Z$116),\"\") & \" \" & IF($A134<=Daten!$B$8,LOOKUP($B134,Daten!$A$67:$A$116,Daten!$AA$67:$AA$116),\"\")","v":"19,2 Inhalt6Einh[19,2]"},null,{"$f":"IF($A134<=Daten!$B$8,LOOKUP($B134,Daten!$A$118:$A$167,Daten!$Z$118:$Z$167),\"\") & \" \" & IF($A134<=Daten!$B$8,LOOKUP($B134,Daten!$A$118:$A$167,Daten!$AA$118:$AA$167),\"\")","v":"19,3 Inhalt6Einh[19,3]"},null,{"$f":"IF($A134<=Daten!$B$8,LOOKUP($B134,Daten!$A$169:$A$218,Daten!$Z$169:$Z$218),\"\") & \" \" & IF($A134<=Daten!$B$8,LOOKUP($B134,Daten!$A$169:$A$218,Daten!$AA$169:$AA$218),\"\")","v":"19,4 Inhalt6Einh[19,4]"},null,{"$f":"IF($A134<=Daten!$B$8,LOOKUP($B134,Daten!$A$220:$A$269,Daten!$Z$220:$Z$269),\"\") & \" \" & IF($A134<=Daten!$B$8,LOOKUP($B134,Daten!$A$220:$A$269,Daten!$AA$220:$AA$269),\"\")","v":"19,5 Inhalt6Einh[19,5]"},null,{"$f":"IF($A134<=Daten!$B$8,LOOKUP($B134,Daten!$A$271:$A$320,Daten!$Z$271:$Z$320),\"\") & \" \" & IF($A134<=Daten!$B$8,LOOKUP($B134,Daten!$A$271:$A$320,Daten!$AA$271:$AA$320),\"\")","v":"19,6 Inhalt6Einh[19,6]"},null,{"$f":"IF($A134<=Daten!$B$8,LOOKUP($B134,Daten!$A$322:$A$371,Daten!$Z$322:$Z$371),\"\") & \" \" & IF($A134<=Daten!$B$8,LOOKUP($B134,Daten!$A$322:$A$371,Daten!$AA$322:$AA$371),\"\")","v":"19,7 Inhalt6Einh[19,7]"}]
[null,{"$f":"IF(A134<=Daten!$B$8,\"Zusatzstoffe\",\"\")","v":"Zusatzstoffe"},{"$f":"IF($A134<=Daten!$B$8,LOOKUP($B134,Daten!$A$16:$A$65,Daten!$L$16:$L$65),\"\")","v":19.100000000000001},{"$f":"IF($A134<=Daten!$B$8,LOOKUP($B134,Daten!$A$16:$A$65,Daten!$E$16:$E$65),\"\")","v":219.1},{"$f":"IF($A134<=Daten!$B$8,LOOKUP($B134,Daten!$A$67:$A$116,Daten!$L$67:$L$116),\"\")","v":19.2},{"$f":"IF($A134<=Daten!$B$8,LOOKUP($B134,Daten!$A$16:$A$65,Daten!$E$67:$E$116),\"\")","v":0},{"$f":"IF($A134<=Daten!$B$8,LOOKUP($B134,Daten!$A$118:$A$167,Daten!$L$118:$L$167),\"\")","v":19.3},{"$f":"IF($A134<=Daten!$B$8,LOOKUP($B134,Daten!$A$118:$A$167,Daten!$E$118:$E$167),\"\")","v":0},{"$f":"IF($A134<=Daten!$B$8,LOOKUP($B134,Daten!$A$169:$A$218,Daten!$L$169:$L$218),\"\")","v":19.399999999999999},{"$f":"IF($A134<=Daten!$B$8,LOOKUP($B134,Daten!$A$169:$A$218,Daten!$E$169:$E$218),\"\")","v":0},{"$f":"IF($A134<=Daten!$B$8,LOOKUP($B134,Daten!$A$220:$A$269,Daten!$L$220:$L$269),\"\")","v":19.5},{"$f":"IF($A134<=Daten!$B$8,LOOKUP($B134,Daten!$A$220:$A$269,Daten!$E$220:$E$269),\"\")","v":0},{"$f":"IF($A134<=Daten!$B$8,LOOKUP($B134,Daten!$A$271:$A$320,Daten!$L$271:$L$320),\"\")","v":19.600000000000001},{"$f":"IF($A134<=Daten!$B$8,LOOKUP($B134,Daten!$A$271:$A$320,Daten!$E$271:$E$320),\"\")","v":0},{"$f":"IF($A134<=Daten!$B$8,LOOKUP($B134,Daten!$A$322:$A$371,Daten!$L$322:$L$371),\"\")","v":19.7},{"$f":"IF($A134<=Daten!$B$8,LOOKUP($B134,Daten!$A$322:$A$371,Daten!$E$322:$E$371),\"\")","v":0}]
[20,{"$f":"IF(A141<=Daten!$B$8,Daten!U9,\"\")","v":"Menülinie 20"},{"$f":"IF(A141<=Daten!$B$8,LOOKUP(B141,Daten!$A$16:$A$65,Daten!$C$16:$C$65),\"\")","v":"Lang[20,1]"},{"$f":"IF($A141<=Daten!$B$8,LOOKUP($B141,Daten!$A$16:$A$65,Daten!$P$16:$P$65),\"\") & \" \" & IF($A141<=Daten!$B$8,LOOKUP($B141,Daten!$A$16:$A$65,Daten!$Q$16:$Q$65),\"\")","v":"20,1 Inhalt1Einh[20,1]"},{"$f":"IF($A141<=Daten!$B$8,LOOKUP($B141,Daten!$A$67:$A$116,Daten!$C$67:$C$116),\"\")","v":"Lang[20,2]"},{"$f":"IF($A141<=Daten!$B$8,LOOKUP($B141,Daten!$A$67:$A$116,Daten!$P$67:$P$116),\"\") & \" \" & IF($A141<=Daten!$B$8,LOOKUP($B141,Daten!$A$67:$A$116,Daten!$Q$67:$Q$116),\"\")","v":"20,2 Inhalt1Einh[20,2]"},{"$f":"IF($A141<=Daten!$B$8,LOOKUP($B141,Daten!$A$118:$A$167,Daten!$C$118:$C$167),\"\")","v":"Lang[20,3]"},{"$f":"IF($A141<=Daten!$B$8,LOOKUP($B141,Daten!$A$118:$A$167,Daten!$P$118:$P$167),\"\") & \" \" & IF($A141<=Daten!$B$8,LOOKUP($B141,Daten!$A$118:$A$167,Daten!$Q$118:$Q$167),\"\")","v":"20,3 Inhalt1Einh[20,3]"},{"$f":"IF($A141<=Daten!$B$8,LOOKUP($B141,Daten!$A$169:$A$218,Daten!$C$169:$C$218),\"\")","v":"Lang[20,4]"},{"$f":"IF($A141<=Daten!$B$8,LOOKUP($B141,Daten!$A$169:$A$218,Daten!$P$169:$P$218),\"\") & \" \" & IF($A141<=Daten!$B$8,LOOKUP($B141,Daten!$A$169:$A$218,Daten!$Q$169:$Q$218),\"\")","v":"20,4 Inhalt1Einh[20,4]"},{"$f":"IF($A141<=Daten!$B$8,LOOKUP($B141,Daten!$A$220:$A$269,Daten!$C$220:$C$269),\"\")","v":"Lang[20,5]"},{"$f":"IF($A141<=Daten!$B$8,LOOKUP($B141,Daten!$A$220:$A$269,Daten!$P$220:$P$269),\"\") & \" \" & IF($A141<=Daten!$B$8,LOOKUP($B141,Daten!$A$220:$A$269,Daten!$Q$220:$Q$269),\"\")","v":"20,5 Inhalt1Einh[20,5]"},{"$f":"IF($A141<=Daten!$B$8,LOOKUP($B141,Daten!$A$271:$A$320,Daten!$C$271:$C$320),\"\")","v":"Lang[20,6]"},{"$f":"IF($A141<=Daten!$B$8,LOOKUP($B141,Daten!$A$271:$A$320,Daten!$P$271:$P$320),\"\") & \" \" & IF($A141<=Daten!$B$8,LOOKUP($B141,Daten!$A$271:$A$320,Daten!$Q$271:$Q$320),\"\")","v":"20,6 Inhalt1Einh[20,6]"},{"$f":"IF($A141<=Daten!$B$8,LOOKUP($B141,Daten!$A$322:$A$371,Daten!$B$322:$C$371),\"\")","v":{"$error":"#N/A"}},{"$f":"IF($A141<=Daten!$B$8,LOOKUP($B141,Daten!$A$322:$A$371,Daten!$P$322:$P$371),\"\") & \" \" & IF($A141<=Daten!$B$8,LOOKUP($B141,Daten!$A$322:$A$371,Daten!$Q$322:$Q$371),\"\")","v":"20,7 Inhalt1Einh[20,7]"}]
[null,null,null,{"$f":"IF($A141<=Daten!$B$8,LOOKUP($B141,Daten!$A$16:$A$65,Daten!$R$16:$R$65),\"\") & \" \" & IF($A141<=Daten!$B$8,LOOKUP($B141,Daten!$A$16:$A$65,Daten!$S$16:$S$65),\"\")","v":"20,1 Inhalt2Einh[20,1]"},null,{"$f":"IF($A141<=Daten!$B$8,LOOKUP($B141,Daten!$A$67:$A$116,Daten!$R$67:$R$116),\"\") & \" \" & IF($A141<=Daten!$B$8,LOOKUP($B141,Daten!$A$67:$A$116,Daten!$S$67:$S$116),\"\")","v":"20,2 Inhalt2Einh[20,2]"},null,{"$f":"IF($A141<=Daten!$B$8,LOOKUP($B141,Daten!$A$118:$A$167,Daten!$R$118:$R$167),\"\") & \" \" & IF($A141<=Daten!$B$8,LOOKUP($B141,Daten!$A$118:$A$167,Daten!$S$118:$S$167),\"\")","v":"20,3 Inhalt2Einh[20,3]"},null,{"$f":"IF($A141<=Daten!$B$8,LOOKUP($B141,Daten!$A$169:$A$218,Daten!$R$169:$R$218),\"\") & \" \" & IF($A141<=Daten!$B$8,LOOKUP($B141,Daten!$A$169:$A$218,Daten!$S$169:$S$218),\"\")","v":"20,4 Inhalt2Einh[20,4]"},null,{"$f":"IF($A141<=Daten!$B$8,LOOKUP($B141,Daten!$A$220:$A$269,Daten!$R$220:$R$269),\"\") & \" \" & IF($A141<=Daten!$B$8,LOOKUP($B141,Daten!$A$220:$A$269,Daten!$S$220:$S$269),\"\")","v":"20,5 Inhalt2Einh[20,5]"},null,{"$f":"IF($A141<=Daten!$B$8,LOOKUP($B141,Daten!$A$271:$A$320,Daten!$R$271:$R$320),\"\") & \" \" & IF($A141<=Daten!$B$8,LOOKUP($B141,Daten!$A$271:$A$320,Daten!$S$271:$S$320),\"\")","v":"20,6 Inhalt2Einh[20,6]"},null,{"$f":"IF($A141<=Daten!$B$8,LOOKUP($B141,Daten!$A$322:$A$371,Daten!$R$322:$R$371),\"\") & \" \" & IF($A141<=Daten!$B$8,LOOKUP($B141,Daten!$A$322:$A$371,Daten!$S$322:$S$371),\"\")","v":"20,7 Inhalt2Einh[20,7]"}]
[null,null,null,{"$f":"IF($A141<=Daten!$B$8,LOOKUP($B141,Daten!$A$16:$A$65,Daten!$T$16:$T$65),\"\") & \" \" & IF($A141<=Daten!$B$8,LOOKUP($B141,Daten!$A$16:$A$65,Daten!$U$16:$U$65),\"\")","v":"20,1 Inhalt3Einh[20,1]"},null,{"$f":"IF($A141<=Daten!$B$8,LOOKUP($B141,Daten!$A$67:$A$116,Daten!$T$67:$T$116),\"\") & \" \" & IF($A141<=Daten!$B$8,LOOKUP($B141,Daten!$A$67:$A$116,Daten!$U$67:$U$116),\"\")","v":"20,2 Inhalt3Einh[20,2]"},null,{"$f":"IF($A141<=Daten!$B$8,LOOKUP($B141,Daten!$A$118:$A$167,Daten!$T$118:$T$167),\"\") & \" \" & IF($A141<=Daten!$B$8,LOOKUP($B141,Daten!$A$118:$A$167,Daten!$U$118:$U$167),\"\")","v":"20,3 Inhalt3Einh[20,3]"},null,{"$f":"IF($A141<=Daten!$B$8,LOOKUP($B141,Daten!$A$169:$A$218,Daten!$T$169:$T$218),\"\") & \" \" & IF($A141<=Daten!$B$8,LOOKUP($B141,Daten!$A$169:$A$218,Daten!$U$169:$U$218),\"\")","v":"20,4 Inhalt3Einh[20,4]"},null,{"$f":"IF($A141<=Daten!$B$8,LOOKUP($B141,Daten!$A$220:$A$269,Daten!$T$220:$T$269),\"\") & \" \" & IF($A141<=Daten!$B$8,LOOKUP($B141,Daten!$A$220:$A$269,Daten!$U$220:$U$269),\"\")","v":"20,5 Inhalt3Einh[20,5]"},null,{"$f":"IF($A141<=Daten!$B$8,LOOKUP($B141,Daten!$A$271:$A$320,Daten!$T$271:$T$320),\"\") & \" \" & IF($A141<=Daten!$B$8,LOOKUP($B141,Daten!$A$271:$A$320,Daten!$U$271:$U$320),\"\")","v":"20,6 Inhalt3Einh[20,6]"},null,{"$f":"IF($A141<=Daten!$B$8,LOOKUP($B141,Daten!$A$322:$A$371,Daten!$T$322:$T$371),\"\") & \" \" & IF($A141<=Daten!$B$8,LOOKUP($B141,Daten!$A$322:$A$371,Daten!$U$322:$U$371),\"\")","v":"20,7 Inhalt3Einh[20,7]"}]
[null,null,null,{"$f":"IF($A141<=Daten!$B$8,LOOKUP($B141,Daten!$A$16:$A$65,Daten!$V$16:$V$65),\"\") & \" \" & IF($A141<=Daten!$B$8,LOOKUP($B141,Daten!$A$16:$A$65,Daten!$W$16:$W$65),\"\")","v":"20,1 Inhalt4Einh[20,1]"},null,{"$f":"IF($A141<=Daten!$B$8,LOOKUP($B141,Daten!$A$67:$A$116,Daten!$V$67:$V$116),\"\") & \" \" & IF($A141<=Daten!$B$8,LOOKUP($B141,Daten!$A$67:$A$116,Daten!$W$67:$W$116),\"\")","v":"20,2 Inhalt4Einh[20,2]"},null,{"$f":"IF($A141<=Daten!$B$8,LOOKUP($B141,Daten!$A$118:$A$167,Daten!$V$118:$V$167),\"\") & \" \" & IF($A141<=Daten!$B$8,LOOKUP($B141,Daten!$A$118:$A$167,Daten!$W$118:$W$167),\"\")","v":"20,3 Inhalt4Einh[20,3]"},null,{"$f":"IF($A141<=Daten!$B$8,LOOKUP($B141,Daten!$A$169:$A$218,Daten!$V$169:$V$218),\"\") & \" \" & IF($A141<=Daten!$B$8,LOOKUP($B141,Daten!$A$169:$A$218,Daten!$W$169:$W$218),\"\")","v":"20,4 Inhalt4Einh[20,4]"},null,{"$f":"IF($A141<=Daten!$B$8,LOOKUP($B141,Daten!$A$220:$A$269,Daten!$V$220:$V$269),\"\") & \" \" & IF($A141<=Daten!$B$8,LOOKUP($B141,Daten!$A$220:$A$269,Daten!$W$220:$W$269),\"\")","v":"20,5 Inhalt4Einh[20,5]"},null,{"$f":"IF($A141<=Daten!$B$8,LOOKUP($B141,Daten!$A$271:$A$320,Daten!$V$271:$V$320),\"\") & \" \" & IF($A141<=Daten!$B$8,LOOKUP($B141,Daten!$A$271:$A$320,Daten!$W$271:$W$320),\"\")","v":"20,6 Inhalt4Einh[20,6]"},null,{"$f":"IF($A141<=Daten!$B$8,LOOKUP($B141,Daten!$A$322:$A$371,Daten!$V$322:$V$371),\"\") & \" \" & IF($A141<=Daten!$B$8,LOOKUP($B141,Daten!$A$322:$A$371,Daten!$W$322:$W$371),\"\")","v":"20,7 Inhalt4Einh[20,7]"}]
[null,null,null,{"$f":"IF($A141<=Daten!$B$8,LOOKUP($B141,Daten!$A$16:$A$65,Daten!$X$16:$X$65),\"\") & \" \" & IF($A141<=Daten!$B$8,LOOKUP($B141,Daten!$A$16:$A$65,Daten!$Y$16:$Y$65),\"\")","v":"20,1 Inhalt5Einh[20,1]"},null,{"$f":"IF($A141<=Daten!$B$8,LOOKUP($B141,Daten!$A$67:$A$116,Daten!$X$67:$X$116),\"\") & \" \" & IF($A141<=Daten!$B$8,LOOKUP($B141,Daten!$A$67:$A$116,Daten!$Y$67:$Y$116),\"\")","v":"20,2 Inhalt5Einh[20,2]"},null,{"$f":"IF($A141<=Daten!$B$8,LOOKUP($B141,Daten!$A$118:$A$167,Daten!$X$118:$X$167),\"\") & \" \" & IF($A141<=Daten!$B$8,LOOKUP($B141,Daten!$A$118:$A$167,Daten!$Y$118:$Y$167),\"\")","v":"20,3 Inhalt5Einh[20,3]"},null,{"$f":"IF($A141<=Daten!$B$8,LOOKUP($B141,Daten!$A$169:$A$218,Daten!$X$169:$X$218),\"\") & \" \" & IF($A141<=Daten!$B$8,LOOKUP($B141,Daten!$A$169:$A$218,Daten!$Y$169:$Y$218),\"\")","v":"20,4 Inhalt5Einh[20,4]"},null,{"$f":"IF($A141<=Daten!$B$8,LOOKUP($B141,Daten!$A$220:$A$269,Daten!$X$220:$X$269),\"\") & \" \" & IF($A141<=Daten!$B$8,LOOKUP($B141,Daten!$A$220:$A$269,Daten!$Y$220:$Y$269),\"\")","v":"20,5 Inhalt5Einh[20,5]"},null,{"$f":"IF($A141<=Daten!$B$8,LOOKUP($B141,Daten!$A$271:$A$320,Daten!$X$271:$X$320),\"\") & \" \" & IF($A141<=Daten!$B$8,LOOKUP($B141,Daten!$A$271:$A$320,Daten!$Y$271:$Y$320),\"\")","v":"20,6 Inhalt5Einh[20,6]"},null,{"$f":"IF($A141<=Daten!$B$8,LOOKUP($B141,Daten!$A$322:$A$371,Daten!$X$322:$X$371),\"\") & \" \" & IF($A141<=Daten!$B$8,LOOKUP($B141,Daten!$A$322:$A$371,Daten!$Y$322:$Y$371),\"\")","v":"20,7 Inhalt5Einh[20,7]"}]
[null,null,null,{"$f":"IF($A141<=Daten!$B$8,LOOKUP($B141,Daten!$A$16:$A$65,Daten!$Z$16:$Z$65),\"\") & \" \" & IF($A141<=Daten!$B$8,LOOKUP($B141,Daten!$A$16:$A$65,Daten!$AA$16:$AA$65),\"\")","v":"20,1 Inhalt6Einh[20,1]"},null,{"$f":"IF($A141<=Daten!$B$8,LOOKUP($B141,Daten!$A$67:$A$116,Daten!$Z$67:$Z$116),\"\") & \" \" & IF($A141<=Daten!$B$8,LOOKUP($B141,Daten!$A$67:$A$116,Daten!$AA$67:$AA$116),\"\")","v":"20,2 Inhalt6Einh[20,2]"},null,{"$f":"IF($A141<=Daten!$B$8,LOOKUP($B141,Daten!$A$118:$A$167,Daten!$Z$118:$Z$167),\"\") & \" \" & IF($A141<=Daten!$B$8,LOOKUP($B141,Daten!$A$118:$A$167,Daten!$AA$118:$AA$167),\"\")","v":"20,3 Inhalt6Einh[20,3]"},null,{"$f":"IF($A141<=Daten!$B$8,LOOKUP($B141,Daten!$A$169:$A$218,Daten!$Z$169:$Z$218),\"\") & \" \" & IF($A141<=Daten!$B$8,LOOKUP($B141,Daten!$A$169:$A$218,Daten!$AA$169:$AA$218),\"\")","v":"20,4 Inhalt6Einh[20,4]"},null,{"$f":"IF($A141<=Daten!$B$8,LOOKUP($B141,Daten!$A$220:$A$269,Daten!$Z$220:$Z$269),\"\") & \" \" & IF($A141<=Daten!$B$8,LOOKUP($B141,Daten!$A$220:$A$269,Daten!$AA$220:$AA$269),\"\")","v":"20,5 Inhalt6Einh[20,5]"},null,{"$f":"IF($A141<=Daten!$B$8,LOOKUP($B141,Daten!$A$271:$A$320,Daten!$Z$271:$Z$320),\"\") & \" \" & IF($A141<=Daten!$B$8,LOOKUP($B141,Daten!$A$271:$A$320,Daten!$AA$271:$AA$320),\"\")","v":"20,6 Inhalt6Einh[20,6]"},null,{"$f":"IF($A141<=Daten!$B$8,LOOKUP($B141,Daten!$A$322:$A$371,Daten!$Z$322:$Z$371),\"\") & \" \" & IF($A141<=Daten!$B$8,LOOKUP($B141,Daten!$A$322:$A$371,Daten!$AA$322:$AA$371),\"\")","v":"20,7 Inhalt6Einh[20,7]"}]
[null,{"$f":"IF(A141<=Daten!$B$8,\"Zusatzstoffe\",\"\")","v":"Zusatzstoffe"},{"$f":"IF($A141<=Daten!$B$8,LOOKUP($B141,Daten!$A$16:$A$65,Daten!$L$16:$L$65),\"\")","v":20.100000000000001},{"$f":"IF($A141<=Daten!$B$8,LOOKUP($B141,Daten!$A$16:$A$65,Daten!$E$16:$E$65),\"\")","v":210.1},{"$f":"IF($A141<=Daten!$B$8,LOOKUP($B141,Daten!$A$67:$A$116,Daten!$L$67:$L$116),\"\")","v":20.2},{"$f":"IF($A141<=Daten!$B$8,LOOKUP($B141,Daten!$A$16:$A$65,Daten!$E$67:$E$116),\"\")","v":0},{"$f":"IF($A141<=Daten!$B$8,LOOKUP($B141,Daten!$A$118:$A$167,Daten!$L$118:$L$167),\"\")","v":20.3},{"$f":"IF($A141<=Daten!$B$8,LOOKUP($B141,Daten!$A$118:$A$167,Daten!$E$118:$E$167),\"\")","v":0},{"$f":"IF($A141<=Daten!$B$8,LOOKUP($B141,Daten!$A$169:$A$218,Daten!$L$169:$L$218),\"\")","v":20.399999999999999},{"$f":"IF($A141<=Daten!$B$8,LOOKUP($B141,Daten!$A$169:$A$218,Daten!$E$169:$E$218),\"\")","v":0},{"$f":"IF($A141<=Daten!$B$8,LOOKUP($B141,Daten!$A$220:$A$269,Daten!$L$220:$L$269),\"\")","v":20.5},{"$f":"IF($A141<=Daten!$B$8,LOOKUP($B141,Daten!$A$220:$A$269,Daten!$E$220:$E$269),\"\")","v":0},{"$f":"IF($A141<=Daten!$B$8,LOOKUP($B141,Daten!$A$271:$A$320,Daten!$L$271:$L$320),\"\")","v":20.6},{"$f":"IF($A141<=Daten!$B$8,LOOKUP($B141,Daten!$A$271:$A$320,Daten!$E$271:$E$320),\"\")","v":0},{"$f":"IF($A141<=Daten!$B$8,LOOKUP($B141,Daten!$A$322:$A$371,Daten!$L$322:$L$371),\"\")","v":20.7},{"$f":"IF($A141<=Daten!$B$8,LOOKUP($B141,Daten!$A$322:$A$371,Daten!$E$322:$E$371),\"\")","v":0}]
[21,{"$f":"IF(A148<=Daten!$B$8,Daten!V9,\"\")","v":"Menülinie 21"},{"$f":"IF($A148<=Daten!$B$8,LOOKUP($B148,Daten!$A$16:$A$65,Daten!$C$16:$C$65),\"\")","v":"Lang[21,1]"},{"$f":"IF($A148<=Daten!$B$8,LOOKUP($B148,Daten!$A$16:$A$65,Daten!$P$16:$P$65),\"\") & \" \" & IF($A148<=Daten!$B$8,LOOKUP($B148,Daten!$A$16:$A$65,Daten!$Q$16:$Q$65),\"\")","v":"21,1 Inhalt1Einh[21,1]"},{"$f":"IF($A148<=Daten!$B$8,LOOKUP($B148,Daten!$A$67:$A$116,Daten!$C$67:$C$116),\"\")","v":"Lang[21,2]"},{"$f":"IF($A148<=Daten!$B$8,LOOKUP($B148,Daten!$A$67:$A$116,Daten!$P$67:$P$116),\"\") & \" \" & IF($A148<=Daten!$B$8,LOOKUP($B148,Daten!$A$67:$A$116,Daten!$Q$67:$Q$116),\"\")","v":"21,2 Inhalt1Einh[21,2]"},{"$f":"IF($A148<=Daten!$B$8,LOOKUP($B148,Daten!$A$118:$A$167,Daten!$C$118:$C$167),\"\")","v":"Lang[21,3]"},{"$f":"IF($A148<=Daten!$B$8,LOOKUP($B148,Daten!$A$118:$A$167,Daten!$P$118:$P$167),\"\") & \" \" & IF($A148<=Daten!$B$8,LOOKUP($B148,Daten!$A$118:$A$167,Daten!$Q$118:$Q$167),\"\")","v":"21,3 Inhalt1Einh[21,3]"},{"$f":"IF($A148<=Daten!$B$8,LOOKUP($B148,Daten!$A$169:$A$218,Daten!$C$169:$C$218),\"\")","v":"Lang[21,4]"},{"$f":"IF($A148<=Daten!$B$8,LOOKUP($B148,Daten!$A$169:$A$218,Daten!$P$169:$P$218),\"\") & \" \" & IF($A148<=Daten!$B$8,LOOKUP($B148,Daten!$A$169:$A$218,Daten!$Q$169:$Q$218),\"\")","v":"21,4 Inhalt1Einh[21,4]"},{"$f":"IF($A148<=Daten!$B$8,LOOKUP($B148,Daten!$A$220:$A$269,Daten!$C$220:$C$269),\"\")","v":"Lang[21,5]"},{"$f":"IF($A148<=Daten!$B$8,LOOKUP($B148,Daten!$A$220:$A$269,Daten!$P$220:$P$269),\"\") & \" \" & IF($A148<=Daten!$B$8,LOOKUP($B148,Daten!$A$220:$A$269,Daten!$Q$220:$Q$269),\"\")","v":"21,5 Inhalt1Einh[21,5]"},{"$f":"IF($A148<=Daten!$B$8,LOOKUP($B148,Daten!$A$271:$A$320,Daten!$C$271:$C$320),\"\")","v":"Lang[21,6]"},{"$f":"IF($A148<=Daten!$B$8,LOOKUP($B148,Daten!$A$271:$A$320,Daten!$P$271:$P$320),\"\") & \" \" & IF($A148<=Daten!$B$8,LOOKUP($B148,Daten!$A$271:$A$320,Daten!$Q$271:$Q$320),\"\")","v":"21,6 Inhalt1Einh[21,6]"},{"$f":"IF($A148<=Daten!$B$8,LOOKUP($B148,Daten!$A$322:$A$371,Daten!$B$322:$C$371),\"\")","v":{"$error":"#N/A"}},{"$f":"IF($A148<=Daten!$B$8,LOOKUP($B148,Daten!$A$322:$A$371,Daten!$P$322:$P$371),\"\") & \" \" & IF($A148<=Daten!$B$8,LOOKUP($B148,Daten!$A$322:$A$371,Daten!$Q$322:$Q$371),\"\")","v":"21,7 Inhalt1Einh[21,7]"}]
[null,null,null,{"$f":"IF($A148<=Daten!$B$8,LOOKUP($B148,Daten!$A$16:$A$65,Daten!$R$16:$R$65),\"\") & \" \" & IF($A148<=Daten!$B$8,LOOKUP($B148,Daten!$A$16:$A$65,Daten!$S$16:$S$65),\"\")","v":"21,1 Inhalt2Einh[21,1]"},null,{"$f":"IF($A148<=Daten!$B$8,LOOKUP($B148,Daten!$A$67:$A$116,Daten!$R$67:$R$116),\"\") & \" \" & IF($A148<=Daten!$B$8,LOOKUP($B148,Daten!$A$67:$A$116,Daten!$S$67:$S$116),\"\")","v":"21,2 Inhalt2Einh[21,2]"},null,{"$f":"IF($A148<=Daten!$B$8,LOOKUP($B148,Daten!$A$118:$A$167,Daten!$R$118:$R$167),\"\") & \" \" & IF($A148<=Daten!$B$8,LOOKUP($B148,Daten!$A$118:$A$167,Daten!$S$118:$S$167),\"\")","v":"21,3 Inhalt2Einh[21,3]"},null,{"$f":"IF($A148<=Daten!$B$8,LOOKUP($B148,Daten!$A$169:$A$218,Daten!$R$169:$R$218),\"\") & \" \" & IF($A148<=Daten!$B$8,LOOKUP($B148,Daten!$A$169:$A$218,Daten!$S$169:$S$218),\"\")","v":"21,4 Inhalt2Einh[21,4]"},null,{"$f":"IF($A148<=Daten!$B$8,LOOKUP($B148,Daten!$A$220:$A$269,Daten!$R$220:$R$269),\"\") & \" \" & IF($A148<=Daten!$B$8,LOOKUP($B148,Daten!$A$220:$A$269,Daten!$S$220:$S$269),\"\")","v":"21,5 Inhalt2Einh[21,5]"},null,{"$f":"IF($A148<=Daten!$B$8,LOOKUP($B148,Daten!$A$271:$A$320,Daten!$R$271:$R$320),\"\") & \" \" & IF($A148<=Daten!$B$8,LOOKUP($B148,Daten!$A$271:$A$320,Daten!$S$271:$S$320),\"\")","v":"21,6 Inhalt2Einh[21,6]"},null,{"$f":"IF($A148<=Daten!$B$8,LOOKUP($B148,Daten!$A$322:$A$371,Daten!$R$322:$R$371),\"\") & \" \" & IF($A148<=Daten!$B$8,LOOKUP($B148,Daten!$A$322:$A$371,Daten!$S$322:$S$371),\"\")","v":"21,7 Inhalt2Einh[21,7]"}]
[null,null,null,{"$f":"IF($A148<=Daten!$B$8,LOOKUP($B148,Daten!$A$16:$A$65,Daten!$T$16:$T$65),\"\") & \" \" & IF($A148<=Daten!$B$8,LOOKUP($B148,Daten!$A$16:$A$65,Daten!$U$16:$U$65),\"\")","v":"21,1 Inhalt3Einh[21,1]"},null,{"$f":"IF($A148<=Daten!$B$8,LOOKUP($B148,Daten!$A$67:$A$116,Daten!$T$67:$T$116),\"\") & \" \" & IF($A148<=Daten!$B$8,LOOKUP($B148,Daten!$A$67:$A$116,Daten!$U$67:$U$116),\"\")","v":"21,2 Inhalt3Einh[21,2]"},null,{"$f":"IF($A148<=Daten!$B$8,LOOKUP($B148,Daten!$A$118:$A$167,Daten!$T$118:$T$167),\"\") & \" \" & IF($A148<=Daten!$B$8,LOOKUP($B148,Daten!$A$118:$A$167,Daten!$U$118:$U$167),\"\")","v":"21,3 Inhalt3Einh[21,3]"},null,{"$f":"IF($A148<=Daten!$B$8,LOOKUP($B148,Daten!$A$169:$A$218,Daten!$T$169:$T$218),\"\") & \" \" & IF($A148<=Daten!$B$8,LOOKUP($B148,Daten!$A$169:$A$218,Daten!$U$169:$U$218),\"\")","v":"21,4 Inhalt3Einh[21,4]"},null,{"$f":"IF($A148<=Daten!$B$8,LOOKUP($B148,Daten!$A$220:$A$269,Daten!$T$220:$T$269),\"\") & \" \" & IF($A148<=Daten!$B$8,LOOKUP($B148,Daten!$A$220:$A$269,Daten!$U$220:$U$269),\"\")","v":"21,5 Inhalt3Einh[21,5]"},null,{"$f":"IF($A148<=Daten!$B$8,LOOKUP($B148,Daten!$A$271:$A$320,Daten!$T$271:$T$320),\"\") & \" \" & IF($A148<=Daten!$B$8,LOOKUP($B148,Daten!$A$271:$A$320,Daten!$U$271:$U$320),\"\")","v":"21,6 Inhalt3Einh[21,6]"},null,{"$f":"IF($A148<=Daten!$B$8,LOOKUP($B148,Daten!$A$322:$A$371,Daten!$T$322:$T$371),\"\") & \" \" & IF($A148<=Daten!$B$8,LOOKUP($B148,Daten!$A$322:$A$371,Daten!$U$322:$U$371),\"\")","v":"21,7 Inhalt3Einh[21,7]"}]
[null,null,null,{"$f":"IF($A148<=Daten!$B$8,LOOKUP($B148,Daten!$A$16:$A$65,Daten!$V$16:$V$65),\"\") & \" \" & IF($A148<=Daten!$B$8,LOOKUP($B148,Daten!$A$16:$A$65,Daten!$W$16:$W$65),\"\")","v":"21,1 Inhalt4Einh[21,1]"},null,{"$f":"IF($A148<=Daten!$B$8,LOOKUP($B148,Daten!$A$67:$A$116,Daten!$V$67:$V$116),\"\") & \" \" & IF($A148<=Daten!$B$8,LOOKUP($B148,Daten!$A$67:$A$116,Daten!$W$67:$W$116),\"\")","v":"21,2 Inhalt4Einh[21,2]"},null,{"$f":"IF($A148<=Daten!$B$8,LOOKUP($B148,Daten!$A$118:$A$167,Daten!$V$118:$V$167),\"\") & \" \" & IF($A148<=Daten!$B$8,LOOKUP($B148,Daten!$A$118:$A$167,Daten!$W$118:$W$167),\"\")","v":"21,3 Inhalt4Einh[21,3]"},null,{"$f":"IF($A148<=Daten!$B$8,LOOKUP($B148,Daten!$A$169:$A$218,Daten!$V$169:$V$218),\"\") & \" \" & IF($A148<=Daten!$B$8,LOOKUP($B148,Daten!$A$169:$A$218,Daten!$W$169:$W$218),\"\")","v":"21,4 Inhalt4Einh[21,4]"},null,{"$f":"IF($A148<=Daten!$B$8,LOOKUP($B148,Daten!$A$220:$A$269,Daten!$V$220:$V$269),\"\") & \" \" & IF($A148<=Daten!$B$8,LOOKUP($B148,Daten!$A$220:$A$269,Daten!$W$220:$W$269),\"\")","v":"21,5 Inhalt4Einh[21,5]"},null,{"$f":"IF($A148<=Daten!$B$8,LOOKUP($B148,Daten!$A$271:$A$320,Daten!$V$271:$V$320),\"\") & \" \" & IF($A148<=Daten!$B$8,LOOKUP($B148,Daten!$A$271:$A$320,Daten!$W$271:$W$320),\"\")","v":"21,6 Inhalt4Einh[21,6]"},null,{"$f":"IF($A148<=Daten!$B$8,LOOKUP($B148,Daten!$A$322:$A$371,Daten!$V$322:$V$371),\"\") & \" \" & IF($A148<=Daten!$B$8,LOOKUP($B148,Daten!$A$322:$A$371,Daten!$W$322:$W$371),\"\")","v":"21,7 Inhalt4Einh[21,7]"}]
[null,null,null,{"$f":"IF($A148<=Daten!$B$8,LOOKUP($B148,Daten!$A$16:$A$65,Daten!$X$16:$X$65),\"\") & \" \" & IF($A148<=Daten!$B$8,LOOKUP($B148,Daten!$A$16:$A$65,Daten!$Y$16:$Y$65),\"\")","v":"21,1 Inhalt5Einh[21,1]"},null,{"$f":"IF($A148<=Daten!$B$8,LOOKUP($B148,Daten!$A$67:$A$116,Daten!$X$67:$X$116),\"\") & \" \" & IF($A148<=Daten!$B$8,LOOKUP($B148,Daten!$A$67:$A$116,Daten!$Y$67:$Y$116),\"\")","v":"21,2 Inhalt5Einh[21,2]"},null,{"$f":"IF($A148<=Daten!$B$8,LOOKUP($B148,Daten!$A$118:$A$167,Daten!$X$118:$X$167),\"\") & \" \" & IF($A148<=Daten!$B$8,LOOKUP($B148,Daten!$A$118:$A$167,Daten!$Y$118:$Y$167),\"\")","v":"21,3 Inhalt5Einh[21,3]"},null,{"$f":"IF($A148<=Daten!$B$8,LOOKUP($B148,Daten!$A$169:$A$218,Daten!$X$169:$X$218),\"\") & \" \" & IF($A148<=Daten!$B$8,LOOKUP($B148,Daten!$A$169:$A$218,Daten!$Y$169:$Y$218),\"\")","v":"21,4 Inhalt5Einh[21,4]"},null,{"$f":"IF($A148<=Daten!$B$8,LOOKUP($B148,Daten!$A$220:$A$269,Daten!$X$220:$X$269),\"\") & \" \" & IF($A148<=Daten!$B$8,LOOKUP($B148,Daten!$A$220:$A$269,Daten!$Y$220:$Y$269),\"\")","v":"21,5 Inhalt5Einh[21,5]"},null,{"$f":"IF($A148<=Daten!$B$8,LOOKUP($B148,Daten!$A$271:$A$320,Daten!$X$271:$X$320),\"\") & \" \" & IF($A148<=Daten!$B$8,LOOKUP($B148,Daten!$A$271:$A$320,Daten!$Y$271:$Y$320),\"\")","v":"21,6 Inhalt5Einh[21,6]"},null,{"$f":"IF($A148<=Daten!$B$8,LOOKUP($B148,Daten!$A$322:$A$371,Daten!$X$322:$X$371),\"\") & \" \" & IF($A148<=Daten!$B$8,LOOKUP($B148,Daten!$A$322:$A$371,Daten!$Y$322:$Y$371),\"\")","v":"21,7 Inhalt5Einh[21,7]"}]
[null,null,null,{"$f":"IF($A148<=Daten!$B$8,LOOKUP($B148,Daten!$A$16:$A$65,Daten!$Z$16:$Z$65),\"\") & \" \" & IF($A148<=Daten!$B$8,LOOKUP($B148,Daten!$A$16:$A$65,Daten!$AA$16:$AA$65),\"\")","v":"21,1 Inhalt6Einh[21,1]"},null,{"$f":"IF($A148<=Daten!$B$8,LOOKUP($B148,Daten!$A$67:$A$116,Daten!$Z$67:$Z$116),\"\") & \" \" & IF($A148<=Daten!$B$8,LOOKUP($B148,Daten!$A$67:$A$116,Daten!$AA$67:$AA$116),\"\")","v":"21,2 Inhalt6Einh[21,2]"},null,{"$f":"IF($A148<=Daten!$B$8,LOOKUP($B148,Daten!$A$118:$A$167,Daten!$Z$118:$Z$167),\"\") & \" \" & IF($A148<=Daten!$B$8,LOOKUP($B148,Daten!$A$118:$A$167,Daten!$AA$118:$AA$167),\"\")","v":"21,3 Inhalt6Einh[21,3]"},null,{"$f":"IF($A148<=Daten!$B$8,LOOKUP($B148,Daten!$A$169:$A$218,Daten!$Z$169:$Z$218),\"\") & \" \" & IF($A148<=Daten!$B$8,LOOKUP($B148,Daten!$A$169:$A$218,Daten!$AA$169:$AA$218),\"\")","v":"21,4 Inhalt6Einh[21,4]"},null,{"$f":"IF($A148<=Daten!$B$8,LOOKUP($B148,Daten!$A$220:$A$269,Daten!$Z$220:$Z$269),\"\") & \" \" & IF($A148<=Daten!$B$8,LOOKUP($B148,Daten!$A$220:$A$269,Daten!$AA$220:$AA$269),\"\")","v":"21,5 Inhalt6Einh[21,5]"},null,{"$f":"IF($A148<=Daten!$B$8,LOOKUP($B148,Daten!$A$271:$A$320,Daten!$Z$271:$Z$320),\"\") & \" \" & IF($A148<=Daten!$B$8,LOOKUP($B148,Daten!$A$271:$A$320,Daten!$AA$271:$AA$320),\"\")","v":"21,6 Inhalt6Einh[21,6]"},null,{"$f":"IF($A148<=Daten!$B$8,LOOKUP($B148,Daten!$A$322:$A$371,Daten!$Z$322:$Z$371),\"\") & \" \" & IF($A148<=Daten!$B$8,LOOKUP($B148,Daten!$A$322:$A$371,Daten!$AA$322:$AA$371),\"\")","v":"21,7 Inhalt6Einh[21,7]"}]
[null,{"$f":"IF(A148<=Daten!$B$8,\"Zusatzstoffe\",\"\")","v":"Zusatzstoffe"},{"$f":"IF($A148<=Daten!$B$8,LOOKUP($B148,Daten!$A$16:$A$65,Daten!$L$16:$L$65),\"\")","v":21.1},{"$f":"IF($A148<=Daten!$B$8,LOOKUP($B148,Daten!$A$16:$A$65,Daten!$E$16:$E$65),\"\")","v":211.1},{"$f":"IF($A148<=Daten!$B$8,LOOKUP($B148,Daten!$A$67:$A$116,Daten!$L$67:$L$116),\"\")","v":21.2},{"$f":"IF($A148<=Daten!$B$8,LOOKUP($B148,Daten!$A$16:$A$65,Daten!$E$67:$E$116),\"\")","v":0},{"$f":"IF($A148<=Daten!$B$8,LOOKUP($B148,Daten!$A$118:$A$167,Daten!$L$118:$L$167),\"\")","v":21.3},{"$f":"IF($A148<=Daten!$B$8,LOOKUP($B148,Daten!$A$118:$A$167,Daten!$E$118:$E$167),\"\")","v":0},{"$f":"IF($A148<=Daten!$B$8,LOOKUP($B148,Daten!$A$169:$A$218,Daten!$L$169:$L$218),\"\")","v":21.4},{"$f":"IF($A148<=Daten!$B$8,LOOKUP($B148,Daten!$A$169:$A$218,Daten!$E$169:$E$218),\"\")","v":0},{"$f":"IF($A148<=Daten!$B$8,LOOKUP($B148,Daten!$A$220:$A$269,Daten!$L$220:$L$269),\"\")","v":21.5},{"$f":"IF($A148<=Daten!$B$8,LOOKUP($B148,Daten!$A$220:$A$269,Daten!$E$220:$E$269),\"\")","v":0},{"$f":"IF($A148<=Daten!$B$8,LOOKUP($B148,Daten!$A$271:$A$320,Daten!$L$271:$L$320),\"\")","v":21.6},{"$f":"IF($A148<=Daten!$B$8,LOOKUP($B148,Daten!$A$271:$A$320,Daten!$E$271:$E$320),\"\")","v":0},{"$f":"IF($A148<=Daten!$B$8,LOOKUP($B148,Daten!$A$322:$A$371,Daten!$L$322:$L$371),\"\")","v":21.7},{"$f":"IF($A148<=Daten!$B$8,LOOKUP($B148,Daten!$A$322:$A$371,Daten!$E$322:$E$371),\"\")","v":0}]
[22,{"$f":"IF(A155<=Daten!$B$8,Daten!W9,\"\")","v":"Menülinie 22"},{"$f":"IF($A155<=Daten!$B$8,LOOKUP($B155,Daten!$A$16:$A$65,Daten!$C$16:$C$65),\"\")","v":"Lang[22,1]"},{"$f":"IF($A155<=Daten!$B$8,LOOKUP($B155,Daten!$A$16:$A$65,Daten!$P$16:$P$65),\"\") & \" \" & IF($A155<=Daten!$B$8,LOOKUP($B155,Daten!$A$16:$A$65,Daten!$Q$16:$Q$65),\"\")","v":"22,1 Inhalt1Einh[22,1]"},{"$f":"IF($A155<=Daten!$B$8,LOOKUP($B155,Daten!$A$67:$A$116,Daten!$C$67:$C$116),\"\")","v":"Lang[22,2]"},{"$f":"IF($A155<=Daten!$B$8,LOOKUP($B155,Daten!$A$67:$A$116,Daten!$P$67:$P$116),\"\") & \" \" & IF($A155<=Daten!$B$8,LOOKUP($B155,Daten!$A$67:$A$116,Daten!$Q$67:$Q$116),\"\")","v":"22,2 Inhalt1Einh[22,2]"},{"$f":"IF($A155<=Daten!$B$8,LOOKUP($B155,Daten!$A$118:$A$167,Daten!$C$118:$C$167),\"\")","v":"Lang[22,3]"},{"$f":"IF($A155<=Daten!$B$8,LOOKUP($B155,Daten!$A$118:$A$167,Daten!$P$118:$P$167),\"\") & \" \" & IF($A155<=Daten!$B$8,LOOKUP($B155,Daten!$A$118:$A$167,Daten!$Q$118:$Q$167),\"\")","v":"22,3 Inhalt1Einh[22,3]"},{"$f":"IF($A155<=Daten!$B$8,LOOKUP($B155,Daten!$A$169:$A$218,Daten!$C$169:$C$218),\"\")","v":"Lang[22,4]"},{"$f":"IF($A155<=Daten!$B$8,LOOKUP($B155,Daten!$A$169:$A$218,Daten!$P$169:$P$218),\"\") & \" \" & IF($A155<=Daten!$B$8,LOOKUP($B155,Daten!$A$169:$A$218,Daten!$Q$169:$Q$218),\"\")","v":"22,4 Inhalt1Einh[22,4]"},{"$f":"IF($A155<=Daten!$B$8,LOOKUP($B155,Daten!$A$220:$A$269,Daten!$C$220:$C$269),\"\")","v":"Lang[22,5]"},{"$f":"IF($A155<=Daten!$B$8,LOOKUP($B155,Daten!$A$220:$A$269,Daten!$P$220:$P$269),\"\") & \" \" & IF($A155<=Daten!$B$8,LOOKUP($B155,Daten!$A$220:$A$269,Daten!$Q$220:$Q$269),\"\")","v":"22,5 Inhalt1Einh[22,5]"},{"$f":"IF($A155<=Daten!$B$8,LOOKUP($B155,Daten!$A$271:$A$320,Daten!$C$271:$C$320),\"\")","v":"Lang[22,6]"},{"$f":"IF($A155<=Daten!$B$8,LOOKUP($B155,Daten!$A$271:$A$320,Daten!$P$271:$P$320),\"\") & \" \" & IF($A155<=Daten!$B$8,LOOKUP($B155,Daten!$A$271:$A$320,Daten!$Q$271:$Q$320),\"\")","v":"22,6 Inhalt1Einh[22,6]"},{"$f":"IF($A155<=Daten!$B$8,LOOKUP($B155,Daten!$A$322:$A$371,Daten!$B$322:$C$371),\"\")","v":{"$error":"#N/A"}},{"$f":"IF($A155<=Daten!$B$8,LOOKUP($B155,Daten!$A$322:$A$371,Daten!$P$322:$P$371),\"\") & \" \" & IF($A155<=Daten!$B$8,LOOKUP($B155,Daten!$A$322:$A$371,Daten!$Q$322:$Q$371),\"\")","v":"22,7 Inhalt1Einh[22,7]"}]
[null,null,null,{"$f":"IF($A155<=Daten!$B$8,LOOKUP($B155,Daten!$A$16:$A$65,Daten!$R$16:$R$65),\"\") & \" \" & IF($A155<=Daten!$B$8,LOOKUP($B155,Daten!$A$16:$A$65,Daten!$S$16:$S$65),\"\")","v":"22,1 Inhalt2Einh[22,1]"},null,{"$f":"IF($A155<=Daten!$B$8,LOOKUP($B155,Daten!$A$67:$A$116,Daten!$R$67:$R$116),\"\") & \" \" & IF($A155<=Daten!$B$8,LOOKUP($B155,Daten!$A$67:$A$116,Daten!$S$67:$S$116),\"\")","v":"22,2 Inhalt2Einh[22,2]"},null,{"$f":"IF($A155<=Daten!$B$8,LOOKUP($B155,Daten!$A$118:$A$167,Daten!$R$118:$R$167),\"\") & \" \" & IF($A155<=Daten!$B$8,LOOKUP($B155,Daten!$A$118:$A$167,Daten!$S$118:$S$167),\"\")","v":"22,3 Inhalt2Einh[22,3]"},null,{"$f":"IF($A155<=Daten!$B$8,LOOKUP($B155,Daten!$A$169:$A$218,Daten!$R$169:$R$218),\"\") & \" \" & IF($A155<=Daten!$B$8,LOOKUP($B155,Daten!$A$169:$A$218,Daten!$S$169:$S$218),\"\")","v":"22,4 Inhalt2Einh[22,4]"},null,{"$f":"IF($A155<=Daten!$B$8,LOOKUP($B155,Daten!$A$220:$A$269,Daten!$R$220:$R$269),\"\") & \" \" & IF($A155<=Daten!$B$8,LOOKUP($B155,Daten!$A$220:$A$269,Daten!$S$220:$S$269),\"\")","v":"22,5 Inhalt2Einh[22,5]"},null,{"$f":"IF($A155<=Daten!$B$8,LOOKUP($B155,Daten!$A$271:$A$320,Daten!$R$271:$R$320),\"\") & \" \" & IF($A155<=Daten!$B$8,LOOKUP($B155,Daten!$A$271:$A$320,Daten!$S$271:$S$320),\"\")","v":"22,6 Inhalt2Einh[22,6]"},null,{"$f":"IF($A155<=Daten!$B$8,LOOKUP($B155,Daten!$A$322:$A$371,Daten!$R$322:$R$371),\"\") & \" \" & IF($A155<=Daten!$B$8,LOOKUP($B155,Daten!$A$322:$A$371,Daten!$S$322:$S$371),\"\")","v":"22,7 Inhalt2Einh[22,7]"}]
[null,null,null,{"$f":"IF($A155<=Daten!$B$8,LOOKUP($B155,Daten!$A$16:$A$65,Daten!$T$16:$T$65),\"\") & \" \" & IF($A155<=Daten!$B$8,LOOKUP($B155,Daten!$A$16:$A$65,Daten!$U$16:$U$65),\"\")","v":"22,1 Inhalt3Einh[22,1]"},null,{"$f":"IF($A155<=Daten!$B$8,LOOKUP($B155,Daten!$A$67:$A$116,Daten!$T$67:$T$116),\"\") & \" \" & IF($A155<=Daten!$B$8,LOOKUP($B155,Daten!$A$67:$A$116,Daten!$U$67:$U$116),\"\")","v":"22,2 Inhalt3Einh[22,2]"},null,{"$f":"IF($A155<=Daten!$B$8,LOOKUP($B155,Daten!$A$118:$A$167,Daten!$T$118:$T$167),\"\") & \" \" & IF($A155<=Daten!$B$8,LOOKUP($B155,Daten!$A$118:$A$167,Daten!$U$118:$U$167),\"\")","v":"22,3 Inhalt3Einh[22,3]"},null,{"$f":"IF($A155<=Daten!$B$8,LOOKUP($B155,Daten!$A$169:$A$218,Daten!$T$169:$T$218),\"\") & \" \" & IF($A155<=Daten!$B$8,LOOKUP($B155,Daten!$A$169:$A$218,Daten!$U$169:$U$218),\"\")","v":"22,4 Inhalt3Einh[22,4]"},null,{"$f":"IF($A155<=Daten!$B$8,LOOKUP($B155,Daten!$A$220:$A$269,Daten!$T$220:$T$269),\"\") & \" \" & IF($A155<=Daten!$B$8,LOOKUP($B155,Daten!$A$220:$A$269,Daten!$U$220:$U$269),\"\")","v":"22,5 Inhalt3Einh[22,5]"},null,{"$f":"IF($A155<=Daten!$B$8,LOOKUP($B155,Daten!$A$271:$A$320,Daten!$T$271:$T$320),\"\") & \" \" & IF($A155<=Daten!$B$8,LOOKUP($B155,Daten!$A$271:$A$320,Daten!$U$271:$U$320),\"\")","v":"22,6 Inhalt3Einh[22,6]"},null,{"$f":"IF($A155<=Daten!$B$8,LOOKUP($B155,Daten!$A$322:$A$371,Daten!$T$322:$T$371),\"\") & \" \" & IF($A155<=Daten!$B$8,LOOKUP($B155,Daten!$A$322:$A$371,Daten!$U$322:$U$371),\"\")","v":"22,7 Inhalt3Einh[22,7]"}]
[null,null,null,{"$f":"IF($A155<=Daten!$B$8,LOOKUP($B155,Daten!$A$16:$A$65,Daten!$V$16:$V$65),\"\") & \" \" & IF($A155<=Daten!$B$8,LOOKUP($B155,Daten!$A$16:$A$65,Daten!$W$16:$W$65),\"\")","v":"22,1 Inhalt4Einh[22,1]"},null,{"$f":"IF($A155<=Daten!$B$8,LOOKUP($B155,Daten!$A$67:$A$116,Daten!$V$67:$V$116),\"\") & \" \" & IF($A155<=Daten!$B$8,LOOKUP($B155,Daten!$A$67:$A$116,Daten!$W$67:$W$116),\"\")","v":"22,2 Inhalt4Einh[22,2]"},null,{"$f":"IF($A155<=Daten!$B$8,LOOKUP($B155,Daten!$A$118:$A$167,Daten!$V$118:$V$167),\"\") & \" \" & IF($A155<=Daten!$B$8,LOOKUP($B155,Daten!$A$118:$A$167,Daten!$W$118:$W$167),\"\")","v":"22,3 Inhalt4Einh[22,3]"},null,{"$f":"IF($A155<=Daten!$B$8,LOOKUP($B155,Daten!$A$169:$A$218,Daten!$V$169:$V$218),\"\") & \" \" & IF($A155<=Daten!$B$8,LOOKUP($B155,Daten!$A$169:$A$218,Daten!$W$169:$W$218),\"\")","v":"22,4 Inhalt4Einh[22,4]"},null,{"$f":"IF($A155<=Daten!$B$8,LOOKUP($B155,Daten!$A$220:$A$269,Daten!$V$220:$V$269),\"\") & \" \" & IF($A155<=Daten!$B$8,LOOKUP($B155,Daten!$A$220:$A$269,Daten!$W$220:$W$269),\"\")","v":"22,5 Inhalt4Einh[22,5]"},null,{"$f":"IF($A155<=Daten!$B$8,LOOKUP($B155,Daten!$A$271:$A$320,Daten!$V$271:$V$320),\"\") & \" \" & IF($A155<=Daten!$B$8,LOOKUP($B155,Daten!$A$271:$A$320,Daten!$W$271:$W$320),\"\")","v":"22,6 Inhalt4Einh[22,6]"},null,{"$f":"IF($A155<=Daten!$B$8,LOOKUP($B155,Daten!$A$322:$A$371,Daten!$V$322:$V$371),\"\") & \" \" & IF($A155<=Daten!$B$8,LOOKUP($B155,Daten!$A$322:$A$371,Daten!$W$322:$W$371),\"\")","v":"22,7 Inhalt4Einh[22,7]"}]
[null,null,null,{"$f":"IF($A155<=Daten!$B$8,LOOKUP($B155,Daten!$A$16:$A$65,Daten!$X$16:$X$65),\"\") & \" \" & IF($A155<=Daten!$B$8,LOOKUP($B155,Daten!$A$16:$A$65,Daten!$Y$16:$Y$65),\"\")","v":"22,1 Inhalt5Einh[22,1]"},null,{"$f":"IF($A155<=Daten!$B$8,LOOKUP($B155,Daten!$A$67:$A$116,Daten!$X$67:$X$116),\"\") & \" \" & IF($A155<=Daten!$B$8,LOOKUP($B155,Daten!$A$67:$A$116,Daten!$Y$67:$Y$116),\"\")","v":"22,2 Inhalt5Einh[22,2]"},null,{"$f":"IF($A155<=Daten!$B$8,LOOKUP($B155,Daten!$A$118:$A$167,Daten!$X$118:$X$167),\"\") & \" \" & IF($A155<=Daten!$B$8,LOOKUP($B155,Daten!$A$118:$A$167,Daten!$Y$118:$Y$167),\"\")","v":"22,3 Inhalt5Einh[22,3]"},null,{"$f":"IF($A155<=Daten!$B$8,LOOKUP($B155,Daten!$A$169:$A$218,Daten!$X$169:$X$218),\"\") & \" \" & IF($A155<=Daten!$B$8,LOOKUP($B155,Daten!$A$169:$A$218,Daten!$Y$169:$Y$218),\"\")","v":"22,4 Inhalt5Einh[22,4]"},null,{"$f":"IF($A155<=Daten!$B$8,LOOKUP($B155,Daten!$A$220:$A$269,Daten!$X$220:$X$269),\"\") & \" \" & IF($A155<=Daten!$B$8,LOOKUP($B155,Daten!$A$220:$A$269,Daten!$Y$220:$Y$269),\"\")","v":"22,5 Inhalt5Einh[22,5]"},null,{"$f":"IF($A155<=Daten!$B$8,LOOKUP($B155,Daten!$A$271:$A$320,Daten!$X$271:$X$320),\"\") & \" \" & IF($A155<=Daten!$B$8,LOOKUP($B155,Daten!$A$271:$A$320,Daten!$Y$271:$Y$320),\"\")","v":"22,6 Inhalt5Einh[22,6]"},null,{"$f":"IF($A155<=Daten!$B$8,LOOKUP($B155,Daten!$A$322:$A$371,Daten!$X$322:$X$371),\"\") & \" \" & IF($A155<=Daten!$B$8,LOOKUP($B155,Daten!$A$322:$A$371,Daten!$Y$322:$Y$371),\"\")","v":"22,7 Inhalt5Einh[22,7]"}]
[null,null,null,{"$f":"IF($A155<=Daten!$B$8,LOOKUP($B155,Daten!$A$16:$A$65,Daten!$Z$16:$Z$65),\"\") & \" \" & IF($A155<=Daten!$B$8,LOOKUP($B155,Daten!$A$16:$A$65,Daten!$AA$16:$AA$65),\"\")","v":"22,1 Inhalt6Einh[22,1]"},null,{"$f":"IF($A155<=Daten!$B$8,LOOKUP($B155,Daten!$A$67:$A$116,Daten!$Z$67:$Z$116),\"\") & \" \" & IF($A155<=Daten!$B$8,LOOKUP($B155,Daten!$A$67:$A$116,Daten!$AA$67:$AA$116),\"\")","v":"22,2 Inhalt6Einh[22,2]"},null,{"$f":"IF($A155<=Daten!$B$8,LOOKUP($B155,Daten!$A$118:$A$167,Daten!$Z$118:$Z$167),\"\") & \" \" & IF($A155<=Daten!$B$8,LOOKUP($B155,Daten!$A$118:$A$167,Daten!$AA$118:$AA$167),\"\")","v":"22,3 Inhalt6Einh[22,3]"},null,{"$f":"IF($A155<=Daten!$B$8,LOOKUP($B155,Daten!$A$169:$A$218,Daten!$Z$169:$Z$218),\"\") & \" \" & IF($A155<=Daten!$B$8,LOOKUP($B155,Daten!$A$169:$A$218,Daten!$AA$169:$AA$218),\"\")","v":"22,4 Inhalt6Einh[22,4]"},null,{"$f":"IF($A155<=Daten!$B$8,LOOKUP($B155,Daten!$A$220:$A$269,Daten!$Z$220:$Z$269),\"\") & \" \" & IF($A155<=Daten!$B$8,LOOKUP($B155,Daten!$A$220:$A$269,Daten!$AA$220:$AA$269),\"\")","v":"22,5 Inhalt6Einh[22,5]"},null,{"$f":"IF($A155<=Daten!$B$8,LOOKUP($B155,Daten!$A$271:$A$320,Daten!$Z$271:$Z$320),\"\") & \" \" & IF($A155<=Daten!$B$8,LOOKUP($B155,Daten!$A$271:$A$320,Daten!$AA$271:$AA$320),\"\")","v":"22,6 Inhalt6Einh[22,6]"},null,{"$f":"IF($A155<=Daten!$B$8,LOOKUP($B155,Daten!$A$322:$A$371,Daten!$Z$322:$Z$371),\"\") & \" \" & IF($A155<=Daten!$B$8,LOOKUP($B155,Daten!$A$322:$A$371,Daten!$AA$322:$AA$371),\"\")","v":"22,7 Inhalt6Einh[22,7]"}]
[null,{"$f":"IF(A155<=Daten!$B$8,\"Zusatzstoffe\",\"\")","v":"Zusatzstoffe"},{"$f":"IF($A155<=Daten!$B$8,LOOKUP($B155,Daten!$A$16:$A$65,Daten!$L$16:$L$65),\"\")","v":22.1},{"$f":"IF($A155<=Daten!$B$8,LOOKUP($B155,Daten!$A$16:$A$65,Daten!$E$16:$E$65),\"\")","v":212.1},{"$f":"IF($A155<=Daten!$B$8,LOOKUP($B155,Daten!$A$67:$A$116,Daten!$L$67:$L$116),\"\")","v":22.2},{"$f":"IF($A155<=Daten!$B$8,LOOKUP($B155,Daten!$A$16:$A$65,Daten!$E$67:$E$116),\"\")","v":0},{"$f":"IF($A155<=Daten!$B$8,LOOKUP($B155,Daten!$A$118:$A$167,Daten!$L$118:$L$167),\"\")","v":22.3},{"$f":"IF($A155<=Daten!$B$8,LOOKUP($B155,Daten!$A$118:$A$167,Daten!$E$118:$E$167),\"\")","v":0},{"$f":"IF($A155<=Daten!$B$8,LOOKUP($B155,Daten!$A$169:$A$218,Daten!$L$169:$L$218),\"\")","v":22.4},{"$f":"IF($A155<=Daten!$B$8,LOOKUP($B155,Daten!$A$169:$A$218,Daten!$E$169:$E$218),\"\")","v":0},{"$f":"IF($A155<=Daten!$B$8,LOOKUP($B155,Daten!$A$220:$A$269,Daten!$L$220:$L$269),\"\")","v":22.5},{"$f":"IF($A155<=Daten!$B$8,LOOKUP($B155,Daten!$A$220:$A$269,Daten!$E$220:$E$269),\"\")","v":0},{"$f":"IF($A155<=Daten!$B$8,LOOKUP($B155,Daten!$A$271:$A$320,Daten!$L$271:$L$320),\"\")","v":22.6},{"$f":"IF($A155<=Daten!$B$8,LOOKUP($B155,Daten!$A$271:$A$320,Daten!$E$271:$E$320),\"\")","v":0},{"$f":"IF($A155<=Daten!$B$8,LOOKUP($B155,Daten!$A$322:$A$371,Daten!$L$322:$L$371),\"\")","v":22.7},{"$f":"IF($A155<=Daten!$B$8,LOOKUP($B155,Daten!$A$322:$A$371,Daten!$E$322:$E$371),\"\")","v":0}]
[23,{"$f":"IF(A162<=Daten!$B$8,Daten!X9,\"\")","v":"Menülinie 23"},{"$f":"IF(A162<=Daten!$B$8,LOOKUP(B162,Daten!$A$16:$A$65,Daten!$C$16:$C$65),\"\")","v":"Lang[23,1]"},{"$f":"IF($A162<=Daten!$B$8,LOOKUP($B162,Daten!$A$16:$A$65,Daten!$P$16:$P$65),\"\") & \" \" & IF($A162<=Daten!$B$8,LOOKUP($B162,Daten!$A$16:$A$65,Daten!$Q$16:$Q$65),\"\")","v":"23,1 Inhalt1Einh[23,1]"},{"$f":"IF($A162<=Daten!$B$8,LOOKUP($B162,Daten!$A$67:$A$116,Daten!$C$67:$C$116),\"\")","v":"Lang[23,2]"},{"$f":"IF($A162<=Daten!$B$8,LOOKUP($B162,Daten!$A$67:$A$116,Daten!$P$67:$P$116),\"\") & \" \" & IF($A162<=Daten!$B$8,LOOKUP($B162,Daten!$A$67:$A$116,Daten!$Q$67:$Q$116),\"\")","v":"23,2 Inhalt1Einh[23,2]"},{"$f":"IF($A162<=Daten!$B$8,LOOKUP($B162,Daten!$A$118:$A$167,Daten!$C$118:$C$167),\"\")","v":"Lang[23,3]"},{"$f":"IF($A162<=Daten!$B$8,LOOKUP($B162,Daten!$A$118:$A$167,Daten!$P$118:$P$167),\"\") & \" \" & IF($A162<=Daten!$B$8,LOOKUP($B162,Daten!$A$118:$A$167,Daten!$Q$118:$Q$167),\"\")","v":"23,3 Inhalt1Einh[23,3]"},{"$f":"IF($A162<=Daten!$B$8,LOOKUP($B162,Daten!$A$169:$A$218,Daten!$C$169:$C$218),\"\")","v":"Lang[23,4]"},{"$f":"IF($A162<=Daten!$B$8,LOOKUP($B162,Daten!$A$169:$A$218,Daten!$P$169:$P$218),\"\") & \" \" & IF($A162<=Daten!$B$8,LOOKUP($B162,Daten!$A$169:$A$218,Daten!$Q$169:$Q$218),\"\")","v":"23,4 Inhalt1Einh[23,4]"},{"$f":"IF($A162<=Daten!$B$8,LOOKUP($B162,Daten!$A$220:$A$269,Daten!$C$220:$C$269),\"\")","v":"Lang[23,5]"},{"$f":"IF($A162<=Daten!$B$8,LOOKUP($B162,Daten!$A$220:$A$269,Daten!$P$220:$P$269),\"\") & \" \" & IF($A162<=Daten!$B$8,LOOKUP($B162,Daten!$A$220:$A$269,Daten!$Q$220:$Q$269),\"\")","v":"23,5 Inhalt1Einh[23,5]"},{"$f":"IF($A162<=Daten!$B$8,LOOKUP($B162,Daten!$A$271:$A$320,Daten!$C$271:$C$320),\"\")","v":"Lang[23,6]"},{"$f":"IF($A162<=Daten!$B$8,LOOKUP($B162,Daten!$A$271:$A$320,Daten!$P$271:$P$320),\"\") & \" \" & IF($A162<=Daten!$B$8,LOOKUP($B162,Daten!$A$271:$A$320,Daten!$Q$271:$Q$320),\"\")","v":"23,6 Inhalt1Einh[23,6]"},{"$f":"IF($A162<=Daten!$B$8,LOOKUP($B162,Daten!$A$322:$A$371,Daten!$B$322:$C$371),\"\")","v":{"$error":"#N/A"}},{"$f":"IF($A162<=Daten!$B$8,LOOKUP($B162,Daten!$A$322:$A$371,Daten!$P$322:$P$371),\"\") & \" \" & IF($A162<=Daten!$B$8,LOOKUP($B162,Daten!$A$322:$A$371,Daten!$Q$322:$Q$371),\"\")","v":"23,7 Inhalt1Einh[23,7]"}]
[null,null,null,{"$f":"IF($A162<=Daten!$B$8,LOOKUP($B162,Daten!$A$16:$A$65,Daten!$R$16:$R$65),\"\") & \" \" & IF($A162<=Daten!$B$8,LOOKUP($B162,Daten!$A$16:$A$65,Daten!$S$16:$S$65),\"\")","v":"23,1 Inhalt2Einh[23,1]"},null,{"$f":"IF($A162<=Daten!$B$8,LOOKUP($B162,Daten!$A$67:$A$116,Daten!$R$67:$R$116),\"\") & \" \" & IF($A162<=Daten!$B$8,LOOKUP($B162,Daten!$A$67:$A$116,Daten!$S$67:$S$116),\"\")","v":"23,2 Inhalt2Einh[23,2]"},null,{"$f":"IF($A162<=Daten!$B$8,LOOKUP($B162,Daten!$A$118:$A$167,Daten!$R$118:$R$167),\"\") & \" \" & IF($A162<=Daten!$B$8,LOOKUP($B162,Daten!$A$118:$A$167,Daten!$S$118:$S$167),\"\")","v":"23,3 Inhalt2Einh[23,3]"},null,{"$f":"IF($A162<=Daten!$B$8,LOOKUP($B162,Daten!$A$169:$A$218,Daten!$R$169:$R$218),\"\") & \" \" & IF($A162<=Daten!$B$8,LOOKUP($B162,Daten!$A$169:$A$218,Daten!$S$169:$S$218),\"\")","v":"23,4 Inhalt2Einh[23,4]"},null,{"$f":"IF($A162<=Daten!$B$8,LOOKUP($B162,Daten!$A$220:$A$269,Daten!$R$220:$R$269),\"\") & \" \" & IF($A162<=Daten!$B$8,LOOKUP($B162,Daten!$A$220:$A$269,Daten!$S$220:$S$269),\"\")","v":"23,5 Inhalt2Einh[23,5]"},null,{"$f":"IF($A162<=Daten!$B$8,LOOKUP($B162,Daten!$A$271:$A$320,Daten!$R$271:$R$320),\"\") & \" \" & IF($A162<=Daten!$B$8,LOOKUP($B162,Daten!$A$271:$A$320,Daten!$S$271:$S$320),\"\")","v":"23,6 Inhalt2Einh[23,6]"},null,{"$f":"IF($A162<=Daten!$B$8,LOOKUP($B162,Daten!$A$322:$A$371,Daten!$R$322:$R$371),\"\") & \" \" & IF($A162<=Daten!$B$8,LOOKUP($B162,Daten!$A$322:$A$371,Daten!$S$322:$S$371),\"\")","v":"23,7 Inhalt2Einh[23,7]"}]
[null,null,null,{"$f":"IF($A162<=Daten!$B$8,LOOKUP($B162,Daten!$A$16:$A$65,Daten!$T$16:$T$65),\"\") & \" \" & IF($A162<=Daten!$B$8,LOOKUP($B162,Daten!$A$16:$A$65,Daten!$U$16:$U$65),\"\")","v":"23,1 Inhalt3Einh[23,1]"},null,{"$f":"IF($A162<=Daten!$B$8,LOOKUP($B162,Daten!$A$67:$A$116,Daten!$T$67:$T$116),\"\") & \" \" & IF($A162<=Daten!$B$8,LOOKUP($B162,Daten!$A$67:$A$116,Daten!$U$67:$U$116),\"\")","v":"23,2 Inhalt3Einh[23,2]"},null,{"$f":"IF($A162<=Daten!$B$8,LOOKUP($B162,Daten!$A$118:$A$167,Daten!$T$118:$T$167),\"\") & \" \" & IF($A162<=Daten!$B$8,LOOKUP($B162,Daten!$A$118:$A$167,Daten!$U$118:$U$167),\"\")","v":"23,3 Inhalt3Einh[23,3]"},null,{"$f":"IF($A162<=Daten!$B$8,LOOKUP($B162,Daten!$A$169:$A$218,Daten!$T$169:$T$218),\"\") & \" \" & IF($A162<=Daten!$B$8,LOOKUP($B162,Daten!$A$169:$A$218,Daten!$U$169:$U$218),\"\")","v":"23,4 Inhalt3Einh[23,4]"},null,{"$f":"IF($A162<=Daten!$B$8,LOOKUP($B162,Daten!$A$220:$A$269,Daten!$T$220:$T$269),\"\") & \" \" & IF($A162<=Daten!$B$8,LOOKUP($B162,Daten!$A$220:$A$269,Daten!$U$220:$U$269),\"\")","v":"23,5 Inhalt3Einh[23,5]"},null,{"$f":"IF($A162<=Daten!$B$8,LOOKUP($B162,Daten!$A$271:$A$320,Daten!$T$271:$T$320),\"\") & \" \" & IF($A162<=Daten!$B$8,LOOKUP($B162,Daten!$A$271:$A$320,Daten!$U$271:$U$320),\"\")","v":"23,6 Inhalt3Einh[23,6]"},null,{"$f":"IF($A162<=Daten!$B$8,LOOKUP($B162,Daten!$A$322:$A$371,Daten!$T$322:$T$371),\"\") & \" \" & IF($A162<=Daten!$B$8,LOOKUP($B162,Daten!$A$322:$A$371,Daten!$U$322:$U$371),\"\")","v":"23,7 Inhalt3Einh[23,7]"}]
[null,null,null,{"$f":"IF($A162<=Daten!$B$8,LOOKUP($B162,Daten!$A$16:$A$65,Daten!$V$16:$V$65),\"\") & \" \" & IF($A162<=Daten!$B$8,LOOKUP($B162,Daten!$A$16:$A$65,Daten!$W$16:$W$65),\"\")","v":"23,1 Inhalt4Einh[23,1]"},null,{"$f":"IF($A162<=Daten!$B$8,LOOKUP($B162,Daten!$A$67:$A$116,Daten!$V$67:$V$116),\"\") & \" \" & IF($A162<=Daten!$B$8,LOOKUP($B162,Daten!$A$67:$A$116,Daten!$W$67:$W$116),\"\")","v":"23,2 Inhalt4Einh[23,2]"},null,{"$f":"IF($A162<=Daten!$B$8,LOOKUP($B162,Daten!$A$118:$A$167,Daten!$V$118:$V$167),\"\") & \" \" & IF($A162<=Daten!$B$8,LOOKUP($B162,Daten!$A$118:$A$167,Daten!$W$118:$W$167),\"\")","v":"23,3 Inhalt4Einh[23,3]"},null,{"$f":"IF($A162<=Daten!$B$8,LOOKUP($B162,Daten!$A$169:$A$218,Daten!$V$169:$V$218),\"\") & \" \" & IF($A162<=Daten!$B$8,LOOKUP($B162,Daten!$A$169:$A$218,Daten!$W$169:$W$218),\"\")","v":"23,4 Inhalt4Einh[23,4]"},null,{"$f":"IF($A162<=Daten!$B$8,LOOKUP($B162,Daten!$A$220:$A$269,Daten!$V$220:$V$269),\"\") & \" \" & IF($A162<=Daten!$B$8,LOOKUP($B162,Daten!$A$220:$A$269,Daten!$W$220:$W$269),\"\")","v":"23,5 Inhalt4Einh[23,5]"},null,{"$f":"IF($A162<=Daten!$B$8,LOOKUP($B162,Daten!$A$271:$A$320,Daten!$V$271:$V$320),\"\") & \" \" & IF($A162<=Daten!$B$8,LOOKUP($B162,Daten!$A$271:$A$320,Daten!$W$271:$W$320),\"\")","v":"23,6 Inhalt4Einh[23,6]"},null,{"$f":"IF($A162<=Daten!$B$8,LOOKUP($B162,Daten!$A$322:$A$371,Daten!$V$322:$V$371),\"\") & \" \" & IF($A162<=Daten!$B$8,LOOKUP($B162,Daten!$A$322:$A$371,Daten!$W$322:$W$371),\"\")","v":"23,7 Inhalt4Einh[23,7]"}]
[null,null,null,{"$f":"IF($A162<=Daten!$B$8,LOOKUP($B162,Daten!$A$16:$A$65,Daten!$X$16:$X$65),\"\") & \" \" & IF($A162<=Daten!$B$8,LOOKUP($B162,Daten!$A$16:$A$65,Daten!$Y$16:$Y$65),\"\")","v":"23,1 Inhalt5Einh[23,1]"},null,{"$f":"IF($A162<=Daten!$B$8,LOOKUP($B162,Daten!$A$67:$A$116,Daten!$X$67:$X$116),\"\") & \" \" & IF($A162<=Daten!$B$8,LOOKUP($B162,Daten!$A$67:$A$116,Daten!$Y$67:$Y$116),\"\")","v":"23,2 Inhalt5Einh[23,2]"},null,{"$f":"IF($A162<=Daten!$B$8,LOOKUP($B162,Daten!$A$118:$A$167,Daten!$X$118:$X$167),\"\") & \" \" & IF($A162<=Daten!$B$8,LOOKUP($B162,Daten!$A$118:$A$167,Daten!$Y$118:$Y$167),\"\")","v":"23,3 Inhalt5Einh[23,3]"},null,{"$f":"IF($A162<=Daten!$B$8,LOOKUP($B162,Daten!$A$169:$A$218,Daten!$X$169:$X$218),\"\") & \" \" & IF($A162<=Daten!$B$8,LOOKUP($B162,Daten!$A$169:$A$218,Daten!$Y$169:$Y$218),\"\")","v":"23,4 Inhalt5Einh[23,4]"},null,{"$f":"IF($A162<=Daten!$B$8,LOOKUP($B162,Daten!$A$220:$A$269,Daten!$X$220:$X$269),\"\") & \" \" & IF($A162<=Daten!$B$8,LOOKUP($B162,Daten!$A$220:$A$269,Daten!$Y$220:$Y$269),\"\")","v":"23,5 Inhalt5Einh[23,5]"},null,{"$f":"IF($A162<=Daten!$B$8,LOOKUP($B162,Daten!$A$271:$A$320,Daten!$X$271:$X$320),\"\") & \" \" & IF($A162<=Daten!$B$8,LOOKUP($B162,Daten!$A$271:$A$320,Daten!$Y$271:$Y$320),\"\")","v":"23,6 Inhalt5Einh[23,6]"},null,{"$f":"IF($A162<=Daten!$B$8,LOOKUP($B162,Daten!$A$322:$A$371,Daten!$X$322:$X$371),\"\") & \" \" & IF($A162<=Daten!$B$8,LOOKUP($B162,Daten!$A$322:$A$371,Daten!$Y$322:$Y$371),\"\")","v":"23,7 Inhalt5Einh[23,7]"}]
[null,null,null,{"$f":"IF($A162<=Daten!$B$8,LOOKUP($B162,Daten!$A$16:$A$65,Daten!$Z$16:$Z$65),\"\") & \" \" & IF($A162<=Daten!$B$8,LOOKUP($B162,Daten!$A$16:$A$65,Daten!$AA$16:$AA$65),\"\")","v":"23,1 Inhalt6Einh[23,1]"},null,{"$f":"IF($A162<=Daten!$B$8,LOOKUP($B162,Daten!$A$67:$A$116,Daten!$Z$67:$Z$116),\"\") & \" \" & IF($A162<=Daten!$B$8,LOOKUP($B162,Daten!$A$67:$A$116,Daten!$AA$67:$AA$116),\"\")","v":"23,2 Inhalt6Einh[23,2]"},null,{"$f":"IF($A162<=Daten!$B$8,LOOKUP($B162,Daten!$A$118:$A$167,Daten!$Z$118:$Z$167),\"\") & \" \" & IF($A162<=Daten!$B$8,LOOKUP($B162,Daten!$A$118:$A$167,Daten!$AA$118:$AA$167),\"\")","v":"23,3 Inhalt6Einh[23,3]"},null,{"$f":"IF($A162<=Daten!$B$8,LOOKUP($B162,Daten!$A$169:$A$218,Daten!$Z$169:$Z$218),\"\") & \" \" & IF($A162<=Daten!$B$8,LOOKUP($B162,Daten!$A$169:$A$218,Daten!$AA$169:$AA$218),\"\")","v":"23,4 Inhalt6Einh[23,4]"},null,{"$f":"IF($A162<=Daten!$B$8,LOOKUP($B162,Daten!$A$220:$A$269,Daten!$Z$220:$Z$269),\"\") & \" \" & IF($A162<=Daten!$B$8,LOOKUP($B162,Daten!$A$220:$A$269,Daten!$AA$220:$AA$269),\"\")","v":"23,5 Inhalt6Einh[23,5]"},null,{"$f":"IF($A162<=Daten!$B$8,LOOKUP($B162,Daten!$A$271:$A$320,Daten!$Z$271:$Z$320),\"\") & \" \" & IF($A162<=Daten!$B$8,LOOKUP($B162,Daten!$A$271:$A$320,Daten!$AA$271:$AA$320),\"\")","v":"23,6 Inhalt6Einh[23,6]"},null,{"$f":"IF($A162<=Daten!$B$8,LOOKUP($B162,Daten!$A$322:$A$371,Daten!$Z$322:$Z$371),\"\") & \" \" & IF($A162<=Daten!$B$8,LOOKUP($B162,Daten!$A$322:$A$371,Daten!$AA$322:$AA$371),\"\")","v":"23,7 Inhalt6Einh[23,7]"}]
[null,{"$f":"IF(A162<=Daten!$B$8,\"Zusatzstoffe\",\"\")","v":"Zusatzstoffe"},{"$f":"IF($A162<=Daten!$B$8,LOOKUP($B162,Daten!$A$16:$A$65,Daten!$L$16:$L$65),\"\")","v":23.1},{"$f":"IF($A162<=Daten!$B$8,LOOKUP($B162,Daten!$A$16:$A$65,Daten!$E$16:$E$65),\"\")","v":213.1},{"$f":"IF($A162<=Daten!$B$8,LOOKUP($B162,Daten!$A$67:$A$116,Daten!$L$67:$L$116),\"\")","v":23.2},{"$f":"IF($A162<=Daten!$B$8,LOOKUP($B162,Daten!$A$16:$A$65,Daten!$E$67:$E$116),\"\")","v":0},{"$f":"IF($A162<=Daten!$B$8,LOOKUP($B162,Daten!$A$118:$A$167,Daten!$L$118:$L$167),\"\")","v":23.3},{"$f":"IF($A162<=Daten!$B$8,LOOKUP($B162,Daten!$A$118:$A$167,Daten!$E$118:$E$167),\"\")","v":0},{"$f":"IF($A162<=Daten!$B$8,LOOKUP($B162,Daten!$A$169:$A$218,Daten!$L$169:$L$218),\"\")","v":23.4},{"$f":"IF($A162<=Daten!$B$8,LOOKUP($B162,Daten!$A$169:$A$218,Daten!$E$169:$E$218),\"\")","v":0},{"$f":"IF($A162<=Daten!$B$8,LOOKUP($B162,Daten!$A$220:$A$269,Daten!$L$220:$L$269),\"\")","v":23.5},{"$f":"IF($A162<=Daten!$B$8,LOOKUP($B162,Daten!$A$220:$A$269,Daten!$E$220:$E$269),\"\")","v":0},{"$f":"IF($A162<=Daten!$B$8,LOOKUP($B162,Daten!$A$271:$A$320,Daten!$L$271:$L$320),\"\")","v":23.6},{"$f":"IF($A162<=Daten!$B$8,LOOKUP($B162,Daten!$A$271:$A$320,Daten!$E$271:$E$320),\"\")","v":0},{"$f":"IF($A162<=Daten!$B$8,LOOKUP($B162,Daten!$A$322:$A$371,Daten!$L$322:$L$371),\"\")","v":23.7},{"$f":"IF($A162<=Daten!$B$8,LOOKUP($B162,Daten!$A$322:$A$371,Daten!$E$322:$E$371),\"\")","v":0}]
[24,{"$f":"IF(A169<=Daten!$B$8,Daten!Y9,\"\")","v":"Menülinie 24"},{"$f":"IF(A169<=Daten!$B$8,LOOKUP(B169,Daten!$A$16:$A$65,Daten!$C$16:$C$65),\"\")","v":"Lang[24,1]"},{"$f":"IF($A169<=Daten!$B$8,LOOKUP($B169,Daten!$A$16:$A$65,Daten!$P$16:$P$65),\"\") & \" \" & IF($A169<=Daten!$B$8,LOOKUP($B169,Daten!$A$16:$A$65,Daten!$Q$16:$Q$65),\"\")","v":"24,1 Inhalt1Einh[24,1]"},{"$f":"IF($A169<=Daten!$B$8,LOOKUP($B169,Daten!$A$67:$A$116,Daten!$C$67:$C$116),\"\")","v":"Lang[24,2]"},{"$f":"IF($A169<=Daten!$B$8,LOOKUP($B169,Daten!$A$67:$A$116,Daten!$P$67:$P$116),\"\") & \" \" & IF($A169<=Daten!$B$8,LOOKUP($B169,Daten!$A$67:$A$116,Daten!$Q$67:$Q$116),\"\")","v":"24,2 Inhalt1Einh[24,2]"},{"$f":"IF($A169<=Daten!$B$8,LOOKUP($B169,Daten!$A$118:$A$167,Daten!$C$118:$C$167),\"\")","v":"Lang[24,3]"},{"$f":"IF($A169<=Daten!$B$8,LOOKUP($B169,Daten!$A$118:$A$167,Daten!$P$118:$P$167),\"\") & \" \" & IF($A169<=Daten!$B$8,LOOKUP($B169,Daten!$A$118:$A$167,Daten!$Q$118:$Q$167),\"\")","v":"24,3 Inhalt1Einh[24,3]"},{"$f":"IF($A169<=Daten!$B$8,LOOKUP($B169,Daten!$A$169:$A$218,Daten!$C$169:$C$218),\"\")","v":"Lang[24,4]"},{"$f":"IF($A169<=Daten!$B$8,LOOKUP($B169,Daten!$A$169:$A$218,Daten!$P$169:$P$218),\"\") & \" \" & IF($A169<=Daten!$B$8,LOOKUP($B169,Daten!$A$169:$A$218,Daten!$Q$169:$Q$218),\"\")","v":"24,4 Inhalt1Einh[24,4]"},{"$f":"IF($A169<=Daten!$B$8,LOOKUP($B169,Daten!$A$220:$A$269,Daten!$C$220:$C$269),\"\")","v":"Lang[24,5]"},{"$f":"IF($A169<=Daten!$B$8,LOOKUP($B169,Daten!$A$220:$A$269,Daten!$P$220:$P$269),\"\") & \" \" & IF($A169<=Daten!$B$8,LOOKUP($B169,Daten!$A$220:$A$269,Daten!$Q$220:$Q$269),\"\")","v":"24,5 Inhalt1Einh[24,5]"},{"$f":"IF($A169<=Daten!$B$8,LOOKUP($B169,Daten!$A$271:$A$320,Daten!$C$271:$C$320),\"\")","v":"Lang[24,6]"},{"$f":"IF($A169<=Daten!$B$8,LOOKUP($B169,Daten!$A$271:$A$320,Daten!$P$271:$P$320),\"\") & \" \" & IF($A169<=Daten!$B$8,LOOKUP($B169,Daten!$A$271:$A$320,Daten!$Q$271:$Q$320),\"\")","v":"24,6 Inhalt1Einh[24,6]"},{"$f":"IF($A169<=Daten!$B$8,LOOKUP($B169,Daten!$A$322:$A$371,Daten!$B$322:$C$371),\"\")","v":{"$error":"#N/A"}},{"$f":"IF($A169<=Daten!$B$8,LOOKUP($B169,Daten!$A$322:$A$371,Daten!$P$322:$P$371),\"\") & \" \" & IF($A169<=Daten!$B$8,LOOKUP($B169,Daten!$A$322:$A$371,Daten!$Q$322:$Q$371),\"\")","v":"24,7 Inhalt1Einh[24,7]"}]
[null,null,null,{"$f":"IF($A169<=Daten!$B$8,LOOKUP($B169,Daten!$A$16:$A$65,Daten!$R$16:$R$65),\"\") & \" \" & IF($A169<=Daten!$B$8,LOOKUP($B169,Daten!$A$16:$A$65,Daten!$S$16:$S$65),\"\")","v":"24,1 Inhalt2Einh[24,1]"},null,{"$f":"IF($A169<=Daten!$B$8,LOOKUP($B169,Daten!$A$67:$A$116,Daten!$R$67:$R$116),\"\") & \" \" & IF($A169<=Daten!$B$8,LOOKUP($B169,Daten!$A$67:$A$116,Daten!$S$67:$S$116),\"\")","v":"24,2 Inhalt2Einh[24,2]"},null,{"$f":"IF($A169<=Daten!$B$8,LOOKUP($B169,Daten!$A$118:$A$167,Daten!$R$118:$R$167),\"\") & \" \" & IF($A169<=Daten!$B$8,LOOKUP($B169,Daten!$A$118:$A$167,Daten!$S$118:$S$167),\"\")","v":"24,3 Inhalt2Einh[24,3]"},null,{"$f":"IF($A169<=Daten!$B$8,LOOKUP($B169,Daten!$A$169:$A$218,Daten!$R$169:$R$218),\"\") & \" \" & IF($A169<=Daten!$B$8,LOOKUP($B169,Daten!$A$169:$A$218,Daten!$S$169:$S$218),\"\")","v":"24,4 Inhalt2Einh[24,4]"},null,{"$f":"IF($A169<=Daten!$B$8,LOOKUP($B169,Daten!$A$220:$A$269,Daten!$R$220:$R$269),\"\") & \" \" & IF($A169<=Daten!$B$8,LOOKUP($B169,Daten!$A$220:$A$269,Daten!$S$220:$S$269),\"\")","v":"24,5 Inhalt2Einh[24,5]"},null,{"$f":"IF($A169<=Daten!$B$8,LOOKUP($B169,Daten!$A$271:$A$320,Daten!$R$271:$R$320),\"\") & \" \" & IF($A169<=Daten!$B$8,LOOKUP($B169,Daten!$A$271:$A$320,Daten!$S$271:$S$320),\"\")","v":"24,6 Inhalt2Einh[24,6]"},null,{"$f":"IF($A169<=Daten!$B$8,LOOKUP($B169,Daten!$A$322:$A$371,Daten!$R$322:$R$371),\"\") & \" \" & IF($A169<=Daten!$B$8,LOOKUP($B169,Daten!$A$322:$A$371,Daten!$S$322:$S$371),\"\")","v":"24,7 Inhalt2Einh[24,7]"}]
[null,null,null,{"$f":"IF($A169<=Daten!$B$8,LOOKUP($B169,Daten!$A$16:$A$65,Daten!$T$16:$T$65),\"\") & \" \" & IF($A169<=Daten!$B$8,LOOKUP($B169,Daten!$A$16:$A$65,Daten!$U$16:$U$65),\"\")","v":"24,1 Inhalt3Einh[24,1]"},null,{"$f":"IF($A169<=Daten!$B$8,LOOKUP($B169,Daten!$A$67:$A$116,Daten!$T$67:$T$116),\"\") & \" \" & IF($A169<=Daten!$B$8,LOOKUP($B169,Daten!$A$67:$A$116,Daten!$U$67:$U$116),\"\")","v":"24,2 Inhalt3Einh[24,2]"},null,{"$f":"IF($A169<=Daten!$B$8,LOOKUP($B169,Daten!$A$118:$A$167,Daten!$T$118:$T$167),\"\") & \" \" & IF($A169<=Daten!$B$8,LOOKUP($B169,Daten!$A$118:$A$167,Daten!$U$118:$U$167),\"\")","v":"24,3 Inhalt3Einh[24,3]"},null,{"$f":"IF($A169<=Daten!$B$8,LOOKUP($B169,Daten!$A$169:$A$218,Daten!$T$169:$T$218),\"\") & \" \" & IF($A169<=Daten!$B$8,LOOKUP($B169,Daten!$A$169:$A$218,Daten!$U$169:$U$218),\"\")","v":"24,4 Inhalt3Einh[24,4]"},null,{"$f":"IF($A169<=Daten!$B$8,LOOKUP($B169,Daten!$A$220:$A$269,Daten!$T$220:$T$269),\"\") & \" \" & IF($A169<=Daten!$B$8,LOOKUP($B169,Daten!$A$220:$A$269,Daten!$U$220:$U$269),\"\")","v":"24,5 Inhalt3Einh[24,5]"},null,{"$f":"IF($A169<=Daten!$B$8,LOOKUP($B169,Daten!$A$271:$A$320,Daten!$T$271:$T$320),\"\") & \" \" & IF($A169<=Daten!$B$8,LOOKUP($B169,Daten!$A$271:$A$320,Daten!$U$271:$U$320),\"\")","v":"24,6 Inhalt3Einh[24,6]"},null,{"$f":"IF($A169<=Daten!$B$8,LOOKUP($B169,Daten!$A$322:$A$371,Daten!$T$322:$T$371),\"\") & \" \" & IF($A169<=Daten!$B$8,LOOKUP($B169,Daten!$A$322:$A$371,Daten!$U$322:$U$371),\"\")","v":"24,7 Inhalt3Einh[24,7]"}]
[null,null,null,{"$f":"IF($A169<=Daten!$B$8,LOOKUP($B169,Daten!$A$16:$A$65,Daten!$V$16:$V$65),\"\") & \" \" & IF($A169<=Daten!$B$8,LOOKUP($B169,Daten!$A$16:$A$65,Daten!$W$16:$W$65),\"\")","v":"24,1 Inhalt4Einh[24,1]"},null,{"$f":"IF($A169<=Daten!$B$8,LOOKUP($B169,Daten!$A$67:$A$116,Daten!$V$67:$V$116),\"\") & \" \" & IF($A169<=Daten!$B$8,LOOKUP($B169,Daten!$A$67:$A$116,Daten!$W$67:$W$116),\"\")","v":"24,2 Inhalt4Einh[24,2]"},null,{"$f":"IF($A169<=Daten!$B$8,LOOKUP($B169,Daten!$A$118:$A$167,Daten!$V$118:$V$167),\"\") & \" \" & IF($A169<=Daten!$B$8,LOOKUP($B169,Daten!$A$118:$A$167,Daten!$W$118:$W$167),\"\")","v":"24,3 Inhalt4Einh[24,3]"},null,{"$f":"IF($A169<=Daten!$B$8,LOOKUP($B169,Daten!$A$169:$A$218,Daten!$V$169:$V$218),\"\") & \" \" & IF($A169<=Daten!$B$8,LOOKUP($B169,Daten!$A$169:$A$218,Daten!$W$169:$W$218),\"\")","v":"24,4 Inhalt4Einh[24,4]"},null,{"$f":"IF($A169<=Daten!$B$8,LOOKUP($B169,Daten!$A$220:$A$269,Daten!$V$220:$V$269),\"\") & \" \" & IF($A169<=Daten!$B$8,LOOKUP($B169,Daten!$A$220:$A$269,Daten!$W$220:$W$269),\"\")","v":"24,5 Inhalt4Einh[24,5]"},null,{"$f":"IF($A169<=Daten!$B$8,LOOKUP($B169,Daten!$A$271:$A$320,Daten!$V$271:$V$320),\"\") & \" \" & IF($A169<=Daten!$B$8,LOOKUP($B169,Daten!$A$271:$A$320,Daten!$W$271:$W$320),\"\")","v":"24,6 Inhalt4Einh[24,6]"},null,{"$f":"IF($A169<=Daten!$B$8,LOOKUP($B169,Daten!$A$322:$A$371,Daten!$V$322:$V$371),\"\") & \" \" & IF($A169<=Daten!$B$8,LOOKUP($B169,Daten!$A$322:$A$371,Daten!$W$322:$W$371),\"\")","v":"24,7 Inhalt4Einh[24,7]"}]
[null,null,null,{"$f":"IF($A169<=Daten!$B$8,LOOKUP($B169,Daten!$A$16:$A$65,Daten!$X$16:$X$65),\"\") & \" \" & IF($A169<=Daten!$B$8,LOOKUP($B169,Daten!$A$16:$A$65,Daten!$Y$16:$Y$65),\"\")","v":"24,1 Inhalt5Einh[24,1]"},null,{"$f":"IF($A169<=Daten!$B$8,LOOKUP($B169,Daten!$A$67:$A$116,Daten!$X$67:$X$116),\"\") & \" \" & IF($A169<=Daten!$B$8,LOOKUP($B169,Daten!$A$67:$A$116,Daten!$Y$67:$Y$116),\"\")","v":"24,2 Inhalt5Einh[24,2]"},null,{"$f":"IF($A169<=Daten!$B$8,LOOKUP($B169,Daten!$A$118:$A$167,Daten!$X$118:$X$167),\"\") & \" \" & IF($A169<=Daten!$B$8,LOOKUP($B169,Daten!$A$118:$A$167,Daten!$Y$118:$Y$167),\"\")","v":"24,3 Inhalt5Einh[24,3]"},null,{"$f":"IF($A169<=Daten!$B$8,LOOKUP($B169,Daten!$A$169:$A$218,Daten!$X$169:$X$218),\"\") & \" \" & IF($A169<=Daten!$B$8,LOOKUP($B169,Daten!$A$169:$A$218,Daten!$Y$169:$Y$218),\"\")","v":"24,4 Inhalt5Einh[24,4]"},null,{"$f":"IF($A169<=Daten!$B$8,LOOKUP($B169,Daten!$A$220:$A$269,Daten!$X$220:$X$269),\"\") & \" \" & IF($A169<=Daten!$B$8,LOOKUP($B169,Daten!$A$220:$A$269,Daten!$Y$220:$Y$269),\"\")","v":"24,5 Inhalt5Einh[24,5]"},null,{"$f":"IF($A169<=Daten!$B$8,LOOKUP($B169,Daten!$A$271:$A$320,Daten!$X$271:$X$320),\"\") & \" \" & IF($A169<=Daten!$B$8,LOOKUP($B169,Daten!$A$271:$A$320,Daten!$Y$271:$Y$320),\"\")","v":"24,6 Inhalt5Einh[24,6]"},null,{"$f":"IF($A169<=Daten!$B$8,LOOKUP($B169,Daten!$A$322:$A$371,Daten!$X$322:$X$371),\"\") & \" \" & IF($A169<=Daten!$B$8,LOOKUP($B169,Daten!$A$322:$A$371,Daten!$Y$322:$Y$371),\"\")","v":"24,7 Inhalt5Einh[24,7]"}]
[null,null,null,{"$f":"IF($A169<=Daten!$B$8,LOOKUP($B169,Daten!$A$16:$A$65,Daten!$Z$16:$Z$65),\"\") & \" \" & IF($A169<=Daten!$B$8,LOOKUP($B169,Daten!$A$16:$A$65,Daten!$AA$16:$AA$65),\"\")","v":"24,1 Inhalt6Einh[24,1]"},null,{"$f":"IF($A169<=Daten!$B$8,LOOKUP($B169,Daten!$A$67:$A$116,Daten!$Z$67:$Z$116),\"\") & \" \" & IF($A169<=Daten!$B$8,LOOKUP($B169,Daten!$A$67:$A$116,Daten!$AA$67:$AA$116),\"\")","v":"24,2 Inhalt6Einh[24,2]"},null,{"$f":"IF($A169<=Daten!$B$8,LOOKUP($B169,Daten!$A$118:$A$167,Daten!$Z$118:$Z$167),\"\") & \" \" & IF($A169<=Daten!$B$8,LOOKUP($B169,Daten!$A$118:$A$167,Daten!$AA$118:$AA$167),\"\")","v":"24,3 Inhalt6Einh[24,3]"},null,{"$f":"IF($A169<=Daten!$B$8,LOOKUP($B169,Daten!$A$169:$A$218,Daten!$Z$169:$Z$218),\"\") & \" \" & IF($A169<=Daten!$B$8,LOOKUP($B169,Daten!$A$169:$A$218,Daten!$AA$169:$AA$218),\"\")","v":"24,4 Inhalt6Einh[24,4]"},null,{"$f":"IF($A169<=Daten!$B$8,LOOKUP($B169,Daten!$A$220:$A$269,Daten!$Z$220:$Z$269),\"\") & \" \" & IF($A169<=Daten!$B$8,LOOKUP($B169,Daten!$A$220:$A$269,Daten!$AA$220:$AA$269),\"\")","v":"24,5 Inhalt6Einh[24,5]"},null,{"$f":"IF($A169<=Daten!$B$8,LOOKUP($B169,Daten!$A$271:$A$320,Daten!$Z$271:$Z$320),\"\") & \" \" & IF($A169<=Daten!$B$8,LOOKUP($B169,Daten!$A$271:$A$320,Daten!$AA$271:$AA$320),\"\")","v":"24,6 Inhalt6Einh[24,6]"},null,{"$f":"IF($A169<=Daten!$B$8,LOOKUP($B169,Daten!$A$322:$A$371,Daten!$Z$322:$Z$371),\"\") & \" \" & IF($A169<=Daten!$B$8,LOOKUP($B169,Daten!$A$322:$A$371,Daten!$AA$322:$AA$371),\"\")","v":"24,7 Inhalt6Einh[24,7]"}]
[null,{"$f":"IF(A169<=Daten!$B$8,\"Zusatzstoffe\",\"\")","v":"Zusatzstoffe"},{"$f":"IF($A169<=Daten!$B$8,LOOKUP($B169,Daten!$A$16:$A$65,Daten!$L$16:$L$65),\"\")","v":24.1},{"$f":"IF($A169<=Daten!$B$8,LOOKUP($B169,Daten!$A$16:$A$65,Daten!$E$16:$E$65),\"\")","v":214.1},{"$f":"IF($A169<=Daten!$B$8,LOOKUP($B169,Daten!$A$67:$A$116,Daten!$L$67:$L$116),\"\")","v":24.2},{"$f":"IF($A169<=Daten!$B$8,LOOKUP($B169,Daten!$A$16:$A$65,Daten!$E$67:$E$116),\"\")","v":0},{"$f":"IF($A169<=Daten!$B$8,LOOKUP($B169,Daten!$A$118:$A$167,Daten!$L$118:$L$167),\"\")","v":24.3},{"$f":"IF($A169<=Daten!$B$8,LOOKUP($B169,Daten!$A$118:$A$167,Daten!$E$118:$E$167),\"\")","v":0},{"$f":"IF($A169<=Daten!$B$8,LOOKUP($B169,Daten!$A$169:$A$218,Daten!$L$169:$L$218),\"\")","v":24.4},{"$f":"IF($A169<=Daten!$B$8,LOOKUP($B169,Daten!$A$169:$A$218,Daten!$E$169:$E$218),\"\")","v":0},{"$f":"IF($A169<=Daten!$B$8,LOOKUP($B169,Daten!$A$220:$A$269,Daten!$L$220:$L$269),\"\")","v":24.5},{"$f":"IF($A169<=Daten!$B$8,LOOKUP($B169,Daten!$A$220:$A$269,Daten!$E$220:$E$269),\"\")","v":0},{"$f":"IF($A169<=Daten!$B$8,LOOKUP($B169,Daten!$A$271:$A$320,Daten!$L$271:$L$320),\"\")","v":24.6},{"$f":"IF($A169<=Daten!$B$8,LOOKUP($B169,Daten!$A$271:$A$320,Daten!$E$271:$E$320),\"\")","v":0},{"$f":"IF($A169<=Daten!$B$8,LOOKUP($B169,Daten!$A$322:$A$371,Daten!$L$322:$L$371),\"\")","v":24.7},{"$f":"IF($A169<=Daten!$B$8,LOOKUP($B169,Daten!$A$322:$A$371,Daten!$E$322:$E$371),\"\")","v":0}]
[25,{"$f":"IF(A176<=Daten!$B$8,Daten!Z9,\"\")","v":"Menülinie 25"},{"$f":"IF(A176<=Daten!$B$8,LOOKUP(B176,Daten!$A$16:$A$65,Daten!$C$16:$C$65),\"\")","v":"Lang[25,1]"},{"$f":"IF($A176<=Daten!$B$8,LOOKUP($B176,Daten!$A$16:$A$65,Daten!$P$16:$P$65),\"\") & \" \" & IF($A176<=Daten!$B$8,LOOKUP($B176,Daten!$A$16:$A$65,Daten!$Q$16:$Q$65),\"\")","v":"25,1 Inhalt1Einh[25,1]"},{"$f":"IF($A176<=Daten!$B$8,LOOKUP($B176,Daten!$A$67:$A$116,Daten!$C$67:$C$116),\"\")","v":"Lang[25,2]"},{"$f":"IF($A176<=Daten!$B$8,LOOKUP($B176,Daten!$A$67:$A$116,Daten!$P$67:$P$116),\"\") & \" \" & IF($A176<=Daten!$B$8,LOOKUP($B176,Daten!$A$67:$A$116,Daten!$Q$67:$Q$116),\"\")","v":"25,2 Inhalt1Einh[25,2]"},{"$f":"IF($A176<=Daten!$B$8,LOOKUP($B176,Daten!$A$118:$A$167,Daten!$C$118:$C$167),\"\")","v":"Lang[25,3]"},{"$f":"IF($A176<=Daten!$B$8,LOOKUP($B176,Daten!$A$118:$A$167,Daten!$P$118:$P$167),\"\") & \" \" & IF($A176<=Daten!$B$8,LOOKUP($B176,Daten!$A$118:$A$167,Daten!$Q$118:$Q$167),\"\")","v":"25,3 Inhalt1Einh[25,3]"},{"$f":"IF($A176<=Daten!$B$8,LOOKUP($B176,Daten!$A$169:$A$218,Daten!$C$169:$C$218),\"\")","v":"Lang[25,4]"},{"$f":"IF($A176<=Daten!$B$8,LOOKUP($B176,Daten!$A$169:$A$218,Daten!$P$169:$P$218),\"\") & \" \" & IF($A176<=Daten!$B$8,LOOKUP($B176,Daten!$A$169:$A$218,Daten!$Q$169:$Q$218),\"\")","v":"25,4 Inhalt1Einh[25,4]"},{"$f":"IF($A176<=Daten!$B$8,LOOKUP($B176,Daten!$A$220:$A$269,Daten!$C$220:$C$269),\"\")","v":"Lang[25,5]"},{"$f":"IF($A176<=Daten!$B$8,LOOKUP($B176,Daten!$A$220:$A$269,Daten!$P$220:$P$269),\"\") & \" \" & IF($A176<=Daten!$B$8,LOOKUP($B176,Daten!$A$220:$A$269,Daten!$Q$220:$Q$269),\"\")","v":"25,5 Inhalt1Einh[25,5]"},{"$f":"IF($A176<=Daten!$B$8,LOOKUP($B176,Daten!$A$271:$A$320,Daten!$C$271:$C$320),\"\")","v":"Lang[25,6]"},{"$f":"IF($A176<=Daten!$B$8,LOOKUP($B176,Daten!$A$271:$A$320,Daten!$P$271:$P$320),\"\") & \" \" & IF($A176<=Daten!$B$8,LOOKUP($B176,Daten!$A$271:$A$320,Daten!$Q$271:$Q$320),\"\")","v":"25,6 Inhalt1Einh[25,6]"},{"$f":"IF($A176<=Daten!$B$8,LOOKUP($B176,Daten!$A$322:$A$371,Daten!$B$322:$C$371),\"\")","v":{"$error":"#N/A"}},{"$f":"IF($A176<=Daten!$B$8,LOOKUP($B176,Daten!$A$322:$A$371,Daten!$P$322:$P$371),\"\") & \" \" & IF($A176<=Daten!$B$8,LOOKUP($B176,Daten!$A$322:$A$371,Daten!$Q$322:$Q$371),\"\")","v":"25,7 Inhalt1Einh[25,7]"}]
[null,null,null,{"$f":"IF($A176<=Daten!$B$8,LOOKUP($B176,Daten!$A$16:$A$65,Daten!$R$16:$R$65),\"\") & \" \" & IF($A176<=Daten!$B$8,LOOKUP($B176,Daten!$A$16:$A$65,Daten!$S$16:$S$65),\"\")","v":"25,1 Inhalt2Einh[25,1]"},null,{"$f":"IF($A176<=Daten!$B$8,LOOKUP($B176,Daten!$A$67:$A$116,Daten!$R$67:$R$116),\"\") & \" \" & IF($A176<=Daten!$B$8,LOOKUP($B176,Daten!$A$67:$A$116,Daten!$S$67:$S$116),\"\")","v":"25,2 Inhalt2Einh[25,2]"},null,{"$f":"IF($A176<=Daten!$B$8,LOOKUP($B176,Daten!$A$118:$A$167,Daten!$R$118:$R$167),\"\") & \" \" & IF($A176<=Daten!$B$8,LOOKUP($B176,Daten!$A$118:$A$167,Daten!$S$118:$S$167),\"\")","v":"25,3 Inhalt2Einh[25,3]"},null,{"$f":"IF($A176<=Daten!$B$8,LOOKUP($B176,Daten!$A$169:$A$218,Daten!$R$169:$R$218),\"\") & \" \" & IF($A176<=Daten!$B$8,LOOKUP($B176,Daten!$A$169:$A$218,Daten!$S$169:$S$218),\"\")","v":"25,4 Inhalt2Einh[25,4]"},null,{"$f":"IF($A176<=Daten!$B$8,LOOKUP($B176,Daten!$A$220:$A$269,Daten!$R$220:$R$269),\"\") & \" \" & IF($A176<=Daten!$B$8,LOOKUP($B176,Daten!$A$220:$A$269,Daten!$S$220:$S$269),\"\")","v":"25,5 Inhalt2Einh[25,5]"},null,{"$f":"IF($A176<=Daten!$B$8,LOOKUP($B176,Daten!$A$271:$A$320,Daten!$R$271:$R$320),\"\") & \" \" & IF($A176<=Daten!$B$8,LOOKUP($B176,Daten!$A$271:$A$320,Daten!$S$271:$S$320),\"\")","v":"25,6 Inhalt2Einh[25,6]"},null,{"$f":"IF($A176<=Daten!$B$8,LOOKUP($B176,Daten!$A$322:$A$371,Daten!$R$322:$R$371),\"\") & \" \" & IF($A176<=Daten!$B$8,LOOKUP($B176,Daten!$A$322:$A$371,Daten!$S$322:$S$371),\"\")","v":"25,7 Inhalt2Einh[25,7]"}]
[null,null,null,{"$f":"IF($A176<=Daten!$B$8,LOOKUP($B176,Daten!$A$16:$A$65,Daten!$T$16:$T$65),\"\") & \" \" & IF($A176<=Daten!$B$8,LOOKUP($B176,Daten!$A$16:$A$65,Daten!$U$16:$U$65),\"\")","v":"25,1 Inhalt3Einh[25,1]"},null,{"$f":"IF($A176<=Daten!$B$8,LOOKUP($B176,Daten!$A$67:$A$116,Daten!$T$67:$T$116),\"\") & \" \" & IF($A176<=Daten!$B$8,LOOKUP($B176,Daten!$A$67:$A$116,Daten!$U$67:$U$116),\"\")","v":"25,2 Inhalt3Einh[25,2]"},null,{"$f":"IF($A176<=Daten!$B$8,LOOKUP($B176,Daten!$A$118:$A$167,Daten!$T$118:$T$167),\"\") & \" \" & IF($A176<=Daten!$B$8,LOOKUP($B176,Daten!$A$118:$A$167,Daten!$U$118:$U$167),\"\")","v":"25,3 Inhalt3Einh[25,3]"},null,{"$f":"IF($A176<=Daten!$B$8,LOOKUP($B176,Daten!$A$169:$A$218,Daten!$T$169:$T$218),\"\") & \" \" & IF($A176<=Daten!$B$8,LOOKUP($B176,Daten!$A$169:$A$218,Daten!$U$169:$U$218),\"\")","v":"25,4 Inhalt3Einh[25,4]"},null,{"$f":"IF($A176<=Daten!$B$8,LOOKUP($B176,Daten!$A$220:$A$269,Daten!$T$220:$T$269),\"\") & \" \" & IF($A176<=Daten!$B$8,LOOKUP($B176,Daten!$A$220:$A$269,Daten!$U$220:$U$269),\"\")","v":"25,5 Inhalt3Einh[25,5]"},null,{"$f":"IF($A176<=Daten!$B$8,LOOKUP($B176,Daten!$A$271:$A$320,Daten!$T$271:$T$320),\"\") & \" \" & IF($A176<=Daten!$B$8,LOOKUP($B176,Daten!$A$271:$A$320,Daten!$U$271:$U$320),\"\")","v":"25,6 Inhalt3Einh[25,6]"},null,{"$f":"IF($A176<=Daten!$B$8,LOOKUP($B176,Daten!$A$322:$A$371,Daten!$T$322:$T$371),\"\") & \" \" & IF($A176<=Daten!$B$8,LOOKUP($B176,Daten!$A$322:$A$371,Daten!$U$322:$U$371),\"\")","v":"25,7 Inhalt3Einh[25,7]"}]
[null,null,null,{"$f":"IF($A176<=Daten!$B$8,LOOKUP($B176,Daten!$A$16:$A$65,Daten!$V$16:$V$65),\"\") & \" \" & IF($A176<=Daten!$B$8,LOOKUP($B176,Daten!$A$16:$A$65,Daten!$W$16:$W$65),\"\")","v":"25,1 Inhalt4Einh[25,1]"},null,{"$f":"IF($A176<=Daten!$B$8,LOOKUP($B176,Daten!$A$67:$A$116,Daten!$V$67:$V$116),\"\") & \" \" & IF($A176<=Daten!$B$8,LOOKUP($B176,Daten!$A$67:$A$116,Daten!$W$67:$W$116),\"\")","v":"25,2 Inhalt4Einh[25,2]"},null,{"$f":"IF($A176<=Daten!$B$8,LOOKUP($B176,Daten!$A$118:$A$167,Daten!$V$118:$V$167),\"\") & \" \" & IF($A176<=Daten!$B$8,LOOKUP($B176,Daten!$A$118:$A$167,Daten!$W$118:$W$167),\"\")","v":"25,3 Inhalt4Einh[25,3]"},null,{"$f":"IF($A176<=Daten!$B$8,LOOKUP($B176,Daten!$A$169:$A$218,Daten!$V$169:$V$218),\"\") & \" \" & IF($A176<=Daten!$B$8,LOOKUP($B176,Daten!$A$169:$A$218,Daten!$W$169:$W$218),\"\")","v":"25,4 Inhalt4Einh[25,4]"},null,{"$f":"IF($A176<=Daten!$B$8,LOOKUP($B176,Daten!$A$220:$A$269,Daten!$V$220:$V$269),\"\") & \" \" & IF($A176<=Daten!$B$8,LOOKUP($B176,Daten!$A$220:$A$269,Daten!$W$220:$W$269),\"\")","v":"25,5 Inhalt4Einh[25,5]"},null,{"$f":"IF($A176<=Daten!$B$8,LOOKUP($B176,Daten!$A$271:$A$320,Daten!$V$271:$V$320),\"\") & \" \" & IF($A176<=Daten!$B$8,LOOKUP($B176,Daten!$A$271:$A$320,Daten!$W$271:$W$320),\"\")","v":"25,6 Inhalt4Einh[25,6]"},null,{"$f":"IF($A176<=Daten!$B$8,LOOKUP($B176,Daten!$A$322:$A$371,Daten!$V$322:$V$371),\"\") & \" \" & IF($A176<=Daten!$B$8,LOOKUP($B176,Daten!$A$322:$A$371,Daten!$W$322:$W$371),\"\")","v":"25,7 Inhalt4Einh[25,7]"}]
[null,null,null,{"$f":"IF($A176<=Daten!$B$8,LOOKUP($B176,Daten!$A$16:$A$65,Daten!$X$16:$X$65),\"\") & \" \" & IF($A176<=Daten!$B$8,LOOKUP($B176,Daten!$A$16:$A$65,Daten!$Y$16:$Y$65),\"\")","v":"25,1 Inhalt5Einh[25,1]"},null,{"$f":"IF($A176<=Daten!$B$8,LOOKUP($B176,Daten!$A$67:$A$116,Daten!$X$67:$X$116),\"\") & \" \" & IF($A176<=Daten!$B$8,LOOKUP($B176,Daten!$A$67:$A$116,Daten!$Y$67:$Y$116),\"\")","v":"25,2 Inhalt5Einh[25,2]"},null,{"$f":"IF($A176<=Daten!$B$8,LOOKUP($B176,Daten!$A$118:$A$167,Daten!$X$118:$X$167),\"\") & \" \" & IF($A176<=Daten!$B$8,LOOKUP($B176,Daten!$A$118:$A$167,Daten!$Y$118:$Y$167),\"\")","v":"25,3 Inhalt5Einh[25,3]"},null,{"$f":"IF($A176<=Daten!$B$8,LOOKUP($B176,Daten!$A$169:$A$218,Daten!$X$169:$X$218),\"\") & \" \" & IF($A176<=Daten!$B$8,LOOKUP($B176,Daten!$A$169:$A$218,Daten!$Y$169:$Y$218),\"\")","v":"25,4 Inhalt5Einh[25,4]"},null,{"$f":"IF($A176<=Daten!$B$8,LOOKUP($B176,Daten!$A$220:$A$269,Daten!$X$220:$X$269),\"\") & \" \" & IF($A176<=Daten!$B$8,LOOKUP($B176,Daten!$A$220:$A$269,Daten!$Y$220:$Y$269),\"\")","v":"25,5 Inhalt5Einh[25,5]"},null,{"$f":"IF($A176<=Daten!$B$8,LOOKUP($B176,Daten!$A$271:$A$320,Daten!$X$271:$X$320),\"\") & \" \" & IF($A176<=Daten!$B$8,LOOKUP($B176,Daten!$A$271:$A$320,Daten!$Y$271:$Y$320),\"\")","v":"25,6 Inhalt5Einh[25,6]"},null,{"$f":"IF($A176<=Daten!$B$8,LOOKUP($B176,Daten!$A$322:$A$371,Daten!$X$322:$X$371),\"\") & \" \" & IF($A176<=Daten!$B$8,LOOKUP($B176,Daten!$A$322:$A$371,Daten!$Y$322:$Y$371),\"\")","v":"25,7 Inhalt5Einh[25,7]"}]
[null,null,null,{"$f":"IF($A176<=Daten!$B$8,LOOKUP($B176,Daten!$A$16:$A$65,Daten!$Z$16:$Z$65),\"\") & \" \" & IF($A176<=Daten!$B$8,LOOKUP($B176,Daten!$A$16:$A$65,Daten!$AA$16:$AA$65),\"\")","v":"25,1 Inhalt6Einh[25,1]"},null,{"$f":"IF($A176<=Daten!$B$8,LOOKUP($B176,Daten!$A$67:$A$116,Daten!$Z$67:$Z$116),\"\") & \" \" & IF($A176<=Daten!$B$8,LOOKUP($B176,Daten!$A$67:$A$116,Daten!$AA$67:$AA$116),\"\")","v":"25,2 Inhalt6Einh[25,2]"},null,{"$f":"IF($A176<=Daten!$B$8,LOOKUP($B176,Daten!$A$118:$A$167,Daten!$Z$118:$Z$167),\"\") & \" \" & IF($A176<=Daten!$B$8,LOOKUP($B176,Daten!$A$118:$A$167,Daten!$AA$118:$AA$167),\"\")","v":"25,3 Inhalt6Einh[25,3]"},null,{"$f":"IF($A176<=Daten!$B$8,LOOKUP($B176,Daten!$A$169:$A$218,Daten!$Z$169:$Z$218),\"\") & \" \" & IF($A176<=Daten!$B$8,LOOKUP($B176,Daten!$A$169:$A$218,Daten!$AA$169:$AA$218),\"\")","v":"25,4 Inhalt6Einh[25,4]"},null,{"$f":"IF($A176<=Daten!$B$8,LOOKUP($B176,Daten!$A$220:$A$269,Daten!$Z$220:$Z$269),\"\") & \" \" & IF($A176<=Daten!$B$8,LOOKUP($B176,Daten!$A$220:$A$269,Daten!$AA$220:$AA$269),\"\")","v":"25,5 Inhalt6Einh[25,5]"},null,{"$f":"IF($A176<=Daten!$B$8,LOOKUP($B176,Daten!$A$271:$A$320,Daten!$Z$271:$Z$320),\"\") & \" \" & IF($A176<=Daten!$B$8,LOOKUP($B176,Daten!$A$271:$A$320,Daten!$AA$271:$AA$320),\"\")","v":"25,6 Inhalt6Einh[25,6]"},null,{"$f":"IF($A176<=Daten!$B$8,LOOKUP($B176,Daten!$A$322:$A$371,Daten!$Z$322:$Z$371),\"\") & \" \" & IF($A176<=Daten!$B$8,LOOKUP($B176,Daten!$A$322:$A$371,Daten!$AA$322:$AA$371),\"\")","v":"25,7 Inhalt6Einh[25,7]"}]
[null,{"$f":"IF(A176<=Daten!$B$8,\"Zusatzstoffe\",\"\")","v":"Zusatzstoffe"},{"$f":"IF($A176<=Daten!$B$8,LOOKUP($B176,Daten!$A$16:$A$65,Daten!$L$16:$L$65),\"\")","v":25.1},{"$f":"IF($A176<=Daten!$B$8,LOOKUP($B176,Daten!$A$16:$A$65,Daten!$E$16:$E$65),\"\")","v":215.1},{"$f":"IF($A176<=Daten!$B$8,LOOKUP($B176,Daten!$A$67:$A$116,Daten!$L$67:$L$116),\"\")","v":25.2},{"$f":"IF($A176<=Daten!$B$8,LOOKUP($B176,Daten!$A$16:$A$65,Daten!$E$67:$E$116),\"\")","v":0},{"$f":"IF($A176<=Daten!$B$8,LOOKUP($B176,Daten!$A$118:$A$167,Daten!$L$118:$L$167),\"\")","v":25.3},{"$f":"IF($A176<=Daten!$B$8,LOOKUP($B176,Daten!$A$118:$A$167,Daten!$E$118:$E$167),\"\")","v":0},{"$f":"IF($A176<=Daten!$B$8,LOOKUP($B176,Daten!$A$169:$A$218,Daten!$L$169:$L$218),\"\")","v":25.4},{"$f":"IF($A176<=Daten!$B$8,LOOKUP($B176,Daten!$A$169:$A$218,Daten!$E$169:$E$218),\"\")","v":0},{"$f":"IF($A176<=Daten!$B$8,LOOKUP($B176,Daten!$A$220:$A$269,Daten!$L$220:$L$269),\"\")","v":25.5},{"$f":"IF($A176<=Daten!$B$8,LOOKUP($B176,Daten!$A$220:$A$269,Daten!$E$220:$E$269),\"\")","v":0},{"$f":"IF($A176<=Daten!$B$8,LOOKUP($B176,Daten!$A$271:$A$320,Daten!$L$271:$L$320),\"\")","v":25.6},{"$f":"IF($A176<=Daten!$B$8,LOOKUP($B176,Daten!$A$271:$A$320,Daten!$E$271:$E$320),\"\")","v":0},{"$f":"IF($A176<=Daten!$B$8,LOOKUP($B176,Daten!$A$322:$A$371,Daten!$L$322:$L$371),\"\")","v":25.7},{"$f":"IF($A176<=Daten!$B$8,LOOKUP($B176,Daten!$A$322:$A$371,Daten!$E$322:$E$371),\"\")","v":0}]
[26,{"$f":"IF(A183<=Daten!$B$8,Daten!AA9,\"\")","v":"Menülinie 26"},{"$f":"IF(A183<=Daten!$B$8,LOOKUP(B183,Daten!$A$16:$A$65,Daten!$C$16:$C$65),\"\")","v":"Lang[26,1]"},{"$f":"IF($A183<=Daten!$B$8,LOOKUP($B183,Daten!$A$16:$A$65,Daten!$P$16:$P$65),\"\") & \" \" & IF($A183<=Daten!$B$8,LOOKUP($B183,Daten!$A$16:$A$65,Daten!$Q$16:$Q$65),\"\")","v":"26,1 Inhalt1Einh[26,1]"},{"$f":"IF($A183<=Daten!$B$8,LOOKUP($B183,Daten!$A$67:$A$116,Daten!$C$67:$C$116),\"\")","v":"Lang[26,2]"},{"$f":"IF($A183<=Daten!$B$8,LOOKUP($B183,Daten!$A$67:$A$116,Daten!$P$67:$P$116),\"\") & \" \" & IF($A183<=Daten!$B$8,LOOKUP($B183,Daten!$A$67:$A$116,Daten!$Q$67:$Q$116),\"\")","v":"26,2 Inhalt1Einh[26,2]"},{"$f":"IF($A183<=Daten!$B$8,LOOKUP($B183,Daten!$A$118:$A$167,Daten!$C$118:$C$167),\"\")","v":"Lang[26,3]"},{"$f":"IF($A183<=Daten!$B$8,LOOKUP($B183,Daten!$A$118:$A$167,Daten!$P$118:$P$167),\"\") & \" \" & IF($A183<=Daten!$B$8,LOOKUP($B183,Daten!$A$118:$A$167,Daten!$Q$118:$Q$167),\"\")","v":"26,3 Inhalt1Einh[26,3]"},{"$f":"IF($A183<=Daten!$B$8,LOOKUP($B183,Daten!$A$169:$A$218,Daten!$C$169:$C$218),\"\")","v":"Lang[26,4]"},{"$f":"IF($A183<=Daten!$B$8,LOOKUP($B183,Daten!$A$169:$A$218,Daten!$P$169:$P$218),\"\") & \" \" & IF($A183<=Daten!$B$8,LOOKUP($B183,Daten!$A$169:$A$218,Daten!$Q$169:$Q$218),\"\")","v":"26,4 Inhalt1Einh[26,4]"},{"$f":"IF($A183<=Daten!$B$8,LOOKUP($B183,Daten!$A$220:$A$269,Daten!$C$220:$C$269),\"\")","v":"Lang[26,5]"},{"$f":"IF($A183<=Daten!$B$8,LOOKUP($B183,Daten!$A$220:$A$269,Daten!$P$220:$P$269),\"\") & \" \" & IF($A183<=Daten!$B$8,LOOKUP($B183,Daten!$A$220:$A$269,Daten!$Q$220:$Q$269),\"\")","v":"26,5 Inhalt1Einh[26,5]"},{"$f":"IF($A183<=Daten!$B$8,LOOKUP($B183,Daten!$A$271:$A$320,Daten!$C$271:$C$320),\"\")","v":"Lang[26,6]"},{"$f":"IF($A183<=Daten!$B$8,LOOKUP($B183,Daten!$A$271:$A$320,Daten!$P$271:$P$320),\"\") & \" \" & IF($A183<=Daten!$B$8,LOOKUP($B183,Daten!$A$271:$A$320,Daten!$Q$271:$Q$320),\"\")","v":"26,6 Inhalt1Einh[26,6]"},{"$f":"IF($A183<=Daten!$B$8,LOOKUP($B183,Daten!$A$322:$A$371,Daten!$B$322:$C$371),\"\")","v":{"$error":"#N/A"}},{"$f":"IF($A183<=Daten!$B$8,LOOKUP($B183,Daten!$A$322:$A$371,Daten!$P$322:$P$371),\"\") & \" \" & IF($A183<=Daten!$B$8,LOOKUP($B183,Daten!$A$322:$A$371,Daten!$Q$322:$Q$371),\"\")","v":"26,7 Inhalt1Einh[26,7]"}]
[null,null,null,{"$f":"IF($A183<=Daten!$B$8,LOOKUP($B183,Daten!$A$16:$A$65,Daten!$R$16:$R$65),\"\") & \" \" & IF($A183<=Daten!$B$8,LOOKUP($B183,Daten!$A$16:$A$65,Daten!$S$16:$S$65),\"\")","v":"26,1 Inhalt2Einh[26,1]"},null,{"$f":"IF($A183<=Daten!$B$8,LOOKUP($B183,Daten!$A$67:$A$116,Daten!$R$67:$R$116),\"\") & \" \" & IF($A183<=Daten!$B$8,LOOKUP($B183,Daten!$A$67:$A$116,Daten!$S$67:$S$116),\"\")","v":"26,2 Inhalt2Einh[26,2]"},null,{"$f":"IF($A183<=Daten!$B$8,LOOKUP($B183,Daten!$A$118:$A$167,Daten!$R$118:$R$167),\"\") & \" \" & IF($A183<=Daten!$B$8,LOOKUP($B183,Daten!$A$118:$A$167,Daten!$S$118:$S$167),\"\")","v":"26,3 Inhalt2Einh[26,3]"},null,{"$f":"IF($A183<=Daten!$B$8,LOOKUP($B183,Daten!$A$169:$A$218,Daten!$R$169:$R$218),\"\") & \" \" & IF($A183<=Daten!$B$8,LOOKUP($B183,Daten!$A$169:$A$218,Daten!$S$169:$S$218),\"\")","v":"26,4 Inhalt2Einh[26,4]"},null,{"$f":"IF($A183<=Daten!$B$8,LOOKUP($B183,Daten!$A$220:$A$269,Daten!$R$220:$R$269),\"\") & \" \" & IF($A183<=Daten!$B$8,LOOKUP($B183,Daten!$A$220:$A$269,Daten!$S$220:$S$269),\"\")","v":"26,5 Inhalt2Einh[26,5]"},null,{"$f":"IF($A183<=Daten!$B$8,LOOKUP($B183,Daten!$A$271:$A$320,Daten!$R$271:$R$320),\"\") & \" \" & IF($A183<=Daten!$B$8,LOOKUP($B183,Daten!$A$271:$A$320,Daten!$S$271:$S$320),\"\")","v":"26,6 Inhalt2Einh[26,6]"},null,{"$f":"IF($A183<=Daten!$B$8,LOOKUP($B183,Daten!$A$322:$A$371,Daten!$R$322:$R$371),\"\") & \" \" & IF($A183<=Daten!$B$8,LOOKUP($B183,Daten!$A$322:$A$371,Daten!$S$322:$S$371),\"\")","v":"26,7 Inhalt2Einh[26,7]"}]
[null,null,null,{"$f":"IF($A183<=Daten!$B$8,LOOKUP($B183,Daten!$A$16:$A$65,Daten!$T$16:$T$65),\"\") & \" \" & IF($A183<=Daten!$B$8,LOOKUP($B183,Daten!$A$16:$A$65,Daten!$U$16:$U$65),\"\")","v":"26,1 Inhalt3Einh[26,1]"},null,{"$f":"IF($A183<=Daten!$B$8,LOOKUP($B183,Daten!$A$67:$A$116,Daten!$T$67:$T$116),\"\") & \" \" & IF($A183<=Daten!$B$8,LOOKUP($B183,Daten!$A$67:$A$116,Daten!$U$67:$U$116),\"\")","v":"26,2 Inhalt3Einh[26,2]"},null,{"$f":"IF($A183<=Daten!$B$8,LOOKUP($B183,Daten!$A$118:$A$167,Daten!$T$118:$T$167),\"\") & \" \" & IF($A183<=Daten!$B$8,LOOKUP($B183,Daten!$A$118:$A$167,Daten!$U$118:$U$167),\"\")","v":"26,3 Inhalt3Einh[26,3]"},null,{"$f":"IF($A183<=Daten!$B$8,LOOKUP($B183,Daten!$A$169:$A$218,Daten!$T$169:$T$218),\"\") & \" \" & IF($A183<=Daten!$B$8,LOOKUP($B183,Daten!$A$169:$A$218,Daten!$U$169:$U$218),\"\")","v":"26,4 Inhalt3Einh[26,4]"},null,{"$f":"IF($A183<=Daten!$B$8,LOOKUP($B183,Daten!$A$220:$A$269,Daten!$T$220:$T$269),\"\") & \" \" & IF($A183<=Daten!$B$8,LOOKUP($B183,Daten!$A$220:$A$269,Daten!$U$220:$U$269),\"\")","v":"26,5 Inhalt3Einh[26,5]"},null,{"$f":"IF($A183<=Daten!$B$8,LOOKUP($B183,Daten!$A$271:$A$320,Daten!$T$271:$T$320),\"\") & \" \" & IF($A183<=Daten!$B$8,LOOKUP($B183,Daten!$A$271:$A$320,Daten!$U$271:$U$320),\"\")","v":"26,6 Inhalt3Einh[26,6]"},null,{"$f":"IF($A183<=Daten!$B$8,LOOKUP($B183,Daten!$A$322:$A$371,Daten!$T$322:$T$371),\"\") & \" \" & IF($A183<=Daten!$B$8,LOOKUP($B183,Daten!$A$322:$A$371,Daten!$U$322:$U$371),\"\")","v":"26,7 Inhalt3Einh[26,7]"}]
[null,null,null,{"$f":"IF($A183<=Daten!$B$8,LOOKUP($B183,Daten!$A$16:$A$65,Daten!$V$16:$V$65),\"\") & \" \" & IF($A183<=Daten!$B$8,LOOKUP($B183,Daten!$A$16:$A$65,Daten!$W$16:$W$65),\"\")","v":"26,1 Inhalt4Einh[26,1]"},null,{"$f":"IF($A183<=Daten!$B$8,LOOKUP($B183,Daten!$A$67:$A$116,Daten!$V$67:$V$116),\"\") & \" \" & IF($A183<=Daten!$B$8,LOOKUP($B183,Daten!$A$67:$A$116,Daten!$W$67:$W$116),\"\")","v":"26,2 Inhalt4Einh[26,2]"},null,{"$f":"IF($A183<=Daten!$B$8,LOOKUP($B183,Daten!$A$118:$A$167,Daten!$V$118:$V$167),\"\") & \" \" & IF($A183<=Daten!$B$8,LOOKUP($B183,Daten!$A$118:$A$167,Daten!$W$118:$W$167),\"\")","v":"26,3 Inhalt4Einh[26,3]"},null,{"$f":"IF($A183<=Daten!$B$8,LOOKUP($B183,Daten!$A$169:$A$218,Daten!$V$169:$V$218),\"\") & \" \" & IF($A183<=Daten!$B$8,LOOKUP($B183,Daten!$A$169:$A$218,Daten!$W$169:$W$218),\"\")","v":"26,4 Inhalt4Einh[26,4]"},null,{"$f":"IF($A183<=Daten!$B$8,LOOKUP($B183,Daten!$A$220:$A$269,Daten!$V$220:$V$269),\"\") & \" \" & IF($A183<=Daten!$B$8,LOOKUP($B183,Daten!$A$220:$A$269,Daten!$W$220:$W$269),\"\")","v":"26,5 Inhalt4Einh[26,5]"},null,{"$f":"IF($A183<=Daten!$B$8,LOOKUP($B183,Daten!$A$271:$A$320,Daten!$V$271:$V$320),\"\") & \" \" & IF($A183<=Daten!$B$8,LOOKUP($B183,Daten!$A$271:$A$320,Daten!$W$271:$W$320),\"\")","v":"26,6 Inhalt4Einh[26,6]"},null,{"$f":"IF($A183<=Daten!$B$8,LOOKUP($B183,Daten!$A$322:$A$371,Daten!$V$322:$V$371),\"\") & \" \" & IF($A183<=Daten!$B$8,LOOKUP($B183,Daten!$A$322:$A$371,Daten!$W$322:$W$371),\"\")","v":"26,7 Inhalt4Einh[26,7]"}]
[null,null,null,{"$f":"IF($A183<=Daten!$B$8,LOOKUP($B183,Daten!$A$16:$A$65,Daten!$X$16:$X$65),\"\") & \" \" & IF($A183<=Daten!$B$8,LOOKUP($B183,Daten!$A$16:$A$65,Daten!$Y$16:$Y$65),\"\")","v":"26,1 Inhalt5Einh[26,1]"},null,{"$f":"IF($A183<=Daten!$B$8,LOOKUP($B183,Daten!$A$67:$A$116,Daten!$X$67:$X$116),\"\") & \" \" & IF($A183<=Daten!$B$8,LOOKUP($B183,Daten!$A$67:$A$116,Daten!$Y$67:$Y$116),\"\")","v":"26,2 Inhalt5Einh[26,2]"},null,{"$f":"IF($A183<=Daten!$B$8,LOOKUP($B183,Daten!$A$118:$A$167,Daten!$X$118:$X$167),\"\") & \" \" & IF($A183<=Daten!$B$8,LOOKUP($B183,Daten!$A$118:$A$167,Daten!$Y$118:$Y$167),\"\")","v":"26,3 Inhalt5Einh[26,3]"},null,{"$f":"IF($A183<=Daten!$B$8,LOOKUP($B183,Daten!$A$169:$A$218,Daten!$X$169:$X$218),\"\") & \" \" & IF($A183<=Daten!$B$8,LOOKUP($B183,Daten!$A$169:$A$218,Daten!$Y$169:$Y$218),\"\")","v":"26,4 Inhalt5Einh[26,4]"},null,{"$f":"IF($A183<=Daten!$B$8,LOOKUP($B183,Daten!$A$220:$A$269,Daten!$X$220:$X$269),\"\") & \" \" & IF($A183<=Daten!$B$8,LOOKUP($B183,Daten!$A$220:$A$269,Daten!$Y$220:$Y$269),\"\")","v":"26,5 Inhalt5Einh[26,5]"},null,{"$f":"IF($A183<=Daten!$B$8,LOOKUP($B183,Daten!$A$271:$A$320,Daten!$X$271:$X$320),\"\") & \" \" & IF($A183<=Daten!$B$8,LOOKUP($B183,Daten!$A$271:$A$320,Daten!$Y$271:$Y$320),\"\")","v":"26,6 Inhalt5Einh[26,6]"},null,{"$f":"IF($A183<=Daten!$B$8,LOOKUP($B183,Daten!$A$322:$A$371,Daten!$X$322:$X$371),\"\") & \" \" & IF($A183<=Daten!$B$8,LOOKUP($B183,Daten!$A$322:$A$371,Daten!$Y$322:$Y$371),\"\")","v":"26,7 Inhalt5Einh[26,7]"}]
[null,null,null,{"$f":"IF($A183<=Daten!$B$8,LOOKUP($B183,Daten!$A$16:$A$65,Daten!$Z$16:$Z$65),\"\") & \" \" & IF($A183<=Daten!$B$8,LOOKUP($B183,Daten!$A$16:$A$65,Daten!$AA$16:$AA$65),\"\")","v":"26,1 Inhalt6Einh[26,1]"},null,{"$f":"IF($A183<=Daten!$B$8,LOOKUP($B183,Daten!$A$67:$A$116,Daten!$Z$67:$Z$116),\"\") & \" \" & IF($A183<=Daten!$B$8,LOOKUP($B183,Daten!$A$67:$A$116,Daten!$AA$67:$AA$116),\"\")","v":"26,2 Inhalt6Einh[26,2]"},null,{"$f":"IF($A183<=Daten!$B$8,LOOKUP($B183,Daten!$A$118:$A$167,Daten!$Z$118:$Z$167),\"\") & \" \" & IF($A183<=Daten!$B$8,LOOKUP($B183,Daten!$A$118:$A$167,Daten!$AA$118:$AA$167),\"\")","v":"26,3 Inhalt6Einh[26,3]"},null,{"$f":"IF($A183<=Daten!$B$8,LOOKUP($B183,Daten!$A$169:$A$218,Daten!$Z$169:$Z$218),\"\") & \" \" & IF($A183<=Daten!$B$8,LOOKUP($B183,Daten!$A$169:$A$218,Daten!$AA$169:$AA$218),\"\")","v":"26,4 Inhalt6Einh[26,4]"},null,{"$f":"IF($A183<=Daten!$B$8,LOOKUP($B183,Daten!$A$220:$A$269,Daten!$Z$220:$Z$269),\"\") & \" \" & IF($A183<=Daten!$B$8,LOOKUP($B183,Daten!$A$220:$A$269,Daten!$AA$220:$AA$269),\"\")","v":"26,5 Inhalt6Einh[26,5]"},null,{"$f":"IF($A183<=Daten!$B$8,LOOKUP($B183,Daten!$A$271:$A$320,Daten!$Z$271:$Z$320),\"\") & \" \" & IF($A183<=Daten!$B$8,LOOKUP($B183,Daten!$A$271:$A$320,Daten!$AA$271:$AA$320),\"\")","v":"26,6 Inhalt6Einh[26,6]"},null,{"$f":"IF($A183<=Daten!$B$8,LOOKUP($B183,Daten!$A$322:$A$371,Daten!$Z$322:$Z$371),\"\") & \" \" & IF($A183<=Daten!$B$8,LOOKUP($B183,Daten!$A$322:$A$371,Daten!$AA$322:$AA$371),\"\")","v":"26,7 Inhalt6Einh[26,7]"}]
[null,{"$f":"IF(A183<=Daten!$B$8,\"Zusatzstoffe\",\"\")","v":"Zusatzstoffe"},{"$f":"IF($A183<=Daten!$B$8,LOOKUP($B183,Daten!$A$16:$A$65,Daten!$L$16:$L$65),\"\")","v":26.1},{"$f":"IF($A183<=Daten!$B$8,LOOKUP($B183,Daten!$A$16:$A$65,Daten!$E$16:$E$65),\"\")","v":216.1},{"$f":"IF($A183<=Daten!$B$8,LOOKUP($B183,Daten!$A$67:$A$116,Daten!$L$67:$L$116),\"\")","v":26.2},{"$f":"IF($A183<=Daten!$B$8,LOOKUP($B183,Daten!$A$16:$A$65,Daten!$E$67:$E$116),\"\")","v":0},{"$f":"IF($A183<=Daten!$B$8,LOOKUP($B183,Daten!$A$118:$A$167,Daten!$L$118:$L$167),\"\")","v":26.3},{"$f":"IF($A183<=Daten!$B$8,LOOKUP($B183,Daten!$A$118:$A$167,Daten!$E$118:$E$167),\"\")","v":0},{"$f":"IF($A183<=Daten!$B$8,LOOKUP($B183,Daten!$A$169:$A$218,Daten!$L$169:$L$218),\"\")","v":26.4},{"$f":"IF($A183<=Daten!$B$8,LOOKUP($B183,Daten!$A$169:$A$218,Daten!$E$169:$E$218),\"\")","v":0},{"$f":"IF($A183<=Daten!$B$8,LOOKUP($B183,Daten!$A$220:$A$269,Daten!$L$220:$L$269),\"\")","v":26.5},{"$f":"IF($A183<=Daten!$B$8,LOOKUP($B183,Daten!$A$220:$A$269,Daten!$E$220:$E$269),\"\")","v":0},{"$f":"IF($A183<=Daten!$B$8,LOOKUP($B183,Daten!$A$271:$A$320,Daten!$L$271:$L$320),\"\")","v":26.6},{"$f":"IF($A183<=Daten!$B$8,LOOKUP($B183,Daten!$A$271:$A$320,Daten!$E$271:$E$320),\"\")","v":0},{"$f":"IF($A183<=Daten!$B$8,LOOKUP($B183,Daten!$A$322:$A$371,Daten!$L$322:$L$371),\"\")","v":26.7},{"$f":"IF($A183<=Daten!$B$8,LOOKUP($B183,Daten!$A$322:$A$371,Daten!$E$322:$E$371),\"\")","v":0}]
[27,{"$f":"IF(A190<=Daten!$B$8,Daten!AB9,\"\")","v":"Menülinie 27"},{"$f":"IF(A190<=Daten!$B$8,LOOKUP(B190,Daten!$A$16:$A$65,Daten!$C$16:$C$65),\"\")","v":"Lang[27,1]"},{"$f":"IF($A190<=Daten!$B$8,LOOKUP($B190,Daten!$A$16:$A$65,Daten!$P$16:$P$65),\"\") & \" \" & IF($A190<=Daten!$B$8,LOOKUP($B190,Daten!$A$16:$A$65,Daten!$Q$16:$Q$65),\"\")","v":"27,1 Inhalt1Einh[27,1]"},{"$f":"IF($A190<=Daten!$B$8,LOOKUP($B190,Daten!$A$67:$A$116,Daten!$C$67:$C$116),\"\")","v":"Lang[27,2]"},{"$f":"IF($A190<=Daten!$B$8,LOOKUP($B190,Daten!$A$67:$A$116,Daten!$P$67:$P$116),\"\") & \" \" & IF($A190<=Daten!$B$8,LOOKUP($B190,Daten!$A$67:$A$116,Daten!$Q$67:$Q$116),\"\")","v":"27,2 Inhalt1Einh[27,2]"},{"$f":"IF($A190<=Daten!$B$8,LOOKUP($B190,Daten!$A$118:$A$167,Daten!$C$118:$C$167),\"\")","v":"Lang[27,3]"},{"$f":"IF($A190<=Daten!$B$8,LOOKUP($B190,Daten!$A$118:$A$167,Daten!$P$118:$P$167),\"\") & \" \" & IF($A190<=Daten!$B$8,LOOKUP($B190,Daten!$A$118:$A$167,Daten!$Q$118:$Q$167),\"\")","v":"27,3 Inhalt1Einh[27,3]"},{"$f":"IF($A190<=Daten!$B$8,LOOKUP($B190,Daten!$A$169:$A$218,Daten!$C$169:$C$218),\"\")","v":"Lang[27,4]"},{"$f":"IF($A190<=Daten!$B$8,LOOKUP($B190,Daten!$A$169:$A$218,Daten!$P$169:$P$218),\"\") & \" \" & IF($A190<=Daten!$B$8,LOOKUP($B190,Daten!$A$169:$A$218,Daten!$Q$169:$Q$218),\"\")","v":"27,4 Inhalt1Einh[27,4]"},{"$f":"IF($A190<=Daten!$B$8,LOOKUP($B190,Daten!$A$220:$A$269,Daten!$C$220:$C$269),\"\")","v":"Lang[27,5]"},{"$f":"IF($A190<=Daten!$B$8,LOOKUP($B190,Daten!$A$220:$A$269,Daten!$P$220:$P$269),\"\") & \" \" & IF($A190<=Daten!$B$8,LOOKUP($B190,Daten!$A$220:$A$269,Daten!$Q$220:$Q$269),\"\")","v":"27,5 Inhalt1Einh[27,5]"},{"$f":"IF($A190<=Daten!$B$8,LOOKUP($B190,Daten!$A$271:$A$320,Daten!$C$271:$C$320),\"\")","v":"Lang[27,6]"},{"$f":"IF($A190<=Daten!$B$8,LOOKUP($B190,Daten!$A$271:$A$320,Daten!$P$271:$P$320),\"\") & \" \" & IF($A190<=Daten!$B$8,LOOKUP($B190,Daten!$A$271:$A$320,Daten!$Q$271:$Q$320),\"\")","v":"27,6 Inhalt1Einh[27,6]"},{"$f":"IF($A190<=Daten!$B$8,LOOKUP($B190,Daten!$A$322:$A$371,Daten!$B$322:$C$371),\"\")","v":{"$error":"#N/A"}},{"$f":"IF($A190<=Daten!$B$8,LOOKUP($B190,Daten!$A$322:$A$371,Daten!$P$322:$P$371),\"\") & \" \" & IF($A190<=Daten!$B$8,LOOKUP($B190,Daten!$A$322:$A$371,Daten!$Q$322:$Q$371),\"\")","v":"27,7 Inhalt1Einh[27,7]"}]
[null,null,null,{"$f":"IF($A190<=Daten!$B$8,LOOKUP($B190,Daten!$A$16:$A$65,Daten!$R$16:$R$65),\"\") & \" \" & IF($A190<=Daten!$B$8,LOOKUP($B190,Daten!$A$16:$A$65,Daten!$S$16:$S$65),\"\")","v":"27,1 Inhalt2Einh[27,1]"},null,{"$f":"IF($A190<=Daten!$B$8,LOOKUP($B190,Daten!$A$67:$A$116,Daten!$R$67:$R$116),\"\") & \" \" & IF($A190<=Daten!$B$8,LOOKUP($B190,Daten!$A$67:$A$116,Daten!$S$67:$S$116),\"\")","v":"27,2 Inhalt2Einh[27,2]"},null,{"$f":"IF($A190<=Daten!$B$8,LOOKUP($B190,Daten!$A$118:$A$167,Daten!$R$118:$R$167),\"\") & \" \" & IF($A190<=Daten!$B$8,LOOKUP($B190,Daten!$A$118:$A$167,Daten!$S$118:$S$167),\"\")","v":"27,3 Inhalt2Einh[27,3]"},null,{"$f":"IF($A190<=Daten!$B$8,LOOKUP($B190,Daten!$A$169:$A$218,Daten!$R$169:$R$218),\"\") & \" \" & IF($A190<=Daten!$B$8,LOOKUP($B190,Daten!$A$169:$A$218,Daten!$S$169:$S$218),\"\")","v":"27,4 Inhalt2Einh[27,4]"},null,{"$f":"IF($A190<=Daten!$B$8,LOOKUP($B190,Daten!$A$220:$A$269,Daten!$R$220:$R$269),\"\") & \" \" & IF($A190<=Daten!$B$8,LOOKUP($B190,Daten!$A$220:$A$269,Daten!$S$220:$S$269),\"\")","v":"27,5 Inhalt2Einh[27,5]"},null,{"$f":"IF($A190<=Daten!$B$8,LOOKUP($B190,Daten!$A$271:$A$320,Daten!$R$271:$R$320),\"\") & \" \" & IF($A190<=Daten!$B$8,LOOKUP($B190,Daten!$A$271:$A$320,Daten!$S$271:$S$320),\"\")","v":"27,6 Inhalt2Einh[27,6]"},null,{"$f":"IF($A190<=Daten!$B$8,LOOKUP($B190,Daten!$A$322:$A$371,Daten!$R$322:$R$371),\"\") & \" \" & IF($A190<=Daten!$B$8,LOOKUP($B190,Daten!$A$322:$A$371,Daten!$S$322:$S$371),\"\")","v":"27,7 Inhalt2Einh[27,7]"}]
[null,null,null,{"$f":"IF($A190<=Daten!$B$8,LOOKUP($B190,Daten!$A$16:$A$65,Daten!$T$16:$T$65),\"\") & \" \" & IF($A190<=Daten!$B$8,LOOKUP($B190,Daten!$A$16:$A$65,Daten!$U$16:$U$65),\"\")","v":"27,1 Inhalt3Einh[27,1]"},null,{"$f":"IF($A190<=Daten!$B$8,LOOKUP($B190,Daten!$A$67:$A$116,Daten!$T$67:$T$116),\"\") & \" \" & IF($A190<=Daten!$B$8,LOOKUP($B190,Daten!$A$67:$A$116,Daten!$U$67:$U$116),\"\")","v":"27,2 Inhalt3Einh[27,2]"},null,{"$f":"IF($A190<=Daten!$B$8,LOOKUP($B190,Daten!$A$118:$A$167,Daten!$T$118:$T$167),\"\") & \" \" & IF($A190<=Daten!$B$8,LOOKUP($B190,Daten!$A$118:$A$167,Daten!$U$118:$U$167),\"\")","v":"27,3 Inhalt3Einh[27,3]"},null,{"$f":"IF($A190<=Daten!$B$8,LOOKUP($B190,Daten!$A$169:$A$218,Daten!$T$169:$T$218),\"\") & \" \" & IF($A190<=Daten!$B$8,LOOKUP($B190,Daten!$A$169:$A$218,Daten!$U$169:$U$218),\"\")","v":"27,4 Inhalt3Einh[27,4]"},null,{"$f":"IF($A190<=Daten!$B$8,LOOKUP($B190,Daten!$A$220:$A$269,Daten!$T$220:$T$269),\"\") & \" \" & IF($A190<=Daten!$B$8,LOOKUP($B190,Daten!$A$220:$A$269,Daten!$U$220:$U$269),\"\")","v":"27,5 Inhalt3Einh[27,5]"},null,{"$f":"IF($A190<=Daten!$B$8,LOOKUP($B190,Daten!$A$271:$A$320,Daten!$T$271:$T$320),\"\") & \" \" & IF($A190<=Daten!$B$8,LOOKUP($B190,Daten!$A$271:$A$320,Daten!$U$271:$U$320),\"\")","v":"27,6 Inhalt3Einh[27,6]"},null,{"$f":"IF($A190<=Daten!$B$8,LOOKUP($B190,Daten!$A$322:$A$371,Daten!$T$322:$T$371),\"\") & \" \" & IF($A190<=Daten!$B$8,LOOKUP($B190,Daten!$A$322:$A$371,Daten!$U$322:$U$371),\"\")","v":"27,7 Inhalt3Einh[27,7]"}]
[null,null,null,{"$f":"IF($A190<=Daten!$B$8,LOOKUP($B190,Daten!$A$16:$A$65,Daten!$V$16:$V$65),\"\") & \" \" & IF($A190<=Daten!$B$8,LOOKUP($B190,Daten!$A$16:$A$65,Daten!$W$16:$W$65),\"\")","v":"27,1 Inhalt4Einh[27,1]"},null,{"$f":"IF($A190<=Daten!$B$8,LOOKUP($B190,Daten!$A$67:$A$116,Daten!$V$67:$V$116),\"\") & \" \" & IF($A190<=Daten!$B$8,LOOKUP($B190,Daten!$A$67:$A$116,Daten!$W$67:$W$116),\"\")","v":"27,2 Inhalt4Einh[27,2]"},null,{"$f":"IF($A190<=Daten!$B$8,LOOKUP($B190,Daten!$A$118:$A$167,Daten!$V$118:$V$167),\"\") & \" \" & IF($A190<=Daten!$B$8,LOOKUP($B190,Daten!$A$118:$A$167,Daten!$W$118:$W$167),\"\")","v":"27,3 Inhalt4Einh[27,3]"},null,{"$f":"IF($A190<=Daten!$B$8,LOOKUP($B190,Daten!$A$169:$A$218,Daten!$V$169:$V$218),\"\") & \" \" & IF($A190<=Daten!$B$8,LOOKUP($B190,Daten!$A$169:$A$218,Daten!$W$169:$W$218),\"\")","v":"27,4 Inhalt4Einh[27,4]"},null,{"$f":"IF($A190<=Daten!$B$8,LOOKUP($B190,Daten!$A$220:$A$269,Daten!$V$220:$V$269),\"\") & \" \" & IF($A190<=Daten!$B$8,LOOKUP($B190,Daten!$A$220:$A$269,Daten!$W$220:$W$269),\"\")","v":"27,5 Inhalt4Einh[27,5]"},null,{"$f":"IF($A190<=Daten!$B$8,LOOKUP($B190,Daten!$A$271:$A$320,Daten!$V$271:$V$320),\"\") & \" \" & IF($A190<=Daten!$B$8,LOOKUP($B190,Daten!$A$271:$A$320,Daten!$W$271:$W$320),\"\")","v":"27,6 Inhalt4Einh[27,6]"},null,{"$f":"IF($A190<=Daten!$B$8,LOOKUP($B190,Daten!$A$322:$A$371,Daten!$V$322:$V$371),\"\") & \" \" & IF($A190<=Daten!$B$8,LOOKUP($B190,Daten!$A$322:$A$371,Daten!$W$322:$W$371),\"\")","v":"27,7 Inhalt4Einh[27,7]"}]
[null,null,null,{"$f":"IF($A190<=Daten!$B$8,LOOKUP($B190,Daten!$A$16:$A$65,Daten!$X$16:$X$65),\"\") & \" \" & IF($A190<=Daten!$B$8,LOOKUP($B190,Daten!$A$16:$A$65,Daten!$Y$16:$Y$65),\"\")","v":"27,1 Inhalt5Einh[27,1]"},null,{"$f":"IF($A190<=Daten!$B$8,LOOKUP($B190,Daten!$A$67:$A$116,Daten!$X$67:$X$116),\"\") & \" \" & IF($A190<=Daten!$B$8,LOOKUP($B190,Daten!$A$67:$A$116,Daten!$Y$67:$Y$116),\"\")","v":"27,2 Inhalt5Einh[27,2]"},null,{"$f":"IF($A190<=Daten!$B$8,LOOKUP($B190,Daten!$A$118:$A$167,Daten!$X$118:$X$167),\"\") & \" \" & IF($A190<=Daten!$B$8,LOOKUP($B190,Daten!$A$118:$A$167,Daten!$Y$118:$Y$167),\"\")","v":"27,3 Inhalt5Einh[27,3]"},null,{"$f":"IF($A190<=Daten!$B$8,LOOKUP($B190,Daten!$A$169:$A$218,Daten!$X$169:$X$218),\"\") & \" \" & IF($A190<=Daten!$B$8,LOOKUP($B190,Daten!$A$169:$A$218,Daten!$Y$169:$Y$218),\"\")","v":"27,4 Inhalt5Einh[27,4]"},null,{"$f":"IF($A190<=Daten!$B$8,LOOKUP($B190,Daten!$A$220:$A$269,Daten!$X$220:$X$269),\"\") & \" \" & IF($A190<=Daten!$B$8,LOOKUP($B190,Daten!$A$220:$A$269,Daten!$Y$220:$Y$269),\"\")","v":"27,5 Inhalt5Einh[27,5]"},null,{"$f":"IF($A190<=Daten!$B$8,LOOKUP($B190,Daten!$A$271:$A$320,Daten!$X$271:$X$320),\"\") & \" \" & IF($A190<=Daten!$B$8,LOOKUP($B190,Daten!$A$271:$A$320,Daten!$Y$271:$Y$320),\"\")","v":"27,6 Inhalt5Einh[27,6]"},null,{"$f":"IF($A190<=Daten!$B$8,LOOKUP($B190,Daten!$A$322:$A$371,Daten!$X$322:$X$371),\"\") & \" \" & IF($A190<=Daten!$B$8,LOOKUP($B190,Daten!$A$322:$A$371,Daten!$Y$322:$Y$371),\"\")","v":"27,7 Inhalt5Einh[27,7]"}]
[null,null,null,{"$f":"IF($A190<=Daten!$B$8,LOOKUP($B190,Daten!$A$16:$A$65,Daten!$Z$16:$Z$65),\"\") & \" \" & IF($A190<=Daten!$B$8,LOOKUP($B190,Daten!$A$16:$A$65,Daten!$AA$16:$AA$65),\"\")","v":"27,1 Inhalt6Einh[27,1]"},null,{"$f":"IF($A190<=Daten!$B$8,LOOKUP($B190,Daten!$A$67:$A$116,Daten!$Z$67:$Z$116),\"\") & \" \" & IF($A190<=Daten!$B$8,LOOKUP($B190,Daten!$A$67:$A$116,Daten!$AA$67:$AA$116),\"\")","v":"27,2 Inhalt6Einh[27,2]"},null,{"$f":"IF($A190<=Daten!$B$8,LOOKUP($B190,Daten!$A$118:$A$167,Daten!$Z$118:$Z$167),\"\") & \" \" & IF($A190<=Daten!$B$8,LOOKUP($B190,Daten!$A$118:$A$167,Daten!$AA$118:$AA$167),\"\")","v":"27,3 Inhalt6Einh[27,3]"},null,{"$f":"IF($A190<=Daten!$B$8,LOOKUP($B190,Daten!$A$169:$A$218,Daten!$Z$169:$Z$218),\"\") & \" \" & IF($A190<=Daten!$B$8,LOOKUP($B190,Daten!$A$169:$A$218,Daten!$AA$169:$AA$218),\"\")","v":"27,4 Inhalt6Einh[27,4]"},null,{"$f":"IF($A190<=Daten!$B$8,LOOKUP($B190,Daten!$A$220:$A$269,Daten!$Z$220:$Z$269),\"\") & \" \" & IF($A190<=Daten!$B$8,LOOKUP($B190,Daten!$A$220:$A$269,Daten!$AA$220:$AA$269),\"\")","v":"27,5 Inhalt6Einh[27,5]"},null,{"$f":"IF($A190<=Daten!$B$8,LOOKUP($B190,Daten!$A$271:$A$320,Daten!$Z$271:$Z$320),\"\") & \" \" & IF($A190<=Daten!$B$8,LOOKUP($B190,Daten!$A$271:$A$320,Daten!$AA$271:$AA$320),\"\")","v":"27,6 Inhalt6Einh[27,6]"},null,{"$f":"IF($A190<=Daten!$B$8,LOOKUP($B190,Daten!$A$322:$A$371,Daten!$Z$322:$Z$371),\"\") & \" \" & IF($A190<=Daten!$B$8,LOOKUP($B190,Daten!$A$322:$A$371,Daten!$AA$322:$AA$371),\"\")","v":"27,7 Inhalt6Einh[27,7]"}]
[null,{"$f":"IF(A190<=Daten!$B$8,\"Zusatzstoffe\",\"\")","v":"Zusatzstoffe"},{"$f":"IF($A190<=Daten!$B$8,LOOKUP($B190,Daten!$A$16:$A$65,Daten!$L$16:$L$65),\"\")","v":27.1},{"$f":"IF($A190<=Daten!$B$8,LOOKUP($B190,Daten!$A$16:$A$65,Daten!$E$16:$E$65),\"\")","v":217.1},{"$f":"IF($A190<=Daten!$B$8,LOOKUP($B190,Daten!$A$67:$A$116,Daten!$L$67:$L$116),\"\")","v":27.2},{"$f":"IF($A190<=Daten!$B$8,LOOKUP($B190,Daten!$A$16:$A$65,Daten!$E$67:$E$116),\"\")","v":0},{"$f":"IF($A190<=Daten!$B$8,LOOKUP($B190,Daten!$A$118:$A$167,Daten!$L$118:$L$167),\"\")","v":27.3},{"$f":"IF($A190<=Daten!$B$8,LOOKUP($B190,Daten!$A$118:$A$167,Daten!$E$118:$E$167),\"\")","v":0},{"$f":"IF($A190<=Daten!$B$8,LOOKUP($B190,Daten!$A$169:$A$218,Daten!$L$169:$L$218),\"\")","v":27.4},{"$f":"IF($A190<=Daten!$B$8,LOOKUP($B190,Daten!$A$169:$A$218,Daten!$E$169:$E$218),\"\")","v":0},{"$f":"IF($A190<=Daten!$B$8,LOOKUP($B190,Daten!$A$220:$A$269,Daten!$L$220:$L$269),\"\")","v":27.5},{"$f":"IF($A190<=Daten!$B$8,LOOKUP($B190,Daten!$A$220:$A$269,Daten!$E$220:$E$269),\"\")","v":0},{"$f":"IF($A190<=Daten!$B$8,LOOKUP($B190,Daten!$A$271:$A$320,Daten!$L$271:$L$320),\"\")","v":27.6},{"$f":"IF($A190<=Daten!$B$8,LOOKUP($B190,Daten!$A$271:$A$320,Daten!$E$271:$E$320),\"\")","v":0},{"$f":"IF($A190<=Daten!$B$8,LOOKUP($B190,Daten!$A$322:$A$371,Daten!$L$322:$L$371),\"\")","v":27.7},{"$f":"IF($A190<=Daten!$B$8,LOOKUP($B190,Daten!$A$322:$A$371,Daten!$E$322:$E$371),\"\")","v":0}]
[28,{"$f":"IF(A197<=Daten!$B$8,Daten!AC9,\"\")","v":"Menülinie 28"},{"$f":"IF(A197<=Daten!$B$8,LOOKUP(B197,Daten!$A$16:$A$65,Daten!$C$16:$C$65),\"\")","v":"Lang[28,1]"},{"$f":"IF($A197<=Daten!$B$8,LOOKUP($B197,Daten!$A$16:$A$65,Daten!$P$16:$P$65),\"\") & \" \" & IF($A197<=Daten!$B$8,LOOKUP($B197,Daten!$A$16:$A$65,Daten!$Q$16:$Q$65),\"\")","v":"28,1 Inhalt1Einh[28,1]"},{"$f":"IF($A197<=Daten!$B$8,LOOKUP($B197,Daten!$A$57:$A$116,Daten!$C$57:$C$116),\"\")","v":"Lang[28,2]"},{"$f":"IF($A197<=Daten!$B$8,LOOKUP($B197,Daten!$A$57:$A$116,Daten!$P$57:$P$116),\"\") & \" \" & IF($A197<=Daten!$B$8,LOOKUP($B197,Daten!$A$57:$A$116,Daten!$Q$57:$Q$116),\"\")","v":"28,2 Inhalt1Einh[28,2]"},{"$f":"IF($A197<=Daten!$B$8,LOOKUP($B197,Daten!$A$118:$A$167,Daten!$C$118:$C$167),\"\")","v":"Lang[28,3]"},{"$f":"IF($A197<=Daten!$B$8,LOOKUP($B197,Daten!$A$118:$A$167,Daten!$P$118:$P$167),\"\") & \" \" & IF($A197<=Daten!$B$8,LOOKUP($B197,Daten!$A$118:$A$167,Daten!$Q$118:$Q$167),\"\")","v":"28,3 Inhalt1Einh[28,3]"},{"$f":"IF($A197<=Daten!$B$8,LOOKUP($B197,Daten!$A$169:$A$218,Daten!$C$169:$C$218),\"\")","v":"Lang[28,4]"},{"$f":"IF($A197<=Daten!$B$8,LOOKUP($B197,Daten!$A$169:$A$218,Daten!$P$169:$P$218),\"\") & \" \" & IF($A197<=Daten!$B$8,LOOKUP($B197,Daten!$A$169:$A$218,Daten!$Q$169:$Q$218),\"\")","v":"28,4 Inhalt1Einh[28,4]"},{"$f":"IF($A197<=Daten!$B$8,LOOKUP($B197,Daten!$A$220:$A$269,Daten!$C$220:$C$269),\"\")","v":"Lang[28,5]"},{"$f":"IF($A197<=Daten!$B$8,LOOKUP($B197,Daten!$A$220:$A$269,Daten!$P$220:$P$269),\"\") & \" \" & IF($A197<=Daten!$B$8,LOOKUP($B197,Daten!$A$220:$A$269,Daten!$Q$220:$Q$269),\"\")","v":"28,5 Inhalt1Einh[28,5]"},{"$f":"IF($A197<=Daten!$B$8,LOOKUP($B197,Daten!$A$271:$A$320,Daten!$C$271:$C$320),\"\")","v":"Lang[28,6]"},{"$f":"IF($A197<=Daten!$B$8,LOOKUP($B197,Daten!$A$271:$A$320,Daten!$P$271:$P$320),\"\") & \" \" & IF($A197<=Daten!$B$8,LOOKUP($B197,Daten!$A$271:$A$320,Daten!$Q$271:$Q$320),\"\")","v":"28,6 Inhalt1Einh[28,6]"},{"$f":"IF($A197<=Daten!$B$8,LOOKUP($B197,Daten!$A$322:$A$371,Daten!$B$322:$C$371),\"\")","v":{"$error":"#N/A"}},{"$f":"IF($A197<=Daten!$B$8,LOOKUP($B197,Daten!$A$322:$A$371,Daten!$P$322:$P$371),\"\") & \" \" & IF($A197<=Daten!$B$8,LOOKUP($B197,Daten!$A$322:$A$371,Daten!$Q$322:$Q$371),\"\")","v":"28,7 Inhalt1Einh[28,7]"}]
[null,null,null,{"$f":"IF($A197<=Daten!$B$8,LOOKUP($B197,Daten!$A$16:$A$65,Daten!$R$16:$R$65),\"\") & \" \" & IF($A197<=Daten!$B$8,LOOKUP($B197,Daten!$A$16:$A$65,Daten!$S$16:$S$65),\"\")","v":"28,1 Inhalt2Einh[28,1]"},null,{"$f":"IF($A197<=Daten!$B$8,LOOKUP($B197,Daten!$A$57:$A$116,Daten!$R$57:$R$116),\"\") & \" \" & IF($A197<=Daten!$B$8,LOOKUP($B197,Daten!$A$57:$A$116,Daten!$S$57:$S$116),\"\")","v":"28,2 Inhalt2Einh[28,2]"},null,{"$f":"IF($A197<=Daten!$B$8,LOOKUP($B197,Daten!$A$118:$A$167,Daten!$R$118:$R$167),\"\") & \" \" & IF($A197<=Daten!$B$8,LOOKUP($B197,Daten!$A$118:$A$167,Daten!$S$118:$S$167),\"\")","v":"28,3 Inhalt2Einh[28,3]"},null,{"$f":"IF($A197<=Daten!$B$8,LOOKUP($B197,Daten!$A$169:$A$218,Daten!$R$169:$R$218),\"\") & \" \" & IF($A197<=Daten!$B$8,LOOKUP($B197,Daten!$A$169:$A$218,Daten!$S$169:$S$218),\"\")","v":"28,4 Inhalt2Einh[28,4]"},null,{"$f":"IF($A197<=Daten!$B$8,LOOKUP($B197,Daten!$A$220:$A$269,Daten!$R$220:$R$269),\"\") & \" \" & IF($A197<=Daten!$B$8,LOOKUP($B197,Daten!$A$220:$A$269,Daten!$S$220:$S$269),\"\")","v":"28,5 Inhalt2Einh[28,5]"},null,{"$f":"IF($A197<=Daten!$B$8,LOOKUP($B197,Daten!$A$271:$A$320,Daten!$R$271:$R$320),\"\") & \" \" & IF($A197<=Daten!$B$8,LOOKUP($B197,Daten!$A$271:$A$320,Daten!$S$271:$S$320),\"\")","v":"28,6 Inhalt2Einh[28,6]"},null,{"$f":"IF($A197<=Daten!$B$8,LOOKUP($B197,Daten!$A$322:$A$371,Daten!$R$322:$R$371),\"\") & \" \" & IF($A197<=Daten!$B$8,LOOKUP($B197,Daten!$A$322:$A$371,Daten!$S$322:$S$371),\"\")","v":"28,7 Inhalt2Einh[28,7]"}]
[null,null,null,{"$f":"IF($A197<=Daten!$B$8,LOOKUP($B197,Daten!$A$16:$A$65,Daten!$T$16:$T$65),\"\") & \" \" & IF($A197<=Daten!$B$8,LOOKUP($B197,Daten!$A$16:$A$65,Daten!$U$16:$U$65),\"\")","v":"28,1 Inhalt3Einh[28,1]"},null,{"$f":"IF($A197<=Daten!$B$8,LOOKUP($B197,Daten!$A$57:$A$116,Daten!$T$57:$T$116),\"\") & \" \" & IF($A197<=Daten!$B$8,LOOKUP($B197,Daten!$A$57:$A$116,Daten!$U$57:$U$116),\"\")","v":"28,2 Inhalt3Einh[28,2]"},null,{"$f":"IF($A197<=Daten!$B$8,LOOKUP($B197,Daten!$A$118:$A$167,Daten!$T$118:$T$167),\"\") & \" \" & IF($A197<=Daten!$B$8,LOOKUP($B197,Daten!$A$118:$A$167,Daten!$U$118:$U$167),\"\")","v":"28,3 Inhalt3Einh[28,3]"},null,{"$f":"IF($A197<=Daten!$B$8,LOOKUP($B197,Daten!$A$169:$A$218,Daten!$T$169:$T$218),\"\") & \" \" & IF($A197<=Daten!$B$8,LOOKUP($B197,Daten!$A$169:$A$218,Daten!$U$169:$U$218),\"\")","v":"28,4 Inhalt3Einh[28,4]"},null,{"$f":"IF($A197<=Daten!$B$8,LOOKUP($B197,Daten!$A$220:$A$269,Daten!$T$220:$T$269),\"\") & \" \" & IF($A197<=Daten!$B$8,LOOKUP($B197,Daten!$A$220:$A$269,Daten!$U$220:$U$269),\"\")","v":"28,5 Inhalt3Einh[28,5]"},null,{"$f":"IF($A197<=Daten!$B$8,LOOKUP($B197,Daten!$A$271:$A$320,Daten!$T$271:$T$320),\"\") & \" \" & IF($A197<=Daten!$B$8,LOOKUP($B197,Daten!$A$271:$A$320,Daten!$U$271:$U$320),\"\")","v":"28,6 Inhalt3Einh[28,6]"},null,{"$f":"IF($A197<=Daten!$B$8,LOOKUP($B197,Daten!$A$322:$A$371,Daten!$T$322:$T$371),\"\") & \" \" & IF($A197<=Daten!$B$8,LOOKUP($B197,Daten!$A$322:$A$371,Daten!$U$322:$U$371),\"\")","v":"28,7 Inhalt3Einh[28,7]"}]
[null,null,null,{"$f":"IF($A197<=Daten!$B$8,LOOKUP($B197,Daten!$A$16:$A$65,Daten!$V$16:$V$65),\"\") & \" \" & IF($A197<=Daten!$B$8,LOOKUP($B197,Daten!$A$16:$A$65,Daten!$W$16:$W$65),\"\")","v":"28,1 Inhalt4Einh[28,1]"},null,{"$f":"IF($A197<=Daten!$B$8,LOOKUP($B197,Daten!$A$57:$A$116,Daten!$V$57:$V$116),\"\") & \" \" & IF($A197<=Daten!$B$8,LOOKUP($B197,Daten!$A$57:$A$116,Daten!$W$57:$W$116),\"\")","v":"28,2 Inhalt4Einh[28,2]"},null,{"$f":"IF($A197<=Daten!$B$8,LOOKUP($B197,Daten!$A$118:$A$167,Daten!$V$118:$V$167),\"\") & \" \" & IF($A197<=Daten!$B$8,LOOKUP($B197,Daten!$A$118:$A$167,Daten!$W$118:$W$167),\"\")","v":"28,3 Inhalt4Einh[28,3]"},null,{"$f":"IF($A197<=Daten!$B$8,LOOKUP($B197,Daten!$A$169:$A$218,Daten!$V$169:$V$218),\"\") & \" \" & IF($A197<=Daten!$B$8,LOOKUP($B197,Daten!$A$169:$A$218,Daten!$W$169:$W$218),\"\")","v":"28,4 Inhalt4Einh[28,4]"},null,{"$f":"IF($A197<=Daten!$B$8,LOOKUP($B197,Daten!$A$220:$A$269,Daten!$V$220:$V$269),\"\") & \" \" & IF($A197<=Daten!$B$8,LOOKUP($B197,Daten!$A$220:$A$269,Daten!$W$220:$W$269),\"\")","v":"28,5 Inhalt4Einh[28,5]"},null,{"$f":"IF($A197<=Daten!$B$8,LOOKUP($B197,Daten!$A$271:$A$320,Daten!$V$271:$V$320),\"\") & \" \" & IF($A197<=Daten!$B$8,LOOKUP($B197,Daten!$A$271:$A$320,Daten!$W$271:$W$320),\"\")","v":"28,6 Inhalt4Einh[28,6]"},null,{"$f":"IF($A197<=Daten!$B$8,LOOKUP($B197,Daten!$A$322:$A$371,Daten!$V$322:$V$371),\"\") & \" \" & IF($A197<=Daten!$B$8,LOOKUP($B197,Daten!$A$322:$A$371,Daten!$W$322:$W$371),\"\")","v":"28,7 Inhalt4Einh[28,7]"}]
[null,null,null,{"$f":"IF($A197<=Daten!$B$8,LOOKUP($B197,Daten!$A$16:$A$65,Daten!$X$16:$X$65),\"\") & \" \" & IF($A197<=Daten!$B$8,LOOKUP($B197,Daten!$A$16:$A$65,Daten!$Y$16:$Y$65),\"\")","v":"28,1 Inhalt5Einh[28,1]"},null,{"$f":"IF($A197<=Daten!$B$8,LOOKUP($B197,Daten!$A$57:$A$116,Daten!$X$57:$X$116),\"\") & \" \" & IF($A197<=Daten!$B$8,LOOKUP($B197,Daten!$A$57:$A$116,Daten!$Y$57:$Y$116),\"\")","v":"28,2 Inhalt5Einh[28,2]"},null,{"$f":"IF($A197<=Daten!$B$8,LOOKUP($B197,Daten!$A$118:$A$167,Daten!$X$118:$X$167),\"\") & \" \" & IF($A197<=Daten!$B$8,LOOKUP($B197,Daten!$A$118:$A$167,Daten!$Y$118:$Y$167),\"\")","v":"28,3 Inhalt5Einh[28,3]"},null,{"$f":"IF($A197<=Daten!$B$8,LOOKUP($B197,Daten!$A$169:$A$218,Daten!$X$169:$X$218),\"\") & \" \" & IF($A197<=Daten!$B$8,LOOKUP($B197,Daten!$A$169:$A$218,Daten!$Y$169:$Y$218),\"\")","v":"28,4 Inhalt5Einh[28,4]"},null,{"$f":"IF($A197<=Daten!$B$8,LOOKUP($B197,Daten!$A$220:$A$269,Daten!$X$220:$X$269),\"\") & \" \" & IF($A197<=Daten!$B$8,LOOKUP($B197,Daten!$A$220:$A$269,Daten!$Y$220:$Y$269),\"\")","v":"28,5 Inhalt5Einh[28,5]"},null,{"$f":"IF($A197<=Daten!$B$8,LOOKUP($B197,Daten!$A$271:$A$320,Daten!$X$271:$X$320),\"\") & \" \" & IF($A197<=Daten!$B$8,LOOKUP($B197,Daten!$A$271:$A$320,Daten!$Y$271:$Y$320),\"\")","v":"28,6 Inhalt5Einh[28,6]"},null,{"$f":"IF($A197<=Daten!$B$8,LOOKUP($B197,Daten!$A$322:$A$371,Daten!$X$322:$X$371),\"\") & \" \" & IF($A197<=Daten!$B$8,LOOKUP($B197,Daten!$A$322:$A$371,Daten!$Y$322:$Y$371),\"\")","v":"28,7 Inhalt5Einh[28,7]"}]
[null,null,null,{"$f":"IF($A197<=Daten!$B$8,LOOKUP($B197,Daten!$A$16:$A$65,Daten!$Z$16:$Z$65),\"\") & \" \" & IF($A197<=Daten!$B$8,LOOKUP($B197,Daten!$A$16:$A$65,Daten!$AA$16:$AA$65),\"\")","v":"28,1 Inhalt6Einh[28,1]"},null,{"$f":"IF($A197<=Daten!$B$8,LOOKUP($B197,Daten!$A$57:$A$116,Daten!$Z$57:$Z$116),\"\") & \" \" & IF($A197<=Daten!$B$8,LOOKUP($B197,Daten!$A$57:$A$116,Daten!$AA$57:$AA$116),\"\")","v":"28,2 Inhalt6Einh[28,2]"},null,{"$f":"IF($A197<=Daten!$B$8,LOOKUP($B197,Daten!$A$118:$A$167,Daten!$Z$118:$Z$167),\"\") & \" \" & IF($A197<=Daten!$B$8,LOOKUP($B197,Daten!$A$118:$A$167,Daten!$AA$118:$AA$167),\"\")","v":"28,3 Inhalt6Einh[28,3]"},null,{"$f":"IF($A197<=Daten!$B$8,LOOKUP($B197,Daten!$A$169:$A$218,Daten!$Z$169:$Z$218),\"\") & \" \" & IF($A197<=Daten!$B$8,LOOKUP($B197,Daten!$A$169:$A$218,Daten!$AA$169:$AA$218),\"\")","v":"28,4 Inhalt6Einh[28,4]"},null,{"$f":"IF($A197<=Daten!$B$8,LOOKUP($B197,Daten!$A$220:$A$269,Daten!$Z$220:$Z$269),\"\") & \" \" & IF($A197<=Daten!$B$8,LOOKUP($B197,Daten!$A$220:$A$269,Daten!$AA$220:$AA$269),\"\")","v":"28,5 Inhalt6Einh[28,5]"},null,{"$f":"IF($A197<=Daten!$B$8,LOOKUP($B197,Daten!$A$271:$A$320,Daten!$Z$271:$Z$320),\"\") & \" \" & IF($A197<=Daten!$B$8,LOOKUP($B197,Daten!$A$271:$A$320,Daten!$AA$271:$AA$320),\"\")","v":"28,6 Inhalt6Einh[28,6]"},null,{"$f":"IF($A197<=Daten!$B$8,LOOKUP($B197,Daten!$A$322:$A$371,Daten!$Z$322:$Z$371),\"\") & \" \" & IF($A197<=Daten!$B$8,LOOKUP($B197,Daten!$A$322:$A$371,Daten!$AA$322:$AA$371),\"\")","v":"28,7 Inhalt6Einh[28,7]"}]
[null,{"$f":"IF(A197<=Daten!$B$8,\"Zusatzstoffe\",\"\")","v":"Zusatzstoffe"},{"$f":"IF($A197<=Daten!$B$8,LOOKUP($B197,Daten!$A$16:$A$65,Daten!$L$16:$L$65),\"\")","v":28.1},{"$f":"IF($A197<=Daten!$B$8,LOOKUP($B197,Daten!$A$16:$A$65,Daten!$E$16:$E$65),\"\")","v":218.1},{"$f":"IF($A197<=Daten!$B$8,LOOKUP($B197,Daten!$A$67:$A$116,Daten!$L$67:$L$116),\"\")","v":28.2},{"$f":"IF($A197<=Daten!$B$8,LOOKUP($B197,Daten!$A$16:$A$65,Daten!$E$67:$E$116),\"\")","v":0},{"$f":"IF($A197<=Daten!$B$8,LOOKUP($B197,Daten!$A$118:$A$167,Daten!$L$118:$L$167),\"\")","v":28.3},{"$f":"IF($A197<=Daten!$B$8,LOOKUP($B197,Daten!$A$118:$A$167,Daten!$E$118:$E$167),\"\")","v":0},{"$f":"IF($A197<=Daten!$B$8,LOOKUP($B197,Daten!$A$169:$A$218,Daten!$L$169:$L$218),\"\")","v":28.4},{"$f":"IF($A197<=Daten!$B$8,LOOKUP($B197,Daten!$A$169:$A$218,Daten!$E$169:$E$218),\"\")","v":0},{"$f":"IF($A197<=Daten!$B$8,LOOKUP($B197,Daten!$A$220:$A$269,Daten!$L$220:$L$269),\"\")","v":28.5},{"$f":"IF($A197<=Daten!$B$8,LOOKUP($B197,Daten!$A$220:$A$269,Daten!$E$220:$E$269),\"\")","v":0},{"$f":"IF($A197<=Daten!$B$8,LOOKUP($B197,Daten!$A$271:$A$320,Daten!$L$271:$L$320),\"\")","v":28.6},{"$f":"IF($A197<=Daten!$B$8,LOOKUP($B197,Daten!$A$271:$A$320,Daten!$E$271:$E$320),\"\")","v":0},{"$f":"IF($A197<=Daten!$B$8,LOOKUP($B197,Daten!$A$322:$A$371,Daten!$L$322:$L$371),\"\")","v":28.7},{"$f":"IF($A197<=Daten!$B$8,LOOKUP($B197,Daten!$A$322:$A$371,Daten!$E$322:$E$371),\"\")","v":0}]
[29,{"$f":"IF(A204<=Daten!$B$8,Daten!AD9,\"\")","v":"Menülinie 29"},{"$f":"IF(A204<=Daten!$B$8,LOOKUP(B204,Daten!$A$16:$A$65,Daten!$C$16:$C$65),\"\")","v":"Lang[29,1]"},{"$f":"IF($A204<=Daten!$B$8,LOOKUP($B204,Daten!$A$16:$A$65,Daten!$P$16:$P$65),\"\") & \" \" & IF($A204<=Daten!$B$8,LOOKUP($B204,Daten!$A$16:$A$65,Daten!$Q$16:$Q$65),\"\")","v":"29,1 Inhalt1Einh[29,1]"},{"$f":"IF($A204<=Daten!$B$8,LOOKUP($B204,Daten!$A$67:$A$116,Daten!$C$67:$C$116),\"\")","v":"Lang[29,2]"},{"$f":"IF($A204<=Daten!$B$8,LOOKUP($B204,Daten!$A$67:$A$116,Daten!$P$67:$P$116),\"\") & \" \" & IF($A204<=Daten!$B$8,LOOKUP($B204,Daten!$A$67:$A$116,Daten!$Q$67:$Q$116),\"\")","v":"29,2 Inhalt1Einh[29,2]"},{"$f":"IF($A204<=Daten!$B$8,LOOKUP($B204,Daten!$A$118:$A$167,Daten!$C$118:$C$167),\"\")","v":"Lang[29,3]"},{"$f":"IF($A204<=Daten!$B$8,LOOKUP($B204,Daten!$A$118:$A$167,Daten!$P$118:$P$167),\"\") & \" \" & IF($A204<=Daten!$B$8,LOOKUP($B204,Daten!$A$118:$A$167,Daten!$Q$118:$Q$167),\"\")","v":"29,3 Inhalt1Einh[29,3]"},{"$f":"IF($A204<=Daten!$B$8,LOOKUP($B204,Daten!$A$169:$A$218,Daten!$C$169:$C$218),\"\")","v":"Lang[29,4]"},{"$f":"IF($A204<=Daten!$B$8,LOOKUP($B204,Daten!$A$169:$A$218,Daten!$P$169:$P$218),\"\") & \" \" & IF($A204<=Daten!$B$8,LOOKUP($B204,Daten!$A$169:$A$218,Daten!$Q$169:$Q$218),\"\")","v":"29,4 Inhalt1Einh[29,4]"},{"$f":"IF($A204<=Daten!$B$8,LOOKUP($B204,Daten!$A$220:$A$269,Daten!$C$220:$C$269),\"\")","v":"Lang[29,5]"},{"$f":"IF($A204<=Daten!$B$8,LOOKUP($B204,Daten!$A$220:$A$269,Daten!$P$220:$P$269),\"\") & \" \" & IF($A204<=Daten!$B$8,LOOKUP($B204,Daten!$A$220:$A$269,Daten!$Q$220:$Q$269),\"\")","v":"29,5 Inhalt1Einh[29,5]"},{"$f":"IF($A204<=Daten!$B$8,LOOKUP($B204,Daten!$A$271:$A$320,Daten!$C$271:$C$320),\"\")","v":"Lang[29,6]"},{"$f":"IF($A204<=Daten!$B$8,LOOKUP($B204,Daten!$A$271:$A$320,Daten!$P$271:$P$320),\"\") & \" \" & IF($A204<=Daten!$B$8,LOOKUP($B204,Daten!$A$271:$A$320,Daten!$Q$271:$Q$320),\"\")","v":"29,6 Inhalt1Einh[29,6]"},{"$f":"IF($A204<=Daten!$B$8,LOOKUP($B204,Daten!$A$322:$A$371,Daten!$B$322:$C$371),\"\")","v":{"$error":"#N/A"}},{"$f":"IF($A204<=Daten!$B$8,LOOKUP($B204,Daten!$A$322:$A$371,Daten!$P$322:$P$371),\"\") & \" \" & IF($A204<=Daten!$B$8,LOOKUP($B204,Daten!$A$322:$A$371,Daten!$Q$322:$Q$371),\"\")","v":"29,7 Inhalt1Einh[29,7]"}]
[null,null,null,{"$f":"IF($A204<=Daten!$B$8,LOOKUP($B204,Daten!$A$16:$A$65,Daten!$R$16:$R$65),\"\") & \" \" & IF($A204<=Daten!$B$8,LOOKUP($B204,Daten!$A$16:$A$65,Daten!$S$16:$S$65),\"\")","v":"29,1 Inhalt2Einh[29,1]"},null,{"$f":"IF($A204<=Daten!$B$8,LOOKUP($B204,Daten!$A$67:$A$116,Daten!$R$67:$R$116),\"\") & \" \" & IF($A204<=Daten!$B$8,LOOKUP($B204,Daten!$A$67:$A$116,Daten!$S$67:$S$116),\"\")","v":"29,2 Inhalt2Einh[29,2]"},null,{"$f":"IF($A204<=Daten!$B$8,LOOKUP($B204,Daten!$A$118:$A$167,Daten!$R$118:$R$167),\"\") & \" \" & IF($A204<=Daten!$B$8,LOOKUP($B204,Daten!$A$118:$A$167,Daten!$S$118:$S$167),\"\")","v":"29,3 Inhalt2Einh[29,3]"},null,{"$f":"IF($A204<=Daten!$B$8,LOOKUP($B204,Daten!$A$169:$A$218,Daten!$R$169:$R$218),\"\") & \" \" & IF($A204<=Daten!$B$8,LOOKUP($B204,Daten!$A$169:$A$218,Daten!$S$169:$S$218),\"\")","v":"29,4 Inhalt2Einh[29,4]"},null,{"$f":"IF($A204<=Daten!$B$8,LOOKUP($B204,Daten!$A$220:$A$269,Daten!$R$220:$R$269),\"\") & \" \" & IF($A204<=Daten!$B$8,LOOKUP($B204,Daten!$A$220:$A$269,Daten!$S$220:$S$269),\"\")","v":"29,5 Inhalt2Einh[29,5]"},null,{"$f":"IF($A204<=Daten!$B$8,LOOKUP($B204,Daten!$A$271:$A$320,Daten!$R$271:$R$320),\"\") & \" \" & IF($A204<=Daten!$B$8,LOOKUP($B204,Daten!$A$271:$A$320,Daten!$S$271:$S$320),\"\")","v":"29,6 Inhalt2Einh[29,6]"},null,{"$f":"IF($A204<=Daten!$B$8,LOOKUP($B204,Daten!$A$322:$A$371,Daten!$R$322:$R$371),\"\") & \" \" & IF($A204<=Daten!$B$8,LOOKUP($B204,Daten!$A$322:$A$371,Daten!$S$322:$S$371),\"\")","v":"29,7 Inhalt2Einh[29,7]"}]
[null,null,null,{"$f":"IF($A204<=Daten!$B$8,LOOKUP($B204,Daten!$A$16:$A$65,Daten!$T$16:$T$65),\"\") & \" \" & IF($A204<=Daten!$B$8,LOOKUP($B204,Daten!$A$16:$A$65,Daten!$U$16:$U$65),\"\")","v":"29,1 Inhalt3Einh[29,1]"},null,{"$f":"IF($A204<=Daten!$B$8,LOOKUP($B204,Daten!$A$67:$A$116,Daten!$T$67:$T$116),\"\") & \" \" & IF($A204<=Daten!$B$8,LOOKUP($B204,Daten!$A$67:$A$116,Daten!$U$67:$U$116),\"\")","v":"29,2 Inhalt3Einh[29,2]"},null,{"$f":"IF($A204<=Daten!$B$8,LOOKUP($B204,Daten!$A$118:$A$167,Daten!$T$118:$T$167),\"\") & \" \" & IF($A204<=Daten!$B$8,LOOKUP($B204,Daten!$A$118:$A$167,Daten!$U$118:$U$167),\"\")","v":"29,3 Inhalt3Einh[29,3]"},null,{"$f":"IF($A204<=Daten!$B$8,LOOKUP($B204,Daten!$A$169:$A$218,Daten!$T$169:$T$218),\"\") & \" \" & IF($A204<=Daten!$B$8,LOOKUP($B204,Daten!$A$169:$A$218,Daten!$U$169:$U$218),\"\")","v":"29,4 Inhalt3Einh[29,4]"},null,{"$f":"IF($A204<=Daten!$B$8,LOOKUP($B204,Daten!$A$220:$A$269,Daten!$T$220:$T$269),\"\") & \" \" & IF($A204<=Daten!$B$8,LOOKUP($B204,Daten!$A$220:$A$269,Daten!$U$220:$U$269),\"\")","v":"29,5 Inhalt3Einh[29,5]"},null,{"$f":"IF($A204<=Daten!$B$8,LOOKUP($B204,Daten!$A$271:$A$320,Daten!$T$271:$T$320),\"\") & \" \" & IF($A204<=Daten!$B$8,LOOKUP($B204,Daten!$A$271:$A$320,Daten!$U$271:$U$320),\"\")","v":"29,6 Inhalt3Einh[29,6]"},null,{"$f":"IF($A204<=Daten!$B$8,LOOKUP($B204,Daten!$A$322:$A$371,Daten!$T$322:$T$371),\"\") & \" \" & IF($A204<=Daten!$B$8,LOOKUP($B204,Daten!$A$322:$A$371,Daten!$U$322:$U$371),\"\")","v":"29,7 Inhalt3Einh[29,7]"}]
[null,null,null,{"$f":"IF($A204<=Daten!$B$8,LOOKUP($B204,Daten!$A$16:$A$65,Daten!$V$16:$V$65),\"\") & \" \" & IF($A204<=Daten!$B$8,LOOKUP($B204,Daten!$A$16:$A$65,Daten!$W$16:$W$65),\"\")","v":"29,1 Inhalt4Einh[29,1]"},null,{"$f":"IF($A204<=Daten!$B$8,LOOKUP($B204,Daten!$A$67:$A$116,Daten!$V$67:$V$116),\"\") & \" \" & IF($A204<=Daten!$B$8,LOOKUP($B204,Daten!$A$67:$A$116,Daten!$W$67:$W$116),\"\")","v":"29,2 Inhalt4Einh[29,2]"},null,{"$f":"IF($A204<=Daten!$B$8,LOOKUP($B204,Daten!$A$118:$A$167,Daten!$V$118:$V$167),\"\") & \" \" & IF($A204<=Daten!$B$8,LOOKUP($B204,Daten!$A$118:$A$167,Daten!$W$118:$W$167),\"\")","v":"29,3 Inhalt4Einh[29,3]"},null,{"$f":"IF($A204<=Daten!$B$8,LOOKUP($B204,Daten!$A$169:$A$218,Daten!$V$169:$V$218),\"\") & \" \" & IF($A204<=Daten!$B$8,LOOKUP($B204,Daten!$A$169:$A$218,Daten!$W$169:$W$218),\"\")","v":"29,4 Inhalt4Einh[29,4]"},null,{"$f":"IF($A204<=Daten!$B$8,LOOKUP($B204,Daten!$A$220:$A$269,Daten!$V$220:$V$269),\"\") & \" \" & IF($A204<=Daten!$B$8,LOOKUP($B204,Daten!$A$220:$A$269,Daten!$W$220:$W$269),\"\")","v":"29,5 Inhalt4Einh[29,5]"},null,{"$f":"IF($A204<=Daten!$B$8,LOOKUP($B204,Daten!$A$271:$A$320,Daten!$V$271:$V$320),\"\") & \" \" & IF($A204<=Daten!$B$8,LOOKUP($B204,Daten!$A$271:$A$320,Daten!$W$271:$W$320),\"\")","v":"29,6 Inhalt4Einh[29,6]"},null,{"$f":"IF($A204<=Daten!$B$8,LOOKUP($B204,Daten!$A$322:$A$371,Daten!$V$322:$V$371),\"\") & \" \" & IF($A204<=Daten!$B$8,LOOKUP($B204,Daten!$A$322:$A$371,Daten!$W$322:$W$371),\"\")","v":"29,7 Inhalt4Einh[29,7]"}]
[null,null,null,{"$f":"IF($A204<=Daten!$B$8,LOOKUP($B204,Daten!$A$16:$A$65,Daten!$X$16:$X$65),\"\") & \" \" & IF($A204<=Daten!$B$8,LOOKUP($B204,Daten!$A$16:$A$65,Daten!$Y$16:$Y$65),\"\")","v":"29,1 Inhalt5Einh[29,1]"},null,{"$f":"IF($A204<=Daten!$B$8,LOOKUP($B204,Daten!$A$67:$A$116,Daten!$X$67:$X$116),\"\") & \" \" & IF($A204<=Daten!$B$8,LOOKUP($B204,Daten!$A$67:$A$116,Daten!$Y$67:$Y$116),\"\")","v":"29,2 Inhalt5Einh[29,2]"},null,{"$f":"IF($A204<=Daten!$B$8,LOOKUP($B204,Daten!$A$118:$A$167,Daten!$X$118:$X$167),\"\") & \" \" & IF($A204<=Daten!$B$8,LOOKUP($B204,Daten!$A$118:$A$167,Daten!$Y$118:$Y$167),\"\")","v":"29,3 Inhalt5Einh[29,3]"},null,{"$f":"IF($A204<=Daten!$B$8,LOOKUP($B204,Daten!$A$169:$A$218,Daten!$X$169:$X$218),\"\") & \" \" & IF($A204<=Daten!$B$8,LOOKUP($B204,Daten!$A$169:$A$218,Daten!$Y$169:$Y$218),\"\")","v":"29,4 Inhalt5Einh[29,4]"},null,{"$f":"IF($A204<=Daten!$B$8,LOOKUP($B204,Daten!$A$220:$A$269,Daten!$X$220:$X$269),\"\") & \" \" & IF($A204<=Daten!$B$8,LOOKUP($B204,Daten!$A$220:$A$269,Daten!$Y$220:$Y$269),\"\")","v":"29,5 Inhalt5Einh[29,5]"},null,{"$f":"IF($A204<=Daten!$B$8,LOOKUP($B204,Daten!$A$271:$A$320,Daten!$X$271:$X$320),\"\") & \" \" & IF($A204<=Daten!$B$8,LOOKUP($B204,Daten!$A$271:$A$320,Daten!$Y$271:$Y$320),\"\")","v":"29,6 Inhalt5Einh[29,6]"},null,{"$f":"IF($A204<=Daten!$B$8,LOOKUP($B204,Daten!$A$322:$A$371,Daten!$X$322:$X$371),\"\") & \" \" & IF($A204<=Daten!$B$8,LOOKUP($B204,Daten!$A$322:$A$371,Daten!$Y$322:$Y$371),\"\")","v":"29,7 Inhalt5Einh[29,7]"}]
[null,null,null,{"$f":"IF($A204<=Daten!$B$8,LOOKUP($B204,Daten!$A$16:$A$65,Daten!$Z$16:$Z$65),\"\") & \" \" & IF($A204<=Daten!$B$8,LOOKUP($B204,Daten!$A$16:$A$65,Daten!$AA$16:$AA$65),\"\")","v":"29,1 Inhalt6Einh[29,1]"},null,{"$f":"IF($A204<=Daten!$B$8,LOOKUP($B204,Daten!$A$67:$A$116,Daten!$Z$67:$Z$116),\"\") & \" \" & IF($A204<=Daten!$B$8,LOOKUP($B204,Daten!$A$67:$A$116,Daten!$AA$67:$AA$116),\"\")","v":"29,2 Inhalt6Einh[29,2]"},null,{"$f":"IF($A204<=Daten!$B$8,LOOKUP($B204,Daten!$A$118:$A$167,Daten!$Z$118:$Z$167),\"\") & \" \" & IF($A204<=Daten!$B$8,LOOKUP($B204,Daten!$A$118:$A$167,Daten!$AA$118:$AA$167),\"\")","v":"29,3 Inhalt6Einh[29,3]"},null,{"$f":"IF($A204<=Daten!$B$8,LOOKUP($B204,Daten!$A$169:$A$218,Daten!$Z$169:$Z$218),\"\") & \" \" & IF($A204<=Daten!$B$8,LOOKUP($B204,Daten!$A$169:$A$218,Daten!$AA$169:$AA$218),\"\")","v":"29,4 Inhalt6Einh[29,4]"},null,{"$f":"IF($A204<=Daten!$B$8,LOOKUP($B204,Daten!$A$220:$A$269,Daten!$Z$220:$Z$269),\"\") & \" \" & IF($A204<=Daten!$B$8,LOOKUP($B204,Daten!$A$220:$A$269,Daten!$AA$220:$AA$269),\"\")","v":"29,5 Inhalt6Einh[29,5]"},null,{"$f":"IF($A204<=Daten!$B$8,LOOKUP($B204,Daten!$A$271:$A$320,Daten!$Z$271:$Z$320),\"\") & \" \" & IF($A204<=Daten!$B$8,LOOKUP($B204,Daten!$A$271:$A$320,Daten!$AA$271:$AA$320),\"\")","v":"29,6 Inhalt6Einh[29,6]"},null,{"$f":"IF($A204<=Daten!$B$8,LOOKUP($B204,Daten!$A$322:$A$371,Daten!$Z$322:$Z$371),\"\") & \" \" & IF($A204<=Daten!$B$8,LOOKUP($B204,Daten!$A$322:$A$371,Daten!$AA$322:$AA$371),\"\")","v":"29,7 Inhalt6Einh[29,7]"}]
[null,{"$f":"IF(A204<=Daten!$B$8,\"Zusatzstoffe\",\"\")","v":"Zusatzstoffe"},{"$f":"IF($A204<=Daten!$B$8,LOOKUP($B204,Daten!$A$16:$A$65,Daten!$L$16:$L$65),\"\")","v":29.1},{"$f":"IF($A204<=Daten!$B$8,LOOKUP($B204,Daten!$A$16:$A$65,Daten!$E$16:$E$65),\"\")","v":219.1},{"$f":"IF($A204<=Daten!$B$8,LOOKUP($B204,Daten!$A$67:$A$116,Daten!$L$67:$L$116),\"\")","v":29.2},{"$f":"IF($A204<=Daten!$B$8,LOOKUP($B204,Daten!$A$16:$A$65,Daten!$E$67:$E$116),\"\")","v":0},{"$f":"IF($A204<=Daten!$B$8,LOOKUP($B204,Daten!$A$118:$A$167,Daten!$L$118:$L$167),\"\")","v":29.3},{"$f":"IF($A204<=Daten!$B$8,LOOKUP($B204,Daten!$A$118:$A$167,Daten!$E$118:$E$167),\"\")","v":0},{"$f":"IF($A204<=Daten!$B$8,LOOKUP($B204,Daten!$A$169:$A$218,Daten!$L$169:$L$218),\"\")","v":29.4},{"$f":"IF($A204<=Daten!$B$8,LOOKUP($B204,Daten!$A$169:$A$218,Daten!$E$169:$E$218),\"\")","v":0},{"$f":"IF($A204<=Daten!$B$8,LOOKUP($B204,Daten!$A$220:$A$269,Daten!$L$220:$L$269),\"\")","v":29.5},{"$f":"IF($A204<=Daten!$B$8,LOOKUP($B204,Daten!$A$220:$A$269,Daten!$E$220:$E$269),\"\")","v":0},{"$f":"IF($A204<=Daten!$B$8,LOOKUP($B204,Daten!$A$271:$A$320,Daten!$L$271:$L$320),\"\")","v":29.6},{"$f":"IF($A204<=Daten!$B$8,LOOKUP($B204,Daten!$A$271:$A$320,Daten!$E$271:$E$320),\"\")","v":0},{"$f":"IF($A204<=Daten!$B$8,LOOKUP($B204,Daten!$A$322:$A$371,Daten!$L$322:$L$371),\"\")","v":29.7},{"$f":"IF($A204<=Daten!$B$8,LOOKUP($B204,Daten!$A$322:$A$371,Daten!$E$322:$E$371),\"\")","v":0}]
[30,{"$f":"IF(A211<=Daten!$B$8,Daten!AE9,\"\")","v":"Menülinie 30"},{"$f":"IF(A211<=Daten!$B$8,LOOKUP(B211,Daten!$A$16:$A$65,Daten!$C$16:$C$65),\"\")","v":"Lang[30,1]"},{"$f":"IF($A211<=Daten!$B$8,LOOKUP($B211,Daten!$A$16:$A$65,Daten!$P$16:$P$65),\"\") & \" \" & IF($A211<=Daten!$B$8,LOOKUP($B211,Daten!$A$16:$A$65,Daten!$Q$16:$Q$65),\"\")","v":"30,1 Inhalt1Einh[30,1]"},{"$f":"IF($A211<=Daten!$B$8,LOOKUP($B211,Daten!$A$67:$A$116,Daten!$C$67:$C$116),\"\")","v":"Lang[30,2]"},{"$f":"IF($A211<=Daten!$B$8,LOOKUP($B211,Daten!$A$67:$A$116,Daten!$P$67:$P$116),\"\") & \" \" & IF($A211<=Daten!$B$8,LOOKUP($B211,Daten!$A$67:$A$116,Daten!$Q$67:$Q$116),\"\")","v":"30,2 Inhalt1Einh[30,2]"},{"$f":"IF($A211<=Daten!$B$8,LOOKUP($B211,Daten!$A$118:$A$167,Daten!$C$118:$C$167),\"\")","v":"Lang[30,3]"},{"$f":"IF($A211<=Daten!$B$8,LOOKUP($B211,Daten!$A$118:$A$167,Daten!$P$118:$P$167),\"\") & \" \" & IF($A211<=Daten!$B$8,LOOKUP($B211,Daten!$A$118:$A$167,Daten!$Q$118:$Q$167),\"\")","v":"30,3 Inhalt1Einh[30,3]"},{"$f":"IF($A211<=Daten!$B$8,LOOKUP($B211,Daten!$A$169:$A$218,Daten!$C$169:$C$218),\"\")","v":"Lang[30,4]"},{"$f":"IF($A211<=Daten!$B$8,LOOKUP($B211,Daten!$A$169:$A$218,Daten!$P$169:$P$218),\"\") & \" \" & IF($A211<=Daten!$B$8,LOOKUP($B211,Daten!$A$169:$A$218,Daten!$Q$169:$Q$218),\"\")","v":"30,4 Inhalt1Einh[30,4]"},{"$f":"IF($A211<=Daten!$B$8,LOOKUP($B211,Daten!$A$220:$A$269,Daten!$C$220:$C$269),\"\")","v":"Lang[30,5]"},{"$f":"IF($A211<=Daten!$B$8,LOOKUP($B211,Daten!$A$220:$A$269,Daten!$P$220:$P$269),\"\") & \" \" & IF($A211<=Daten!$B$8,LOOKUP($B211,Daten!$A$220:$A$269,Daten!$Q$220:$Q$269),\"\")","v":"30,5 Inhalt1Einh[30,5]"},{"$f":"IF($A211<=Daten!$B$8,LOOKUP($B211,Daten!$A$271:$A$320,Daten!$C$271:$C$320),\"\")","v":"Lang[30,6]"},{"$f":"IF($A211<=Daten!$B$8,LOOKUP($B211,Daten!$A$271:$A$320,Daten!$P$271:$P$320),\"\") & \" \" & IF($A211<=Daten!$B$8,LOOKUP($B211,Daten!$A$271:$A$320,Daten!$Q$271:$Q$320),\"\")","v":"30,6 Inhalt1Einh[30,6]"},{"$f":"IF($A211<=Daten!$B$8,LOOKUP($B211,Daten!$A$322:$A$371,Daten!$B$322:$C$371),\"\")","v":{"$error":"#N/A"}},{"$f":"IF($A211<=Daten!$B$8,LOOKUP($B211,Daten!$A$322:$A$371,Daten!$P$322:$P$371),\"\") & \" \" & IF($A211<=Daten!$B$8,LOOKUP($B211,Daten!$A$322:$A$371,Daten!$Q$322:$Q$371),\"\")","v":"30,7 Inhalt1Einh[30,7]"}]
[null,null,null,{"$f":"IF($A211<=Daten!$B$8,LOOKUP($B211,Daten!$A$16:$A$65,Daten!$R$16:$R$65),\"\") & \" \" & IF($A211<=Daten!$B$8,LOOKUP($B211,Daten!$A$16:$A$65,Daten!$S$16:$S$65),\"\")","v":"30,1 Inhalt2Einh[30,1]"},null,{"$f":"IF($A211<=Daten!$B$8,LOOKUP($B211,Daten!$A$67:$A$116,Daten!$R$67:$R$116),\"\") & \" \" & IF($A211<=Daten!$B$8,LOOKUP($B211,Daten!$A$67:$A$116,Daten!$S$67:$S$116),\"\")","v":"30,2 Inhalt2Einh[30,2]"},null,{"$f":"IF($A211<=Daten!$B$8,LOOKUP($B211,Daten!$A$118:$A$167,Daten!$R$118:$R$167),\"\") & \" \" & IF($A211<=Daten!$B$8,LOOKUP($B211,Daten!$A$118:$A$167,Daten!$S$118:$S$167),\"\")","v":"30,3 Inhalt2Einh[30,3]"},null,{"$f":"IF($A211<=Daten!$B$8,LOOKUP($B211,Daten!$A$169:$A$218,Daten!$R$169:$R$218),\"\") & \" \" & IF($A211<=Daten!$B$8,LOOKUP($B211,Daten!$A$169:$A$218,Daten!$S$169:$S$218),\"\")","v":"30,4 Inhalt2Einh[30,4]"},null,{"$f":"IF($A211<=Daten!$B$8,LOOKUP($B211,Daten!$A$220:$A$269,Daten!$R$220:$R$269),\"\") & \" \" & IF($A211<=Daten!$B$8,LOOKUP($B211,Daten!$A$220:$A$269,Daten!$S$220:$S$269),\"\")","v":"30,5 Inhalt2Einh[30,5]"},null,{"$f":"IF($A211<=Daten!$B$8,LOOKUP($B211,Daten!$A$271:$A$320,Daten!$R$271:$R$320),\"\") & \" \" & IF($A211<=Daten!$B$8,LOOKUP($B211,Daten!$A$271:$A$320,Daten!$S$271:$S$320),\"\")","v":"30,6 Inhalt2Einh[30,6]"},null,{"$f":"IF($A211<=Daten!$B$8,LOOKUP($B211,Daten!$A$322:$A$371,Daten!$R$322:$R$371),\"\") & \" \" & IF($A211<=Daten!$B$8,LOOKUP($B211,Daten!$A$322:$A$371,Daten!$S$322:$S$371),\"\")","v":"30,7 Inhalt2Einh[30,7]"}]
[null,null,null,{"$f":"IF($A211<=Daten!$B$8,LOOKUP($B211,Daten!$A$16:$A$65,Daten!$T$16:$T$65),\"\") & \" \" & IF($A211<=Daten!$B$8,LOOKUP($B211,Daten!$A$16:$A$65,Daten!$U$16:$U$65),\"\")","v":"30,1 Inhalt3Einh[30,1]"},null,{"$f":"IF($A211<=Daten!$B$8,LOOKUP($B211,Daten!$A$67:$A$116,Daten!$T$67:$T$116),\"\") & \" \" & IF($A211<=Daten!$B$8,LOOKUP($B211,Daten!$A$67:$A$116,Daten!$U$67:$U$116),\"\")","v":"30,2 Inhalt3Einh[30,2]"},null,{"$f":"IF($A211<=Daten!$B$8,LOOKUP($B211,Daten!$A$118:$A$167,Daten!$T$118:$T$167),\"\") & \" \" & IF($A211<=Daten!$B$8,LOOKUP($B211,Daten!$A$118:$A$167,Daten!$U$118:$U$167),\"\")","v":"30,3 Inhalt3Einh[30,3]"},null,{"$f":"IF($A211<=Daten!$B$8,LOOKUP($B211,Daten!$A$169:$A$218,Daten!$T$169:$T$218),\"\") & \" \" & IF($A211<=Daten!$B$8,LOOKUP($B211,Daten!$A$169:$A$218,Daten!$U$169:$U$218),\"\")","v":"30,4 Inhalt3Einh[30,4]"},null,{"$f":"IF($A211<=Daten!$B$8,LOOKUP($B211,Daten!$A$220:$A$269,Daten!$T$220:$T$269),\"\") & \" \" & IF($A211<=Daten!$B$8,LOOKUP($B211,Daten!$A$220:$A$269,Daten!$U$220:$U$269),\"\")","v":"30,5 Inhalt3Einh[30,5]"},null,{"$f":"IF($A211<=Daten!$B$8,LOOKUP($B211,Daten!$A$271:$A$320,Daten!$T$271:$T$320),\"\") & \" \" & IF($A211<=Daten!$B$8,LOOKUP($B211,Daten!$A$271:$A$320,Daten!$U$271:$U$320),\"\")","v":"30,6 Inhalt3Einh[30,6]"},null,{"$f":"IF($A211<=Daten!$B$8,LOOKUP($B211,Daten!$A$322:$A$371,Daten!$T$322:$T$371),\"\") & \" \" & IF($A211<=Daten!$B$8,LOOKUP($B211,Daten!$A$322:$A$371,Daten!$U$322:$U$371),\"\")","v":"30,7 Inhalt3Einh[30,7]"}]
[null,null,null,{"$f":"IF($A211<=Daten!$B$8,LOOKUP($B211,Daten!$A$16:$A$65,Daten!$V$16:$V$65),\"\") & \" \" & IF($A211<=Daten!$B$8,LOOKUP($B211,Daten!$A$16:$A$65,Daten!$W$16:$W$65),\"\")","v":"30,1 Inhalt4Einh[30,1]"},null,{"$f":"IF($A211<=Daten!$B$8,LOOKUP($B211,Daten!$A$67:$A$116,Daten!$V$67:$V$116),\"\") & \" \" & IF($A211<=Daten!$B$8,LOOKUP($B211,Daten!$A$67:$A$116,Daten!$W$67:$W$116),\"\")","v":"30,2 Inhalt4Einh[30,2]"},null,{"$f":"IF($A211<=Daten!$B$8,LOOKUP($B211,Daten!$A$118:$A$167,Daten!$V$118:$V$167),\"\") & \" \" & IF($A211<=Daten!$B$8,LOOKUP($B211,Daten!$A$118:$A$167,Daten!$W$118:$W$167),\"\")","v":"30,3 Inhalt4Einh[30,3]"},null,{"$f":"IF($A211<=Daten!$B$8,LOOKUP($B211,Daten!$A$169:$A$218,Daten!$V$169:$V$218),\"\") & \" \" & IF($A211<=Daten!$B$8,LOOKUP($B211,Daten!$A$169:$A$218,Daten!$W$169:$W$218),\"\")","v":"30,4 Inhalt4Einh[30,4]"},null,{"$f":"IF($A211<=Daten!$B$8,LOOKUP($B211,Daten!$A$220:$A$269,Daten!$V$220:$V$269),\"\") & \" \" & IF($A211<=Daten!$B$8,LOOKUP($B211,Daten!$A$220:$A$269,Daten!$W$220:$W$269),\"\")","v":"30,5 Inhalt4Einh[30,5]"},null,{"$f":"IF($A211<=Daten!$B$8,LOOKUP($B211,Daten!$A$271:$A$320,Daten!$V$271:$V$320),\"\") & \" \" & IF($A211<=Daten!$B$8,LOOKUP($B211,Daten!$A$271:$A$320,Daten!$W$271:$W$320),\"\")","v":"30,6 Inhalt4Einh[30,6]"},null,{"$f":"IF($A211<=Daten!$B$8,LOOKUP($B211,Daten!$A$322:$A$371,Daten!$V$322:$V$371),\"\") & \" \" & IF($A211<=Daten!$B$8,LOOKUP($B211,Daten!$A$322:$A$371,Daten!$W$322:$W$371),\"\")","v":"30,7 Inhalt4Einh[30,7]"}]
[null,null,null,{"$f":"IF($A211<=Daten!$B$8,LOOKUP($B211,Daten!$A$16:$A$65,Daten!$X$16:$X$65),\"\") & \" \" & IF($A211<=Daten!$B$8,LOOKUP($B211,Daten!$A$16:$A$65,Daten!$Y$16:$Y$65),\"\")","v":"30,1 Inhalt5Einh[30,1]"},null,{"$f":"IF($A211<=Daten!$B$8,LOOKUP($B211,Daten!$A$67:$A$116,Daten!$X$67:$X$116),\"\") & \" \" & IF($A211<=Daten!$B$8,LOOKUP($B211,Daten!$A$67:$A$116,Daten!$Y$67:$Y$116),\"\")","v":"30,2 Inhalt5Einh[30,2]"},null,{"$f":"IF($A211<=Daten!$B$8,LOOKUP($B211,Daten!$A$118:$A$167,Daten!$X$118:$X$167),\"\") & \" \" & IF($A211<=Daten!$B$8,LOOKUP($B211,Daten!$A$118:$A$167,Daten!$Y$118:$Y$167),\"\")","v":"30,3 Inhalt5Einh[30,3]"},null,{"$f":"IF($A211<=Daten!$B$8,LOOKUP($B211,Daten!$A$169:$A$218,Daten!$X$169:$X$218),\"\") & \" \" & IF($A211<=Daten!$B$8,LOOKUP($B211,Daten!$A$169:$A$218,Daten!$Y$169:$Y$218),\"\")","v":"30,4 Inhalt5Einh[30,4]"},null,{"$f":"IF($A211<=Daten!$B$8,LOOKUP($B211,Daten!$A$220:$A$269,Daten!$X$220:$X$269),\"\") & \" \" & IF($A211<=Daten!$B$8,LOOKUP($B211,Daten!$A$220:$A$269,Daten!$Y$220:$Y$269),\"\")","v":"30,5 Inhalt5Einh[30,5]"},null,{"$f":"IF($A211<=Daten!$B$8,LOOKUP($B211,Daten!$A$271:$A$320,Daten!$X$271:$X$320),\"\") & \" \" & IF($A211<=Daten!$B$8,LOOKUP($B211,Daten!$A$271:$A$320,Daten!$Y$271:$Y$320),\"\")","v":"30,6 Inhalt5Einh[30,6]"},null,{"$f":"IF($A211<=Daten!$B$8,LOOKUP($B211,Daten!$A$322:$A$371,Daten!$X$322:$X$371),\"\") & \" \" & IF($A211<=Daten!$B$8,LOOKUP($B211,Daten!$A$322:$A$371,Daten!$Y$322:$Y$371),\"\")","v":"30,7 Inhalt5Einh[30,7]"}]
[null,null,null,{"$f":"IF($A211<=Daten!$B$8,LOOKUP($B211,Daten!$A$16:$A$65,Daten!$Z$16:$Z$65),\"\") & \" \" & IF($A211<=Daten!$B$8,LOOKUP($B211,Daten!$A$16:$A$65,Daten!$AA$16:$AA$65),\"\")","v":"30,1 Inhalt6Einh[30,1]"},null,{"$f":"IF($A211<=Daten!$B$8,LOOKUP($B211,Daten!$A$67:$A$116,Daten!$Z$67:$Z$116),\"\") & \" \" & IF($A211<=Daten!$B$8,LOOKUP($B211,Daten!$A$67:$A$116,Daten!$AA$67:$AA$116),\"\")","v":"30,2 Inhalt6Einh[30,2]"},null,{"$f":"IF($A211<=Daten!$B$8,LOOKUP($B211,Daten!$A$118:$A$167,Daten!$Z$118:$Z$167),\"\") & \" \" & IF($A211<=Daten!$B$8,LOOKUP($B211,Daten!$A$118:$A$167,Daten!$AA$118:$AA$167),\"\")","v":"30,3 Inhalt6Einh[30,3]"},null,{"$f":"IF($A211<=Daten!$B$8,LOOKUP($B211,Daten!$A$169:$A$218,Daten!$Z$169:$Z$218),\"\") & \" \" & IF($A211<=Daten!$B$8,LOOKUP($B211,Daten!$A$169:$A$218,Daten!$AA$169:$AA$218),\"\")","v":"30,4 Inhalt6Einh[30,4]"},null,{"$f":"IF($A211<=Daten!$B$8,LOOKUP($B211,Daten!$A$220:$A$269,Daten!$Z$220:$Z$269),\"\") & \" \" & IF($A211<=Daten!$B$8,LOOKUP($B211,Daten!$A$220:$A$269,Daten!$AA$220:$AA$269),\"\")","v":"30,5 Inhalt6Einh[30,5]"},null,{"$f":"IF($A211<=Daten!$B$8,LOOKUP($B211,Daten!$A$271:$A$320,Daten!$Z$271:$Z$320),\"\") & \" \" & IF($A211<=Daten!$B$8,LOOKUP($B211,Daten!$A$271:$A$320,Daten!$AA$271:$AA$320),\"\")","v":"30,6 Inhalt6Einh[30,6]"},null,{"$f":"IF($A211<=Daten!$B$8,LOOKUP($B211,Daten!$A$322:$A$371,Daten!$Z$322:$Z$371),\"\") & \" \" & IF($A211<=Daten!$B$8,LOOKUP($B211,Daten!$A$322:$A$371,Daten!$AA$322:$AA$371),\"\")","v":"30,7 Inhalt6Einh[30,7]"}]
[null,{"$f":"IF(A211<=Daten!$B$8,\"Zusatzstoffe\",\"\")","v":"Zusatzstoffe"},{"$f":"IF($A211<=Daten!$B$8,LOOKUP($B211,Daten!$A$16:$A$65,Daten!$L$16:$L$65),\"\")","v":30.1},{"$f":"IF($A211<=Daten!$B$8,LOOKUP($B211,Daten!$A$16:$A$65,Daten!$E$16:$E$65),\"\")","v":210.1},{"$f":"IF($A211<=Daten!$B$8,LOOKUP($B211,Daten!$A$67:$A$116,Daten!$L$67:$L$116),\"\")","v":30.2},{"$f":"IF($A211<=Daten!$B$8,LOOKUP($B211,Daten!$A$16:$A$65,Daten!$E$67:$E$116),\"\")","v":0},{"$f":"IF($A211<=Daten!$B$8,LOOKUP($B211,Daten!$A$118:$A$167,Daten!$L$118:$L$167),\"\")","v":30.3},{"$f":"IF($A211<=Daten!$B$8,LOOKUP($B211,Daten!$A$118:$A$167,Daten!$E$118:$E$167),\"\")","v":0},{"$f":"IF($A211<=Daten!$B$8,LOOKUP($B211,Daten!$A$169:$A$218,Daten!$L$169:$L$218),\"\")","v":30.4},{"$f":"IF($A211<=Daten!$B$8,LOOKUP($B211,Daten!$A$169:$A$218,Daten!$E$169:$E$218),\"\")","v":0},{"$f":"IF($A211<=Daten!$B$8,LOOKUP($B211,Daten!$A$220:$A$269,Daten!$L$220:$L$269),\"\")","v":30.5},{"$f":"IF($A211<=Daten!$B$8,LOOKUP($B211,Daten!$A$220:$A$269,Daten!$E$220:$E$269),\"\")","v":0},{"$f":"IF($A211<=Daten!$B$8,LOOKUP($B211,Daten!$A$271:$A$320,Daten!$L$271:$L$320),\"\")","v":30.6},{"$f":"IF($A211<=Daten!$B$8,LOOKUP($B211,Daten!$A$271:$A$320,Daten!$E$271:$E$320),\"\")","v":0},{"$f":"IF($A211<=Daten!$B$8,LOOKUP($B211,Daten!$A$322:$A$371,Daten!$L$322:$L$371),\"\")","v":30.7},{"$f":"IF($A211<=Daten!$B$8,LOOKUP($B211,Daten!$A$322:$A$371,Daten!$E$322:$E$371),\"\")","v":0}]
[31,{"$f":"IF(A218<=Daten!$B$8,Daten!AF9,\"\")","v":"Menülinie 31"},{"$f":"IF($A218<=Daten!$B$8,LOOKUP($B218,Daten!$A$16:$A$65,Daten!$C$16:$C$65),\"\")","v":"Lang[31,1]"},{"$f":"IF($A218<=Daten!$B$8,LOOKUP($B218,Daten!$A$16:$A$65,Daten!$P$16:$P$65),\"\") & \" \" & IF($A218<=Daten!$B$8,LOOKUP($B218,Daten!$A$16:$A$65,Daten!$Q$16:$Q$65),\"\")","v":"31,1 Inhalt1Einh[31,1]"},{"$f":"IF($A218<=Daten!$B$8,LOOKUP($B218,Daten!$A$67:$A$116,Daten!$C$67:$C$116),\"\")","v":"Lang[31,2]"},{"$f":"IF($A218<=Daten!$B$8,LOOKUP($B218,Daten!$A$67:$A$116,Daten!$P$67:$P$116),\"\") & \" \" & IF($A218<=Daten!$B$8,LOOKUP($B218,Daten!$A$67:$A$116,Daten!$Q$67:$Q$116),\"\")","v":"31,2 Inhalt1Einh[31,2]"},{"$f":"IF($A218<=Daten!$B$8,LOOKUP($B218,Daten!$A$118:$A$167,Daten!$C$118:$C$167),\"\")","v":"Lang[31,3]"},{"$f":"IF($A218<=Daten!$B$8,LOOKUP($B218,Daten!$A$118:$A$167,Daten!$P$118:$P$167),\"\") & \" \" & IF($A218<=Daten!$B$8,LOOKUP($B218,Daten!$A$118:$A$167,Daten!$Q$118:$Q$167),\"\")","v":"31,3 Inhalt1Einh[31,3]"},{"$f":"IF($A218<=Daten!$B$8,LOOKUP($B218,Daten!$A$169:$A$218,Daten!$C$169:$C$218),\"\")","v":"Lang[31,4]"},{"$f":"IF($A218<=Daten!$B$8,LOOKUP($B218,Daten!$A$169:$A$218,Daten!$P$169:$P$218),\"\") & \" \" & IF($A218<=Daten!$B$8,LOOKUP($B218,Daten!$A$169:$A$218,Daten!$Q$169:$Q$218),\"\")","v":"31,4 Inhalt1Einh[31,4]"},{"$f":"IF($A218<=Daten!$B$8,LOOKUP($B218,Daten!$A$220:$A$269,Daten!$C$220:$C$269),\"\")","v":"Lang[31,5]"},{"$f":"IF($A218<=Daten!$B$8,LOOKUP($B218,Daten!$A$220:$A$269,Daten!$P$220:$P$269),\"\") & \" \" & IF($A218<=Daten!$B$8,LOOKUP($B218,Daten!$A$220:$A$269,Daten!$Q$220:$Q$269),\"\")","v":"31,5 Inhalt1Einh[31,5]"},{"$f":"IF($A218<=Daten!$B$8,LOOKUP($B218,Daten!$A$271:$A$320,Daten!$C$271:$C$320),\"\")","v":"Lang[31,6]"},{"$f":"IF($A218<=Daten!$B$8,LOOKUP($B218,Daten!$A$271:$A$320,Daten!$P$271:$P$320),\"\") & \" \" & IF($A218<=Daten!$B$8,LOOKUP($B218,Daten!$A$271:$A$320,Daten!$Q$271:$Q$320),\"\")","v":"31,6 Inhalt1Einh[31,6]"},{"$f":"IF($A218<=Daten!$B$8,LOOKUP($B218,Daten!$A$322:$A$371,Daten!$B$322:$C$371),\"\")","v":{"$error":"#N/A"}},{"$f":"IF($A218<=Daten!$B$8,LOOKUP($B218,Daten!$A$322:$A$371,Daten!$P$322:$P$371),\"\") & \" \" & IF($A218<=Daten!$B$8,LOOKUP($B218,Daten!$A$322:$A$371,Daten!$Q$322:$Q$371),\"\")","v":"31,7 Inhalt1Einh[31,7]"}]
[null,null,null,{"$f":"IF($A218<=Daten!$B$8,LOOKUP($B218,Daten!$A$16:$A$65,Daten!$R$16:$R$65),\"\") & \" \" & IF($A218<=Daten!$B$8,LOOKUP($B218,Daten!$A$16:$A$65,Daten!$S$16:$S$65),\"\")","v":"31,1 Inhalt2Einh[31,1]"},null,{"$f":"IF($A218<=Daten!$B$8,LOOKUP($B218,Daten!$A$67:$A$116,Daten!$R$67:$R$116),\"\") & \" \" & IF($A218<=Daten!$B$8,LOOKUP($B218,Daten!$A$67:$A$116,Daten!$S$67:$S$116),\"\")","v":"31,2 Inhalt2Einh[31,2]"},null,{"$f":"IF($A218<=Daten!$B$8,LOOKUP($B218,Daten!$A$118:$A$167,Daten!$R$118:$R$167),\"\") & \" \" & IF($A218<=Daten!$B$8,LOOKUP($B218,Daten!$A$118:$A$167,Daten!$S$118:$S$167),\"\")","v":"31,3 Inhalt2Einh[31,3]"},null,{"$f":"IF($A218<=Daten!$B$8,LOOKUP($B218,Daten!$A$169:$A$218,Daten!$R$169:$R$218),\"\") & \" \" & IF($A218<=Daten!$B$8,LOOKUP($B218,Daten!$A$169:$A$218,Daten!$S$169:$S$218),\"\")","v":"31,4 Inhalt2Einh[31,4]"},null,{"$f":"IF($A218<=Daten!$B$8,LOOKUP($B218,Daten!$A$220:$A$269,Daten!$R$220:$R$269),\"\") & \" \" & IF($A218<=Daten!$B$8,LOOKUP($B218,Daten!$A$220:$A$269,Daten!$S$220:$S$269),\"\")","v":"31,5 Inhalt2Einh[31,5]"},null,{"$f":"IF($A218<=Daten!$B$8,LOOKUP($B218,Daten!$A$271:$A$320,Daten!$R$271:$R$320),\"\") & \" \" & IF($A218<=Daten!$B$8,LOOKUP($B218,Daten!$A$271:$A$320,Daten!$S$271:$S$320),\"\")","v":"31,6 Inhalt2Einh[31,6]"},null,{"$f":"IF($A218<=Daten!$B$8,LOOKUP($B218,Daten!$A$322:$A$371,Daten!$R$322:$R$371),\"\") & \" \" & IF($A218<=Daten!$B$8,LOOKUP($B218,Daten!$A$322:$A$371,Daten!$S$322:$S$371),\"\")","v":"31,7 Inhalt2Einh[31,7]"}]
[null,null,null,{"$f":"IF($A218<=Daten!$B$8,LOOKUP($B218,Daten!$A$16:$A$65,Daten!$T$16:$T$65),\"\") & \" \" & IF($A218<=Daten!$B$8,LOOKUP($B218,Daten!$A$16:$A$65,Daten!$U$16:$U$65),\"\")","v":"31,1 Inhalt3Einh[31,1]"},null,{"$f":"IF($A218<=Daten!$B$8,LOOKUP($B218,Daten!$A$67:$A$116,Daten!$T$67:$T$116),\"\") & \" \" & IF($A218<=Daten!$B$8,LOOKUP($B218,Daten!$A$67:$A$116,Daten!$U$67:$U$116),\"\")","v":"31,2 Inhalt3Einh[31,2]"},null,{"$f":"IF($A218<=Daten!$B$8,LOOKUP($B218,Daten!$A$118:$A$167,Daten!$T$118:$T$167),\"\") & \" \" & IF($A218<=Daten!$B$8,LOOKUP($B218,Daten!$A$118:$A$167,Daten!$U$118:$U$167),\"\")","v":"31,3 Inhalt3Einh[31,3]"},null,{"$f":"IF($A218<=Daten!$B$8,LOOKUP($B218,Daten!$A$169:$A$218,Daten!$T$169:$T$218),\"\") & \" \" & IF($A218<=Daten!$B$8,LOOKUP($B218,Daten!$A$169:$A$218,Daten!$U$169:$U$218),\"\")","v":"31,4 Inhalt3Einh[31,4]"},null,{"$f":"IF($A218<=Daten!$B$8,LOOKUP($B218,Daten!$A$220:$A$269,Daten!$T$220:$T$269),\"\") & \" \" & IF($A218<=Daten!$B$8,LOOKUP($B218,Daten!$A$220:$A$269,Daten!$U$220:$U$269),\"\")","v":"31,5 Inhalt3Einh[31,5]"},null,{"$f":"IF($A218<=Daten!$B$8,LOOKUP($B218,Daten!$A$271:$A$320,Daten!$T$271:$T$320),\"\") & \" \" & IF($A218<=Daten!$B$8,LOOKUP($B218,Daten!$A$271:$A$320,Daten!$U$271:$U$320),\"\")","v":"31,6 Inhalt3Einh[31,6]"},null,{"$f":"IF($A218<=Daten!$B$8,LOOKUP($B218,Daten!$A$322:$A$371,Daten!$T$322:$T$371),\"\") & \" \" & IF($A218<=Daten!$B$8,LOOKUP($B218,Daten!$A$322:$A$371,Daten!$U$322:$U$371),\"\")","v":"31,7 Inhalt3Einh[31,7]"}]
[null,null,null,{"$f":"IF($A218<=Daten!$B$8,LOOKUP($B218,Daten!$A$16:$A$65,Daten!$V$16:$V$65),\"\") & \" \" & IF($A218<=Daten!$B$8,LOOKUP($B218,Daten!$A$16:$A$65,Daten!$W$16:$W$65),\"\")","v":"31,1 Inhalt4Einh[31,1]"},null,{"$f":"IF($A218<=Daten!$B$8,LOOKUP($B218,Daten!$A$67:$A$116,Daten!$V$67:$V$116),\"\") & \" \" & IF($A218<=Daten!$B$8,LOOKUP($B218,Daten!$A$67:$A$116,Daten!$W$67:$W$116),\"\")","v":"31,2 Inhalt4Einh[31,2]"},null,{"$f":"IF($A218<=Daten!$B$8,LOOKUP($B218,Daten!$A$118:$A$167,Daten!$V$118:$V$167),\"\") & \" \" & IF($A218<=Daten!$B$8,LOOKUP($B218,Daten!$A$118:$A$167,Daten!$W$118:$W$167),\"\")","v":"31,3 Inhalt4Einh[31,3]"},null,{"$f":"IF($A218<=Daten!$B$8,LOOKUP($B218,Daten!$A$169:$A$218,Daten!$V$169:$V$218),\"\") & \" \" & IF($A218<=Daten!$B$8,LOOKUP($B218,Daten!$A$169:$A$218,Daten!$W$169:$W$218),\"\")","v":"31,4 Inhalt4Einh[31,4]"},null,{"$f":"IF($A218<=Daten!$B$8,LOOKUP($B218,Daten!$A$220:$A$269,Daten!$V$220:$V$269),\"\") & \" \" & IF($A218<=Daten!$B$8,LOOKUP($B218,Daten!$A$220:$A$269,Daten!$W$220:$W$269),\"\")","v":"31,5 Inhalt4Einh[31,5]"},null,{"$f":"IF($A218<=Daten!$B$8,LOOKUP($B218,Daten!$A$271:$A$320,Daten!$V$271:$V$320),\"\") & \" \" & IF($A218<=Daten!$B$8,LOOKUP($B218,Daten!$A$271:$A$320,Daten!$W$271:$W$320),\"\")","v":"31,6 Inhalt4Einh[31,6]"},null,{"$f":"IF($A218<=Daten!$B$8,LOOKUP($B218,Daten!$A$322:$A$371,Daten!$V$322:$V$371),\"\") & \" \" & IF($A218<=Daten!$B$8,LOOKUP($B218,Daten!$A$322:$A$371,Daten!$W$322:$W$371),\"\")","v":"31,7 Inhalt4Einh[31,7]"}]
[null,null,null,{"$f":"IF($A218<=Daten!$B$8,LOOKUP($B218,Daten!$A$16:$A$65,Daten!$X$16:$X$65),\"\") & \" \" & IF($A218<=Daten!$B$8,LOOKUP($B218,Daten!$A$16:$A$65,Daten!$Y$16:$Y$65),\"\")","v":"31,1 Inhalt5Einh[31,1]"},null,{"$f":"IF($A218<=Daten!$B$8,LOOKUP($B218,Daten!$A$67:$A$116,Daten!$X$67:$X$116),\"\") & \" \" & IF($A218<=Daten!$B$8,LOOKUP($B218,Daten!$A$67:$A$116,Daten!$Y$67:$Y$116),\"\")","v":"31,2 Inhalt5Einh[31,2]"},null,{"$f":"IF($A218<=Daten!$B$8,LOOKUP($B218,Daten!$A$118:$A$167,Daten!$X$118:$X$167),\"\") & \" \" & IF($A218<=Daten!$B$8,LOOKUP($B218,Daten!$A$118:$A$167,Daten!$Y$118:$Y$167),\"\")","v":"31,3 Inhalt5Einh[31,3]"},null,{"$f":"IF($A218<=Daten!$B$8,LOOKUP($B218,Daten!$A$169:$A$218,Daten!$X$169:$X$218),\"\") & \" \" & IF($A218<=Daten!$B$8,LOOKUP($B218,Daten!$A$169:$A$218,Daten!$Y$169:$Y$218),\"\")","v":"31,4 Inhalt5Einh[31,4]"},null,{"$f":"IF($A218<=Daten!$B$8,LOOKUP($B218,Daten!$A$220:$A$269,Daten!$X$220:$X$269),\"\") & \" \" & IF($A218<=Daten!$B$8,LOOKUP($B218,Daten!$A$220:$A$269,Daten!$Y$220:$Y$269),\"\")","v":"31,5 Inhalt5Einh[31,5]"},null,{"$f":"IF($A218<=Daten!$B$8,LOOKUP($B218,Daten!$A$271:$A$320,Daten!$X$271:$X$320),\"\") & \" \" & IF($A218<=Daten!$B$8,LOOKUP($B218,Daten!$A$271:$A$320,Daten!$Y$271:$Y$320),\"\")","v":"31,6 Inhalt5Einh[31,6]"},null,{"$f":"IF($A218<=Daten!$B$8,LOOKUP($B218,Daten!$A$322:$A$371,Daten!$X$322:$X$371),\"\") & \" \" & IF($A218<=Daten!$B$8,LOOKUP($B218,Daten!$A$322:$A$371,Daten!$Y$322:$Y$371),\"\")","v":"31,7 Inhalt5Einh[31,7]"}]
[null,null,null,{"$f":"IF($A218<=Daten!$B$8,LOOKUP($B218,Daten!$A$16:$A$65,Daten!$Z$16:$Z$65),\"\") & \" \" & IF($A218<=Daten!$B$8,LOOKUP($B218,Daten!$A$16:$A$65,Daten!$AA$16:$AA$65),\"\")","v":"31,1 Inhalt6Einh[31,1]"},null,{"$f":"IF($A218<=Daten!$B$8,LOOKUP($B218,Daten!$A$67:$A$116,Daten!$Z$67:$Z$116),\"\") & \" \" & IF($A218<=Daten!$B$8,LOOKUP($B218,Daten!$A$67:$A$116,Daten!$AA$67:$AA$116),\"\")","v":"31,2 Inhalt6Einh[31,2]"},null,{"$f":"IF($A218<=Daten!$B$8,LOOKUP($B218,Daten!$A$118:$A$167,Daten!$Z$118:$Z$167),\"\") & \" \" & IF($A218<=Daten!$B$8,LOOKUP($B218,Daten!$A$118:$A$167,Daten!$AA$118:$AA$167),\"\")","v":"31,3 Inhalt6Einh[31,3]"},null,{"$f":"IF($A218<=Daten!$B$8,LOOKUP($B218,Daten!$A$169:$A$218,Daten!$Z$169:$Z$218),\"\") & \" \" & IF($A218<=Daten!$B$8,LOOKUP($B218,Daten!$A$169:$A$218,Daten!$AA$169:$AA$218),\"\")","v":"31,4 Inhalt6Einh[31,4]"},null,{"$f":"IF($A218<=Daten!$B$8,LOOKUP($B218,Daten!$A$220:$A$269,Daten!$Z$220:$Z$269),\"\") & \" \" & IF($A218<=Daten!$B$8,LOOKUP($B218,Daten!$A$220:$A$269,Daten!$AA$220:$AA$269),\"\")","v":"31,5 Inhalt6Einh[31,5]"},null,{"$f":"IF($A218<=Daten!$B$8,LOOKUP($B218,Daten!$A$271:$A$320,Daten!$Z$271:$Z$320),\"\") & \" \" & IF($A218<=Daten!$B$8,LOOKUP($B218,Daten!$A$271:$A$320,Daten!$AA$271:$AA$320),\"\")","v":"31,6 Inhalt6Einh[31,6]"},null,{"$f":"IF($A218<=Daten!$B$8,LOOKUP($B218,Daten!$A$322:$A$371,Daten!$Z$322:$Z$371),\"\") & \" \" & IF($A218<=Daten!$B$8,LOOKUP($B218,Daten!$A$322:$A$371,Daten!$AA$322:$AA$371),\"\")","v":"31,7 Inhalt6Einh[31,7]"}]
[null,{"$f":"IF(A218<=Daten!$B$8,\"Zusatzstoffe\",\"\")","v":"Zusatzstoffe"},{"$f":"IF($A218<=Daten!$B$8,LOOKUP($B218,Daten!$A$16:$A$65,Daten!$L$16:$L$65),\"\")","v":31.1},{"$f":"IF($A218<=Daten!$B$8,LOOKUP($B218,Daten!$A$16:$A$65,Daten!$E$16:$E$65),\"\")","v":211.1},{"$f":"IF($A218<=Daten!$B$8,LOOKUP($B218,Daten!$A$67:$A$116,Daten!$L$67:$L$116),\"\")","v":31.2},{"$f":"IF($A218<=Daten!$B$8,LOOKUP($B218,Daten!$A$16:$A$65,Daten!$E$67:$E$116),\"\")","v":0},{"$f":"IF($A218<=Daten!$B$8,LOOKUP($B218,Daten!$A$118:$A$167,Daten!$L$118:$L$167),\"\")","v":31.3},{"$f":"IF($A218<=Daten!$B$8,LOOKUP($B218,Daten!$A$118:$A$167,Daten!$E$118:$E$167),\"\")","v":0},{"$f":"IF($A218<=Daten!$B$8,LOOKUP($B218,Daten!$A$169:$A$218,Daten!$L$169:$L$218),\"\")","v":31.4},{"$f":"IF($A218<=Daten!$B$8,LOOKUP($B218,Daten!$A$169:$A$218,Daten!$E$169:$E$218),\"\")","v":0},{"$f":"IF($A218<=Daten!$B$8,LOOKUP($B218,Daten!$A$220:$A$269,Daten!$L$220:$L$269),\"\")","v":31.5},{"$f":"IF($A218<=Daten!$B$8,LOOKUP($B218,Daten!$A$220:$A$269,Daten!$E$220:$E$269),\"\")","v":0},{"$f":"IF($A218<=Daten!$B$8,LOOKUP($B218,Daten!$A$271:$A$320,Daten!$L$271:$L$320),\"\")","v":31.6},{"$f":"IF($A218<=Daten!$B$8,LOOKUP($B218,Daten!$A$271:$A$320,Daten!$E$271:$E$320),\"\")","v":0},{"$f":"IF($A218<=Daten!$B$8,LOOKUP($B218,Daten!$A$322:$A$371,Daten!$L$322:$L$371),\"\")","v":31.7},{"$f":"IF($A218<=Daten!$B$8,LOOKUP($B218,Daten!$A$322:$A$371,Daten!$E$322:$E$371),\"\")","v":0}]
[32,{"$f":"IF(A225<=Daten!$B$8,Daten!AG9,\"\")","v":"Menülinie 32"},{"$f":"IF($A225<=Daten!$B$8,LOOKUP($B225,Daten!$A$16:$A$65,Daten!$C$16:$C$65),\"\")","v":"Lang[32,1]"},{"$f":"IF($A225<=Daten!$B$8,LOOKUP($B225,Daten!$A$16:$A$65,Daten!$P$16:$P$65),\"\") & \" \" & IF($A225<=Daten!$B$8,LOOKUP($B225,Daten!$A$16:$A$65,Daten!$Q$16:$Q$65),\"\")","v":"32,1 Inhalt1Einh[32,1]"},{"$f":"IF($A225<=Daten!$B$8,LOOKUP($B225,Daten!$A$67:$A$116,Daten!$C$67:$C$116),\"\")","v":"Lang[32,2]"},{"$f":"IF($A225<=Daten!$B$8,LOOKUP($B225,Daten!$A$67:$A$116,Daten!$P$67:$P$116),\"\") & \" \" & IF($A225<=Daten!$B$8,LOOKUP($B225,Daten!$A$67:$A$116,Daten!$Q$67:$Q$116),\"\")","v":"32,2 Inhalt1Einh[32,2]"},{"$f":"IF($A225<=Daten!$B$8,LOOKUP($B225,Daten!$A$118:$A$167,Daten!$C$118:$C$167),\"\")","v":"Lang[32,3]"},{"$f":"IF($A225<=Daten!$B$8,LOOKUP($B225,Daten!$A$118:$A$167,Daten!$P$118:$P$167),\"\") & \" \" & IF($A225<=Daten!$B$8,LOOKUP($B225,Daten!$A$118:$A$167,Daten!$Q$118:$Q$167),\"\")","v":"32,3 Inhalt1Einh[32,3]"},{"$f":"IF($A225<=Daten!$B$8,LOOKUP($B225,Daten!$A$169:$A$218,Daten!$C$169:$C$218),\"\")","v":"Lang[32,4]"},{"$f":"IF($A225<=Daten!$B$8,LOOKUP($B225,Daten!$A$169:$A$218,Daten!$P$169:$P$218),\"\") & \" \" & IF($A225<=Daten!$B$8,LOOKUP($B225,Daten!$A$169:$A$218,Daten!$Q$169:$Q$218),\"\")","v":"32,4 Inhalt1Einh[32,4]"},{"$f":"IF($A225<=Daten!$B$8,LOOKUP($B225,Daten!$A$220:$A$269,Daten!$C$220:$C$269),\"\")","v":"Lang[32,5]"},{"$f":"IF($A225<=Daten!$B$8,LOOKUP($B225,Daten!$A$220:$A$269,Daten!$P$220:$P$269),\"\") & \" \" & IF($A225<=Daten!$B$8,LOOKUP($B225,Daten!$A$220:$A$269,Daten!$Q$220:$Q$269),\"\")","v":"32,5 Inhalt1Einh[32,5]"},{"$f":"IF($A225<=Daten!$B$8,LOOKUP($B225,Daten!$A$271:$A$320,Daten!$C$271:$C$320),\"\")","v":"Lang[32,6]"},{"$f":"IF($A225<=Daten!$B$8,LOOKUP($B225,Daten!$A$271:$A$320,Daten!$P$271:$P$320),\"\") & \" \" & IF($A225<=Daten!$B$8,LOOKUP($B225,Daten!$A$271:$A$320,Daten!$Q$271:$Q$320),\"\")","v":"32,6 Inhalt1Einh[32,6]"},{"$f":"IF($A225<=Daten!$B$8,LOOKUP($B225,Daten!$A$322:$A$371,Daten!$B$322:$C$371),\"\")","v":{"$error":"#N/A"}},{"$f":"IF($A225<=Daten!$B$8,LOOKUP($B225,Daten!$A$322:$A$371,Daten!$P$322:$P$371),\"\") & \" \" & IF($A225<=Daten!$B$8,LOOKUP($B225,Daten!$A$322:$A$371,Daten!$Q$322:$Q$371),\"\")","v":"32,7 Inhalt1Einh[32,7]"}]
[null,null,null,{"$f":"IF($A225<=Daten!$B$8,LOOKUP($B225,Daten!$A$16:$A$65,Daten!$R$16:$R$65),\"\") & \" \" & IF($A225<=Daten!$B$8,LOOKUP($B225,Daten!$A$16:$A$65,Daten!$S$16:$S$65),\"\")","v":"32,1 Inhalt2Einh[32,1]"},null,{"$f":"IF($A225<=Daten!$B$8,LOOKUP($B225,Daten!$A$67:$A$116,Daten!$R$67:$R$116),\"\") & \" \" & IF($A225<=Daten!$B$8,LOOKUP($B225,Daten!$A$67:$A$116,Daten!$S$67:$S$116),\"\")","v":"32,2 Inhalt2Einh[32,2]"},null,{"$f":"IF($A225<=Daten!$B$8,LOOKUP($B225,Daten!$A$118:$A$167,Daten!$R$118:$R$167),\"\") & \" \" & IF($A225<=Daten!$B$8,LOOKUP($B225,Daten!$A$118:$A$167,Daten!$S$118:$S$167),\"\")","v":"32,3 Inhalt2Einh[32,3]"},null,{"$f":"IF($A225<=Daten!$B$8,LOOKUP($B225,Daten!$A$169:$A$218,Daten!$R$169:$R$218),\"\") & \" \" & IF($A225<=Daten!$B$8,LOOKUP($B225,Daten!$A$169:$A$218,Daten!$S$169:$S$218),\"\")","v":"32,4 Inhalt2Einh[32,4]"},null,{"$f":"IF($A225<=Daten!$B$8,LOOKUP($B225,Daten!$A$220:$A$269,Daten!$R$220:$R$269),\"\") & \" \" & IF($A225<=Daten!$B$8,LOOKUP($B225,Daten!$A$220:$A$269,Daten!$S$220:$S$269),\"\")","v":"32,5 Inhalt2Einh[32,5]"},null,{"$f":"IF($A225<=Daten!$B$8,LOOKUP($B225,Daten!$A$271:$A$320,Daten!$R$271:$R$320),\"\") & \" \" & IF($A225<=Daten!$B$8,LOOKUP($B225,Daten!$A$271:$A$320,Daten!$S$271:$S$320),\"\")","v":"32,6 Inhalt2Einh[32,6]"},null,{"$f":"IF($A225<=Daten!$B$8,LOOKUP($B225,Daten!$A$322:$A$371,Daten!$R$322:$R$371),\"\") & \" \" & IF($A225<=Daten!$B$8,LOOKUP($B225,Daten!$A$322:$A$371,Daten!$S$322:$S$371),\"\")","v":"32,7 Inhalt2Einh[32,7]"}]
[null,null,null,{"$f":"IF($A225<=Daten!$B$8,LOOKUP($B225,Daten!$A$16:$A$65,Daten!$T$16:$T$65),\"\") & \" \" & IF($A225<=Daten!$B$8,LOOKUP($B225,Daten!$A$16:$A$65,Daten!$U$16:$U$65),\"\")","v":"32,1 Inhalt3Einh[32,1]"},null,{"$f":"IF($A225<=Daten!$B$8,LOOKUP($B225,Daten!$A$67:$A$116,Daten!$T$67:$T$116),\"\") & \" \" & IF($A225<=Daten!$B$8,LOOKUP($B225,Daten!$A$67:$A$116,Daten!$U$67:$U$116),\"\")","v":"32,2 Inhalt3Einh[32,2]"},null,{"$f":"IF($A225<=Daten!$B$8,LOOKUP($B225,Daten!$A$118:$A$167,Daten!$T$118:$T$167),\"\") & \" \" & IF($A225<=Daten!$B$8,LOOKUP($B225,Daten!$A$118:$A$167,Daten!$U$118:$U$167),\"\")","v":"32,3 Inhalt3Einh[32,3]"},null,{"$f":"IF($A225<=Daten!$B$8,LOOKUP($B225,Daten!$A$169:$A$218,Daten!$T$169:$T$218),\"\") & \" \" & IF($A225<=Daten!$B$8,LOOKUP($B225,Daten!$A$169:$A$218,Daten!$U$169:$U$218),\"\")","v":"32,4 Inhalt3Einh[32,4]"},null,{"$f":"IF($A225<=Daten!$B$8,LOOKUP($B225,Daten!$A$220:$A$269,Daten!$T$220:$T$269),\"\") & \" \" & IF($A225<=Daten!$B$8,LOOKUP($B225,Daten!$A$220:$A$269,Daten!$U$220:$U$269),\"\")","v":"32,5 Inhalt3Einh[32,5]"},null,{"$f":"IF($A225<=Daten!$B$8,LOOKUP($B225,Daten!$A$271:$A$320,Daten!$T$271:$T$320),\"\") & \" \" & IF($A225<=Daten!$B$8,LOOKUP($B225,Daten!$A$271:$A$320,Daten!$U$271:$U$320),\"\")","v":"32,6 Inhalt3Einh[32,6]"},null,{"$f":"IF($A225<=Daten!$B$8,LOOKUP($B225,Daten!$A$322:$A$371,Daten!$T$322:$T$371),\"\") & \" \" & IF($A225<=Daten!$B$8,LOOKUP($B225,Daten!$A$322:$A$371,Daten!$U$322:$U$371),\"\")","v":"32,7 Inhalt3Einh[32,7]"}]
[null,null,null,{"$f":"IF($A225<=Daten!$B$8,LOOKUP($B225,Daten!$A$16:$A$65,Daten!$V$16:$V$65),\"\") & \" \" & IF($A225<=Daten!$B$8,LOOKUP($B225,Daten!$A$16:$A$65,Daten!$W$16:$W$65),\"\")","v":"32,1 Inhalt4Einh[32,1]"},null,{"$f":"IF($A225<=Daten!$B$8,LOOKUP($B225,Daten!$A$67:$A$116,Daten!$V$67:$V$116),\"\") & \" \" & IF($A225<=Daten!$B$8,LOOKUP($B225,Daten!$A$67:$A$116,Daten!$W$67:$W$116),\"\")","v":"32,2 Inhalt4Einh[32,2]"},null,{"$f":"IF($A225<=Daten!$B$8,LOOKUP($B225,Daten!$A$118:$A$167,Daten!$V$118:$V$167),\"\") & \" \" & IF($A225<=Daten!$B$8,LOOKUP($B225,Daten!$A$118:$A$167,Daten!$W$118:$W$167),\"\")","v":"32,3 Inhalt4Einh[32,3]"},null,{"$f":"IF($A225<=Daten!$B$8,LOOKUP($B225,Daten!$A$169:$A$218,Daten!$V$169:$V$218),\"\") & \" \" & IF($A225<=Daten!$B$8,LOOKUP($B225,Daten!$A$169:$A$218,Daten!$W$169:$W$218),\"\")","v":"32,4 Inhalt4Einh[32,4]"},null,{"$f":"IF($A225<=Daten!$B$8,LOOKUP($B225,Daten!$A$220:$A$269,Daten!$V$220:$V$269),\"\") & \" \" & IF($A225<=Daten!$B$8,LOOKUP($B225,Daten!$A$220:$A$269,Daten!$W$220:$W$269),\"\")","v":"32,5 Inhalt4Einh[32,5]"},null,{"$f":"IF($A225<=Daten!$B$8,LOOKUP($B225,Daten!$A$271:$A$320,Daten!$V$271:$V$320),\"\") & \" \" & IF($A225<=Daten!$B$8,LOOKUP($B225,Daten!$A$271:$A$320,Daten!$W$271:$W$320),\"\")","v":"32,6 Inhalt4Einh[32,6]"},null,{"$f":"IF($A225<=Daten!$B$8,LOOKUP($B225,Daten!$A$322:$A$371,Daten!$V$322:$V$371),\"\") & \" \" & IF($A225<=Daten!$B$8,LOOKUP($B225,Daten!$A$322:$A$371,Daten!$W$322:$W$371),\"\")","v":"32,7 Inhalt4Einh[32,7]"}]
[null,null,null,{"$f":"IF($A225<=Daten!$B$8,LOOKUP($B225,Daten!$A$16:$A$65,Daten!$X$16:$X$65),\"\") & \" \" & IF($A225<=Daten!$B$8,LOOKUP($B225,Daten!$A$16:$A$65,Daten!$Y$16:$Y$65),\"\")","v":"32,1 Inhalt5Einh[32,1]"},null,{"$f":"IF($A225<=Daten!$B$8,LOOKUP($B225,Daten!$A$67:$A$116,Daten!$X$67:$X$116),\"\") & \" \" & IF($A225<=Daten!$B$8,LOOKUP($B225,Daten!$A$67:$A$116,Daten!$Y$67:$Y$116),\"\")","v":"32,2 Inhalt5Einh[32,2]"},null,{"$f":"IF($A225<=Daten!$B$8,LOOKUP($B225,Daten!$A$118:$A$167,Daten!$X$118:$X$167),\"\") & \" \" & IF($A225<=Daten!$B$8,LOOKUP($B225,Daten!$A$118:$A$167,Daten!$Y$118:$Y$167),\"\")","v":"32,3 Inhalt5Einh[32,3]"},null,{"$f":"IF($A225<=Daten!$B$8,LOOKUP($B225,Daten!$A$169:$A$218,Daten!$X$169:$X$218),\"\") & \" \" & IF($A225<=Daten!$B$8,LOOKUP($B225,Daten!$A$169:$A$218,Daten!$Y$169:$Y$218),\"\")","v":"32,4 Inhalt5Einh[32,4]"},null,{"$f":"IF($A225<=Daten!$B$8,LOOKUP($B225,Daten!$A$220:$A$269,Daten!$X$220:$X$269),\"\") & \" \" & IF($A225<=Daten!$B$8,LOOKUP($B225,Daten!$A$220:$A$269,Daten!$Y$220:$Y$269),\"\")","v":"32,5 Inhalt5Einh[32,5]"},null,{"$f":"IF($A225<=Daten!$B$8,LOOKUP($B225,Daten!$A$271:$A$320,Daten!$X$271:$X$320),\"\") & \" \" & IF($A225<=Daten!$B$8,LOOKUP($B225,Daten!$A$271:$A$320,Daten!$Y$271:$Y$320),\"\")","v":"32,6 Inhalt5Einh[32,6]"},null,{"$f":"IF($A225<=Daten!$B$8,LOOKUP($B225,Daten!$A$322:$A$371,Daten!$X$322:$X$371),\"\") & \" \" & IF($A225<=Daten!$B$8,LOOKUP($B225,Daten!$A$322:$A$371,Daten!$Y$322:$Y$371),\"\")","v":"32,7 Inhalt5Einh[32,7]"}]
[null,null,null,{"$f":"IF($A225<=Daten!$B$8,LOOKUP($B225,Daten!$A$16:$A$65,Daten!$Z$16:$Z$65),\"\") & \" \" & IF($A225<=Daten!$B$8,LOOKUP($B225,Daten!$A$16:$A$65,Daten!$AA$16:$AA$65),\"\")","v":"32,1 Inhalt6Einh[32,1]"},null,{"$f":"IF($A225<=Daten!$B$8,LOOKUP($B225,Daten!$A$67:$A$116,Daten!$Z$67:$Z$116),\"\") & \" \" & IF($A225<=Daten!$B$8,LOOKUP($B225,Daten!$A$67:$A$116,Daten!$AA$67:$AA$116),\"\")","v":"32,2 Inhalt6Einh[32,2]"},null,{"$f":"IF($A225<=Daten!$B$8,LOOKUP($B225,Daten!$A$118:$A$167,Daten!$Z$118:$Z$167),\"\") & \" \" & IF($A225<=Daten!$B$8,LOOKUP($B225,Daten!$A$118:$A$167,Daten!$AA$118:$AA$167),\"\")","v":"32,3 Inhalt6Einh[32,3]"},null,{"$f":"IF($A225<=Daten!$B$8,LOOKUP($B225,Daten!$A$169:$A$218,Daten!$Z$169:$Z$218),\"\") & \" \" & IF($A225<=Daten!$B$8,LOOKUP($B225,Daten!$A$169:$A$218,Daten!$AA$169:$AA$218),\"\")","v":"32,4 Inhalt6Einh[32,4]"},null,{"$f":"IF($A225<=Daten!$B$8,LOOKUP($B225,Daten!$A$220:$A$269,Daten!$Z$220:$Z$269),\"\") & \" \" & IF($A225<=Daten!$B$8,LOOKUP($B225,Daten!$A$220:$A$269,Daten!$AA$220:$AA$269),\"\")","v":"32,5 Inhalt6Einh[32,5]"},null,{"$f":"IF($A225<=Daten!$B$8,LOOKUP($B225,Daten!$A$271:$A$320,Daten!$Z$271:$Z$320),\"\") & \" \" & IF($A225<=Daten!$B$8,LOOKUP($B225,Daten!$A$271:$A$320,Daten!$AA$271:$AA$320),\"\")","v":"32,6 Inhalt6Einh[32,6]"},null,{"$f":"IF($A225<=Daten!$B$8,LOOKUP($B225,Daten!$A$322:$A$371,Daten!$Z$322:$Z$371),\"\") & \" \" & IF($A225<=Daten!$B$8,LOOKUP($B225,Daten!$A$322:$A$371,Daten!$AA$322:$AA$371),\"\")","v":"32,7 Inhalt6Einh[32,7]"}]
[null,{"$f":"IF(A225<=Daten!$B$8,\"Zusatzstoffe\",\"\")","v":"Zusatzstoffe"},{"$f":"IF($A225<=Daten!$B$8,LOOKUP($B225,Daten!$A$16:$A$65,Daten!$L$16:$L$65),\"\")","v":32.1},{"$f":"IF($A225<=Daten!$B$8,LOOKUP($B225,Daten!$A$16:$A$65,Daten!$E$16:$E$65),\"\")","v":212.1},{"$f":"IF($A225<=Daten!$B$8,LOOKUP($B225,Daten!$A$67:$A$116,Daten!$L$67:$L$116),\"\")","v":32.200000000000003},{"$f":"IF($A225<=Daten!$B$8,LOOKUP($B225,Daten!$A$16:$A$65,Daten!$E$67:$E$116),\"\")","v":0},{"$f":"IF($A225<=Daten!$B$8,LOOKUP($B225,Daten!$A$118:$A$167,Daten!$L$118:$L$167),\"\")","v":32.299999999999997},{"$f":"IF($A225<=Daten!$B$8,LOOKUP($B225,Daten!$A$118:$A$167,Daten!$E$118:$E$167),\"\")","v":0},{"$f":"IF($A225<=Daten!$B$8,LOOKUP($B225,Daten!$A$169:$A$218,Daten!$L$169:$L$218),\"\")","v":32.4},{"$f":"IF($A225<=Daten!$B$8,LOOKUP($B225,Daten!$A$169:$A$218,Daten!$E$169:$E$218),\"\")","v":0},{"$f":"IF($A225<=Daten!$B$8,LOOKUP($B225,Daten!$A$220:$A$269,Daten!$L$220:$L$269),\"\")","v":32.5},{"$f":"IF($A225<=Daten!$B$8,LOOKUP($B225,Daten!$A$220:$A$269,Daten!$E$220:$E$269),\"\")","v":0},{"$f":"IF($A225<=Daten!$B$8,LOOKUP($B225,Daten!$A$271:$A$320,Daten!$L$271:$L$320),\"\")","v":32.6},{"$f":"IF($A225<=Daten!$B$8,LOOKUP($B225,Daten!$A$271:$A$320,Daten!$E$271:$E$320),\"\")","v":0},{"$f":"IF($A225<=Daten!$B$8,LOOKUP($B225,Daten!$A$322:$A$371,Daten!$L$322:$L$371),\"\")","v":32.700000000000003},{"$f":"IF($A225<=Daten!$B$8,LOOKUP($B225,Daten!$A$322:$A$371,Daten!$E$322:$E$371),\"\")","v":0}]
[33,{"$f":"IF(A232<=Daten!$B$8,Daten!AH9,\"\")","v":"Menülinie 33"},{"$f":"IF(A232<=Daten!$B$8,LOOKUP(B232,Daten!$A$16:$A$65,Daten!$C$16:$C$65),\"\")","v":"Lang[33,1]"},{"$f":"IF($A232<=Daten!$B$8,LOOKUP($B232,Daten!$A$16:$A$65,Daten!$P$16:$P$65),\"\") & \" \" & IF($A232<=Daten!$B$8,LOOKUP($B232,Daten!$A$16:$A$65,Daten!$Q$16:$Q$65),\"\")","v":"33,1 Inhalt1Einh[33,1]"},{"$f":"IF($A232<=Daten!$B$8,LOOKUP($B232,Daten!$A$67:$A$116,Daten!$C$67:$C$116),\"\")","v":"Lang[33,2]"},{"$f":"IF($A232<=Daten!$B$8,LOOKUP($B232,Daten!$A$67:$A$116,Daten!$P$67:$P$116),\"\") & \" \" & IF($A232<=Daten!$B$8,LOOKUP($B232,Daten!$A$67:$A$116,Daten!$Q$67:$Q$116),\"\")","v":"33,2 Inhalt1Einh[33,2]"},{"$f":"IF($A232<=Daten!$B$8,LOOKUP($B232,Daten!$A$118:$A$167,Daten!$C$118:$C$167),\"\")","v":"Lang[33,3]"},{"$f":"IF($A232<=Daten!$B$8,LOOKUP($B232,Daten!$A$118:$A$167,Daten!$P$118:$P$167),\"\") & \" \" & IF($A232<=Daten!$B$8,LOOKUP($B232,Daten!$A$118:$A$167,Daten!$Q$118:$Q$167),\"\")","v":"33,3 Inhalt1Einh[33,3]"},{"$f":"IF($A232<=Daten!$B$8,LOOKUP($B232,Daten!$A$169:$A$218,Daten!$C$169:$C$218),\"\")","v":"Lang[33,4]"},{"$f":"IF($A232<=Daten!$B$8,LOOKUP($B232,Daten!$A$169:$A$218,Daten!$P$169:$P$218),\"\") & \" \" & IF($A232<=Daten!$B$8,LOOKUP($B232,Daten!$A$169:$A$218,Daten!$Q$169:$Q$218),\"\")","v":"33,4 Inhalt1Einh[33,4]"},{"$f":"IF($A232<=Daten!$B$8,LOOKUP($B232,Daten!$A$220:$A$269,Daten!$C$220:$C$269),\"\")","v":"Lang[33,5]"},{"$f":"IF($A232<=Daten!$B$8,LOOKUP($B232,Daten!$A$220:$A$269,Daten!$P$220:$P$269),\"\") & \" \" & IF($A232<=Daten!$B$8,LOOKUP($B232,Daten!$A$220:$A$269,Daten!$Q$220:$Q$269),\"\")","v":"33,5 Inhalt1Einh[33,5]"},{"$f":"IF($A232<=Daten!$B$8,LOOKUP($B232,Daten!$A$271:$A$320,Daten!$C$271:$C$320),\"\")","v":"Lang[33,6]"},{"$f":"IF($A232<=Daten!$B$8,LOOKUP($B232,Daten!$A$271:$A$320,Daten!$P$271:$P$320),\"\") & \" \" & IF($A232<=Daten!$B$8,LOOKUP($B232,Daten!$A$271:$A$320,Daten!$Q$271:$Q$320),\"\")","v":"33,6 Inhalt1Einh[33,6]"},{"$f":"IF($A232<=Daten!$B$8,LOOKUP($B232,Daten!$A$322:$A$371,Daten!$B$322:$C$371),\"\")","v":{"$error":"#N/A"}},{"$f":"IF($A232<=Daten!$B$8,LOOKUP($B232,Daten!$A$322:$A$371,Daten!$P$322:$P$371),\"\") & \" \" & IF($A232<=Daten!$B$8,LOOKUP($B232,Daten!$A$322:$A$371,Daten!$Q$322:$Q$371),\"\")","v":"33,7 Inhalt1Einh[33,7]"}]
[null,null,null,{"$f":"IF($A232<=Daten!$B$8,LOOKUP($B232,Daten!$A$16:$A$65,Daten!$R$16:$R$65),\"\") & \" \" & IF($A232<=Daten!$B$8,LOOKUP($B232,Daten!$A$16:$A$65,Daten!$S$16:$S$65),\"\")","v":"33,1 Inhalt2Einh[33,1]"},null,{"$f":"IF($A232<=Daten!$B$8,LOOKUP($B232,Daten!$A$67:$A$116,Daten!$R$67:$R$116),\"\") & \" \" & IF($A232<=Daten!$B$8,LOOKUP($B232,Daten!$A$67:$A$116,Daten!$S$67:$S$116),\"\")","v":"33,2 Inhalt2Einh[33,2]"},null,{"$f":"IF($A232<=Daten!$B$8,LOOKUP($B232,Daten!$A$118:$A$167,Daten!$R$118:$R$167),\"\") & \" \" & IF($A232<=Daten!$B$8,LOOKUP($B232,Daten!$A$118:$A$167,Daten!$S$118:$S$167),\"\")","v":"33,3 Inhalt2Einh[33,3]"},null,{"$f":"IF($A232<=Daten!$B$8,LOOKUP($B232,Daten!$A$169:$A$218,Daten!$R$169:$R$218),\"\") & \" \" & IF($A232<=Daten!$B$8,LOOKUP($B232,Daten!$A$169:$A$218,Daten!$S$169:$S$218),\"\")","v":"33,4 Inhalt2Einh[33,4]"},null,{"$f":"IF($A232<=Daten!$B$8,LOOKUP($B232,Daten!$A$220:$A$269,Daten!$R$220:$R$269),\"\") & \" \" & IF($A232<=Daten!$B$8,LOOKUP($B232,Daten!$A$220:$A$269,Daten!$S$220:$S$269),\"\")","v":"33,5 Inhalt2Einh[33,5]"},null,{"$f":"IF($A232<=Daten!$B$8,LOOKUP($B232,Daten!$A$271:$A$320,Daten!$R$271:$R$320),\"\") & \" \" & IF($A232<=Daten!$B$8,LOOKUP($B232,Daten!$A$271:$A$320,Daten!$S$271:$S$320),\"\")","v":"33,6 Inhalt2Einh[33,6]"},null,{"$f":"IF($A232<=Daten!$B$8,LOOKUP($B232,Daten!$A$322:$A$371,Daten!$R$322:$R$371),\"\") & \" \" & IF($A232<=Daten!$B$8,LOOKUP($B232,Daten!$A$322:$A$371,Daten!$S$322:$S$371),\"\")","v":"33,7 Inhalt2Einh[33,7]"}]
[null,null,null,{"$f":"IF($A232<=Daten!$B$8,LOOKUP($B232,Daten!$A$16:$A$65,Daten!$T$16:$T$65),\"\") & \" \" & IF($A232<=Daten!$B$8,LOOKUP($B232,Daten!$A$16:$A$65,Daten!$U$16:$U$65),\"\")","v":"33,1 Inhalt3Einh[33,1]"},null,{"$f":"IF($A232<=Daten!$B$8,LOOKUP($B232,Daten!$A$67:$A$116,Daten!$T$67:$T$116),\"\") & \" \" & IF($A232<=Daten!$B$8,LOOKUP($B232,Daten!$A$67:$A$116,Daten!$U$67:$U$116),\"\")","v":"33,2 Inhalt3Einh[33,2]"},null,{"$f":"IF($A232<=Daten!$B$8,LOOKUP($B232,Daten!$A$118:$A$167,Daten!$T$118:$T$167),\"\") & \" \" & IF($A232<=Daten!$B$8,LOOKUP($B232,Daten!$A$118:$A$167,Daten!$U$118:$U$167),\"\")","v":"33,3 Inhalt3Einh[33,3]"},null,{"$f":"IF($A232<=Daten!$B$8,LOOKUP($B232,Daten!$A$169:$A$218,Daten!$T$169:$T$218),\"\") & \" \" & IF($A232<=Daten!$B$8,LOOKUP($B232,Daten!$A$169:$A$218,Daten!$U$169:$U$218),\"\")","v":"33,4 Inhalt3Einh[33,4]"},null,{"$f":"IF($A232<=Daten!$B$8,LOOKUP($B232,Daten!$A$220:$A$269,Daten!$T$220:$T$269),\"\") & \" \" & IF($A232<=Daten!$B$8,LOOKUP($B232,Daten!$A$220:$A$269,Daten!$U$220:$U$269),\"\")","v":"33,5 Inhalt3Einh[33,5]"},null,{"$f":"IF($A232<=Daten!$B$8,LOOKUP($B232,Daten!$A$271:$A$320,Daten!$T$271:$T$320),\"\") & \" \" & IF($A232<=Daten!$B$8,LOOKUP($B232,Daten!$A$271:$A$320,Daten!$U$271:$U$320),\"\")","v":"33,6 Inhalt3Einh[33,6]"},null,{"$f":"IF($A232<=Daten!$B$8,LOOKUP($B232,Daten!$A$322:$A$371,Daten!$T$322:$T$371),\"\") & \" \" & IF($A232<=Daten!$B$8,LOOKUP($B232,Daten!$A$322:$A$371,Daten!$U$322:$U$371),\"\")","v":"33,7 Inhalt3Einh[33,7]"}]
[null,null,null,{"$f":"IF($A232<=Daten!$B$8,LOOKUP($B232,Daten!$A$16:$A$65,Daten!$V$16:$V$65),\"\") & \" \" & IF($A232<=Daten!$B$8,LOOKUP($B232,Daten!$A$16:$A$65,Daten!$W$16:$W$65),\"\")","v":"33,1 Inhalt4Einh[33,1]"},null,{"$f":"IF($A232<=Daten!$B$8,LOOKUP($B232,Daten!$A$67:$A$116,Daten!$V$67:$V$116),\"\") & \" \" & IF($A232<=Daten!$B$8,LOOKUP($B232,Daten!$A$67:$A$116,Daten!$W$67:$W$116),\"\")","v":"33,2 Inhalt4Einh[33,2]"},null,{"$f":"IF($A232<=Daten!$B$8,LOOKUP($B232,Daten!$A$118:$A$167,Daten!$V$118:$V$167),\"\") & \" \" & IF($A232<=Daten!$B$8,LOOKUP($B232,Daten!$A$118:$A$167,Daten!$W$118:$W$167),\"\")","v":"33,3 Inhalt4Einh[33,3]"},null,{"$f":"IF($A232<=Daten!$B$8,LOOKUP($B232,Daten!$A$169:$A$218,Daten!$V$169:$V$218),\"\") & \" \" & IF($A232<=Daten!$B$8,LOOKUP($B232,Daten!$A$169:$A$218,Daten!$W$169:$W$218),\"\")","v":"33,4 Inhalt4Einh[33,4]"},null,{"$f":"IF($A232<=Daten!$B$8,LOOKUP($B232,Daten!$A$220:$A$269,Daten!$V$220:$V$269),\"\") & \" \" & IF($A232<=Daten!$B$8,LOOKUP($B232,Daten!$A$220:$A$269,Daten!$W$220:$W$269),\"\")","v":"33,5 Inhalt4Einh[33,5]"},null,{"$f":"IF($A232<=Daten!$B$8,LOOKUP($B232,Daten!$A$271:$A$320,Daten!$V$271:$V$320),\"\") & \" \" & IF($A232<=Daten!$B$8,LOOKUP($B232,Daten!$A$271:$A$320,Daten!$W$271:$W$320),\"\")","v":"33,6 Inhalt4Einh[33,6]"},null,{"$f":"IF($A232<=Daten!$B$8,LOOKUP($B232,Daten!$A$322:$A$371,Daten!$V$322:$V$371),\"\") & \" \" & IF($A232<=Daten!$B$8,LOOKUP($B232,Daten!$A$322:$A$371,Daten!$W$322:$W$371),\"\")","v":"33,7 Inhalt4Einh[33,7]"}]
[null,null,null,{"$f":"IF($A232<=Daten!$B$8,LOOKUP($B232,Daten!$A$16:$A$65,Daten!$X$16:$X$65),\"\") & \" \" & IF($A232<=Daten!$B$8,LOOKUP($B232,Daten!$A$16:$A$65,Daten!$Y$16:$Y$65),\"\")","v":"33,1 Inhalt5Einh[33,1]"},null,{"$f":"IF($A232<=Daten!$B$8,LOOKUP($B232,Daten!$A$67:$A$116,Daten!$X$67:$X$116),\"\") & \" \" & IF($A232<=Daten!$B$8,LOOKUP($B232,Daten!$A$67:$A$116,Daten!$Y$67:$Y$116),\"\")","v":"33,2 Inhalt5Einh[33,2]"},null,{"$f":"IF($A232<=Daten!$B$8,LOOKUP($B232,Daten!$A$118:$A$167,Daten!$X$118:$X$167),\"\") & \" \" & IF($A232<=Daten!$B$8,LOOKUP($B232,Daten!$A$118:$A$167,Daten!$Y$118:$Y$167),\"\")","v":"33,3 Inhalt5Einh[33,3]"},null,{"$f":"IF($A232<=Daten!$B$8,LOOKUP($B232,Daten!$A$169:$A$218,Daten!$X$169:$X$218),\"\") & \" \" & IF($A232<=Daten!$B$8,LOOKUP($B232,Daten!$A$169:$A$218,Daten!$Y$169:$Y$218),\"\")","v":"33,4 Inhalt5Einh[33,4]"},null,{"$f":"IF($A232<=Daten!$B$8,LOOKUP($B232,Daten!$A$220:$A$269,Daten!$X$220:$X$269),\"\") & \" \" & IF($A232<=Daten!$B$8,LOOKUP($B232,Daten!$A$220:$A$269,Daten!$Y$220:$Y$269),\"\")","v":"33,5 Inhalt5Einh[33,5]"},null,{"$f":"IF($A232<=Daten!$B$8,LOOKUP($B232,Daten!$A$271:$A$320,Daten!$X$271:$X$320),\"\") & \" \" & IF($A232<=Daten!$B$8,LOOKUP($B232,Daten!$A$271:$A$320,Daten!$Y$271:$Y$320),\"\")","v":"33,6 Inhalt5Einh[33,6]"},null,{"$f":"IF($A232<=Daten!$B$8,LOOKUP($B232,Daten!$A$322:$A$371,Daten!$X$322:$X$371),\"\") & \" \" & IF($A232<=Daten!$B$8,LOOKUP($B232,Daten!$A$322:$A$371,Daten!$Y$322:$Y$371),\"\")","v":"33,7 Inhalt5Einh[33,7]"}]
[null,null,null,{"$f":"IF($A232<=Daten!$B$8,LOOKUP($B232,Daten!$A$16:$A$65,Daten!$Z$16:$Z$65),\"\") & \" \" & IF($A232<=Daten!$B$8,LOOKUP($B232,Daten!$A$16:$A$65,Daten!$AA$16:$AA$65),\"\")","v":"33,1 Inhalt6Einh[33,1]"},null,{"$f":"IF($A232<=Daten!$B$8,LOOKUP($B232,Daten!$A$67:$A$116,Daten!$Z$67:$Z$116),\"\") & \" \" & IF($A232<=Daten!$B$8,LOOKUP($B232,Daten!$A$67:$A$116,Daten!$AA$67:$AA$116),\"\")","v":"33,2 Inhalt6Einh[33,2]"},null,{"$f":"IF($A232<=Daten!$B$8,LOOKUP($B232,Daten!$A$118:$A$167,Daten!$Z$118:$Z$167),\"\") & \" \" & IF($A232<=Daten!$B$8,LOOKUP($B232,Daten!$A$118:$A$167,Daten!$AA$118:$AA$167),\"\")","v":"33,3 Inhalt6Einh[33,3]"},null,{"$f":"IF($A232<=Daten!$B$8,LOOKUP($B232,Daten!$A$169:$A$218,Daten!$Z$169:$Z$218),\"\") & \" \" & IF($A232<=Daten!$B$8,LOOKUP($B232,Daten!$A$169:$A$218,Daten!$AA$169:$AA$218),\"\")","v":"33,4 Inhalt6Einh[33,4]"},null,{"$f":"IF($A232<=Daten!$B$8,LOOKUP($B232,Daten!$A$220:$A$269,Daten!$Z$220:$Z$269),\"\") & \" \" & IF($A232<=Daten!$B$8,LOOKUP($B232,Daten!$A$220:$A$269,Daten!$AA$220:$AA$269),\"\")","v":"33,5 Inhalt6Einh[33,5]"},null,{"$f":"IF($A232<=Daten!$B$8,LOOKUP($B232,Daten!$A$271:$A$320,Daten!$Z$271:$Z$320),\"\") & \" \" & IF($A232<=Daten!$B$8,LOOKUP($B232,Daten!$A$271:$A$320,Daten!$AA$271:$AA$320),\"\")","v":"33,6 Inhalt6Einh[33,6]"},null,{"$f":"IF($A232<=Daten!$B$8,LOOKUP($B232,Daten!$A$322:$A$371,Daten!$Z$322:$Z$371),\"\") & \" \" & IF($A232<=Daten!$B$8,LOOKUP($B232,Daten!$A$322:$A$371,Daten!$AA$322:$AA$371),\"\")","v":"33,7 Inhalt6Einh[33,7]"}]
[null,{"$f":"IF(A232<=Daten!$B$8,\"Zusatzstoffe\",\"\")","v":"Zusatzstoffe"},{"$f":"IF($A232<=Daten!$B$8,LOOKUP($B232,Daten!$A$16:$A$65,Daten!$L$16:$L$65),\"\")","v":33.1},{"$f":"IF($A232<=Daten!$B$8,LOOKUP($B232,Daten!$A$16:$A$65,Daten!$E$16:$E$65),\"\")","v":213.1},{"$f":"IF($A232<=Daten!$B$8,LOOKUP($B232,Daten!$A$67:$A$116,Daten!$L$67:$L$116),\"\")","v":33.200000000000003},{"$f":"IF($A232<=Daten!$B$8,LOOKUP($B232,Daten!$A$16:$A$65,Daten!$E$67:$E$116),\"\")","v":0},{"$f":"IF($A232<=Daten!$B$8,LOOKUP($B232,Daten!$A$118:$A$167,Daten!$L$118:$L$167),\"\")","v":33.299999999999997},{"$f":"IF($A232<=Daten!$B$8,LOOKUP($B232,Daten!$A$118:$A$167,Daten!$E$118:$E$167),\"\")","v":0},{"$f":"IF($A232<=Daten!$B$8,LOOKUP($B232,Daten!$A$169:$A$218,Daten!$L$169:$L$218),\"\")","v":33.4},{"$f":"IF($A232<=Daten!$B$8,LOOKUP($B232,Daten!$A$169:$A$218,Daten!$E$169:$E$218),\"\")","v":0},{"$f":"IF($A232<=Daten!$B$8,LOOKUP($B232,Daten!$A$220:$A$269,Daten!$L$220:$L$269),\"\")","v":33.5},{"$f":"IF($A232<=Daten!$B$8,LOOKUP($B232,Daten!$A$220:$A$269,Daten!$E$220:$E$269),\"\")","v":0},{"$f":"IF($A232<=Daten!$B$8,LOOKUP($B232,Daten!$A$271:$A$320,Daten!$L$271:$L$320),\"\")","v":33.6},{"$f":"IF($A232<=Daten!$B$8,LOOKUP($B232,Daten!$A$271:$A$320,Daten!$E$271:$E$320),\"\")","v":0},{"$f":"IF($A232<=Daten!$B$8,LOOKUP($B232,Daten!$A$322:$A$371,Daten!$L$322:$L$371),\"\")","v":33.700000000000003},{"$f":"IF($A232<=Daten!$B$8,LOOKUP($B232,Daten!$A$322:$A$371,Daten!$E$322:$E$371),\"\")","v":0}]
[34,{"$f":"IF(A239<=Daten!$B$8,Daten!AI9,\"\")","v":"Menülinie 34"},{"$f":"IF(A239<=Daten!$B$8,LOOKUP(B239,Daten!$A$16:$A$65,Daten!$C$16:$C$65),\"\")","v":"Lang[34,1]"},{"$f":"IF($A239<=Daten!$B$8,LOOKUP($B239,Daten!$A$16:$A$65,Daten!$P$16:$P$65),\"\") & \" \" & IF($A239<=Daten!$B$8,LOOKUP($B239,Daten!$A$16:$A$65,Daten!$Q$16:$Q$65),\"\")","v":"34,1 Inhalt1Einh[34,1]"},{"$f":"IF($A239<=Daten!$B$8,LOOKUP($B239,Daten!$A$67:$A$116,Daten!$C$67:$C$116),\"\")","v":"Lang[34,2]"},{"$f":"IF($A239<=Daten!$B$8,LOOKUP($B239,Daten!$A$67:$A$116,Daten!$P$67:$P$116),\"\") & \" \" & IF($A239<=Daten!$B$8,LOOKUP($B239,Daten!$A$67:$A$116,Daten!$Q$67:$Q$116),\"\")","v":"34,2 Inhalt1Einh[34,2]"},{"$f":"IF($A239<=Daten!$B$8,LOOKUP($B239,Daten!$A$118:$A$167,Daten!$C$118:$C$167),\"\")","v":"Lang[34,3]"},{"$f":"IF($A239<=Daten!$B$8,LOOKUP($B239,Daten!$A$118:$A$167,Daten!$P$118:$P$167),\"\") & \" \" & IF($A239<=Daten!$B$8,LOOKUP($B239,Daten!$A$118:$A$167,Daten!$Q$118:$Q$167),\"\")","v":"34,3 Inhalt1Einh[34,3]"},{"$f":"IF($A239<=Daten!$B$8,LOOKUP($B239,Daten!$A$169:$A$218,Daten!$C$169:$C$218),\"\")","v":"Lang[34,4]"},{"$f":"IF($A239<=Daten!$B$8,LOOKUP($B239,Daten!$A$169:$A$218,Daten!$P$169:$P$218),\"\") & \" \" & IF($A239<=Daten!$B$8,LOOKUP($B239,Daten!$A$169:$A$218,Daten!$Q$169:$Q$218),\"\")","v":"34,4 Inhalt1Einh[34,4]"},{"$f":"IF($A239<=Daten!$B$8,LOOKUP($B239,Daten!$A$220:$A$269,Daten!$C$220:$C$269),\"\")","v":"Lang[34,5]"},{"$f":"IF($A239<=Daten!$B$8,LOOKUP($B239,Daten!$A$220:$A$269,Daten!$P$220:$P$269),\"\") & \" \" & IF($A239<=Daten!$B$8,LOOKUP($B239,Daten!$A$220:$A$269,Daten!$Q$220:$Q$269),\"\")","v":"34,5 Inhalt1Einh[34,5]"},{"$f":"IF($A239<=Daten!$B$8,LOOKUP($B239,Daten!$A$271:$A$320,Daten!$C$271:$C$320),\"\")","v":"Lang[34,6]"},{"$f":"IF($A239<=Daten!$B$8,LOOKUP($B239,Daten!$A$271:$A$320,Daten!$P$271:$P$320),\"\") & \" \" & IF($A239<=Daten!$B$8,LOOKUP($B239,Daten!$A$271:$A$320,Daten!$Q$271:$Q$320),\"\")","v":"34,6 Inhalt1Einh[34,6]"},{"$f":"IF($A239<=Daten!$B$8,LOOKUP($B239,Daten!$A$322:$A$371,Daten!$B$322:$C$371),\"\")","v":{"$error":"#N/A"}},{"$f":"IF($A239<=Daten!$B$8,LOOKUP($B239,Daten!$A$322:$A$371,Daten!$P$322:$P$371),\"\") & \" \" & IF($A239<=Daten!$B$8,LOOKUP($B239,Daten!$A$322:$A$371,Daten!$Q$322:$Q$371),\"\")","v":"34,7 Inhalt1Einh[34,7]"}]
[null,null,null,{"$f":"IF($A239<=Daten!$B$8,LOOKUP($B239,Daten!$A$16:$A$65,Daten!$R$16:$R$65),\"\") & \" \" & IF($A239<=Daten!$B$8,LOOKUP($B239,Daten!$A$16:$A$65,Daten!$S$16:$S$65),\"\")","v":"34,1 Inhalt2Einh[34,1]"},null,{"$f":"IF($A239<=Daten!$B$8,LOOKUP($B239,Daten!$A$67:$A$116,Daten!$R$67:$R$116),\"\") & \" \" & IF($A239<=Daten!$B$8,LOOKUP($B239,Daten!$A$67:$A$116,Daten!$S$67:$S$116),\"\")","v":"34,2 Inhalt2Einh[34,2]"},null,{"$f":"IF($A239<=Daten!$B$8,LOOKUP($B239,Daten!$A$118:$A$167,Daten!$R$118:$R$167),\"\") & \" \" & IF($A239<=Daten!$B$8,LOOKUP($B239,Daten!$A$118:$A$167,Daten!$S$118:$S$167),\"\")","v":"34,3 Inhalt2Einh[34,3]"},null,{"$f":"IF($A239<=Daten!$B$8,LOOKUP($B239,Daten!$A$169:$A$218,Daten!$R$169:$R$218),\"\") & \" \" & IF($A239<=Daten!$B$8,LOOKUP($B239,Daten!$A$169:$A$218,Daten!$S$169:$S$218),\"\")","v":"34,4 Inhalt2Einh[34,4]"},null,{"$f":"IF($A239<=Daten!$B$8,LOOKUP($B239,Daten!$A$220:$A$269,Daten!$R$220:$R$269),\"\") & \" \" & IF($A239<=Daten!$B$8,LOOKUP($B239,Daten!$A$220:$A$269,Daten!$S$220:$S$269),\"\")","v":"34,5 Inhalt2Einh[34,5]"},null,{"$f":"IF($A239<=Daten!$B$8,LOOKUP($B239,Daten!$A$271:$A$320,Daten!$R$271:$R$320),\"\") & \" \" & IF($A239<=Daten!$B$8,LOOKUP($B239,Daten!$A$271:$A$320,Daten!$S$271:$S$320),\"\")","v":"34,6 Inhalt2Einh[34,6]"},null,{"$f":"IF($A239<=Daten!$B$8,LOOKUP($B239,Daten!$A$322:$A$371,Daten!$R$322:$R$371),\"\") & \" \" & IF($A239<=Daten!$B$8,LOOKUP($B239,Daten!$A$322:$A$371,Daten!$S$322:$S$371),\"\")","v":"34,7 Inhalt2Einh[34,7]"}]
[null,null,null,{"$f":"IF($A239<=Daten!$B$8,LOOKUP($B239,Daten!$A$16:$A$65,Daten!$T$16:$T$65),\"\") & \" \" & IF($A239<=Daten!$B$8,LOOKUP($B239,Daten!$A$16:$A$65,Daten!$U$16:$U$65),\"\")","v":"34,1 Inhalt3Einh[34,1]"},null,{"$f":"IF($A239<=Daten!$B$8,LOOKUP($B239,Daten!$A$67:$A$116,Daten!$T$67:$T$116),\"\") & \" \" & IF($A239<=Daten!$B$8,LOOKUP($B239,Daten!$A$67:$A$116,Daten!$U$67:$U$116),\"\")","v":"34,2 Inhalt3Einh[34,2]"},null,{"$f":"IF($A239<=Daten!$B$8,LOOKUP($B239,Daten!$A$118:$A$167,Daten!$T$118:$T$167),\"\") & \" \" & IF($A239<=Daten!$B$8,LOOKUP($B239,Daten!$A$118:$A$167,Daten!$U$118:$U$167),\"\")","v":"34,3 Inhalt3Einh[34,3]"},null,{"$f":"IF($A239<=Daten!$B$8,LOOKUP($B239,Daten!$A$169:$A$218,Daten!$T$169:$T$218),\"\") & \" \" & IF($A239<=Daten!$B$8,LOOKUP($B239,Daten!$A$169:$A$218,Daten!$U$169:$U$218),\"\")","v":"34,4 Inhalt3Einh[34,4]"},null,{"$f":"IF($A239<=Daten!$B$8,LOOKUP($B239,Daten!$A$220:$A$269,Daten!$T$220:$T$269),\"\") & \" \" & IF($A239<=Daten!$B$8,LOOKUP($B239,Daten!$A$220:$A$269,Daten!$U$220:$U$269),\"\")","v":"34,5 Inhalt3Einh[34,5]"},null,{"$f":"IF($A239<=Daten!$B$8,LOOKUP($B239,Daten!$A$271:$A$320,Daten!$T$271:$T$320),\"\") & \" \" & IF($A239<=Daten!$B$8,LOOKUP($B239,Daten!$A$271:$A$320,Daten!$U$271:$U$320),\"\")","v":"34,6 Inhalt3Einh[34,6]"},null,{"$f":"IF($A239<=Daten!$B$8,LOOKUP($B239,Daten!$A$322:$A$371,Daten!$T$322:$T$371),\"\") & \" \" & IF($A239<=Daten!$B$8,LOOKUP($B239,Daten!$A$322:$A$371,Daten!$U$322:$U$371),\"\")","v":"34,7 Inhalt3Einh[34,7]"}]
[null,null,null,{"$f":"IF($A239<=Daten!$B$8,LOOKUP($B239,Daten!$A$16:$A$65,Daten!$V$16:$V$65),\"\") & \" \" & IF($A239<=Daten!$B$8,LOOKUP($B239,Daten!$A$16:$A$65,Daten!$W$16:$W$65),\"\")","v":"34,1 Inhalt4Einh[34,1]"},null,{"$f":"IF($A239<=Daten!$B$8,LOOKUP($B239,Daten!$A$67:$A$116,Daten!$V$67:$V$116),\"\") & \" \" & IF($A239<=Daten!$B$8,LOOKUP($B239,Daten!$A$67:$A$116,Daten!$W$67:$W$116),\"\")","v":"34,2 Inhalt4Einh[34,2]"},null,{"$f":"IF($A239<=Daten!$B$8,LOOKUP($B239,Daten!$A$118:$A$167,Daten!$V$118:$V$167),\"\") & \" \" & IF($A239<=Daten!$B$8,LOOKUP($B239,Daten!$A$118:$A$167,Daten!$W$118:$W$167),\"\")","v":"34,3 Inhalt4Einh[34,3]"},null,{"$f":"IF($A239<=Daten!$B$8,LOOKUP($B239,Daten!$A$169:$A$218,Daten!$V$169:$V$218),\"\") & \" \" & IF($A239<=Daten!$B$8,LOOKUP($B239,Daten!$A$169:$A$218,Daten!$W$169:$W$218),\"\")","v":"34,4 Inhalt4Einh[34,4]"},null,{"$f":"IF($A239<=Daten!$B$8,LOOKUP($B239,Daten!$A$220:$A$269,Daten!$V$220:$V$269),\"\") & \" \" & IF($A239<=Daten!$B$8,LOOKUP($B239,Daten!$A$220:$A$269,Daten!$W$220:$W$269),\"\")","v":"34,5 Inhalt4Einh[34,5]"},null,{"$f":"IF($A239<=Daten!$B$8,LOOKUP($B239,Daten!$A$271:$A$320,Daten!$V$271:$V$320),\"\") & \" \" & IF($A239<=Daten!$B$8,LOOKUP($B239,Daten!$A$271:$A$320,Daten!$W$271:$W$320),\"\")","v":"34,6 Inhalt4Einh[34,6]"},null,{"$f":"IF($A239<=Daten!$B$8,LOOKUP($B239,Daten!$A$322:$A$371,Daten!$V$322:$V$371),\"\") & \" \" & IF($A239<=Daten!$B$8,LOOKUP($B239,Daten!$A$322:$A$371,Daten!$W$322:$W$371),\"\")","v":"34,7 Inhalt4Einh[34,7]"}]
[null,null,null,{"$f":"IF($A239<=Daten!$B$8,LOOKUP($B239,Daten!$A$16:$A$65,Daten!$X$16:$X$65),\"\") & \" \" & IF($A239<=Daten!$B$8,LOOKUP($B239,Daten!$A$16:$A$65,Daten!$Y$16:$Y$65),\"\")","v":"34,1 Inhalt5Einh[34,1]"},null,{"$f":"IF($A239<=Daten!$B$8,LOOKUP($B239,Daten!$A$67:$A$116,Daten!$X$67:$X$116),\"\") & \" \" & IF($A239<=Daten!$B$8,LOOKUP($B239,Daten!$A$67:$A$116,Daten!$Y$67:$Y$116),\"\")","v":"34,2 Inhalt5Einh[34,2]"},null,{"$f":"IF($A239<=Daten!$B$8,LOOKUP($B239,Daten!$A$118:$A$167,Daten!$X$118:$X$167),\"\") & \" \" & IF($A239<=Daten!$B$8,LOOKUP($B239,Daten!$A$118:$A$167,Daten!$Y$118:$Y$167),\"\")","v":"34,3 Inhalt5Einh[34,3]"},null,{"$f":"IF($A239<=Daten!$B$8,LOOKUP($B239,Daten!$A$169:$A$218,Daten!$X$169:$X$218),\"\") & \" \" & IF($A239<=Daten!$B$8,LOOKUP($B239,Daten!$A$169:$A$218,Daten!$Y$169:$Y$218),\"\")","v":"34,4 Inhalt5Einh[34,4]"},null,{"$f":"IF($A239<=Daten!$B$8,LOOKUP($B239,Daten!$A$220:$A$269,Daten!$X$220:$X$269),\"\") & \" \" & IF($A239<=Daten!$B$8,LOOKUP($B239,Daten!$A$220:$A$269,Daten!$Y$220:$Y$269),\"\")","v":"34,5 Inhalt5Einh[34,5]"},null,{"$f":"IF($A239<=Daten!$B$8,LOOKUP($B239,Daten!$A$271:$A$320,Daten!$X$271:$X$320),\"\") & \" \" & IF($A239<=Daten!$B$8,LOOKUP($B239,Daten!$A$271:$A$320,Daten!$Y$271:$Y$320),\"\")","v":"34,6 Inhalt5Einh[34,6]"},null,{"$f":"IF($A239<=Daten!$B$8,LOOKUP($B239,Daten!$A$322:$A$371,Daten!$X$322:$X$371),\"\") & \" \" & IF($A239<=Daten!$B$8,LOOKUP($B239,Daten!$A$322:$A$371,Daten!$Y$322:$Y$371),\"\")","v":"34,7 Inhalt5Einh[34,7]"}]
[null,null,null,{"$f":"IF($A239<=Daten!$B$8,LOOKUP($B239,Daten!$A$16:$A$65,Daten!$Z$16:$Z$65),\"\") & \" \" & IF($A239<=Daten!$B$8,LOOKUP($B239,Daten!$A$16:$A$65,Daten!$AA$16:$AA$65),\"\")","v":"34,1 Inhalt6Einh[34,1]"},null,{"$f":"IF($A239<=Daten!$B$8,LOOKUP($B239,Daten!$A$67:$A$116,Daten!$Z$67:$Z$116),\"\") & \" \" & IF($A239<=Daten!$B$8,LOOKUP($B239,Daten!$A$67:$A$116,Daten!$AA$67:$AA$116),\"\")","v":"34,2 Inhalt6Einh[34,2]"},null,{"$f":"IF($A239<=Daten!$B$8,LOOKUP($B239,Daten!$A$118:$A$167,Daten!$Z$118:$Z$167),\"\") & \" \" & IF($A239<=Daten!$B$8,LOOKUP($B239,Daten!$A$118:$A$167,Daten!$AA$118:$AA$167),\"\")","v":"34,3 Inhalt6Einh[34,3]"},null,{"$f":"IF($A239<=Daten!$B$8,LOOKUP($B239,Daten!$A$169:$A$218,Daten!$Z$169:$Z$218),\"\") & \" \" & IF($A239<=Daten!$B$8,LOOKUP($B239,Daten!$A$169:$A$218,Daten!$AA$169:$AA$218),\"\")","v":"34,4 Inhalt6Einh[34,4]"},null,{"$f":"IF($A239<=Daten!$B$8,LOOKUP($B239,Daten!$A$220:$A$269,Daten!$Z$220:$Z$269),\"\") & \" \" & IF($A239<=Daten!$B$8,LOOKUP($B239,Daten!$A$220:$A$269,Daten!$AA$220:$AA$269),\"\")","v":"34,5 Inhalt6Einh[34,5]"},null,{"$f":"IF($A239<=Daten!$B$8,LOOKUP($B239,Daten!$A$271:$A$320,Daten!$Z$271:$Z$320),\"\") & \" \" & IF($A239<=Daten!$B$8,LOOKUP($B239,Daten!$A$271:$A$320,Daten!$AA$271:$AA$320),\"\")","v":"34,6 Inhalt6Einh[34,6]"},null,{"$f":"IF($A239<=Daten!$B$8,LOOKUP($B239,Daten!$A$322:$A$371,Daten!$Z$322:$Z$371),\"\") & \" \" & IF($A239<=Daten!$B$8,LOOKUP($B239,Daten!$A$322:$A$371,Daten!$AA$322:$AA$371),\"\")","v":"34,7 Inhalt6Einh[34,7]"}]
[null,{"$f":"IF(A239<=Daten!$B$8,\"Zusatzstoffe\",\"\")","v":"Zusatzstoffe"},{"$f":"IF($A239<=Daten!$B$8,LOOKUP($B239,Daten!$A$16:$A$65,Daten!$L$16:$L$65),\"\")","v":34.1},{"$f":"IF($A239<=Daten!$B$8,LOOKUP($B239,Daten!$A$16:$A$65,Daten!$E$16:$E$65),\"\")","v":214.1},{"$f":"IF($A239<=Daten!$B$8,LOOKUP($B239,Daten!$A$67:$A$116,Daten!$L$67:$L$116),\"\")","v":34.200000000000003},{"$f":"IF($A239<=Daten!$B$8,LOOKUP($B239,Daten!$A$16:$A$65,Daten!$E$67:$E$116),\"\")","v":0},{"$f":"IF($A239<=Daten!$B$8,LOOKUP($B239,Daten!$A$118:$A$167,Daten!$L$118:$L$167),\"\")","v":34.299999999999997},{"$f":"IF($A239<=Daten!$B$8,LOOKUP($B239,Daten!$A$118:$A$167,Daten!$E$118:$E$167),\"\")","v":0},{"$f":"IF($A239<=Daten!$B$8,LOOKUP($B239,Daten!$A$169:$A$218,Daten!$L$169:$L$218),\"\")","v":34.4},{"$f":"IF($A239<=Daten!$B$8,LOOKUP($B239,Daten!$A$169:$A$218,Daten!$E$169:$E$218),\"\")","v":0},{"$f":"IF($A239<=Daten!$B$8,LOOKUP($B239,Daten!$A$220:$A$269,Daten!$L$220:$L$269),\"\")","v":34.5},{"$f":"IF($A239<=Daten!$B$8,LOOKUP($B239,Daten!$A$220:$A$269,Daten!$E$220:$E$269),\"\")","v":0},{"$f":"IF($A239<=Daten!$B$8,LOOKUP($B239,Daten!$A$271:$A$320,Daten!$L$271:$L$320),\"\")","v":34.6},{"$f":"IF($A239<=Daten!$B$8,LOOKUP($B239,Daten!$A$271:$A$320,Daten!$E$271:$E$320),\"\")","v":0},{"$f":"IF($A239<=Daten!$B$8,LOOKUP($B239,Daten!$A$322:$A$371,Daten!$L$322:$L$371),\"\")","v":34.700000000000003},{"$f":"IF($A239<=Daten!$B$8,LOOKUP($B239,Daten!$A$322:$A$371,Daten!$E$322:$E$371),\"\")","v":0}]
[35,{"$f":"IF(A246<=Daten!$B$8,Daten!AJ9,\"\")","v":"Menülinie 35"},{"$f":"IF(A246<=Daten!$B$8,LOOKUP(B246,Daten!$A$16:$A$65,Daten!$C$16:$C$65),\"\")","v":"Lang[35,1]"},{"$f":"IF($A246<=Daten!$B$8,LOOKUP($B246,Daten!$A$16:$A$65,Daten!$P$16:$P$65),\"\") & \" \" & IF($A246<=Daten!$B$8,LOOKUP($B246,Daten!$A$16:$A$65,Daten!$Q$16:$Q$65),\"\")","v":"35,1 Inhalt1Einh[35,1]"},{"$f":"IF($A246<=Daten!$B$8,LOOKUP($B246,Daten!$A$67:$A$116,Daten!$C$67:$C$116),\"\")","v":"Lang[35,2]"},{"$f":"IF($A246<=Daten!$B$8,LOOKUP($B246,Daten!$A$67:$A$116,Daten!$P$67:$P$116),\"\") & \" \" & IF($A246<=Daten!$B$8,LOOKUP($B246,Daten!$A$67:$A$116,Daten!$Q$67:$Q$116),\"\")","v":"35,2 Inhalt1Einh[35,2]"},{"$f":"IF($A246<=Daten!$B$8,LOOKUP($B246,Daten!$A$118:$A$167,Daten!$C$118:$C$167),\"\")","v":"Lang[35,3]"},{"$f":"IF($A246<=Daten!$B$8,LOOKUP($B246,Daten!$A$118:$A$167,Daten!$P$118:$P$167),\"\") & \" \" & IF($A246<=Daten!$B$8,LOOKUP($B246,Daten!$A$118:$A$167,Daten!$Q$118:$Q$167),\"\")","v":"35,3 Inhalt1Einh[35,3]"},{"$f":"IF($A246<=Daten!$B$8,LOOKUP($B246,Daten!$A$169:$A$218,Daten!$C$169:$C$218),\"\")","v":"Lang[35,4]"},{"$f":"IF($A246<=Daten!$B$8,LOOKUP($B246,Daten!$A$169:$A$218,Daten!$P$169:$P$218),\"\") & \" \" & IF($A246<=Daten!$B$8,LOOKUP($B246,Daten!$A$169:$A$218,Daten!$Q$169:$Q$218),\"\")","v":"35,4 Inhalt1Einh[35,4]"},{"$f":"IF($A246<=Daten!$B$8,LOOKUP($B246,Daten!$A$220:$A$269,Daten!$C$220:$C$269),\"\")","v":"Lang[35,5]"},{"$f":"IF($A246<=Daten!$B$8,LOOKUP($B246,Daten!$A$220:$A$269,Daten!$P$220:$P$269),\"\") & \" \" & IF($A246<=Daten!$B$8,LOOKUP($B246,Daten!$A$220:$A$269,Daten!$Q$220:$Q$269),\"\")","v":"35,5 Inhalt1Einh[35,5]"},{"$f":"IF($A246<=Daten!$B$8,LOOKUP($B246,Daten!$A$271:$A$320,Daten!$C$271:$C$320),\"\")","v":"Lang[35,6]"},{"$f":"IF($A246<=Daten!$B$8,LOOKUP($B246,Daten!$A$271:$A$320,Daten!$P$271:$P$320),\"\") & \" \" & IF($A246<=Daten!$B$8,LOOKUP($B246,Daten!$A$271:$A$320,Daten!$Q$271:$Q$320),\"\")","v":"35,6 Inhalt1Einh[35,6]"},{"$f":"IF($A246<=Daten!$B$8,LOOKUP($B246,Daten!$A$322:$A$371,Daten!$B$322:$C$371),\"\")","v":{"$error":"#N/A"}},{"$f":"IF($A246<=Daten!$B$8,LOOKUP($B246,Daten!$A$322:$A$371,Daten!$P$322:$P$371),\"\") & \" \" & IF($A246<=Daten!$B$8,LOOKUP($B246,Daten!$A$322:$A$371,Daten!$Q$322:$Q$371),\"\")","v":"35,7 Inhalt1Einh[35,7]"}]
[null,null,null,{"$f":"IF($A246<=Daten!$B$8,LOOKUP($B246,Daten!$A$16:$A$65,Daten!$R$16:$R$65),\"\") & \" \" & IF($A246<=Daten!$B$8,LOOKUP($B246,Daten!$A$16:$A$65,Daten!$S$16:$S$65),\"\")","v":"35,1 Inhalt2Einh[35,1]"},null,{"$f":"IF($A246<=Daten!$B$8,LOOKUP($B246,Daten!$A$67:$A$116,Daten!$R$67:$R$116),\"\") & \" \" & IF($A246<=Daten!$B$8,LOOKUP($B246,Daten!$A$67:$A$116,Daten!$S$67:$S$116),\"\")","v":"35,2 Inhalt2Einh[35,2]"},null,{"$f":"IF($A246<=Daten!$B$8,LOOKUP($B246,Daten!$A$118:$A$167,Daten!$R$118:$R$167),\"\") & \" \" & IF($A246<=Daten!$B$8,LOOKUP($B246,Daten!$A$118:$A$167,Daten!$S$118:$S$167),\"\")","v":"35,3 Inhalt2Einh[35,3]"},null,{"$f":"IF($A246<=Daten!$B$8,LOOKUP($B246,Daten!$A$169:$A$218,Daten!$R$169:$R$218),\"\") & \" \" & IF($A246<=Daten!$B$8,LOOKUP($B246,Daten!$A$169:$A$218,Daten!$S$169:$S$218),\"\")","v":"35,4 Inhalt2Einh[35,4]"},null,{"$f":"IF($A246<=Daten!$B$8,LOOKUP($B246,Daten!$A$220:$A$269,Daten!$R$220:$R$269),\"\") & \" \" & IF($A246<=Daten!$B$8,LOOKUP($B246,Daten!$A$220:$A$269,Daten!$S$220:$S$269),\"\")","v":"35,5 Inhalt2Einh[35,5]"},null,{"$f":"IF($A246<=Daten!$B$8,LOOKUP($B246,Daten!$A$271:$A$320,Daten!$R$271:$R$320),\"\") & \" \" & IF($A246<=Daten!$B$8,LOOKUP($B246,Daten!$A$271:$A$320,Daten!$S$271:$S$320),\"\")","v":"35,6 Inhalt2Einh[35,6]"},null,{"$f":"IF($A246<=Daten!$B$8,LOOKUP($B246,Daten!$A$322:$A$371,Daten!$R$322:$R$371),\"\") & \" \" & IF($A246<=Daten!$B$8,LOOKUP($B246,Daten!$A$322:$A$371,Daten!$S$322:$S$371),\"\")","v":"35,7 Inhalt2Einh[35,7]"}]
[null,null,null,{"$f":"IF($A246<=Daten!$B$8,LOOKUP($B246,Daten!$A$16:$A$65,Daten!$T$16:$T$65),\"\") & \" \" & IF($A246<=Daten!$B$8,LOOKUP($B246,Daten!$A$16:$A$65,Daten!$U$16:$U$65),\"\")","v":"35,1 Inhalt3Einh[35,1]"},null,{"$f":"IF($A246<=Daten!$B$8,LOOKUP($B246,Daten!$A$67:$A$116,Daten!$T$67:$T$116),\"\") & \" \" & IF($A246<=Daten!$B$8,LOOKUP($B246,Daten!$A$67:$A$116,Daten!$U$67:$U$116),\"\")","v":"35,2 Inhalt3Einh[35,2]"},null,{"$f":"IF($A246<=Daten!$B$8,LOOKUP($B246,Daten!$A$118:$A$167,Daten!$T$118:$T$167),\"\") & \" \" & IF($A246<=Daten!$B$8,LOOKUP($B246,Daten!$A$118:$A$167,Daten!$U$118:$U$167),\"\")","v":"35,3 Inhalt3Einh[35,3]"},null,{"$f":"IF($A246<=Daten!$B$8,LOOKUP($B246,Daten!$A$169:$A$218,Daten!$T$169:$T$218),\"\") & \" \" & IF($A246<=Daten!$B$8,LOOKUP($B246,Daten!$A$169:$A$218,Daten!$U$169:$U$218),\"\")","v":"35,4 Inhalt3Einh[35,4]"},null,{"$f":"IF($A246<=Daten!$B$8,LOOKUP($B246,Daten!$A$220:$A$269,Daten!$T$220:$T$269),\"\") & \" \" & IF($A246<=Daten!$B$8,LOOKUP($B246,Daten!$A$220:$A$269,Daten!$U$220:$U$269),\"\")","v":"35,5 Inhalt3Einh[35,5]"},null,{"$f":"IF($A246<=Daten!$B$8,LOOKUP($B246,Daten!$A$271:$A$320,Daten!$T$271:$T$320),\"\") & \" \" & IF($A246<=Daten!$B$8,LOOKUP($B246,Daten!$A$271:$A$320,Daten!$U$271:$U$320),\"\")","v":"35,6 Inhalt3Einh[35,6]"},null,{"$f":"IF($A246<=Daten!$B$8,LOOKUP($B246,Daten!$A$322:$A$371,Daten!$T$322:$T$371),\"\") & \" \" & IF($A246<=Daten!$B$8,LOOKUP($B246,Daten!$A$322:$A$371,Daten!$U$322:$U$371),\"\")","v":"35,7 Inhalt3Einh[35,7]"}]
[null,null,null,{"$f":"IF($A246<=Daten!$B$8,LOOKUP($B246,Daten!$A$16:$A$65,Daten!$V$16:$V$65),\"\") & \" \" & IF($A246<=Daten!$B$8,LOOKUP($B246,Daten!$A$16:$A$65,Daten!$W$16:$W$65),\"\")","v":"35,1 Inhalt4Einh[35,1]"},null,{"$f":"IF($A246<=Daten!$B$8,LOOKUP($B246,Daten!$A$67:$A$116,Daten!$V$67:$V$116),\"\") & \" \" & IF($A246<=Daten!$B$8,LOOKUP($B246,Daten!$A$67:$A$116,Daten!$W$67:$W$116),\"\")","v":"35,2 Inhalt4Einh[35,2]"},null,{"$f":"IF($A246<=Daten!$B$8,LOOKUP($B246,Daten!$A$118:$A$167,Daten!$V$118:$V$167),\"\") & \" \" & IF($A246<=Daten!$B$8,LOOKUP($B246,Daten!$A$118:$A$167,Daten!$W$118:$W$167),\"\")","v":"35,3 Inhalt4Einh[35,3]"},null,{"$f":"IF($A246<=Daten!$B$8,LOOKUP($B246,Daten!$A$169:$A$218,Daten!$V$169:$V$218),\"\") & \" \" & IF($A246<=Daten!$B$8,LOOKUP($B246,Daten!$A$169:$A$218,Daten!$W$169:$W$218),\"\")","v":"35,4 Inhalt4Einh[35,4]"},null,{"$f":"IF($A246<=Daten!$B$8,LOOKUP($B246,Daten!$A$220:$A$269,Daten!$V$220:$V$269),\"\") & \" \" & IF($A246<=Daten!$B$8,LOOKUP($B246,Daten!$A$220:$A$269,Daten!$W$220:$W$269),\"\")","v":"35,5 Inhalt4Einh[35,5]"},null,{"$f":"IF($A246<=Daten!$B$8,LOOKUP($B246,Daten!$A$271:$A$320,Daten!$V$271:$V$320),\"\") & \" \" & IF($A246<=Daten!$B$8,LOOKUP($B246,Daten!$A$271:$A$320,Daten!$W$271:$W$320),\"\")","v":"35,6 Inhalt4Einh[35,6]"},null,{"$f":"IF($A246<=Daten!$B$8,LOOKUP($B246,Daten!$A$322:$A$371,Daten!$V$322:$V$371),\"\") & \" \" & IF($A246<=Daten!$B$8,LOOKUP($B246,Daten!$A$322:$A$371,Daten!$W$322:$W$371),\"\")","v":"35,7 Inhalt4Einh[35,7]"}]
[null,null,null,{"$f":"IF($A246<=Daten!$B$8,LOOKUP($B246,Daten!$A$16:$A$65,Daten!$X$16:$X$65),\"\") & \" \" & IF($A246<=Daten!$B$8,LOOKUP($B246,Daten!$A$16:$A$65,Daten!$Y$16:$Y$65),\"\")","v":"35,1 Inhalt5Einh[35,1]"},null,{"$f":"IF($A246<=Daten!$B$8,LOOKUP($B246,Daten!$A$67:$A$116,Daten!$X$67:$X$116),\"\") & \" \" & IF($A246<=Daten!$B$8,LOOKUP($B246,Daten!$A$67:$A$116,Daten!$Y$67:$Y$116),\"\")","v":"35,2 Inhalt5Einh[35,2]"},null,{"$f":"IF($A246<=Daten!$B$8,LOOKUP($B246,Daten!$A$118:$A$167,Daten!$X$118:$X$167),\"\") & \" \" & IF($A246<=Daten!$B$8,LOOKUP($B246,Daten!$A$118:$A$167,Daten!$Y$118:$Y$167),\"\")","v":"35,3 Inhalt5Einh[35,3]"},null,{"$f":"IF($A246<=Daten!$B$8,LOOKUP($B246,Daten!$A$169:$A$218,Daten!$X$169:$X$218),\"\") & \" \" & IF($A246<=Daten!$B$8,LOOKUP($B246,Daten!$A$169:$A$218,Daten!$Y$169:$Y$218),\"\")","v":"35,4 Inhalt5Einh[35,4]"},null,{"$f":"IF($A246<=Daten!$B$8,LOOKUP($B246,Daten!$A$220:$A$269,Daten!$X$220:$X$269),\"\") & \" \" & IF($A246<=Daten!$B$8,LOOKUP($B246,Daten!$A$220:$A$269,Daten!$Y$220:$Y$269),\"\")","v":"35,5 Inhalt5Einh[35,5]"},null,{"$f":"IF($A246<=Daten!$B$8,LOOKUP($B246,Daten!$A$271:$A$320,Daten!$X$271:$X$320),\"\") & \" \" & IF($A246<=Daten!$B$8,LOOKUP($B246,Daten!$A$271:$A$320,Daten!$Y$271:$Y$320),\"\")","v":"35,6 Inhalt5Einh[35,6]"},null,{"$f":"IF($A246<=Daten!$B$8,LOOKUP($B246,Daten!$A$322:$A$371,Daten!$X$322:$X$371),\"\") & \" \" & IF($A246<=Daten!$B$8,LOOKUP($B246,Daten!$A$322:$A$371,Daten!$Y$322:$Y$371),\"\")","v":"35,7 Inhalt5Einh[35,7]"}]
[null,null,null,{"$f":"IF($A246<=Daten!$B$8,LOOKUP($B246,Daten!$A$16:$A$65,Daten!$Z$16:$Z$65),\"\") & \" \" & IF($A246<=Daten!$B$8,LOOKUP($B246,Daten!$A$16:$A$65,Daten!$AA$16:$AA$65),\"\")","v":"35,1 Inhalt6Einh[35,1]"},null,{"$f":"IF($A246<=Daten!$B$8,LOOKUP($B246,Daten!$A$67:$A$116,Daten!$Z$67:$Z$116),\"\") & \" \" & IF($A246<=Daten!$B$8,LOOKUP($B246,Daten!$A$67:$A$116,Daten!$AA$67:$AA$116),\"\")","v":"35,2 Inhalt6Einh[35,2]"},null,{"$f":"IF($A246<=Daten!$B$8,LOOKUP($B246,Daten!$A$118:$A$167,Daten!$Z$118:$Z$167),\"\") & \" \" & IF($A246<=Daten!$B$8,LOOKUP($B246,Daten!$A$118:$A$167,Daten!$AA$118:$AA$167),\"\")","v":"35,3 Inhalt6Einh[35,3]"},null,{"$f":"IF($A246<=Daten!$B$8,LOOKUP($B246,Daten!$A$169:$A$218,Daten!$Z$169:$Z$218),\"\") & \" \" & IF($A246<=Daten!$B$8,LOOKUP($B246,Daten!$A$169:$A$218,Daten!$AA$169:$AA$218),\"\")","v":"35,4 Inhalt6Einh[35,4]"},null,{"$f":"IF($A246<=Daten!$B$8,LOOKUP($B246,Daten!$A$220:$A$269,Daten!$Z$220:$Z$269),\"\") & \" \" & IF($A246<=Daten!$B$8,LOOKUP($B246,Daten!$A$220:$A$269,Daten!$AA$220:$AA$269),\"\")","v":"35,5 Inhalt6Einh[35,5]"},null,{"$f":"IF($A246<=Daten!$B$8,LOOKUP($B246,Daten!$A$271:$A$320,Daten!$Z$271:$Z$320),\"\") & \" \" & IF($A246<=Daten!$B$8,LOOKUP($B246,Daten!$A$271:$A$320,Daten!$AA$271:$AA$320),\"\")","v":"35,6 Inhalt6Einh[35,6]"},null,{"$f":"IF($A246<=Daten!$B$8,LOOKUP($B246,Daten!$A$322:$A$371,Daten!$Z$322:$Z$371),\"\") & \" \" & IF($A246<=Daten!$B$8,LOOKUP($B246,Daten!$A$322:$A$371,Daten!$AA$322:$AA$371),\"\")","v":"35,7 Inhalt6Einh[35,7]"}]
[null,{"$f":"IF(A246<=Daten!$B$8,\"Zusatzstoffe\",\"\")","v":"Zusatzstoffe"},{"$f":"IF($A246<=Daten!$B$8,LOOKUP($B246,Daten!$A$16:$A$65,Daten!$L$16:$L$65),\"\")","v":35.1},{"$f":"IF($A246<=Daten!$B$8,LOOKUP($B246,Daten!$A$16:$A$65,Daten!$E$16:$E$65),\"\")","v":215.1},{"$f":"IF($A246<=Daten!$B$8,LOOKUP($B246,Daten!$A$67:$A$116,Daten!$L$67:$L$116),\"\")","v":35.200000000000003},{"$f":"IF($A246<=Daten!$B$8,LOOKUP($B246,Daten!$A$16:$A$65,Daten!$E$67:$E$116),\"\")","v":0},{"$f":"IF($A246<=Daten!$B$8,LOOKUP($B246,Daten!$A$118:$A$167,Daten!$L$118:$L$167),\"\")","v":35.299999999999997},{"$f":"IF($A246<=Daten!$B$8,LOOKUP($B246,Daten!$A$118:$A$167,Daten!$E$118:$E$167),\"\")","v":0},{"$f":"IF($A246<=Daten!$B$8,LOOKUP($B246,Daten!$A$169:$A$218,Daten!$L$169:$L$218),\"\")","v":35.4},{"$f":"IF($A246<=Daten!$B$8,LOOKUP($B246,Daten!$A$169:$A$218,Daten!$E$169:$E$218),\"\")","v":0},{"$f":"IF($A246<=Daten!$B$8,LOOKUP($B246,Daten!$A$220:$A$269,Daten!$L$220:$L$269),\"\")","v":35.5},{"$f":"IF($A246<=Daten!$B$8,LOOKUP($B246,Daten!$A$220:$A$269,Daten!$E$220:$E$269),\"\")","v":0},{"$f":"IF($A246<=Daten!$B$8,LOOKUP($B246,Daten!$A$271:$A$320,Daten!$L$271:$L$320),\"\")","v":35.6},{"$f":"IF($A246<=Daten!$B$8,LOOKUP($B246,Daten!$A$271:$A$320,Daten!$E$271:$E$320),\"\")","v":0},{"$f":"IF($A246<=Daten!$B$8,LOOKUP($B246,Daten!$A$322:$A$371,Daten!$L$322:$L$371),\"\")","v":35.700000000000003},{"$f":"IF($A246<=Daten!$B$8,LOOKUP($B246,Daten!$A$322:$A$371,Daten!$E$322:$E$371),\"\")","v":0}]
[36,{"$f":"IF(A253<=Daten!$B$8,Daten!AK9,\"\")","v":"Menülinie 36"},{"$f":"IF(A253<=Daten!$B$8,LOOKUP(B253,Daten!$A$16:$A$65,Daten!$C$16:$C$65),\"\")","v":"Lang[36,1]"},{"$f":"IF($A253<=Daten!$B$8,LOOKUP($B253,Daten!$A$16:$A$65,Daten!$P$16:$P$65),\"\") & \" \" & IF($A253<=Daten!$B$8,LOOKUP($B253,Daten!$A$16:$A$65,Daten!$Q$16:$Q$65),\"\")","v":"36,1 Inhalt1Einh[36,1]"},{"$f":"IF($A253<=Daten!$B$8,LOOKUP($B253,Daten!$A$67:$A$116,Daten!$C$67:$C$116),\"\")","v":"Lang[36,2]"},{"$f":"IF($A253<=Daten!$B$8,LOOKUP($B253,Daten!$A$67:$A$116,Daten!$P$67:$P$116),\"\") & \" \" & IF($A253<=Daten!$B$8,LOOKUP($B253,Daten!$A$67:$A$116,Daten!$Q$67:$Q$116),\"\")","v":"36,2 Inhalt1Einh[36,2]"},{"$f":"IF($A253<=Daten!$B$8,LOOKUP($B253,Daten!$A$118:$A$167,Daten!$C$118:$C$167),\"\")","v":"Lang[36,3]"},{"$f":"IF($A253<=Daten!$B$8,LOOKUP($B253,Daten!$A$118:$A$167,Daten!$P$118:$P$167),\"\") & \" \" & IF($A253<=Daten!$B$8,LOOKUP($B253,Daten!$A$118:$A$167,Daten!$Q$118:$Q$167),\"\")","v":"36,3 Inhalt1Einh[36,3]"},{"$f":"IF($A253<=Daten!$B$8,LOOKUP($B253,Daten!$A$169:$A$218,Daten!$C$169:$C$218),\"\")","v":"Lang[36,4]"},{"$f":"IF($A253<=Daten!$B$8,LOOKUP($B253,Daten!$A$169:$A$218,Daten!$P$169:$P$218),\"\") & \" \" & IF($A253<=Daten!$B$8,LOOKUP($B253,Daten!$A$169:$A$218,Daten!$Q$169:$Q$218),\"\")","v":"36,4 Inhalt1Einh[36,4]"},{"$f":"IF($A253<=Daten!$B$8,LOOKUP($B253,Daten!$A$220:$A$269,Daten!$C$220:$C$269),\"\")","v":"Lang[36,5]"},{"$f":"IF($A253<=Daten!$B$8,LOOKUP($B253,Daten!$A$220:$A$269,Daten!$P$220:$P$269),\"\") & \" \" & IF($A253<=Daten!$B$8,LOOKUP($B253,Daten!$A$220:$A$269,Daten!$Q$220:$Q$269),\"\")","v":"36,5 Inhalt1Einh[36,5]"},{"$f":"IF($A253<=Daten!$B$8,LOOKUP($B253,Daten!$A$271:$A$320,Daten!$C$271:$C$320),\"\")","v":"Lang[36,6]"},{"$f":"IF($A253<=Daten!$B$8,LOOKUP($B253,Daten!$A$271:$A$320,Daten!$P$271:$P$320),\"\") & \" \" & IF($A253<=Daten!$B$8,LOOKUP($B253,Daten!$A$271:$A$320,Daten!$Q$271:$Q$320),\"\")","v":"36,6 Inhalt1Einh[36,6]"},{"$f":"IF($A253<=Daten!$B$8,LOOKUP($B253,Daten!$A$322:$A$371,Daten!$B$322:$C$371),\"\")","v":{"$error":"#N/A"}},{"$f":"IF($A253<=Daten!$B$8,LOOKUP($B253,Daten!$A$322:$A$371,Daten!$P$322:$P$371),\"\") & \" \" & IF($A253<=Daten!$B$8,LOOKUP($B253,Daten!$A$322:$A$371,Daten!$Q$322:$Q$371),\"\")","v":"36,7 Inhalt1Einh[36,7]"}]
[null,null,null,{"$f":"IF($A253<=Daten!$B$8,LOOKUP($B253,Daten!$A$16:$A$65,Daten!$R$16:$R$65),\"\") & \" \" & IF($A253<=Daten!$B$8,LOOKUP($B253,Daten!$A$16:$A$65,Daten!$S$16:$S$65),\"\")","v":"36,1 Inhalt2Einh[36,1]"},null,{"$f":"IF($A253<=Daten!$B$8,LOOKUP($B253,Daten!$A$67:$A$116,Daten!$R$67:$R$116),\"\") & \" \" & IF($A253<=Daten!$B$8,LOOKUP($B253,Daten!$A$67:$A$116,Daten!$S$67:$S$116),\"\")","v":"36,2 Inhalt2Einh[36,2]"},null,{"$f":"IF($A253<=Daten!$B$8,LOOKUP($B253,Daten!$A$118:$A$167,Daten!$R$118:$R$167),\"\") & \" \" & IF($A253<=Daten!$B$8,LOOKUP($B253,Daten!$A$118:$A$167,Daten!$S$118:$S$167),\"\")","v":"36,3 Inhalt2Einh[36,3]"},null,{"$f":"IF($A253<=Daten!$B$8,LOOKUP($B253,Daten!$A$169:$A$218,Daten!$R$169:$R$218),\"\") & \" \" & IF($A253<=Daten!$B$8,LOOKUP($B253,Daten!$A$169:$A$218,Daten!$S$169:$S$218),\"\")","v":"36,4 Inhalt2Einh[36,4]"},null,{"$f":"IF($A253<=Daten!$B$8,LOOKUP($B253,Daten!$A$220:$A$269,Daten!$R$220:$R$269),\"\") & \" \" & IF($A253<=Daten!$B$8,LOOKUP($B253,Daten!$A$220:$A$269,Daten!$S$220:$S$269),\"\")","v":"36,5 Inhalt2Einh[36,5]"},null,{"$f":"IF($A253<=Daten!$B$8,LOOKUP($B253,Daten!$A$271:$A$320,Daten!$R$271:$R$320),\"\") & \" \" & IF($A253<=Daten!$B$8,LOOKUP($B253,Daten!$A$271:$A$320,Daten!$S$271:$S$320),\"\")","v":"36,6 Inhalt2Einh[36,6]"},null,{"$f":"IF($A253<=Daten!$B$8,LOOKUP($B253,Daten!$A$322:$A$371,Daten!$R$322:$R$371),\"\") & \" \" & IF($A253<=Daten!$B$8,LOOKUP($B253,Daten!$A$322:$A$371,Daten!$S$322:$S$371),\"\")","v":"36,7 Inhalt2Einh[36,7]"}]
[null,null,null,{"$f":"IF($A253<=Daten!$B$8,LOOKUP($B253,Daten!$A$16:$A$65,Daten!$T$16:$T$65),\"\") & \" \" & IF($A253<=Daten!$B$8,LOOKUP($B253,Daten!$A$16:$A$65,Daten!$U$16:$U$65),\"\")","v":"36,1 Inhalt3Einh[36,1]"},null,{"$f":"IF($A253<=Daten!$B$8,LOOKUP($B253,Daten!$A$67:$A$116,Daten!$T$67:$T$116),\"\") & \" \" & IF($A253<=Daten!$B$8,LOOKUP($B253,Daten!$A$67:$A$116,Daten!$U$67:$U$116),\"\")","v":"36,2 Inhalt3Einh[36,2]"},null,{"$f":"IF($A253<=Daten!$B$8,LOOKUP($B253,Daten!$A$118:$A$167,Daten!$T$118:$T$167),\"\") & \" \" & IF($A253<=Daten!$B$8,LOOKUP($B253,Daten!$A$118:$A$167,Daten!$U$118:$U$167),\"\")","v":"36,3 Inhalt3Einh[36,3]"},null,{"$f":"IF($A253<=Daten!$B$8,LOOKUP($B253,Daten!$A$169:$A$218,Daten!$T$169:$T$218),\"\") & \" \" & IF($A253<=Daten!$B$8,LOOKUP($B253,Daten!$A$169:$A$218,Daten!$U$169:$U$218),\"\")","v":"36,4 Inhalt3Einh[36,4]"},null,{"$f":"IF($A253<=Daten!$B$8,LOOKUP($B253,Daten!$A$220:$A$269,Daten!$T$220:$T$269),\"\") & \" \" & IF($A253<=Daten!$B$8,LOOKUP($B253,Daten!$A$220:$A$269,Daten!$U$220:$U$269),\"\")","v":"36,5 Inhalt3Einh[36,5]"},null,{"$f":"IF($A253<=Daten!$B$8,LOOKUP($B253,Daten!$A$271:$A$320,Daten!$T$271:$T$320),\"\") & \" \" & IF($A253<=Daten!$B$8,LOOKUP($B253,Daten!$A$271:$A$320,Daten!$U$271:$U$320),\"\")","v":"36,6 Inhalt3Einh[36,6]"},null,{"$f":"IF($A253<=Daten!$B$8,LOOKUP($B253,Daten!$A$322:$A$371,Daten!$T$322:$T$371),\"\") & \" \" & IF($A253<=Daten!$B$8,LOOKUP($B253,Daten!$A$322:$A$371,Daten!$U$322:$U$371),\"\")","v":"36,7 Inhalt3Einh[36,7]"}]
[null,null,null,{"$f":"IF($A253<=Daten!$B$8,LOOKUP($B253,Daten!$A$16:$A$65,Daten!$V$16:$V$65),\"\") & \" \" & IF($A253<=Daten!$B$8,LOOKUP($B253,Daten!$A$16:$A$65,Daten!$W$16:$W$65),\"\")","v":"36,1 Inhalt4Einh[36,1]"},null,{"$f":"IF($A253<=Daten!$B$8,LOOKUP($B253,Daten!$A$67:$A$116,Daten!$V$67:$V$116),\"\") & \" \" & IF($A253<=Daten!$B$8,LOOKUP($B253,Daten!$A$67:$A$116,Daten!$W$67:$W$116),\"\")","v":"36,2 Inhalt4Einh[36,2]"},null,{"$f":"IF($A253<=Daten!$B$8,LOOKUP($B253,Daten!$A$118:$A$167,Daten!$V$118:$V$167),\"\") & \" \" & IF($A253<=Daten!$B$8,LOOKUP($B253,Daten!$A$118:$A$167,Daten!$W$118:$W$167),\"\")","v":"36,3 Inhalt4Einh[36,3]"},null,{"$f":"IF($A253<=Daten!$B$8,LOOKUP($B253,Daten!$A$169:$A$218,Daten!$V$169:$V$218),\"\") & \" \" & IF($A253<=Daten!$B$8,LOOKUP($B253,Daten!$A$169:$A$218,Daten!$W$169:$W$218),\"\")","v":"36,4 Inhalt4Einh[36,4]"},null,{"$f":"IF($A253<=Daten!$B$8,LOOKUP($B253,Daten!$A$220:$A$269,Daten!$V$220:$V$269),\"\") & \" \" & IF($A253<=Daten!$B$8,LOOKUP($B253,Daten!$A$220:$A$269,Daten!$W$220:$W$269),\"\")","v":"36,5 Inhalt4Einh[36,5]"},null,{"$f":"IF($A253<=Daten!$B$8,LOOKUP($B253,Daten!$A$271:$A$320,Daten!$V$271:$V$320),\"\") & \" \" & IF($A253<=Daten!$B$8,LOOKUP($B253,Daten!$A$271:$A$320,Daten!$W$271:$W$320),\"\")","v":"36,6 Inhalt4Einh[36,6]"},null,{"$f":"IF($A253<=Daten!$B$8,LOOKUP($B253,Daten!$A$322:$A$371,Daten!$V$322:$V$371),\"\") & \" \" & IF($A253<=Daten!$B$8,LOOKUP($B253,Daten!$A$322:$A$371,Daten!$W$322:$W$371),\"\")","v":"36,7 Inhalt4Einh[36,7]"}]
[null,null,null,{"$f":"IF($A253<=Daten!$B$8,LOOKUP($B253,Daten!$A$16:$A$65,Daten!$X$16:$X$65),\"\") & \" \" & IF($A253<=Daten!$B$8,LOOKUP($B253,Daten!$A$16:$A$65,Daten!$Y$16:$Y$65),\"\")","v":"36,1 Inhalt5Einh[36,1]"},null,{"$f":"IF($A253<=Daten!$B$8,LOOKUP($B253,Daten!$A$67:$A$116,Daten!$X$67:$X$116),\"\") & \" \" & IF($A253<=Daten!$B$8,LOOKUP($B253,Daten!$A$67:$A$116,Daten!$Y$67:$Y$116),\"\")","v":"36,2 Inhalt5Einh[36,2]"},null,{"$f":"IF($A253<=Daten!$B$8,LOOKUP($B253,Daten!$A$118:$A$167,Daten!$X$118:$X$167),\"\") & \" \" & IF($A253<=Daten!$B$8,LOOKUP($B253,Daten!$A$118:$A$167,Daten!$Y$118:$Y$167),\"\")","v":"36,3 Inhalt5Einh[36,3]"},null,{"$f":"IF($A253<=Daten!$B$8,LOOKUP($B253,Daten!$A$169:$A$218,Daten!$X$169:$X$218),\"\") & \" \" & IF($A253<=Daten!$B$8,LOOKUP($B253,Daten!$A$169:$A$218,Daten!$Y$169:$Y$218),\"\")","v":"36,4 Inhalt5Einh[36,4]"},null,{"$f":"IF($A253<=Daten!$B$8,LOOKUP($B253,Daten!$A$220:$A$269,Daten!$X$220:$X$269),\"\") & \" \" & IF($A253<=Daten!$B$8,LOOKUP($B253,Daten!$A$220:$A$269,Daten!$Y$220:$Y$269),\"\")","v":"36,5 Inhalt5Einh[36,5]"},null,{"$f":"IF($A253<=Daten!$B$8,LOOKUP($B253,Daten!$A$271:$A$320,Daten!$X$271:$X$320),\"\") & \" \" & IF($A253<=Daten!$B$8,LOOKUP($B253,Daten!$A$271:$A$320,Daten!$Y$271:$Y$320),\"\")","v":"36,6 Inhalt5Einh[36,6]"},null,{"$f":"IF($A253<=Daten!$B$8,LOOKUP($B253,Daten!$A$322:$A$371,Daten!$X$322:$X$371),\"\") & \" \" & IF($A253<=Daten!$B$8,LOOKUP($B253,Daten!$A$322:$A$371,Daten!$Y$322:$Y$371),\"\")","v":"36,7 Inhalt5Einh[36,7]"}]
[null,null,null,{"$f":"IF($A253<=Daten!$B$8,LOOKUP($B253,Daten!$A$16:$A$65,Daten!$Z$16:$Z$65),\"\") & \" \" & IF($A253<=Daten!$B$8,LOOKUP($B253,Daten!$A$16:$A$65,Daten!$AA$16:$AA$65),\"\")","v":"36,1 Inhalt6Einh[36,1]"},null,{"$f":"IF($A253<=Daten!$B$8,LOOKUP($B253,Daten!$A$67:$A$116,Daten!$Z$67:$Z$116),\"\") & \" \" & IF($A253<=Daten!$B$8,LOOKUP($B253,Daten!$A$67:$A$116,Daten!$AA$67:$AA$116),\"\")","v":"36,2 Inhalt6Einh[36,2]"},null,{"$f":"IF($A253<=Daten!$B$8,LOOKUP($B253,Daten!$A$118:$A$167,Daten!$Z$118:$Z$167),\"\") & \" \" & IF($A253<=Daten!$B$8,LOOKUP($B253,Daten!$A$118:$A$167,Daten!$AA$118:$AA$167),\"\")","v":"36,3 Inhalt6Einh[36,3]"},null,{"$f":"IF($A253<=Daten!$B$8,LOOKUP($B253,Daten!$A$169:$A$218,Daten!$Z$169:$Z$218),\"\") & \" \" & IF($A253<=Daten!$B$8,LOOKUP($B253,Daten!$A$169:$A$218,Daten!$AA$169:$AA$218),\"\")","v":"36,4 Inhalt6Einh[36,4]"},null,{"$f":"IF($A253<=Daten!$B$8,LOOKUP($B253,Daten!$A$220:$A$269,Daten!$Z$220:$Z$269),\"\") & \" \" & IF($A253<=Daten!$B$8,LOOKUP($B253,Daten!$A$220:$A$269,Daten!$AA$220:$AA$269),\"\")","v":"36,5 Inhalt6Einh[36,5]"},null,{"$f":"IF($A253<=Daten!$B$8,LOOKUP($B253,Daten!$A$271:$A$320,Daten!$Z$271:$Z$320),\"\") & \" \" & IF($A253<=Daten!$B$8,LOOKUP($B253,Daten!$A$271:$A$320,Daten!$AA$271:$AA$320),\"\")","v":"36,6 Inhalt6Einh[36,6]"},null,{"$f":"IF($A253<=Daten!$B$8,LOOKUP($B253,Daten!$A$322:$A$371,Daten!$Z$322:$Z$371),\"\") & \" \" & IF($A253<=Daten!$B$8,LOOKUP($B253,Daten!$A$322:$A$371,Daten!$AA$322:$AA$371),\"\")","v":"36,7 Inhalt6Einh[36,7]"}]
[null,{"$f":"IF(A253<=Daten!$B$8,\"Zusatzstoffe\",\"\")","v":"Zusatzstoffe"},{"$f":"IF($A253<=Daten!$B$8,LOOKUP($B253,Daten!$A$16:$A$65,Daten!$L$16:$L$65),\"\")","v":36.1},{"$f":"IF($A253<=Daten!$B$8,LOOKUP($B253,Daten!$A$16:$A$65,Daten!$E$16:$E$65),\"\")","v":216.1},{"$f":"IF($A253<=Daten!$B$8,LOOKUP($B253,Daten!$A$67:$A$116,Daten!$L$67:$L$116),\"\")","v":36.200000000000003},{"$f":"IF($A253<=Daten!$B$8,LOOKUP($B253,Daten!$A$16:$A$65,Daten!$E$67:$E$116),\"\")","v":0},{"$f":"IF($A253<=Daten!$B$8,LOOKUP($B253,Daten!$A$118:$A$167,Daten!$L$118:$L$167),\"\")","v":36.299999999999997},{"$f":"IF($A253<=Daten!$B$8,LOOKUP($B253,Daten!$A$118:$A$167,Daten!$E$118:$E$167),\"\")","v":0},{"$f":"IF($A253<=Daten!$B$8,LOOKUP($B253,Daten!$A$169:$A$218,Daten!$L$169:$L$218),\"\")","v":36.4},{"$f":"IF($A253<=Daten!$B$8,LOOKUP($B253,Daten!$A$169:$A$218,Daten!$E$169:$E$218),\"\")","v":0},{"$f":"IF($A253<=Daten!$B$8,LOOKUP($B253,Daten!$A$220:$A$269,Daten!$L$220:$L$269),\"\")","v":36.5},{"$f":"IF($A253<=Daten!$B$8,LOOKUP($B253,Daten!$A$220:$A$269,Daten!$E$220:$E$269),\"\")","v":0},{"$f":"IF($A253<=Daten!$B$8,LOOKUP($B253,Daten!$A$271:$A$320,Daten!$L$271:$L$320),\"\")","v":36.6},{"$f":"IF($A253<=Daten!$B$8,LOOKUP($B253,Daten!$A$271:$A$320,Daten!$E$271:$E$320),\"\")","v":0},{"$f":"IF($A253<=Daten!$B$8,LOOKUP($B253,Daten!$A$322:$A$371,Daten!$L$322:$L$371),\"\")","v":36.700000000000003},{"$f":"IF($A253<=Daten!$B$8,LOOKUP($B253,Daten!$A$322:$A$371,Daten!$E$322:$E$371),\"\")","v":0}]
[37,{"$f":"IF(A260<=Daten!$B$8,Daten!AL9,\"\")","v":"Menülinie 37"},{"$f":"IF(A260<=Daten!$B$8,LOOKUP(B260,Daten!$A$16:$A$65,Daten!$C$16:$C$65),\"\")","v":"Lang[37,1]"},{"$f":"IF($A260<=Daten!$B$8,LOOKUP($B260,Daten!$A$16:$A$65,Daten!$P$16:$P$65),\"\") & \" \" & IF($A260<=Daten!$B$8,LOOKUP($B260,Daten!$A$16:$A$65,Daten!$Q$16:$Q$65),\"\")","v":"37,1 Inhalt1Einh[37,1]"},{"$f":"IF($A260<=Daten!$B$8,LOOKUP($B260,Daten!$A$67:$A$116,Daten!$C$67:$C$116),\"\")","v":"Lang[37,2]"},{"$f":"IF($A260<=Daten!$B$8,LOOKUP($B260,Daten!$A$67:$A$116,Daten!$P$67:$P$116),\"\") & \" \" & IF($A260<=Daten!$B$8,LOOKUP($B260,Daten!$A$67:$A$116,Daten!$Q$67:$Q$116),\"\")","v":"37,2 Inhalt1Einh[37,2]"},{"$f":"IF($A260<=Daten!$B$8,LOOKUP($B260,Daten!$A$118:$A$167,Daten!$C$118:$C$167),\"\")","v":"Lang[37,3]"},{"$f":"IF($A260<=Daten!$B$8,LOOKUP($B260,Daten!$A$118:$A$167,Daten!$P$118:$P$167),\"\") & \" \" & IF($A260<=Daten!$B$8,LOOKUP($B260,Daten!$A$118:$A$167,Daten!$Q$118:$Q$167),\"\")","v":"37,3 Inhalt1Einh[37,3]"},{"$f":"IF($A260<=Daten!$B$8,LOOKUP($B260,Daten!$A$169:$A$218,Daten!$C$169:$C$218),\"\")","v":"Lang[37,4]"},{"$f":"IF($A260<=Daten!$B$8,LOOKUP($B260,Daten!$A$169:$A$218,Daten!$P$169:$P$218),\"\") & \" \" & IF($A260<=Daten!$B$8,LOOKUP($B260,Daten!$A$169:$A$218,Daten!$Q$169:$Q$218),\"\")","v":"37,4 Inhalt1Einh[37,4]"},{"$f":"IF($A260<=Daten!$B$8,LOOKUP($B260,Daten!$A$220:$A$269,Daten!$C$220:$C$269),\"\")","v":"Lang[37,5]"},{"$f":"IF($A260<=Daten!$B$8,LOOKUP($B260,Daten!$A$220:$A$269,Daten!$P$220:$P$269),\"\") & \" \" & IF($A260<=Daten!$B$8,LOOKUP($B260,Daten!$A$220:$A$269,Daten!$Q$220:$Q$269),\"\")","v":"37,5 Inhalt1Einh[37,5]"},{"$f":"IF($A260<=Daten!$B$8,LOOKUP($B260,Daten!$A$271:$A$320,Daten!$C$271:$C$320),\"\")","v":"Lang[37,6]"},{"$f":"IF($A260<=Daten!$B$8,LOOKUP($B260,Daten!$A$271:$A$320,Daten!$P$271:$P$320),\"\") & \" \" & IF($A260<=Daten!$B$8,LOOKUP($B260,Daten!$A$271:$A$320,Daten!$Q$271:$Q$320),\"\")","v":"37,6 Inhalt1Einh[37,6]"},{"$f":"IF($A260<=Daten!$B$8,LOOKUP($B260,Daten!$A$322:$A$371,Daten!$B$322:$C$371),\"\")","v":{"$error":"#N/A"}},{"$f":"IF($A260<=Daten!$B$8,LOOKUP($B260,Daten!$A$322:$A$371,Daten!$P$322:$P$371),\"\") & \" \" & IF($A260<=Daten!$B$8,LOOKUP($B260,Daten!$A$322:$A$371,Daten!$Q$322:$Q$371),\"\")","v":"37,7 Inhalt1Einh[37,7]"}]
[null,null,null,{"$f":"IF($A260<=Daten!$B$8,LOOKUP($B260,Daten!$A$16:$A$65,Daten!$R$16:$R$65),\"\") & \" \" & IF($A260<=Daten!$B$8,LOOKUP($B260,Daten!$A$16:$A$65,Daten!$S$16:$S$65),\"\")","v":"37,1 Inhalt2Einh[37,1]"},null,{"$f":"IF($A260<=Daten!$B$8,LOOKUP($B260,Daten!$A$67:$A$116,Daten!$R$67:$R$116),\"\") & \" \" & IF($A260<=Daten!$B$8,LOOKUP($B260,Daten!$A$67:$A$116,Daten!$S$67:$S$116),\"\")","v":"37,2 Inhalt2Einh[37,2]"},null,{"$f":"IF($A260<=Daten!$B$8,LOOKUP($B260,Daten!$A$118:$A$167,Daten!$R$118:$R$167),\"\") & \" \" & IF($A260<=Daten!$B$8,LOOKUP($B260,Daten!$A$118:$A$167,Daten!$S$118:$S$167),\"\")","v":"37,3 Inhalt2Einh[37,3]"},null,{"$f":"IF($A260<=Daten!$B$8,LOOKUP($B260,Daten!$A$169:$A$218,Daten!$R$169:$R$218),\"\") & \" \" & IF($A260<=Daten!$B$8,LOOKUP($B260,Daten!$A$169:$A$218,Daten!$S$169:$S$218),\"\")","v":"37,4 Inhalt2Einh[37,4]"},null,{"$f":"IF($A260<=Daten!$B$8,LOOKUP($B260,Daten!$A$220:$A$269,Daten!$R$220:$R$269),\"\") & \" \" & IF($A260<=Daten!$B$8,LOOKUP($B260,Daten!$A$220:$A$269,Daten!$S$220:$S$269),\"\")","v":"37,5 Inhalt2Einh[37,5]"},null,{"$f":"IF($A260<=Daten!$B$8,LOOKUP($B260,Daten!$A$271:$A$320,Daten!$R$271:$R$320),\"\") & \" \" & IF($A260<=Daten!$B$8,LOOKUP($B260,Daten!$A$271:$A$320,Daten!$S$271:$S$320),\"\")","v":"37,6 Inhalt2Einh[37,6]"},null,{"$f":"IF($A260<=Daten!$B$8,LOOKUP($B260,Daten!$A$322:$A$371,Daten!$R$322:$R$371),\"\") & \" \" & IF($A260<=Daten!$B$8,LOOKUP($B260,Daten!$A$322:$A$371,Daten!$S$322:$S$371),\"\")","v":"37,7 Inhalt2Einh[37,7]"}]
[null,null,null,{"$f":"IF($A260<=Daten!$B$8,LOOKUP($B260,Daten!$A$16:$A$65,Daten!$T$16:$T$65),\"\") & \" \" & IF($A260<=Daten!$B$8,LOOKUP($B260,Daten!$A$16:$A$65,Daten!$U$16:$U$65),\"\")","v":"37,1 Inhalt3Einh[37,1]"},null,{"$f":"IF($A260<=Daten!$B$8,LOOKUP($B260,Daten!$A$67:$A$116,Daten!$T$67:$T$116),\"\") & \" \" & IF($A260<=Daten!$B$8,LOOKUP($B260,Daten!$A$67:$A$116,Daten!$U$67:$U$116),\"\")","v":"37,2 Inhalt3Einh[37,2]"},null,{"$f":"IF($A260<=Daten!$B$8,LOOKUP($B260,Daten!$A$118:$A$167,Daten!$T$118:$T$167),\"\") & \" \" & IF($A260<=Daten!$B$8,LOOKUP($B260,Daten!$A$118:$A$167,Daten!$U$118:$U$167),\"\")","v":"37,3 Inhalt3Einh[37,3]"},null,{"$f":"IF($A260<=Daten!$B$8,LOOKUP($B260,Daten!$A$169:$A$218,Daten!$T$169:$T$218),\"\") & \" \" & IF($A260<=Daten!$B$8,LOOKUP($B260,Daten!$A$169:$A$218,Daten!$U$169:$U$218),\"\")","v":"37,4 Inhalt3Einh[37,4]"},null,{"$f":"IF($A260<=Daten!$B$8,LOOKUP($B260,Daten!$A$220:$A$269,Daten!$T$220:$T$269),\"\") & \" \" & IF($A260<=Daten!$B$8,LOOKUP($B260,Daten!$A$220:$A$269,Daten!$U$220:$U$269),\"\")","v":"37,5 Inhalt3Einh[37,5]"},null,{"$f":"IF($A260<=Daten!$B$8,LOOKUP($B260,Daten!$A$271:$A$320,Daten!$T$271:$T$320),\"\") & \" \" & IF($A260<=Daten!$B$8,LOOKUP($B260,Daten!$A$271:$A$320,Daten!$U$271:$U$320),\"\")","v":"37,6 Inhalt3Einh[37,6]"},null,{"$f":"IF($A260<=Daten!$B$8,LOOKUP($B260,Daten!$A$322:$A$371,Daten!$T$322:$T$371),\"\") & \" \" & IF($A260<=Daten!$B$8,LOOKUP($B260,Daten!$A$322:$A$371,Daten!$U$322:$U$371),\"\")","v":"37,7 Inhalt3Einh[37,7]"}]
[null,null,null,{"$f":"IF($A260<=Daten!$B$8,LOOKUP($B260,Daten!$A$16:$A$65,Daten!$V$16:$V$65),\"\") & \" \" & IF($A260<=Daten!$B$8,LOOKUP($B260,Daten!$A$16:$A$65,Daten!$W$16:$W$65),\"\")","v":"37,1 Inhalt4Einh[37,1]"},null,{"$f":"IF($A260<=Daten!$B$8,LOOKUP($B260,Daten!$A$67:$A$116,Daten!$V$67:$V$116),\"\") & \" \" & IF($A260<=Daten!$B$8,LOOKUP($B260,Daten!$A$67:$A$116,Daten!$W$67:$W$116),\"\")","v":"37,2 Inhalt4Einh[37,2]"},null,{"$f":"IF($A260<=Daten!$B$8,LOOKUP($B260,Daten!$A$118:$A$167,Daten!$V$118:$V$167),\"\") & \" \" & IF($A260<=Daten!$B$8,LOOKUP($B260,Daten!$A$118:$A$167,Daten!$W$118:$W$167),\"\")","v":"37,3 Inhalt4Einh[37,3]"},null,{"$f":"IF($A260<=Daten!$B$8,LOOKUP($B260,Daten!$A$169:$A$218,Daten!$V$169:$V$218),\"\") & \" \" & IF($A260<=Daten!$B$8,LOOKUP($B260,Daten!$A$169:$A$218,Daten!$W$169:$W$218),\"\")","v":"37,4 Inhalt4Einh[37,4]"},null,{"$f":"IF($A260<=Daten!$B$8,LOOKUP($B260,Daten!$A$220:$A$269,Daten!$V$220:$V$269),\"\") & \" \" & IF($A260<=Daten!$B$8,LOOKUP($B260,Daten!$A$220:$A$269,Daten!$W$220:$W$269),\"\")","v":"37,5 Inhalt4Einh[37,5]"},null,{"$f":"IF($A260<=Daten!$B$8,LOOKUP($B260,Daten!$A$271:$A$320,Daten!$V$271:$V$320),\"\") & \" \" & IF($A260<=Daten!$B$8,LOOKUP($B260,Daten!$A$271:$A$320,Daten!$W$271:$W$320),\"\")","v":"37,6 Inhalt4Einh[37,6]"},null,{"$f":"IF($A260<=Daten!$B$8,LOOKUP($B260,Daten!$A$322:$A$371,Daten!$V$322:$V$371),\"\") & \" \" & IF($A260<=Daten!$B$8,LOOKUP($B260,Daten!$A$322:$A$371,Daten!$W$322:$W$371),\"\")","v":"37,7 Inhalt4Einh[37,7]"}]
[null,null,null,{"$f":"IF($A260<=Daten!$B$8,LOOKUP($B260,Daten!$A$16:$A$65,Daten!$X$16:$X$65),\"\") & \" \" & IF($A260<=Daten!$B$8,LOOKUP($B260,Daten!$A$16:$A$65,Daten!$Y$16:$Y$65),\"\")","v":"37,1 Inhalt5Einh[37,1]"},null,{"$f":"IF($A260<=Daten!$B$8,LOOKUP($B260,Daten!$A$67:$A$116,Daten!$X$67:$X$116),\"\") & \" \" & IF($A260<=Daten!$B$8,LOOKUP($B260,Daten!$A$67:$A$116,Daten!$Y$67:$Y$116),\"\")","v":"37,2 Inhalt5Einh[37,2]"},null,{"$f":"IF($A260<=Daten!$B$8,LOOKUP($B260,Daten!$A$118:$A$167,Daten!$X$118:$X$167),\"\") & \" \" & IF($A260<=Daten!$B$8,LOOKUP($B260,Daten!$A$118:$A$167,Daten!$Y$118:$Y$167),\"\")","v":"37,3 Inhalt5Einh[37,3]"},null,{"$f":"IF($A260<=Daten!$B$8,LOOKUP($B260,Daten!$A$169:$A$218,Daten!$X$169:$X$218),\"\") & \" \" & IF($A260<=Daten!$B$8,LOOKUP($B260,Daten!$A$169:$A$218,Daten!$Y$169:$Y$218),\"\")","v":"37,4 Inhalt5Einh[37,4]"},null,{"$f":"IF($A260<=Daten!$B$8,LOOKUP($B260,Daten!$A$220:$A$269,Daten!$X$220:$X$269),\"\") & \" \" & IF($A260<=Daten!$B$8,LOOKUP($B260,Daten!$A$220:$A$269,Daten!$Y$220:$Y$269),\"\")","v":"37,5 Inhalt5Einh[37,5]"},null,{"$f":"IF($A260<=Daten!$B$8,LOOKUP($B260,Daten!$A$271:$A$320,Daten!$X$271:$X$320),\"\") & \" \" & IF($A260<=Daten!$B$8,LOOKUP($B260,Daten!$A$271:$A$320,Daten!$Y$271:$Y$320),\"\")","v":"37,6 Inhalt5Einh[37,6]"},null,{"$f":"IF($A260<=Daten!$B$8,LOOKUP($B260,Daten!$A$322:$A$371,Daten!$X$322:$X$371),\"\") & \" \" & IF($A260<=Daten!$B$8,LOOKUP($B260,Daten!$A$322:$A$371,Daten!$Y$322:$Y$371),\"\")","v":"37,7 Inhalt5Einh[37,7]"}]
[null,null,null,{"$f":"IF($A260<=Daten!$B$8,LOOKUP($B260,Daten!$A$16:$A$65,Daten!$Z$16:$Z$65),\"\") & \" \" & IF($A260<=Daten!$B$8,LOOKUP($B260,Daten!$A$16:$A$65,Daten!$AA$16:$AA$65),\"\")","v":"37,1 Inhalt6Einh[37,1]"},null,{"$f":"IF($A260<=Daten!$B$8,LOOKUP($B260,Daten!$A$67:$A$116,Daten!$Z$67:$Z$116),\"\") & \" \" & IF($A260<=Daten!$B$8,LOOKUP($B260,Daten!$A$67:$A$116,Daten!$AA$67:$AA$116),\"\")","v":"37,2 Inhalt6Einh[37,2]"},null,{"$f":"IF($A260<=Daten!$B$8,LOOKUP($B260,Daten!$A$118:$A$167,Daten!$Z$118:$Z$167),\"\") & \" \" & IF($A260<=Daten!$B$8,LOOKUP($B260,Daten!$A$118:$A$167,Daten!$AA$118:$AA$167),\"\")","v":"37,3 Inhalt6Einh[37,3]"},null,{"$f":"IF($A260<=Daten!$B$8,LOOKUP($B260,Daten!$A$169:$A$218,Daten!$Z$169:$Z$218),\"\") & \" \" & IF($A260<=Daten!$B$8,LOOKUP($B260,Daten!$A$169:$A$218,Daten!$AA$169:$AA$218),\"\")","v":"37,4 Inhalt6Einh[37,4]"},null,{"$f":"IF($A260<=Daten!$B$8,LOOKUP($B260,Daten!$A$220:$A$269,Daten!$Z$220:$Z$269),\"\") & \" \" & IF($A260<=Daten!$B$8,LOOKUP($B260,Daten!$A$220:$A$269,Daten!$AA$220:$AA$269),\"\")","v":"37,5 Inhalt6Einh[37,5]"},null,{"$f":"IF($A260<=Daten!$B$8,LOOKUP($B260,Daten!$A$271:$A$320,Daten!$Z$271:$Z$320),\"\") & \" \" & IF($A260<=Daten!$B$8,LOOKUP($B260,Daten!$A$271:$A$320,Daten!$AA$271:$AA$320),\"\")","v":"37,6 Inhalt6Einh[37,6]"},null,{"$f":"IF($A260<=Daten!$B$8,LOOKUP($B260,Daten!$A$322:$A$371,Daten!$Z$322:$Z$371),\"\") & \" \" & IF($A260<=Daten!$B$8,LOOKUP($B260,Daten!$A$322:$A$371,Daten!$AA$322:$AA$371),\"\")","v":"37,7 Inhalt6Einh[37,7]"}]
[null,{"$f":"IF(A260<=Daten!$B$8,\"Zusatzstoffe\",\"\")","v":"Zusatzstoffe"},{"$f":"IF($A260<=Daten!$B$8,LOOKUP($B260,Daten!$A$16:$A$65,Daten!$L$16:$L$65),\"\")","v":37.1},{"$f":"IF($A260<=Daten!$B$8,LOOKUP($B260,Daten!$A$16:$A$65,Daten!$E$16:$E$65),\"\")","v":217.1},{"$f":"IF($A260<=Daten!$B$8,LOOKUP($B260,Daten!$A$67:$A$116,Daten!$L$67:$L$116),\"\")","v":37.200000000000003},{"$f":"IF($A260<=Daten!$B$8,LOOKUP($B260,Daten!$A$16:$A$65,Daten!$E$67:$E$116),\"\")","v":0},{"$f":"IF($A260<=Daten!$B$8,LOOKUP($B260,Daten!$A$118:$A$167,Daten!$L$118:$L$167),\"\")","v":37.299999999999997},{"$f":"IF($A260<=Daten!$B$8,LOOKUP($B260,Daten!$A$118:$A$167,Daten!$E$118:$E$167),\"\")","v":0},{"$f":"IF($A260<=Daten!$B$8,LOOKUP($B260,Daten!$A$169:$A$218,Daten!$L$169:$L$218),\"\")","v":37.4},{"$f":"IF($A260<=Daten!$B$8,LOOKUP($B260,Daten!$A$169:$A$218,Daten!$E$169:$E$218),\"\")","v":0},{"$f":"IF($A260<=Daten!$B$8,LOOKUP($B260,Daten!$A$220:$A$269,Daten!$L$220:$L$269),\"\")","v":37.5},{"$f":"IF($A260<=Daten!$B$8,LOOKUP($B260,Daten!$A$220:$A$269,Daten!$E$220:$E$269),\"\")","v":0},{"$f":"IF($A260<=Daten!$B$8,LOOKUP($B260,Daten!$A$271:$A$320,Daten!$L$271:$L$320),\"\")","v":37.6},{"$f":"IF($A260<=Daten!$B$8,LOOKUP($B260,Daten!$A$271:$A$320,Daten!$E$271:$E$320),\"\")","v":0},{"$f":"IF($A260<=Daten!$B$8,LOOKUP($B260,Daten!$A$322:$A$371,Daten!$L$322:$L$371),\"\")","v":37.700000000000003},{"$f":"IF($A260<=Daten!$B$8,LOOKUP($B260,Daten!$A$322:$A$371,Daten!$E$322:$E$371),\"\")","v":0}]
[38,{"$f":"IF(A267<=Daten!$B$8,Daten!AM9,\"\")","v":"Menülinie 38"},{"$f":"IF(A267<=Daten!$B$8,LOOKUP(B267,Daten!$A$16:$A$65,Daten!$C$16:$C$65),\"\")","v":"Lang[38,1]"},{"$f":"IF($A267<=Daten!$B$8,LOOKUP($B267,Daten!$A$16:$A$65,Daten!$P$16:$P$65),\"\") & \" \" & IF($A267<=Daten!$B$8,LOOKUP($B267,Daten!$A$16:$A$65,Daten!$Q$16:$Q$65),\"\")","v":"38,1 Inhalt1Einh[38,1]"},{"$f":"IF($A267<=Daten!$B$8,LOOKUP($B267,Daten!$A$57:$A$116,Daten!$C$57:$C$116),\"\")","v":"Lang[38,2]"},{"$f":"IF($A267<=Daten!$B$8,LOOKUP($B267,Daten!$A$57:$A$116,Daten!$P$57:$P$116),\"\") & \" \" & IF($A267<=Daten!$B$8,LOOKUP($B267,Daten!$A$57:$A$116,Daten!$Q$57:$Q$116),\"\")","v":"38,2 Inhalt1Einh[38,2]"},{"$f":"IF($A267<=Daten!$B$8,LOOKUP($B267,Daten!$A$118:$A$167,Daten!$C$118:$C$167),\"\")","v":"Lang[38,3]"},{"$f":"IF($A267<=Daten!$B$8,LOOKUP($B267,Daten!$A$118:$A$167,Daten!$P$118:$P$167),\"\") & \" \" & IF($A267<=Daten!$B$8,LOOKUP($B267,Daten!$A$118:$A$167,Daten!$Q$118:$Q$167),\"\")","v":"38,3 Inhalt1Einh[38,3]"},{"$f":"IF($A267<=Daten!$B$8,LOOKUP($B267,Daten!$A$169:$A$218,Daten!$C$169:$C$218),\"\")","v":"Lang[38,4]"},{"$f":"IF($A267<=Daten!$B$8,LOOKUP($B267,Daten!$A$169:$A$218,Daten!$P$169:$P$218),\"\") & \" \" & IF($A267<=Daten!$B$8,LOOKUP($B267,Daten!$A$169:$A$218,Daten!$Q$169:$Q$218),\"\")","v":"38,4 Inhalt1Einh[38,4]"},{"$f":"IF($A267<=Daten!$B$8,LOOKUP($B267,Daten!$A$220:$A$269,Daten!$C$220:$C$269),\"\")","v":"Lang[38,5]"},{"$f":"IF($A267<=Daten!$B$8,LOOKUP($B267,Daten!$A$220:$A$269,Daten!$P$220:$P$269),\"\") & \" \" & IF($A267<=Daten!$B$8,LOOKUP($B267,Daten!$A$220:$A$269,Daten!$Q$220:$Q$269),\"\")","v":"38,5 Inhalt1Einh[38,5]"},{"$f":"IF($A267<=Daten!$B$8,LOOKUP($B267,Daten!$A$271:$A$320,Daten!$C$271:$C$320),\"\")","v":"Lang[38,6]"},{"$f":"IF($A267<=Daten!$B$8,LOOKUP($B267,Daten!$A$271:$A$320,Daten!$P$271:$P$320),\"\") & \" \" & IF($A267<=Daten!$B$8,LOOKUP($B267,Daten!$A$271:$A$320,Daten!$Q$271:$Q$320),\"\")","v":"38,6 Inhalt1Einh[38,6]"},{"$f":"IF($A267<=Daten!$B$8,LOOKUP($B267,Daten!$A$322:$A$371,Daten!$B$322:$C$371),\"\")","v":{"$error":"#N/A"}},{"$f":"IF($A267<=Daten!$B$8,LOOKUP($B267,Daten!$A$322:$A$371,Daten!$P$322:$P$371),\"\") & \" \" & IF($A267<=Daten!$B$8,LOOKUP($B267,Daten!$A$322:$A$371,Daten!$Q$322:$Q$371),\"\")","v":"38,7 Inhalt1Einh[38,7]"}]
[null,null,null,{"$f":"IF($A267<=Daten!$B$8,LOOKUP($B267,Daten!$A$16:$A$65,Daten!$R$16:$R$65),\"\") & \" \" & IF($A267<=Daten!$B$8,LOOKUP($B267,Daten!$A$16:$A$65,Daten!$S$16:$S$65),\"\")","v":"38,1 Inhalt2Einh[38,1]"},null,{"$f":"IF($A267<=Daten!$B$8,LOOKUP($B267,Daten!$A$57:$A$116,Daten!$R$57:$R$116),\"\") & \" \" & IF($A267<=Daten!$B$8,LOOKUP($B267,Daten!$A$57:$A$116,Daten!$S$57:$S$116),\"\")","v":"38,2 Inhalt2Einh[38,2]"},null,{"$f":"IF($A267<=Daten!$B$8,LOOKUP($B267,Daten!$A$118:$A$167,Daten!$R$118:$R$167),\"\") & \" \" & IF($A267<=Daten!$B$8,LOOKUP($B267,Daten!$A$118:$A$167,Daten!$S$118:$S$167),\"\")","v":"38,3 Inhalt2Einh[38,3]"},null,{"$f":"IF($A267<=Daten!$B$8,LOOKUP($B267,Daten!$A$169:$A$218,Daten!$R$169:$R$218),\"\") & \" \" & IF($A267<=Daten!$B$8,LOOKUP($B267,Daten!$A$169:$A$218,Daten!$S$169:$S$218),\"\")","v":"38,4 Inhalt2Einh[38,4]"},null,{"$f":"IF($A267<=Daten!$B$8,LOOKUP($B267,Daten!$A$220:$A$269,Daten!$R$220:$R$269),\"\") & \" \" & IF($A267<=Daten!$B$8,LOOKUP($B267,Daten!$A$220:$A$269,Daten!$S$220:$S$269),\"\")","v":"38,5 Inhalt2Einh[38,5]"},null,{"$f":"IF($A267<=Daten!$B$8,LOOKUP($B267,Daten!$A$271:$A$320,Daten!$R$271:$R$320),\"\") & \" \" & IF($A267<=Daten!$B$8,LOOKUP($B267,Daten!$A$271:$A$320,Daten!$S$271:$S$320),\"\")","v":"38,6 Inhalt2Einh[38,6]"},null,{"$f":"IF($A267<=Daten!$B$8,LOOKUP($B267,Daten!$A$322:$A$371,Daten!$R$322:$R$371),\"\") & \" \" & IF($A267<=Daten!$B$8,LOOKUP($B267,Daten!$A$322:$A$371,Daten!$S$322:$S$371),\"\")","v":"38,7 Inhalt2Einh[38,7]"}]
[null,null,null,{"$f":"IF($A267<=Daten!$B$8,LOOKUP($B267,Daten!$A$16:$A$65,Daten!$T$16:$T$65),\"\") & \" \" & IF($A267<=Daten!$B$8,LOOKUP($B267,Daten!$A$16:$A$65,Daten!$U$16:$U$65),\"\")","v":"38,1 Inhalt3Einh[38,1]"},null,{"$f":"IF($A267<=Daten!$B$8,LOOKUP($B267,Daten!$A$57:$A$116,Daten!$T$57:$T$116),\"\") & \" \" & IF($A267<=Daten!$B$8,LOOKUP($B267,Daten!$A$57:$A$116,Daten!$U$57:$U$116),\"\")","v":"38,2 Inhalt3Einh[38,2]"},null,{"$f":"IF($A267<=Daten!$B$8,LOOKUP($B267,Daten!$A$118:$A$167,Daten!$T$118:$T$167),\"\") & \" \" & IF($A267<=Daten!$B$8,LOOKUP($B267,Daten!$A$118:$A$167,Daten!$U$118:$U$167),\"\")","v":"38,3 Inhalt3Einh[38,3]"},null,{"$f":"IF($A267<=Daten!$B$8,LOOKUP($B267,Daten!$A$169:$A$218,Daten!$T$169:$T$218),\"\") & \" \" & IF($A267<=Daten!$B$8,LOOKUP($B267,Daten!$A$169:$A$218,Daten!$U$169:$U$218),\"\")","v":"38,4 Inhalt3Einh[38,4]"},null,{"$f":"IF($A267<=Daten!$B$8,LOOKUP($B267,Daten!$A$220:$A$269,Daten!$T$220:$T$269),\"\") & \" \" & IF($A267<=Daten!$B$8,LOOKUP($B267,Daten!$A$220:$A$269,Daten!$U$220:$U$269),\"\")","v":"38,5 Inhalt3Einh[38,5]"},null,{"$f":"IF($A267<=Daten!$B$8,LOOKUP($B267,Daten!$A$271:$A$320,Daten!$T$271:$T$320),\"\") & \" \" & IF($A267<=Daten!$B$8,LOOKUP($B267,Daten!$A$271:$A$320,Daten!$U$271:$U$320),\"\")","v":"38,6 Inhalt3Einh[38,6]"},null,{"$f":"IF($A267<=Daten!$B$8,LOOKUP($B267,Daten!$A$322:$A$371,Daten!$T$322:$T$371),\"\") & \" \" & IF($A267<=Daten!$B$8,LOOKUP($B267,Daten!$A$322:$A$371,Daten!$U$322:$U$371),\"\")","v":"38,7 Inhalt3Einh[38,7]"}]
[null,null,null,{"$f":"IF($A267<=Daten!$B$8,LOOKUP($B267,Daten!$A$16:$A$65,Daten!$V$16:$V$65),\"\") & \" \" & IF($A267<=Daten!$B$8,LOOKUP($B267,Daten!$A$16:$A$65,Daten!$W$16:$W$65),\"\")","v":"38,1 Inhalt4Einh[38,1]"},null,{"$f":"IF($A267<=Daten!$B$8,LOOKUP($B267,Daten!$A$57:$A$116,Daten!$V$57:$V$116),\"\") & \" \" & IF($A267<=Daten!$B$8,LOOKUP($B267,Daten!$A$57:$A$116,Daten!$W$57:$W$116),\"\")","v":"38,2 Inhalt4Einh[38,2]"},null,{"$f":"IF($A267<=Daten!$B$8,LOOKUP($B267,Daten!$A$118:$A$167,Daten!$V$118:$V$167),\"\") & \" \" & IF($A267<=Daten!$B$8,LOOKUP($B267,Daten!$A$118:$A$167,Daten!$W$118:$W$167),\"\")","v":"38,3 Inhalt4Einh[38,3]"},null,{"$f":"IF($A267<=Daten!$B$8,LOOKUP($B267,Daten!$A$169:$A$218,Daten!$V$169:$V$218),\"\") & \" \" & IF($A267<=Daten!$B$8,LOOKUP($B267,Daten!$A$169:$A$218,Daten!$W$169:$W$218),\"\")","v":"38,4 Inhalt4Einh[38,4]"},null,{"$f":"IF($A267<=Daten!$B$8,LOOKUP($B267,Daten!$A$220:$A$269,Daten!$V$220:$V$269),\"\") & \" \" & IF($A267<=Daten!$B$8,LOOKUP($B267,Daten!$A$220:$A$269,Daten!$W$220:$W$269),\"\")","v":"38,5 Inhalt4Einh[38,5]"},null,{"$f":"IF($A267<=Daten!$B$8,LOOKUP($B267,Daten!$A$271:$A$320,Daten!$V$271:$V$320),\"\") & \" \" & IF($A267<=Daten!$B$8,LOOKUP($B267,Daten!$A$271:$A$320,Daten!$W$271:$W$320),\"\")","v":"38,6 Inhalt4Einh[38,6]"},null,{"$f":"IF($A267<=Daten!$B$8,LOOKUP($B267,Daten!$A$322:$A$371,Daten!$V$322:$V$371),\"\") & \" \" & IF($A267<=Daten!$B$8,LOOKUP($B267,Daten!$A$322:$A$371,Daten!$W$322:$W$371),\"\")","v":"38,7 Inhalt4Einh[38,7]"}]
[null,null,null,{"$f":"IF($A267<=Daten!$B$8,LOOKUP($B267,Daten!$A$16:$A$65,Daten!$X$16:$X$65),\"\") & \" \" & IF($A267<=Daten!$B$8,LOOKUP($B267,Daten!$A$16:$A$65,Daten!$Y$16:$Y$65),\"\")","v":"38,1 Inhalt5Einh[38,1]"},null,{"$f":"IF($A267<=Daten!$B$8,LOOKUP($B267,Daten!$A$57:$A$116,Daten!$X$57:$X$116),\"\") & \" \" & IF($A267<=Daten!$B$8,LOOKUP($B267,Daten!$A$57:$A$116,Daten!$Y$57:$Y$116),\"\")","v":"38,2 Inhalt5Einh[38,2]"},null,{"$f":"IF($A267<=Daten!$B$8,LOOKUP($B267,Daten!$A$118:$A$167,Daten!$X$118:$X$167),\"\") & \" \" & IF($A267<=Daten!$B$8,LOOKUP($B267,Daten!$A$118:$A$167,Daten!$Y$118:$Y$167),\"\")","v":"38,3 Inhalt5Einh[38,3]"},null,{"$f":"IF($A267<=Daten!$B$8,LOOKUP($B267,Daten!$A$169:$A$218,Daten!$X$169:$X$218),\"\") & \" \" & IF($A267<=Daten!$B$8,LOOKUP($B267,Daten!$A$169:$A$218,Daten!$Y$169:$Y$218),\"\")","v":"38,4 Inhalt5Einh[38,4]"},null,{"$f":"IF($A267<=Daten!$B$8,LOOKUP($B267,Daten!$A$220:$A$269,Daten!$X$220:$X$269),\"\") & \" \" & IF($A267<=Daten!$B$8,LOOKUP($B267,Daten!$A$220:$A$269,Daten!$Y$220:$Y$269),\"\")","v":"38,5 Inhalt5Einh[38,5]"},null,{"$f":"IF($A267<=Daten!$B$8,LOOKUP($B267,Daten!$A$271:$A$320,Daten!$X$271:$X$320),\"\") & \" \" & IF($A267<=Daten!$B$8,LOOKUP($B267,Daten!$A$271:$A$320,Daten!$Y$271:$Y$320),\"\")","v":"38,6 Inhalt5Einh[38,6]"},null,{"$f":"IF($A267<=Daten!$B$8,LOOKUP($B267,Daten!$A$322:$A$371,Daten!$X$322:$X$371),\"\") & \" \" & IF($A267<=Daten!$B$8,LOOKUP($B267,Daten!$A$322:$A$371,Daten!$Y$322:$Y$371),\"\")","v":"38,7 Inhalt5Einh[38,7]"}]
[null,null,null,{"$f":"IF($A267<=Daten!$B$8,LOOKUP($B267,Daten!$A$16:$A$65,Daten!$Z$16:$Z$65),\"\") & \" \" & IF($A267<=Daten!$B$8,LOOKUP($B267,Daten!$A$16:$A$65,Daten!$AA$16:$AA$65),\"\")","v":"38,1 Inhalt6Einh[38,1]"},null,{"$f":"IF($A267<=Daten!$B$8,LOOKUP($B267,Daten!$A$57:$A$116,Daten!$Z$57:$Z$116),\"\") & \" \" & IF($A267<=Daten!$B$8,LOOKUP($B267,Daten!$A$57:$A$116,Daten!$AA$57:$AA$116),\"\")","v":"38,2 Inhalt6Einh[38,2]"},null,{"$f":"IF($A267<=Daten!$B$8,LOOKUP($B267,Daten!$A$118:$A$167,Daten!$Z$118:$Z$167),\"\") & \" \" & IF($A267<=Daten!$B$8,LOOKUP($B267,Daten!$A$118:$A$167,Daten!$AA$118:$AA$167),\"\")","v":"38,3 Inhalt6Einh[38,3]"},null,{"$f":"IF($A267<=Daten!$B$8,LOOKUP($B267,Daten!$A$169:$A$218,Daten!$Z$169:$Z$218),\"\") & \" \" & IF($A267<=Daten!$B$8,LOOKUP($B267,Daten!$A$169:$A$218,Daten!$AA$169:$AA$218),\"\")","v":"38,4 Inhalt6Einh[38,4]"},null,{"$f":"IF($A267<=Daten!$B$8,LOOKUP($B267,Daten!$A$220:$A$269,Daten!$Z$220:$Z$269),\"\") & \" \" & IF($A267<=Daten!$B$8,LOOKUP($B267,Daten!$A$220:$A$269,Daten!$AA$220:$AA$269),\"\")","v":"38,5 Inhalt6Einh[38,5]"},null,{"$f":"IF($A267<=Daten!$B$8,LOOKUP($B267,Daten!$A$271:$A$320,Daten!$Z$271:$Z$320),\"\") & \" \" & IF($A267<=Daten!$B$8,LOOKUP($B267,Daten!$A$271:$A$320,Daten!$AA$271:$AA$320),\"\")","v":"38,6 Inhalt6Einh[38,6]"},null,{"$f":"IF($A267<=Daten!$B$8,LOOKUP($B267,Daten!$A$322:$A$371,Daten!$Z$322:$Z$371),\"\") & \" \" & IF($A267<=Daten!$B$8,LOOKUP($B267,Daten!$A$322:$A$371,Daten!$AA$322:$AA$371),\"\")","v":"38,7 Inhalt6Einh[38,7]"}]
[null,{"$f":"IF(A267<=Daten!$B$8,\"Zusatzstoffe\",\"\")","v":"Zusatzstoffe"},{"$f":"IF($A267<=Daten!$B$8,LOOKUP($B267,Daten!$A$16:$A$65,Daten!$L$16:$L$65),\"\")","v":38.1},{"$f":"IF($A267<=Daten!$B$8,LOOKUP($B267,Daten!$A$16:$A$65,Daten!$E$16:$E$65),\"\")","v":218.1},{"$f":"IF($A267<=Daten!$B$8,LOOKUP($B267,Daten!$A$67:$A$116,Daten!$L$67:$L$116),\"\")","v":38.200000000000003},{"$f":"IF($A267<=Daten!$B$8,LOOKUP($B267,Daten!$A$16:$A$65,Daten!$E$67:$E$116),\"\")","v":0},{"$f":"IF($A267<=Daten!$B$8,LOOKUP($B267,Daten!$A$118:$A$167,Daten!$L$118:$L$167),\"\")","v":38.299999999999997},{"$f":"IF($A267<=Daten!$B$8,LOOKUP($B267,Daten!$A$118:$A$167,Daten!$E$118:$E$167),\"\")","v":0},{"$f":"IF($A267<=Daten!$B$8,LOOKUP($B267,Daten!$A$169:$A$218,Daten!$L$169:$L$218),\"\")","v":38.4},{"$f":"IF($A267<=Daten!$B$8,LOOKUP($B267,Daten!$A$169:$A$218,Daten!$E$169:$E$218),\"\")","v":0},{"$f":"IF($A267<=Daten!$B$8,LOOKUP($B267,Daten!$A$220:$A$269,Daten!$L$220:$L$269),\"\")","v":38.5},{"$f":"IF($A267<=Daten!$B$8,LOOKUP($B267,Daten!$A$220:$A$269,Daten!$E$220:$E$269),\"\")","v":0},{"$f":"IF($A267<=Daten!$B$8,LOOKUP($B267,Daten!$A$271:$A$320,Daten!$L$271:$L$320),\"\")","v":38.6},{"$f":"IF($A267<=Daten!$B$8,LOOKUP($B267,Daten!$A$271:$A$320,Daten!$E$271:$E$320),\"\")","v":0},{"$f":"IF($A267<=Daten!$B$8,LOOKUP($B267,Daten!$A$322:$A$371,Daten!$L$322:$L$371),\"\")","v":38.700000000000003},{"$f":"IF($A267<=Daten!$B$8,LOOKUP($B267,Daten!$A$322:$A$371,Daten!$E$322:$E$371),\"\")","v":0}]
[39,{"$f":"IF(A274<=Daten!$B$8,Daten!AN9,\"\")","v":"Menülinie 39"},{"$f":"IF(A274<=Daten!$B$8,LOOKUP(B274,Daten!$A$16:$A$65,Daten!$C$16:$C$65),\"\")","v":"Lang[39,1]"},{"$f":"IF($A274<=Daten!$B$8,LOOKUP($B274,Daten!$A$16:$A$65,Daten!$P$16:$P$65),\"\") & \" \" & IF($A274<=Daten!$B$8,LOOKUP($B274,Daten!$A$16:$A$65,Daten!$Q$16:$Q$65),\"\")","v":"39,1 Inhalt1Einh[39,1]"},{"$f":"IF($A274<=Daten!$B$8,LOOKUP($B274,Daten!$A$67:$A$116,Daten!$C$67:$C$116),\"\")","v":"Lang[39,2]"},{"$f":"IF($A274<=Daten!$B$8,LOOKUP($B274,Daten!$A$67:$A$116,Daten!$P$67:$P$116),\"\") & \" \" & IF($A274<=Daten!$B$8,LOOKUP($B274,Daten!$A$67:$A$116,Daten!$Q$67:$Q$116),\"\")","v":"39,2 Inhalt1Einh[39,2]"},{"$f":"IF($A274<=Daten!$B$8,LOOKUP($B274,Daten!$A$118:$A$167,Daten!$C$118:$C$167),\"\")","v":"Lang[39,3]"},{"$f":"IF($A274<=Daten!$B$8,LOOKUP($B274,Daten!$A$118:$A$167,Daten!$P$118:$P$167),\"\") & \" \" & IF($A274<=Daten!$B$8,LOOKUP($B274,Daten!$A$118:$A$167,Daten!$Q$118:$Q$167),\"\")","v":"39,3 Inhalt1Einh[39,3]"},{"$f":"IF($A274<=Daten!$B$8,LOOKUP($B274,Daten!$A$169:$A$218,Daten!$C$169:$C$218),\"\")","v":"Lang[39,4]"},{"$f":"IF($A274<=Daten!$B$8,LOOKUP($B274,Daten!$A$169:$A$218,Daten!$P$169:$P$218),\"\") & \" \" & IF($A274<=Daten!$B$8,LOOKUP($B274,Daten!$A$169:$A$218,Daten!$Q$169:$Q$218),\"\")","v":"39,4 Inhalt1Einh[39,4]"},{"$f":"IF($A274<=Daten!$B$8,LOOKUP($B274,Daten!$A$220:$A$269,Daten!$C$220:$C$269),\"\")","v":"Lang[39,5]"},{"$f":"IF($A274<=Daten!$B$8,LOOKUP($B274,Daten!$A$220:$A$269,Daten!$P$220:$P$269),\"\") & \" \" & IF($A274<=Daten!$B$8,LOOKUP($B274,Daten!$A$220:$A$269,Daten!$Q$220:$Q$269),\"\")","v":"39,5 Inhalt1Einh[39,5]"},{"$f":"IF($A274<=Daten!$B$8,LOOKUP($B274,Daten!$A$271:$A$320,Daten!$C$271:$C$320),\"\")","v":"Lang[39,6]"},{"$f":"IF($A274<=Daten!$B$8,LOOKUP($B274,Daten!$A$271:$A$320,Daten!$P$271:$P$320),\"\") & \" \" & IF($A274<=Daten!$B$8,LOOKUP($B274,Daten!$A$271:$A$320,Daten!$Q$271:$Q$320),\"\")","v":"39,6 Inhalt1Einh[39,6]"},{"$f":"IF($A274<=Daten!$B$8,LOOKUP($B274,Daten!$A$322:$A$371,Daten!$B$322:$C$371),\"\")","v":{"$error":"#N/A"}},{"$f":"IF($A274<=Daten!$B$8,LOOKUP($B274,Daten!$A$322:$A$371,Daten!$P$322:$P$371),\"\") & \" \" & IF($A274<=Daten!$B$8,LOOKUP($B274,Daten!$A$322:$A$371,Daten!$Q$322:$Q$371),\"\")","v":"39,7 Inhalt1Einh[39,7]"}]
[null,null,null,{"$f":"IF($A274<=Daten!$B$8,LOOKUP($B274,Daten!$A$16:$A$65,Daten!$R$16:$R$65),\"\") & \" \" & IF($A274<=Daten!$B$8,LOOKUP($B274,Daten!$A$16:$A$65,Daten!$S$16:$S$65),\"\")","v":"39,1 Inhalt2Einh[39,1]"},null,{"$f":"IF($A274<=Daten!$B$8,LOOKUP($B274,Daten!$A$67:$A$116,Daten!$R$67:$R$116),\"\") & \" \" & IF($A274<=Daten!$B$8,LOOKUP($B274,Daten!$A$67:$A$116,Daten!$S$67:$S$116),\"\")","v":"39,2 Inhalt2Einh[39,2]"},null,{"$f":"IF($A274<=Daten!$B$8,LOOKUP($B274,Daten!$A$118:$A$167,Daten!$R$118:$R$167),\"\") & \" \" & IF($A274<=Daten!$B$8,LOOKUP($B274,Daten!$A$118:$A$167,Daten!$S$118:$S$167),\"\")","v":"39,3 Inhalt2Einh[39,3]"},null,{"$f":"IF($A274<=Daten!$B$8,LOOKUP($B274,Daten!$A$169:$A$218,Daten!$R$169:$R$218),\"\") & \" \" & IF($A274<=Daten!$B$8,LOOKUP($B274,Daten!$A$169:$A$218,Daten!$S$169:$S$218),\"\")","v":"39,4 Inhalt2Einh[39,4]"},null,{"$f":"IF($A274<=Daten!$B$8,LOOKUP($B274,Daten!$A$220:$A$269,Daten!$R$220:$R$269),\"\") & \" \" & IF($A274<=Daten!$B$8,LOOKUP($B274,Daten!$A$220:$A$269,Daten!$S$220:$S$269),\"\")","v":"39,5 Inhalt2Einh[39,5]"},null,{"$f":"IF($A274<=Daten!$B$8,LOOKUP($B274,Daten!$A$271:$A$320,Daten!$R$271:$R$320),\"\") & \" \" & IF($A274<=Daten!$B$8,LOOKUP($B274,Daten!$A$271:$A$320,Daten!$S$271:$S$320),\"\")","v":"39,6 Inhalt2Einh[39,6]"},null,{"$f":"IF($A274<=Daten!$B$8,LOOKUP($B274,Daten!$A$322:$A$371,Daten!$R$322:$R$371),\"\") & \" \" & IF($A274<=Daten!$B$8,LOOKUP($B274,Daten!$A$322:$A$371,Daten!$S$322:$S$371),\"\")","v":"39,7 Inhalt2Einh[39,7]"}]
[null,null,null,{"$f":"IF($A274<=Daten!$B$8,LOOKUP($B274,Daten!$A$16:$A$65,Daten!$T$16:$T$65),\"\") & \" \" & IF($A274<=Daten!$B$8,LOOKUP($B274,Daten!$A$16:$A$65,Daten!$U$16:$U$65),\"\")","v":"39,1 Inhalt3Einh[39,1]"},null,{"$f":"IF($A274<=Daten!$B$8,LOOKUP($B274,Daten!$A$67:$A$116,Daten!$T$67:$T$116),\"\") & \" \" & IF($A274<=Daten!$B$8,LOOKUP($B274,Daten!$A$67:$A$116,Daten!$U$67:$U$116),\"\")","v":"39,2 Inhalt3Einh[39,2]"},null,{"$f":"IF($A274<=Daten!$B$8,LOOKUP($B274,Daten!$A$118:$A$167,Daten!$T$118:$T$167),\"\") & \" \" & IF($A274<=Daten!$B$8,LOOKUP($B274,Daten!$A$118:$A$167,Daten!$U$118:$U$167),\"\")","v":"39,3 Inhalt3Einh[39,3]"},null,{"$f":"IF($A274<=Daten!$B$8,LOOKUP($B274,Daten!$A$169:$A$218,Daten!$T$169:$T$218),\"\") & \" \" & IF($A274<=Daten!$B$8,LOOKUP($B274,Daten!$A$169:$A$218,Daten!$U$169:$U$218),\"\")","v":"39,4 Inhalt3Einh[39,4]"},null,{"$f":"IF($A274<=Daten!$B$8,LOOKUP($B274,Daten!$A$220:$A$269,Daten!$T$220:$T$269),\"\") & \" \" & IF($A274<=Daten!$B$8,LOOKUP($B274,Daten!$A$220:$A$269,Daten!$U$220:$U$269),\"\")","v":"39,5 Inhalt3Einh[39,5]"},null,{"$f":"IF($A274<=Daten!$B$8,LOOKUP($B274,Daten!$A$271:$A$320,Daten!$T$271:$T$320),\"\") & \" \" & IF($A274<=Daten!$B$8,LOOKUP($B274,Daten!$A$271:$A$320,Daten!$U$271:$U$320),\"\")","v":"39,6 Inhalt3Einh[39,6]"},null,{"$f":"IF($A274<=Daten!$B$8,LOOKUP($B274,Daten!$A$322:$A$371,Daten!$T$322:$T$371),\"\") & \" \" & IF($A274<=Daten!$B$8,LOOKUP($B274,Daten!$A$322:$A$371,Daten!$U$322:$U$371),\"\")","v":"39,7 Inhalt3Einh[39,7]"}]
[null,null,null,{"$f":"IF($A274<=Daten!$B$8,LOOKUP($B274,Daten!$A$16:$A$65,Daten!$V$16:$V$65),\"\") & \" \" & IF($A274<=Daten!$B$8,LOOKUP($B274,Daten!$A$16:$A$65,Daten!$W$16:$W$65),\"\")","v":"39,1 Inhalt4Einh[39,1]"},null,{"$f":"IF($A274<=Daten!$B$8,LOOKUP($B274,Daten!$A$67:$A$116,Daten!$V$67:$V$116),\"\") & \" \" & IF($A274<=Daten!$B$8,LOOKUP($B274,Daten!$A$67:$A$116,Daten!$W$67:$W$116),\"\")","v":"39,2 Inhalt4Einh[39,2]"},null,{"$f":"IF($A274<=Daten!$B$8,LOOKUP($B274,Daten!$A$118:$A$167,Daten!$V$118:$V$167),\"\") & \" \" & IF($A274<=Daten!$B$8,LOOKUP($B274,Daten!$A$118:$A$167,Daten!$W$118:$W$167),\"\")","v":"39,3 Inhalt4Einh[39,3]"},null,{"$f":"IF($A274<=Daten!$B$8,LOOKUP($B274,Daten!$A$169:$A$218,Daten!$V$169:$V$218),\"\") & \" \" & IF($A274<=Daten!$B$8,LOOKUP($B274,Daten!$A$169:$A$218,Daten!$W$169:$W$218),\"\")","v":"39,4 Inhalt4Einh[39,4]"},null,{"$f":"IF($A274<=Daten!$B$8,LOOKUP($B274,Daten!$A$220:$A$269,Daten!$V$220:$V$269),\"\") & \" \" & IF($A274<=Daten!$B$8,LOOKUP($B274,Daten!$A$220:$A$269,Daten!$W$220:$W$269),\"\")","v":"39,5 Inhalt4Einh[39,5]"},null,{"$f":"IF($A274<=Daten!$B$8,LOOKUP($B274,Daten!$A$271:$A$320,Daten!$V$271:$V$320),\"\") & \" \" & IF($A274<=Daten!$B$8,LOOKUP($B274,Daten!$A$271:$A$320,Daten!$W$271:$W$320),\"\")","v":"39,6 Inhalt4Einh[39,6]"},null,{"$f":"IF($A274<=Daten!$B$8,LOOKUP($B274,Daten!$A$322:$A$371,Daten!$V$322:$V$371),\"\") & \" \" & IF($A274<=Daten!$B$8,LOOKUP($B274,Daten!$A$322:$A$371,Daten!$W$322:$W$371),\"\")","v":"39,7 Inhalt4Einh[39,7]"}]
[null,null,null,{"$f":"IF($A274<=Daten!$B$8,LOOKUP($B274,Daten!$A$16:$A$65,Daten!$X$16:$X$65),\"\") & \" \" & IF($A274<=Daten!$B$8,LOOKUP($B274,Daten!$A$16:$A$65,Daten!$Y$16:$Y$65),\"\")","v":"39,1 Inhalt5Einh[39,1]"},null,{"$f":"IF($A274<=Daten!$B$8,LOOKUP($B274,Daten!$A$67:$A$116,Daten!$X$67:$X$116),\"\") & \" \" & IF($A274<=Daten!$B$8,LOOKUP($B274,Daten!$A$67:$A$116,Daten!$Y$67:$Y$116),\"\")","v":"39,2 Inhalt5Einh[39,2]"},null,{"$f":"IF($A274<=Daten!$B$8,LOOKUP($B274,Daten!$A$118:$A$167,Daten!$X$118:$X$167),\"\") & \" \" & IF($A274<=Daten!$B$8,LOOKUP($B274,Daten!$A$118:$A$167,Daten!$Y$118:$Y$167),\"\")","v":"39,3 Inhalt5Einh[39,3]"},null,{"$f":"IF($A274<=Daten!$B$8,LOOKUP($B274,Daten!$A$169:$A$218,Daten!$X$169:$X$218),\"\") & \" \" & IF($A274<=Daten!$B$8,LOOKUP($B274,Daten!$A$169:$A$218,Daten!$Y$169:$Y$218),\"\")","v":"39,4 Inhalt5Einh[39,4]"},null,{"$f":"IF($A274<=Daten!$B$8,LOOKUP($B274,Daten!$A$220:$A$269,Daten!$X$220:$X$269),\"\") & \" \" & IF($A274<=Daten!$B$8,LOOKUP($B274,Daten!$A$220:$A$269,Daten!$Y$220:$Y$269),\"\")","v":"39,5 Inhalt5Einh[39,5]"},null,{"$f":"IF($A274<=Daten!$B$8,LOOKUP($B274,Daten!$A$271:$A$320,Daten!$X$271:$X$320),\"\") & \" \" & IF($A274<=Daten!$B$8,LOOKUP($B274,Daten!$A$271:$A$320,Daten!$Y$271:$Y$320),\"\")","v":"39,6 Inhalt5Einh[39,6]"},null,{"$f":"IF($A274<=Daten!$B$8,LOOKUP($B274,Daten!$A$322:$A$371,Daten!$X$322:$X$371),\"\") & \" \" & IF($A274<=Daten!$B$8,LOOKUP($B274,Daten!$A$322:$A$371,Daten!$Y$322:$Y$371),\"\")","v":"39,7 Inhalt5Einh[39,7]"}]
[null,null,null,{"$f":"IF($A274<=Daten!$B$8,LOOKUP($B274,Daten!$A$16:$A$65,Daten!$Z$16:$Z$65),\"\") & \" \" & IF($A274<=Daten!$B$8,LOOKUP($B274,Daten!$A$16:$A$65,Daten!$AA$16:$AA$65),\"\")","v":"39,1 Inhalt6Einh[39,1]"},null,{"$f":"IF($A274<=Daten!$B$8,LOOKUP($B274,Daten!$A$67:$A$116,Daten!$Z$67:$Z$116),\"\") & \" \" & IF($A274<=Daten!$B$8,LOOKUP($B274,Daten!$A$67:$A$116,Daten!$AA$67:$AA$116),\"\")","v":"39,2 Inhalt6Einh[39,2]"},null,{"$f":"IF($A274<=Daten!$B$8,LOOKUP($B274,Daten!$A$118:$A$167,Daten!$Z$118:$Z$167),\"\") & \" \" & IF($A274<=Daten!$B$8,LOOKUP($B274,Daten!$A$118:$A$167,Daten!$AA$118:$AA$167),\"\")","v":"39,3 Inhalt6Einh[39,3]"},null,{"$f":"IF($A274<=Daten!$B$8,LOOKUP($B274,Daten!$A$169:$A$218,Daten!$Z$169:$Z$218),\"\") & \" \" & IF($A274<=Daten!$B$8,LOOKUP($B274,Daten!$A$169:$A$218,Daten!$AA$169:$AA$218),\"\")","v":"39,4 Inhalt6Einh[39,4]"},null,{"$f":"IF($A274<=Daten!$B$8,LOOKUP($B274,Daten!$A$220:$A$269,Daten!$Z$220:$Z$269),\"\") & \" \" & IF($A274<=Daten!$B$8,LOOKUP($B274,Daten!$A$220:$A$269,Daten!$AA$220:$AA$269),\"\")","v":"39,5 Inhalt6Einh[39,5]"},null,{"$f":"IF($A274<=Daten!$B$8,LOOKUP($B274,Daten!$A$271:$A$320,Daten!$Z$271:$Z$320),\"\") & \" \" & IF($A274<=Daten!$B$8,LOOKUP($B274,Daten!$A$271:$A$320,Daten!$AA$271:$AA$320),\"\")","v":"39,6 Inhalt6Einh[39,6]"},null,{"$f":"IF($A274<=Daten!$B$8,LOOKUP($B274,Daten!$A$322:$A$371,Daten!$Z$322:$Z$371),\"\") & \" \" & IF($A274<=Daten!$B$8,LOOKUP($B274,Daten!$A$322:$A$371,Daten!$AA$322:$AA$371),\"\")","v":"39,7 Inhalt6Einh[39,7]"}]
[null,{"$f":"IF(A274<=Daten!$B$8,\"Zusatzstoffe\",\"\")","v":"Zusatzstoffe"},{"$f":"IF($A274<=Daten!$B$8,LOOKUP($B274,Daten!$A$16:$A$65,Daten!$L$16:$L$65),\"\")","v":39.1},{"$f":"IF($A274<=Daten!$B$8,LOOKUP($B274,Daten!$A$16:$A$65,Daten!$E$16:$E$65),\"\")","v":219.1},{"$f":"IF($A274<=Daten!$B$8,LOOKUP($B274,Daten!$A$67:$A$116,Daten!$L$67:$L$116),\"\")","v":39.200000000000003},{"$f":"IF($A274<=Daten!$B$8,LOOKUP($B274,Daten!$A$16:$A$65,Daten!$E$67:$E$116),\"\")","v":0},{"$f":"IF($A274<=Daten!$B$8,LOOKUP($B274,Daten!$A$118:$A$167,Daten!$L$118:$L$167),\"\")","v":39.299999999999997},{"$f":"IF($A274<=Daten!$B$8,LOOKUP($B274,Daten!$A$118:$A$167,Daten!$E$118:$E$167),\"\")","v":0},{"$f":"IF($A274<=Daten!$B$8,LOOKUP($B274,Daten!$A$169:$A$218,Daten!$L$169:$L$218),\"\")","v":39.4},{"$f":"IF($A274<=Daten!$B$8,LOOKUP($B274,Daten!$A$169:$A$218,Daten!$E$169:$E$218),\"\")","v":0},{"$f":"IF($A274<=Daten!$B$8,LOOKUP($B274,Daten!$A$220:$A$269,Daten!$L$220:$L$269),\"\")","v":39.5},{"$f":"IF($A274<=Daten!$B$8,LOOKUP($B274,Daten!$A$220:$A$269,Daten!$E$220:$E$269),\"\")","v":0},{"$f":"IF($A274<=Daten!$B$8,LOOKUP($B274,Daten!$A$271:$A$320,Daten!$L$271:$L$320),\"\")","v":39.6},{"$f":"IF($A274<=Daten!$B$8,LOOKUP($B274,Daten!$A$271:$A$320,Daten!$E$271:$E$320),\"\")","v":0},{"$f":"IF($A274<=Daten!$B$8,LOOKUP($B274,Daten!$A$322:$A$371,Daten!$L$322:$L$371),\"\")","v":39.700000000000003},{"$f":"IF($A274<=Daten!$B$8,LOOKUP($B274,Daten!$A$322:$A$371,Daten!$E$322:$E$371),\"\")","v":0}]
[40,{"$f":"IF(A281<=Daten!$B$8,Daten!AO9,\"\")","v":"Menülinie 40"},{"$f":"IF(A281<=Daten!$B$8,LOOKUP(B281,Daten!$A$16:$A$65,Daten!$C$16:$C$65),\"\")","v":"Lang[40,1]"},{"$f":"IF($A281<=Daten!$B$8,LOOKUP($B281,Daten!$A$16:$A$65,Daten!$P$16:$P$65),\"\") & \" \" & IF($A281<=Daten!$B$8,LOOKUP($B281,Daten!$A$16:$A$65,Daten!$Q$16:$Q$65),\"\")","v":"40,1 Inhalt1Einh[40,1]"},{"$f":"IF($A281<=Daten!$B$8,LOOKUP($B281,Daten!$A$67:$A$116,Daten!$C$67:$C$116),\"\")","v":"Lang[40,2]"},{"$f":"IF($A281<=Daten!$B$8,LOOKUP($B281,Daten!$A$67:$A$116,Daten!$P$67:$P$116),\"\") & \" \" & IF($A281<=Daten!$B$8,LOOKUP($B281,Daten!$A$67:$A$116,Daten!$Q$67:$Q$116),\"\")","v":"40,2 Inhalt1Einh[40,2]"},{"$f":"IF($A281<=Daten!$B$8,LOOKUP($B281,Daten!$A$118:$A$167,Daten!$C$118:$C$167),\"\")","v":"Lang[40,3]"},{"$f":"IF($A281<=Daten!$B$8,LOOKUP($B281,Daten!$A$118:$A$167,Daten!$P$118:$P$167),\"\") & \" \" & IF($A281<=Daten!$B$8,LOOKUP($B281,Daten!$A$118:$A$167,Daten!$Q$118:$Q$167),\"\")","v":"40,3 Inhalt1Einh[40,3]"},{"$f":"IF($A281<=Daten!$B$8,LOOKUP($B281,Daten!$A$169:$A$218,Daten!$C$169:$C$218),\"\")","v":"Lang[40,4]"},{"$f":"IF($A281<=Daten!$B$8,LOOKUP($B281,Daten!$A$169:$A$218,Daten!$P$169:$P$218),\"\") & \" \" & IF($A281<=Daten!$B$8,LOOKUP($B281,Daten!$A$169:$A$218,Daten!$Q$169:$Q$218),\"\")","v":"40,4 Inhalt1Einh[40,4]"},{"$f":"IF($A281<=Daten!$B$8,LOOKUP($B281,Daten!$A$220:$A$269,Daten!$C$220:$C$269),\"\")","v":"Lang[40,5]"},{"$f":"IF($A281<=Daten!$B$8,LOOKUP($B281,Daten!$A$220:$A$269,Daten!$P$220:$P$269),\"\") & \" \" & IF($A281<=Daten!$B$8,LOOKUP($B281,Daten!$A$220:$A$269,Daten!$Q$220:$Q$269),\"\")","v":"40,5 Inhalt1Einh[40,5]"},{"$f":"IF($A281<=Daten!$B$8,LOOKUP($B281,Daten!$A$271:$A$320,Daten!$C$271:$C$320),\"\")","v":"Lang[40,6]"},{"$f":"IF($A281<=Daten!$B$8,LOOKUP($B281,Daten!$A$271:$A$320,Daten!$P$271:$P$320),\"\") & \" \" & IF($A281<=Daten!$B$8,LOOKUP($B281,Daten!$A$271:$A$320,Daten!$Q$271:$Q$320),\"\")","v":"40,6 Inhalt1Einh[40,6]"},{"$f":"IF($A281<=Daten!$B$8,LOOKUP($B281,Daten!$A$322:$A$371,Daten!$B$322:$C$371),\"\")","v":{"$error":"#N/A"}},{"$f":"IF($A281<=Daten!$B$8,LOOKUP($B281,Daten!$A$322:$A$371,Daten!$P$322:$P$371),\"\") & \" \" & IF($A281<=Daten!$B$8,LOOKUP($B281,Daten!$A$322:$A$371,Daten!$Q$322:$Q$371),\"\")","v":"40,7 Inhalt1Einh[40,7]"}]
[null,null,null,{"$f":"IF($A281<=Daten!$B$8,LOOKUP($B281,Daten!$A$16:$A$65,Daten!$R$16:$R$65),\"\") & \" \" & IF($A281<=Daten!$B$8,LOOKUP($B281,Daten!$A$16:$A$65,Daten!$S$16:$S$65),\"\")","v":"40,1 Inhalt2Einh[40,1]"},null,{"$f":"IF($A281<=Daten!$B$8,LOOKUP($B281,Daten!$A$67:$A$116,Daten!$R$67:$R$116),\"\") & \" \" & IF($A281<=Daten!$B$8,LOOKUP($B281,Daten!$A$67:$A$116,Daten!$S$67:$S$116),\"\")","v":"40,2 Inhalt2Einh[40,2]"},null,{"$f":"IF($A281<=Daten!$B$8,LOOKUP($B281,Daten!$A$118:$A$167,Daten!$R$118:$R$167),\"\") & \" \" & IF($A281<=Daten!$B$8,LOOKUP($B281,Daten!$A$118:$A$167,Daten!$S$118:$S$167),\"\")","v":"40,3 Inhalt2Einh[40,3]"},null,{"$f":"IF($A281<=Daten!$B$8,LOOKUP($B281,Daten!$A$169:$A$218,Daten!$R$169:$R$218),\"\") & \" \" & IF($A281<=Daten!$B$8,LOOKUP($B281,Daten!$A$169:$A$218,Daten!$S$169:$S$218),\"\")","v":"40,4 Inhalt2Einh[40,4]"},null,{"$f":"IF($A281<=Daten!$B$8,LOOKUP($B281,Daten!$A$220:$A$269,Daten!$R$220:$R$269),\"\") & \" \" & IF($A281<=Daten!$B$8,LOOKUP($B281,Daten!$A$220:$A$269,Daten!$S$220:$S$269),\"\")","v":"40,5 Inhalt2Einh[40,5]"},null,{"$f":"IF($A281<=Daten!$B$8,LOOKUP($B281,Daten!$A$271:$A$320,Daten!$R$271:$R$320),\"\") & \" \" & IF($A281<=Daten!$B$8,LOOKUP($B281,Daten!$A$271:$A$320,Daten!$S$271:$S$320),\"\")","v":"40,6 Inhalt2Einh[40,6]"},null,{"$f":"IF($A281<=Daten!$B$8,LOOKUP($B281,Daten!$A$322:$A$371,Daten!$R$322:$R$371),\"\") & \" \" & IF($A281<=Daten!$B$8,LOOKUP($B281,Daten!$A$322:$A$371,Daten!$S$322:$S$371),\"\")","v":"40,7 Inhalt2Einh[40,7]"}]
[null,null,null,{"$f":"IF($A281<=Daten!$B$8,LOOKUP($B281,Daten!$A$16:$A$65,Daten!$T$16:$T$65),\"\") & \" \" & IF($A281<=Daten!$B$8,LOOKUP($B281,Daten!$A$16:$A$65,Daten!$U$16:$U$65),\"\")","v":"40,1 Inhalt3Einh[40,1]"},null,{"$f":"IF($A281<=Daten!$B$8,LOOKUP($B281,Daten!$A$67:$A$116,Daten!$T$67:$T$116),\"\") & \" \" & IF($A281<=Daten!$B$8,LOOKUP($B281,Daten!$A$67:$A$116,Daten!$U$67:$U$116),\"\")","v":"40,2 Inhalt3Einh[40,2]"},null,{"$f":"IF($A281<=Daten!$B$8,LOOKUP($B281,Daten!$A$118:$A$167,Daten!$T$118:$T$167),\"\") & \" \" & IF($A281<=Daten!$B$8,LOOKUP($B281,Daten!$A$118:$A$167,Daten!$U$118:$U$167),\"\")","v":"40,3 Inhalt3Einh[40,3]"},null,{"$f":"IF($A281<=Daten!$B$8,LOOKUP($B281,Daten!$A$169:$A$218,Daten!$T$169:$T$218),\"\") & \" \" & IF($A281<=Daten!$B$8,LOOKUP($B281,Daten!$A$169:$A$218,Daten!$U$169:$U$218),\"\")","v":"40,4 Inhalt3Einh[40,4]"},null,{"$f":"IF($A281<=Daten!$B$8,LOOKUP($B281,Daten!$A$220:$A$269,Daten!$T$220:$T$269),\"\") & \" \" & IF($A281<=Daten!$B$8,LOOKUP($B281,Daten!$A$220:$A$269,Daten!$U$220:$U$269),\"\")","v":"40,5 Inhalt3Einh[40,5]"},null,{"$f":"IF($A281<=Daten!$B$8,LOOKUP($B281,Daten!$A$271:$A$320,Daten!$T$271:$T$320),\"\") & \" \" & IF($A281<=Daten!$B$8,LOOKUP($B281,Daten!$A$271:$A$320,Daten!$U$271:$U$320),\"\")","v":"40,6 Inhalt3Einh[40,6]"},null,{"$f":"IF($A281<=Daten!$B$8,LOOKUP($B281,Daten!$A$322:$A$371,Daten!$T$322:$T$371),\"\") & \" \" & IF($A281<=Daten!$B$8,LOOKUP($B281,Daten!$A$322:$A$371,Daten!$U$322:$U$371),\"\")","v":"40,7 Inhalt3Einh[40,7]"}]
[null,null,null,{"$f":"IF($A281<=Daten!$B$8,LOOKUP($B281,Daten!$A$16:$A$65,Daten!$V$16:$V$65),\"\") & \" \" & IF($A281<=Daten!$B$8,LOOKUP($B281,Daten!$A$16:$A$65,Daten!$W$16:$W$65),\"\")","v":"40,1 Inhalt4Einh[40,1]"},null,{"$f":"IF($A281<=Daten!$B$8,LOOKUP($B281,Daten!$A$67:$A$116,Daten!$V$67:$V$116),\"\") & \" \" & IF($A281<=Daten!$B$8,LOOKUP($B281,Daten!$A$67:$A$116,Daten!$W$67:$W$116),\"\")","v":"40,2 Inhalt4Einh[40,2]"},null,{"$f":"IF($A281<=Daten!$B$8,LOOKUP($B281,Daten!$A$118:$A$167,Daten!$V$118:$V$167),\"\") & \" \" & IF($A281<=Daten!$B$8,LOOKUP($B281,Daten!$A$118:$A$167,Daten!$W$118:$W$167),\"\")","v":"40,3 Inhalt4Einh[40,3]"},null,{"$f":"IF($A281<=Daten!$B$8,LOOKUP($B281,Daten!$A$169:$A$218,Daten!$V$169:$V$218),\"\") & \" \" & IF($A281<=Daten!$B$8,LOOKUP($B281,Daten!$A$169:$A$218,Daten!$W$169:$W$218),\"\")","v":"40,4 Inhalt4Einh[40,4]"},null,{"$f":"IF($A281<=Daten!$B$8,LOOKUP($B281,Daten!$A$220:$A$269,Daten!$V$220:$V$269),\"\") & \" \" & IF($A281<=Daten!$B$8,LOOKUP($B281,Daten!$A$220:$A$269,Daten!$W$220:$W$269),\"\")","v":"40,5 Inhalt4Einh[40,5]"},null,{"$f":"IF($A281<=Daten!$B$8,LOOKUP($B281,Daten!$A$271:$A$320,Daten!$V$271:$V$320),\"\") & \" \" & IF($A281<=Daten!$B$8,LOOKUP($B281,Daten!$A$271:$A$320,Daten!$W$271:$W$320),\"\")","v":"40,6 Inhalt4Einh[40,6]"},null,{"$f":"IF($A281<=Daten!$B$8,LOOKUP($B281,Daten!$A$322:$A$371,Daten!$V$322:$V$371),\"\") & \" \" & IF($A281<=Daten!$B$8,LOOKUP($B281,Daten!$A$322:$A$371,Daten!$W$322:$W$371),\"\")","v":"40,7 Inhalt4Einh[40,7]"}]
[null,null,null,{"$f":"IF($A281<=Daten!$B$8,LOOKUP($B281,Daten!$A$16:$A$65,Daten!$X$16:$X$65),\"\") & \" \" & IF($A281<=Daten!$B$8,LOOKUP($B281,Daten!$A$16:$A$65,Daten!$Y$16:$Y$65),\"\")","v":"40,1 Inhalt5Einh[40,1]"},null,{"$f":"IF($A281<=Daten!$B$8,LOOKUP($B281,Daten!$A$67:$A$116,Daten!$X$67:$X$116),\"\") & \" \" & IF($A281<=Daten!$B$8,LOOKUP($B281,Daten!$A$67:$A$116,Daten!$Y$67:$Y$116),\"\")","v":"40,2 Inhalt5Einh[40,2]"},null,{"$f":"IF($A281<=Daten!$B$8,LOOKUP($B281,Daten!$A$118:$A$167,Daten!$X$118:$X$167),\"\") & \" \" & IF($A281<=Daten!$B$8,LOOKUP($B281,Daten!$A$118:$A$167,Daten!$Y$118:$Y$167),\"\")","v":"40,3 Inhalt5Einh[40,3]"},null,{"$f":"IF($A281<=Daten!$B$8,LOOKUP($B281,Daten!$A$169:$A$218,Daten!$X$169:$X$218),\"\") & \" \" & IF($A281<=Daten!$B$8,LOOKUP($B281,Daten!$A$169:$A$218,Daten!$Y$169:$Y$218),\"\")","v":"40,4 Inhalt5Einh[40,4]"},null,{"$f":"IF($A281<=Daten!$B$8,LOOKUP($B281,Daten!$A$220:$A$269,Daten!$X$220:$X$269),\"\") & \" \" & IF($A281<=Daten!$B$8,LOOKUP($B281,Daten!$A$220:$A$269,Daten!$Y$220:$Y$269),\"\")","v":"40,5 Inhalt5Einh[40,5]"},null,{"$f":"IF($A281<=Daten!$B$8,LOOKUP($B281,Daten!$A$271:$A$320,Daten!$X$271:$X$320),\"\") & \" \" & IF($A281<=Daten!$B$8,LOOKUP($B281,Daten!$A$271:$A$320,Daten!$Y$271:$Y$320),\"\")","v":"40,6 Inhalt5Einh[40,6]"},null,{"$f":"IF($A281<=Daten!$B$8,LOOKUP($B281,Daten!$A$322:$A$371,Daten!$X$322:$X$371),\"\") & \" \" & IF($A281<=Daten!$B$8,LOOKUP($B281,Daten!$A$322:$A$371,Daten!$Y$322:$Y$371),\"\")","v":"40,7 Inhalt5Einh[40,7]"}]
[null,null,null,{"$f":"IF($A281<=Daten!$B$8,LOOKUP($B281,Daten!$A$16:$A$65,Daten!$Z$16:$Z$65),\"\") & \" \" & IF($A281<=Daten!$B$8,LOOKUP($B281,Daten!$A$16:$A$65,Daten!$AA$16:$AA$65),\"\")","v":"40,1 Inhalt6Einh[40,1]"},null,{"$f":"IF($A281<=Daten!$B$8,LOOKUP($B281,Daten!$A$67:$A$116,Daten!$Z$67:$Z$116),\"\") & \" \" & IF($A281<=Daten!$B$8,LOOKUP($B281,Daten!$A$67:$A$116,Daten!$AA$67:$AA$116),\"\")","v":"40,2 Inhalt6Einh[40,2]"},null,{"$f":"IF($A281<=Daten!$B$8,LOOKUP($B281,Daten!$A$118:$A$167,Daten!$Z$118:$Z$167),\"\") & \" \" & IF($A281<=Daten!$B$8,LOOKUP($B281,Daten!$A$118:$A$167,Daten!$AA$118:$AA$167),\"\")","v":"40,3 Inhalt6Einh[40,3]"},null,{"$f":"IF($A281<=Daten!$B$8,LOOKUP($B281,Daten!$A$169:$A$218,Daten!$Z$169:$Z$218),\"\") & \" \" & IF($A281<=Daten!$B$8,LOOKUP($B281,Daten!$A$169:$A$218,Daten!$AA$169:$AA$218),\"\")","v":"40,4 Inhalt6Einh[40,4]"},null,{"$f":"IF($A281<=Daten!$B$8,LOOKUP($B281,Daten!$A$220:$A$269,Daten!$Z$220:$Z$269),\"\") & \" \" & IF($A281<=Daten!$B$8,LOOKUP($B281,Daten!$A$220:$A$269,Daten!$AA$220:$AA$269),\"\")","v":"40,5 Inhalt6Einh[40,5]"},null,{"$f":"IF($A281<=Daten!$B$8,LOOKUP($B281,Daten!$A$271:$A$320,Daten!$Z$271:$Z$320),\"\") & \" \" & IF($A281<=Daten!$B$8,LOOKUP($B281,Daten!$A$271:$A$320,Daten!$AA$271:$AA$320),\"\")","v":"40,6 Inhalt6Einh[40,6]"},null,{"$f":"IF($A281<=Daten!$B$8,LOOKUP($B281,Daten!$A$322:$A$371,Daten!$Z$322:$Z$371),\"\") & \" \" & IF($A281<=Daten!$B$8,LOOKUP($B281,Daten!$A$322:$A$371,Daten!$AA$322:$AA$371),\"\")","v":"40,7 Inhalt6Einh[40,7]"}]
[null,{"$f":"IF(A281<=Daten!$B$8,\"Zusatzstoffe\",\"\")","v":"Zusatzstoffe"},{"$f":"IF($A281<=Daten!$B$8,LOOKUP($B281,Daten!$A$16:$A$65,Daten!$L$16:$L$65),\"\")","v":40.1},{"$f":"IF($A281<=Daten!$B$8,LOOKUP($B281,Daten!$A$16:$A$65,Daten!$E$16:$E$65),\"\")","v":210.1},{"$f":"IF($A281<=Daten!$B$8,LOOKUP($B281,Daten!$A$67:$A$116,Daten!$L$67:$L$116),\"\")","v":40.200000000000003},{"$f":"IF($A281<=Daten!$B$8,LOOKUP($B281,Daten!$A$16:$A$65,Daten!$E$67:$E$116),\"\")","v":0},{"$f":"IF($A281<=Daten!$B$8,LOOKUP($B281,Daten!$A$118:$A$167,Daten!$L$118:$L$167),\"\")","v":40.299999999999997},{"$f":"IF($A281<=Daten!$B$8,LOOKUP($B281,Daten!$A$118:$A$167,Daten!$E$118:$E$167),\"\")","v":0},{"$f":"IF($A281<=Daten!$B$8,LOOKUP($B281,Daten!$A$169:$A$218,Daten!$L$169:$L$218),\"\")","v":40.4},{"$f":"IF($A281<=Daten!$B$8,LOOKUP($B281,Daten!$A$169:$A$218,Daten!$E$169:$E$218),\"\")","v":0},{"$f":"IF($A281<=Daten!$B$8,LOOKUP($B281,Daten!$A$220:$A$269,Daten!$L$220:$L$269),\"\")","v":40.5},{"$f":"IF($A281<=Daten!$B$8,LOOKUP($B281,Daten!$A$220:$A$269,Daten!$E$220:$E$269),\"\")","v":0},{"$f":"IF($A281<=Daten!$B$8,LOOKUP($B281,Daten!$A$271:$A$320,Daten!$L$271:$L$320),\"\")","v":40.6},{"$f":"IF($A281<=Daten!$B$8,LOOKUP($B281,Daten!$A$271:$A$320,Daten!$E$271:$E$320),\"\")","v":0},{"$f":"IF($A281<=Daten!$B$8,LOOKUP($B281,Daten!$A$322:$A$371,Daten!$L$322:$L$371),\"\")","v":40.700000000000003},{"$f":"IF($A281<=Daten!$B$8,LOOKUP($B281,Daten!$A$322:$A$371,Daten!$E$322:$E$371),\"\")","v":0}]
[41,{"$f":"IF(A288<=Daten!$B$8,Daten!AP9,\"\")","v":"Menülinie 41"},{"$f":"IF($A288<=Daten!$B$8,LOOKUP($B288,Daten!$A$16:$A$65,Daten!$C$16:$C$65),\"\")","v":"Lang[41,1]"},{"$f":"IF($A288<=Daten!$B$8,LOOKUP($B288,Daten!$A$16:$A$65,Daten!$P$16:$P$65),\"\") & \" \" & IF($A288<=Daten!$B$8,LOOKUP($B288,Daten!$A$16:$A$65,Daten!$Q$16:$Q$65),\"\")","v":"41,1 Inhalt1Einh[41,1]"},{"$f":"IF($A288<=Daten!$B$8,LOOKUP($B288,Daten!$A$67:$A$116,Daten!$C$67:$C$116),\"\")","v":"Lang[41,2]"},{"$f":"IF($A288<=Daten!$B$8,LOOKUP($B288,Daten!$A$67:$A$116,Daten!$P$67:$P$116),\"\") & \" \" & IF($A288<=Daten!$B$8,LOOKUP($B288,Daten!$A$67:$A$116,Daten!$Q$67:$Q$116),\"\")","v":"41,2 Inhalt1Einh[41,2]"},{"$f":"IF($A288<=Daten!$B$8,LOOKUP($B288,Daten!$A$118:$A$167,Daten!$C$118:$C$167),\"\")","v":"Lang[41,3]"},{"$f":"IF($A288<=Daten!$B$8,LOOKUP($B288,Daten!$A$118:$A$167,Daten!$P$118:$P$167),\"\") & \" \" & IF($A288<=Daten!$B$8,LOOKUP($B288,Daten!$A$118:$A$167,Daten!$Q$118:$Q$167),\"\")","v":"41,3 Inhalt1Einh[41,3]"},{"$f":"IF($A288<=Daten!$B$8,LOOKUP($B288,Daten!$A$169:$A$218,Daten!$C$169:$C$218),\"\")","v":"Lang[41,4]"},{"$f":"IF($A288<=Daten!$B$8,LOOKUP($B288,Daten!$A$169:$A$218,Daten!$P$169:$P$218),\"\") & \" \" & IF($A288<=Daten!$B$8,LOOKUP($B288,Daten!$A$169:$A$218,Daten!$Q$169:$Q$218),\"\")","v":"41,4 Inhalt1Einh[41,4]"},{"$f":"IF($A288<=Daten!$B$8,LOOKUP($B288,Daten!$A$220:$A$269,Daten!$C$220:$C$269),\"\")","v":"Lang[41,5]"},{"$f":"IF($A288<=Daten!$B$8,LOOKUP($B288,Daten!$A$220:$A$269,Daten!$P$220:$P$269),\"\") & \" \" & IF($A288<=Daten!$B$8,LOOKUP($B288,Daten!$A$220:$A$269,Daten!$Q$220:$Q$269),\"\")","v":"41,5 Inhalt1Einh[41,5]"},{"$f":"IF($A288<=Daten!$B$8,LOOKUP($B288,Daten!$A$271:$A$320,Daten!$C$271:$C$320),\"\")","v":"Lang[41,6]"},{"$f":"IF($A288<=Daten!$B$8,LOOKUP($B288,Daten!$A$271:$A$320,Daten!$P$271:$P$320),\"\") & \" \" & IF($A288<=Daten!$B$8,LOOKUP($B288,Daten!$A$271:$A$320,Daten!$Q$271:$Q$320),\"\")","v":"41,6 Inhalt1Einh[41,6]"},{"$f":"IF($A288<=Daten!$B$8,LOOKUP($B288,Daten!$A$322:$A$371,Daten!$B$322:$C$371),\"\")","v":{"$error":"#N/A"}},{"$f":"IF($A288<=Daten!$B$8,LOOKUP($B288,Daten!$A$322:$A$371,Daten!$P$322:$P$371),\"\") & \" \" & IF($A288<=Daten!$B$8,LOOKUP($B288,Daten!$A$322:$A$371,Daten!$Q$322:$Q$371),\"\")","v":"41,7 Inhalt1Einh[41,7]"}]
[null,null,null,{"$f":"IF($A288<=Daten!$B$8,LOOKUP($B288,Daten!$A$16:$A$65,Daten!$R$16:$R$65),\"\") & \" \" & IF($A288<=Daten!$B$8,LOOKUP($B288,Daten!$A$16:$A$65,Daten!$S$16:$S$65),\"\")","v":"41,1 Inhalt2Einh[41,1]"},null,{"$f":"IF($A288<=Daten!$B$8,LOOKUP($B288,Daten!$A$67:$A$116,Daten!$R$67:$R$116),\"\") & \" \" & IF($A288<=Daten!$B$8,LOOKUP($B288,Daten!$A$67:$A$116,Daten!$S$67:$S$116),\"\")","v":"41,2 Inhalt2Einh[41,2]"},null,{"$f":"IF($A288<=Daten!$B$8,LOOKUP($B288,Daten!$A$118:$A$167,Daten!$R$118:$R$167),\"\") & \" \" & IF($A288<=Daten!$B$8,LOOKUP($B288,Daten!$A$118:$A$167,Daten!$S$118:$S$167),\"\")","v":"41,3 Inhalt2Einh[41,3]"},null,{"$f":"IF($A288<=Daten!$B$8,LOOKUP($B288,Daten!$A$169:$A$218,Daten!$R$169:$R$218),\"\") & \" \" & IF($A288<=Daten!$B$8,LOOKUP($B288,Daten!$A$169:$A$218,Daten!$S$169:$S$218),\"\")","v":"41,4 Inhalt2Einh[41,4]"},null,{"$f":"IF($A288<=Daten!$B$8,LOOKUP($B288,Daten!$A$220:$A$269,Daten!$R$220:$R$269),\"\") & \" \" & IF($A288<=Daten!$B$8,LOOKUP($B288,Daten!$A$220:$A$269,Daten!$S$220:$S$269),\"\")","v":"41,5 Inhalt2Einh[41,5]"},null,{"$f":"IF($A288<=Daten!$B$8,LOOKUP($B288,Daten!$A$271:$A$320,Daten!$R$271:$R$320),\"\") & \" \" & IF($A288<=Daten!$B$8,LOOKUP($B288,Daten!$A$271:$A$320,Daten!$S$271:$S$320),\"\")","v":"41,6 Inhalt2Einh[41,6]"},null,{"$f":"IF($A288<=Daten!$B$8,LOOKUP($B288,Daten!$A$322:$A$371,Daten!$R$322:$R$371),\"\") & \" \" & IF($A288<=Daten!$B$8,LOOKUP($B288,Daten!$A$322:$A$371,Daten!$S$322:$S$371),\"\")","v":"41,7 Inhalt2Einh[41,7]"}]
[null,null,null,{"$f":"IF($A288<=Daten!$B$8,LOOKUP($B288,Daten!$A$16:$A$65,Daten!$T$16:$T$65),\"\") & \" \" & IF($A288<=Daten!$B$8,LOOKUP($B288,Daten!$A$16:$A$65,Daten!$U$16:$U$65),\"\")","v":"41,1 Inhalt3Einh[41,1]"},null,{"$f":"IF($A288<=Daten!$B$8,LOOKUP($B288,Daten!$A$67:$A$116,Daten!$T$67:$T$116),\"\") & \" \" & IF($A288<=Daten!$B$8,LOOKUP($B288,Daten!$A$67:$A$116,Daten!$U$67:$U$116),\"\")","v":"41,2 Inhalt3Einh[41,2]"},null,{"$f":"IF($A288<=Daten!$B$8,LOOKUP($B288,Daten!$A$118:$A$167,Daten!$T$118:$T$167),\"\") & \" \" & IF($A288<=Daten!$B$8,LOOKUP($B288,Daten!$A$118:$A$167,Daten!$U$118:$U$167),\"\")","v":"41,3 Inhalt3Einh[41,3]"},null,{"$f":"IF($A288<=Daten!$B$8,LOOKUP($B288,Daten!$A$169:$A$218,Daten!$T$169:$T$218),\"\") & \" \" & IF($A288<=Daten!$B$8,LOOKUP($B288,Daten!$A$169:$A$218,Daten!$U$169:$U$218),\"\")","v":"41,4 Inhalt3Einh[41,4]"},null,{"$f":"IF($A288<=Daten!$B$8,LOOKUP($B288,Daten!$A$220:$A$269,Daten!$T$220:$T$269),\"\") & \" \" & IF($A288<=Daten!$B$8,LOOKUP($B288,Daten!$A$220:$A$269,Daten!$U$220:$U$269),\"\")","v":"41,5 Inhalt3Einh[41,5]"},null,{"$f":"IF($A288<=Daten!$B$8,LOOKUP($B288,Daten!$A$271:$A$320,Daten!$T$271:$T$320),\"\") & \" \" & IF($A288<=Daten!$B$8,LOOKUP($B288,Daten!$A$271:$A$320,Daten!$U$271:$U$320),\"\")","v":"41,6 Inhalt3Einh[41,6]"},null,{"$f":"IF($A288<=Daten!$B$8,LOOKUP($B288,Daten!$A$322:$A$371,Daten!$T$322:$T$371),\"\") & \" \" & IF($A288<=Daten!$B$8,LOOKUP($B288,Daten!$A$322:$A$371,Daten!$U$322:$U$371),\"\")","v":"41,7 Inhalt3Einh[41,7]"}]
[null,null,null,{"$f":"IF($A288<=Daten!$B$8,LOOKUP($B288,Daten!$A$16:$A$65,Daten!$V$16:$V$65),\"\") & \" \" & IF($A288<=Daten!$B$8,LOOKUP($B288,Daten!$A$16:$A$65,Daten!$W$16:$W$65),\"\")","v":"41,1 Inhalt4Einh[41,1]"},null,{"$f":"IF($A288<=Daten!$B$8,LOOKUP($B288,Daten!$A$67:$A$116,Daten!$V$67:$V$116),\"\") & \" \" & IF($A288<=Daten!$B$8,LOOKUP($B288,Daten!$A$67:$A$116,Daten!$W$67:$W$116),\"\")","v":"41,2 Inhalt4Einh[41,2]"},null,{"$f":"IF($A288<=Daten!$B$8,LOOKUP($B288,Daten!$A$118:$A$167,Daten!$V$118:$V$167),\"\") & \" \" & IF($A288<=Daten!$B$8,LOOKUP($B288,Daten!$A$118:$A$167,Daten!$W$118:$W$167),\"\")","v":"41,3 Inhalt4Einh[41,3]"},null,{"$f":"IF($A288<=Daten!$B$8,LOOKUP($B288,Daten!$A$169:$A$218,Daten!$V$169:$V$218),\"\") & \" \" & IF($A288<=Daten!$B$8,LOOKUP($B288,Daten!$A$169:$A$218,Daten!$W$169:$W$218),\"\")","v":"41,4 Inhalt4Einh[41,4]"},null,{"$f":"IF($A288<=Daten!$B$8,LOOKUP($B288,Daten!$A$220:$A$269,Daten!$V$220:$V$269),\"\") & \" \" & IF($A288<=Daten!$B$8,LOOKUP($B288,Daten!$A$220:$A$269,Daten!$W$220:$W$269),\"\")","v":"41,5 Inhalt4Einh[41,5]"},null,{"$f":"IF($A288<=Daten!$B$8,LOOKUP($B288,Daten!$A$271:$A$320,Daten!$V$271:$V$320),\"\") & \" \" & IF($A288<=Daten!$B$8,LOOKUP($B288,Daten!$A$271:$A$320,Daten!$W$271:$W$320),\"\")","v":"41,6 Inhalt4Einh[41,6]"},null,{"$f":"IF($A288<=Daten!$B$8,LOOKUP($B288,Daten!$A$322:$A$371,Daten!$V$322:$V$371),\"\") & \" \" & IF($A288<=Daten!$B$8,LOOKUP($B288,Daten!$A$322:$A$371,Daten!$W$322:$W$371),\"\")","v":"41,7 Inhalt4Einh[41,7]"}]
[null,null,null,{"$f":"IF($A288<=Daten!$B$8,LOOKUP($B288,Daten!$A$16:$A$65,Daten!$X$16:$X$65),\"\") & \" \" & IF($A288<=Daten!$B$8,LOOKUP($B288,Daten!$A$16:$A$65,Daten!$Y$16:$Y$65),\"\")","v":"41,1 Inhalt5Einh[41,1]"},null,{"$f":"IF($A288<=Daten!$B$8,LOOKUP($B288,Daten!$A$67:$A$116,Daten!$X$67:$X$116),\"\") & \" \" & IF($A288<=Daten!$B$8,LOOKUP($B288,Daten!$A$67:$A$116,Daten!$Y$67:$Y$116),\"\")","v":"41,2 Inhalt5Einh[41,2]"},null,{"$f":"IF($A288<=Daten!$B$8,LOOKUP($B288,Daten!$A$118:$A$167,Daten!$X$118:$X$167),\"\") & \" \" & IF($A288<=Daten!$B$8,LOOKUP($B288,Daten!$A$118:$A$167,Daten!$Y$118:$Y$167),\"\")","v":"41,3 Inhalt5Einh[41,3]"},null,{"$f":"IF($A288<=Daten!$B$8,LOOKUP($B288,Daten!$A$169:$A$218,Daten!$X$169:$X$218),\"\") & \" \" & IF($A288<=Daten!$B$8,LOOKUP($B288,Daten!$A$169:$A$218,Daten!$Y$169:$Y$218),\"\")","v":"41,4 Inhalt5Einh[41,4]"},null,{"$f":"IF($A288<=Daten!$B$8,LOOKUP($B288,Daten!$A$220:$A$269,Daten!$X$220:$X$269),\"\") & \" \" & IF($A288<=Daten!$B$8,LOOKUP($B288,Daten!$A$220:$A$269,Daten!$Y$220:$Y$269),\"\")","v":"41,5 Inhalt5Einh[41,5]"},null,{"$f":"IF($A288<=Daten!$B$8,LOOKUP($B288,Daten!$A$271:$A$320,Daten!$X$271:$X$320),\"\") & \" \" & IF($A288<=Daten!$B$8,LOOKUP($B288,Daten!$A$271:$A$320,Daten!$Y$271:$Y$320),\"\")","v":"41,6 Inhalt5Einh[41,6]"},null,{"$f":"IF($A288<=Daten!$B$8,LOOKUP($B288,Daten!$A$322:$A$371,Daten!$X$322:$X$371),\"\") & \" \" & IF($A288<=Daten!$B$8,LOOKUP($B288,Daten!$A$322:$A$371,Daten!$Y$322:$Y$371),\"\")","v":"41,7 Inhalt5Einh[41,7]"}]
[null,null,null,{"$f":"IF($A288<=Daten!$B$8,LOOKUP($B288,Daten!$A$16:$A$65,Daten!$Z$16:$Z$65),\"\") & \" \" & IF($A288<=Daten!$B$8,LOOKUP($B288,Daten!$A$16:$A$65,Daten!$AA$16:$AA$65),\"\")","v":"41,1 Inhalt6Einh[41,1]"},null,{"$f":"IF($A288<=Daten!$B$8,LOOKUP($B288,Daten!$A$67:$A$116,Daten!$Z$67:$Z$116),\"\") & \" \" & IF($A288<=Daten!$B$8,LOOKUP($B288,Daten!$A$67:$A$116,Daten!$AA$67:$AA$116),\"\")","v":"41,2 Inhalt6Einh[41,2]"},null,{"$f":"IF($A288<=Daten!$B$8,LOOKUP($B288,Daten!$A$118:$A$167,Daten!$Z$118:$Z$167),\"\") & \" \" & IF($A288<=Daten!$B$8,LOOKUP($B288,Daten!$A$118:$A$167,Daten!$AA$118:$AA$167),\"\")","v":"41,3 Inhalt6Einh[41,3]"},null,{"$f":"IF($A288<=Daten!$B$8,LOOKUP($B288,Daten!$A$169:$A$218,Daten!$Z$169:$Z$218),\"\") & \" \" & IF($A288<=Daten!$B$8,LOOKUP($B288,Daten!$A$169:$A$218,Daten!$AA$169:$AA$218),\"\")","v":"41,4 Inhalt6Einh[41,4]"},null,{"$f":"IF($A288<=Daten!$B$8,LOOKUP($B288,Daten!$A$220:$A$269,Daten!$Z$220:$Z$269),\"\") & \" \" & IF($A288<=Daten!$B$8,LOOKUP($B288,Daten!$A$220:$A$269,Daten!$AA$220:$AA$269),\"\")","v":"41,5 Inhalt6Einh[41,5]"},null,{"$f":"IF($A288<=Daten!$B$8,LOOKUP($B288,Daten!$A$271:$A$320,Daten!$Z$271:$Z$320),\"\") & \" \" & IF($A288<=Daten!$B$8,LOOKUP($B288,Daten!$A$271:$A$320,Daten!$AA$271:$AA$320),\"\")","v":"41,6 Inhalt6Einh[41,6]"},null,{"$f":"IF($A288<=Daten!$B$8,LOOKUP($B288,Daten!$A$322:$A$371,Daten!$Z$322:$Z$371),\"\") & \" \" & IF($A288<=Daten!$B$8,LOOKUP($B288,Daten!$A$322:$A$371,Daten!$AA$322:$AA$371),\"\")","v":"41,7 Inhalt6Einh[41,7]"}]
[null,{"$f":"IF(A288<=Daten!$B$8,\"Zusatzstoffe\",\"\")","v":"Zusatzstoffe"},{"$f":"IF($A288<=Daten!$B$8,LOOKUP($B288,Daten!$A$16:$A$65,Daten!$L$16:$L$65),\"\")","v":41.1},{"$f":"IF($A288<=Daten!$B$8,LOOKUP($B288,Daten!$A$16:$A$65,Daten!$E$16:$E$65),\"\")","v":211.1},{"$f":"IF($A288<=Daten!$B$8,LOOKUP($B288,Daten!$A$67:$A$116,Daten!$L$67:$L$116),\"\")","v":41.2},{"$f":"IF($A288<=Daten!$B$8,LOOKUP($B288,Daten!$A$16:$A$65,Daten!$E$67:$E$116),\"\")","v":0},{"$f":"IF($A288<=Daten!$B$8,LOOKUP($B288,Daten!$A$118:$A$167,Daten!$L$118:$L$167),\"\")","v":41.3},{"$f":"IF($A288<=Daten!$B$8,LOOKUP($B288,Daten!$A$118:$A$167,Daten!$E$118:$E$167),\"\")","v":0},{"$f":"IF($A288<=Daten!$B$8,LOOKUP($B288,Daten!$A$169:$A$218,Daten!$L$169:$L$218),\"\")","v":41.4},{"$f":"IF($A288<=Daten!$B$8,LOOKUP($B288,Daten!$A$169:$A$218,Daten!$E$169:$E$218),\"\")","v":0},{"$f":"IF($A288<=Daten!$B$8,LOOKUP($B288,Daten!$A$220:$A$269,Daten!$L$220:$L$269),\"\")","v":41.5},{"$f":"IF($A288<=Daten!$B$8,LOOKUP($B288,Daten!$A$220:$A$269,Daten!$E$220:$E$269),\"\")","v":0},{"$f":"IF($A288<=Daten!$B$8,LOOKUP($B288,Daten!$A$271:$A$320,Daten!$L$271:$L$320),\"\")","v":41.6},{"$f":"IF($A288<=Daten!$B$8,LOOKUP($B288,Daten!$A$271:$A$320,Daten!$E$271:$E$320),\"\")","v":0},{"$f":"IF($A288<=Daten!$B$8,LOOKUP($B288,Daten!$A$322:$A$371,Daten!$L$322:$L$371),\"\")","v":41.7},{"$f":"IF($A288<=Daten!$B$8,LOOKUP($B288,Daten!$A$322:$A$371,Daten!$E$322:$E$371),\"\")","v":0}]
[42,{"$f":"IF(A295<=Daten!$B$8,Daten!AQ9,\"\")","v":"Menülinie 42"},{"$f":"IF($A295<=Daten!$B$8,LOOKUP($B295,Daten!$A$16:$A$65,Daten!$C$16:$C$65),\"\")","v":"Lang[42,1]"},{"$f":"IF($A295<=Daten!$B$8,LOOKUP($B295,Daten!$A$16:$A$65,Daten!$P$16:$P$65),\"\") & \" \" & IF($A295<=Daten!$B$8,LOOKUP($B295,Daten!$A$16:$A$65,Daten!$Q$16:$Q$65),\"\")","v":"42,1 Inhalt1Einh[42,1]"},{"$f":"IF($A295<=Daten!$B$8,LOOKUP($B295,Daten!$A$67:$A$116,Daten!$C$67:$C$116),\"\")","v":"Lang[42,2]"},{"$f":"IF($A295<=Daten!$B$8,LOOKUP($B295,Daten!$A$67:$A$116,Daten!$P$67:$P$116),\"\") & \" \" & IF($A295<=Daten!$B$8,LOOKUP($B295,Daten!$A$67:$A$116,Daten!$Q$67:$Q$116),\"\")","v":"42,2 Inhalt1Einh[42,2]"},{"$f":"IF($A295<=Daten!$B$8,LOOKUP($B295,Daten!$A$118:$A$167,Daten!$C$118:$C$167),\"\")","v":"Lang[42,3]"},{"$f":"IF($A295<=Daten!$B$8,LOOKUP($B295,Daten!$A$118:$A$167,Daten!$P$118:$P$167),\"\") & \" \" & IF($A295<=Daten!$B$8,LOOKUP($B295,Daten!$A$118:$A$167,Daten!$Q$118:$Q$167),\"\")","v":"42,3 Inhalt1Einh[42,3]"},{"$f":"IF($A295<=Daten!$B$8,LOOKUP($B295,Daten!$A$169:$A$218,Daten!$C$169:$C$218),\"\")","v":"Lang[42,4]"},{"$f":"IF($A295<=Daten!$B$8,LOOKUP($B295,Daten!$A$169:$A$218,Daten!$P$169:$P$218),\"\") & \" \" & IF($A295<=Daten!$B$8,LOOKUP($B295,Daten!$A$169:$A$218,Daten!$Q$169:$Q$218),\"\")","v":"42,4 Inhalt1Einh[42,4]"},{"$f":"IF($A295<=Daten!$B$8,LOOKUP($B295,Daten!$A$220:$A$269,Daten!$C$220:$C$269),\"\")","v":"Lang[42,5]"},{"$f":"IF($A295<=Daten!$B$8,LOOKUP($B295,Daten!$A$220:$A$269,Daten!$P$220:$P$269),\"\") & \" \" & IF($A295<=Daten!$B$8,LOOKUP($B295,Daten!$A$220:$A$269,Daten!$Q$220:$Q$269),\"\")","v":"42,5 Inhalt1Einh[42,5]"},{"$f":"IF($A295<=Daten!$B$8,LOOKUP($B295,Daten!$A$271:$A$320,Daten!$C$271:$C$320),\"\")","v":"Lang[42,6]"},{"$f":"IF($A295<=Daten!$B$8,LOOKUP($B295,Daten!$A$271:$A$320,Daten!$P$271:$P$320),\"\") & \" \" & IF($A295<=Daten!$B$8,LOOKUP($B295,Daten!$A$271:$A$320,Daten!$Q$271:$Q$320),\"\")","v":"42,6 Inhalt1Einh[42,6]"},{"$f":"IF($A295<=Daten!$B$8,LOOKUP($B295,Daten!$A$322:$A$371,Daten!$B$322:$C$371),\"\")","v":{"$error":"#N/A"}},{"$f":"IF($A295<=Daten!$B$8,LOOKUP($B295,Daten!$A$322:$A$371,Daten!$P$322:$P$371),\"\") & \" \" & IF($A295<=Daten!$B$8,LOOKUP($B295,Daten!$A$322:$A$371,Daten!$Q$322:$Q$371),\"\")","v":"42,7 Inhalt1Einh[42,7]"}]
[null,null,null,{"$f":"IF($A295<=Daten!$B$8,LOOKUP($B295,Daten!$A$16:$A$65,Daten!$R$16:$R$65),\"\") & \" \" & IF($A295<=Daten!$B$8,LOOKUP($B295,Daten!$A$16:$A$65,Daten!$S$16:$S$65),\"\")","v":"42,1 Inhalt2Einh[42,1]"},null,{"$f":"IF($A295<=Daten!$B$8,LOOKUP($B295,Daten!$A$67:$A$116,Daten!$R$67:$R$116),\"\") & \" \" & IF($A295<=Daten!$B$8,LOOKUP($B295,Daten!$A$67:$A$116,Daten!$S$67:$S$116),\"\")","v":"42,2 Inhalt2Einh[42,2]"},null,{"$f":"IF($A295<=Daten!$B$8,LOOKUP($B295,Daten!$A$118:$A$167,Daten!$R$118:$R$167),\"\") & \" \" & IF($A295<=Daten!$B$8,LOOKUP($B295,Daten!$A$118:$A$167,Daten!$S$118:$S$167),\"\")","v":"42,3 Inhalt2Einh[42,3]"},null,{"$f":"IF($A295<=Daten!$B$8,LOOKUP($B295,Daten!$A$169:$A$218,Daten!$R$169:$R$218),\"\") & \" \" & IF($A295<=Daten!$B$8,LOOKUP($B295,Daten!$A$169:$A$218,Daten!$S$169:$S$218),\"\")","v":"42,4 Inhalt2Einh[42,4]"},null,{"$f":"IF($A295<=Daten!$B$8,LOOKUP($B295,Daten!$A$220:$A$269,Daten!$R$220:$R$269),\"\") & \" \" & IF($A295<=Daten!$B$8,LOOKUP($B295,Daten!$A$220:$A$269,Daten!$S$220:$S$269),\"\")","v":"42,5 Inhalt2Einh[42,5]"},null,{"$f":"IF($A295<=Daten!$B$8,LOOKUP($B295,Daten!$A$271:$A$320,Daten!$R$271:$R$320),\"\") & \" \" & IF($A295<=Daten!$B$8,LOOKUP($B295,Daten!$A$271:$A$320,Daten!$S$271:$S$320),\"\")","v":"42,6 Inhalt2Einh[42,6]"},null,{"$f":"IF($A295<=Daten!$B$8,LOOKUP($B295,Daten!$A$322:$A$371,Daten!$R$322:$R$371),\"\") & \" \" & IF($A295<=Daten!$B$8,LOOKUP($B295,Daten!$A$322:$A$371,Daten!$S$322:$S$371),\"\")","v":"42,7 Inhalt2Einh[42,7]"}]
[null,null,null,{"$f":"IF($A295<=Daten!$B$8,LOOKUP($B295,Daten!$A$16:$A$65,Daten!$T$16:$T$65),\"\") & \" \" & IF($A295<=Daten!$B$8,LOOKUP($B295,Daten!$A$16:$A$65,Daten!$U$16:$U$65),\"\")","v":"42,1 Inhalt3Einh[42,1]"},null,{"$f":"IF($A295<=Daten!$B$8,LOOKUP($B295,Daten!$A$67:$A$116,Daten!$T$67:$T$116),\"\") & \" \" & IF($A295<=Daten!$B$8,LOOKUP($B295,Daten!$A$67:$A$116,Daten!$U$67:$U$116),\"\")","v":"42,2 Inhalt3Einh[42,2]"},null,{"$f":"IF($A295<=Daten!$B$8,LOOKUP($B295,Daten!$A$118:$A$167,Daten!$T$118:$T$167),\"\") & \" \" & IF($A295<=Daten!$B$8,LOOKUP($B295,Daten!$A$118:$A$167,Daten!$U$118:$U$167),\"\")","v":"42,3 Inhalt3Einh[42,3]"},null,{"$f":"IF($A295<=Daten!$B$8,LOOKUP($B295,Daten!$A$169:$A$218,Daten!$T$169:$T$218),\"\") & \" \" & IF($A295<=Daten!$B$8,LOOKUP($B295,Daten!$A$169:$A$218,Daten!$U$169:$U$218),\"\")","v":"42,4 Inhalt3Einh[42,4]"},null,{"$f":"IF($A295<=Daten!$B$8,LOOKUP($B295,Daten!$A$220:$A$269,Daten!$T$220:$T$269),\"\") & \" \" & IF($A295<=Daten!$B$8,LOOKUP($B295,Daten!$A$220:$A$269,Daten!$U$220:$U$269),\"\")","v":"42,5 Inhalt3Einh[42,5]"},null,{"$f":"IF($A295<=Daten!$B$8,LOOKUP($B295,Daten!$A$271:$A$320,Daten!$T$271:$T$320),\"\") & \" \" & IF($A295<=Daten!$B$8,LOOKUP($B295,Daten!$A$271:$A$320,Daten!$U$271:$U$320),\"\")","v":"42,6 Inhalt3Einh[42,6]"},null,{"$f":"IF($A295<=Daten!$B$8,LOOKUP($B295,Daten!$A$322:$A$371,Daten!$T$322:$T$371),\"\") & \" \" & IF($A295<=Daten!$B$8,LOOKUP($B295,Daten!$A$322:$A$371,Daten!$U$322:$U$371),\"\")","v":"42,7 Inhalt3Einh[42,7]"}]
[null,null,null,{"$f":"IF($A295<=Daten!$B$8,LOOKUP($B295,Daten!$A$16:$A$65,Daten!$V$16:$V$65),\"\") & \" \" & IF($A295<=Daten!$B$8,LOOKUP($B295,Daten!$A$16:$A$65,Daten!$W$16:$W$65),\"\")","v":"42,1 Inhalt4Einh[42,1]"},null,{"$f":"IF($A295<=Daten!$B$8,LOOKUP($B295,Daten!$A$67:$A$116,Daten!$V$67:$V$116),\"\") & \" \" & IF($A295<=Daten!$B$8,LOOKUP($B295,Daten!$A$67:$A$116,Daten!$W$67:$W$116),\"\")","v":"42,2 Inhalt4Einh[42,2]"},null,{"$f":"IF($A295<=Daten!$B$8,LOOKUP($B295,Daten!$A$118:$A$167,Daten!$V$118:$V$167),\"\") & \" \" & IF($A295<=Daten!$B$8,LOOKUP($B295,Daten!$A$118:$A$167,Daten!$W$118:$W$167),\"\")","v":"42,3 Inhalt4Einh[42,3]"},null,{"$f":"IF($A295<=Daten!$B$8,LOOKUP($B295,Daten!$A$169:$A$218,Daten!$V$169:$V$218),\"\") & \" \" & IF($A295<=Daten!$B$8,LOOKUP($B295,Daten!$A$169:$A$218,Daten!$W$169:$W$218),\"\")","v":"42,4 Inhalt4Einh[42,4]"},null,{"$f":"IF($A295<=Daten!$B$8,LOOKUP($B295,Daten!$A$220:$A$269,Daten!$V$220:$V$269),\"\") & \" \" & IF($A295<=Daten!$B$8,LOOKUP($B295,Daten!$A$220:$A$269,Daten!$W$220:$W$269),\"\")","v":"42,5 Inhalt4Einh[42,5]"},null,{"$f":"IF($A295<=Daten!$B$8,LOOKUP($B295,Daten!$A$271:$A$320,Daten!$V$271:$V$320),\"\") & \" \" & IF($A295<=Daten!$B$8,LOOKUP($B295,Daten!$A$271:$A$320,Daten!$W$271:$W$320),\"\")","v":"42,6 Inhalt4Einh[42,6]"},null,{"$f":"IF($A295<=Daten!$B$8,LOOKUP($B295,Daten!$A$322:$A$371,Daten!$V$322:$V$371),\"\") & \" \" & IF($A295<=Daten!$B$8,LOOKUP($B295,Daten!$A$322:$A$371,Daten!$W$322:$W$371),\"\")","v":"42,7 Inhalt4Einh[42,7]"}]
[null,null,null,{"$f":"IF($A295<=Daten!$B$8,LOOKUP($B295,Daten!$A$16:$A$65,Daten!$X$16:$X$65),\"\") & \" \" & IF($A295<=Daten!$B$8,LOOKUP($B295,Daten!$A$16:$A$65,Daten!$Y$16:$Y$65),\"\")","v":"42,1 Inhalt5Einh[42,1]"},null,{"$f":"IF($A295<=Daten!$B$8,LOOKUP($B295,Daten!$A$67:$A$116,Daten!$X$67:$X$116),\"\") & \" \" & IF($A295<=Daten!$B$8,LOOKUP($B295,Daten!$A$67:$A$116,Daten!$Y$67:$Y$116),\"\")","v":"42,2 Inhalt5Einh[42,2]"},null,{"$f":"IF($A295<=Daten!$B$8,LOOKUP($B295,Daten!$A$118:$A$167,Daten!$X$118:$X$167),\"\") & \" \" & IF($A295<=Daten!$B$8,LOOKUP($B295,Daten!$A$118:$A$167,Daten!$Y$118:$Y$167),\"\")","v":"42,3 Inhalt5Einh[42,3]"},null,{"$f":"IF($A295<=Daten!$B$8,LOOKUP($B295,Daten!$A$169:$A$218,Daten!$X$169:$X$218),\"\") & \" \" & IF($A295<=Daten!$B$8,LOOKUP($B295,Daten!$A$169:$A$218,Daten!$Y$169:$Y$218),\"\")","v":"42,4 Inhalt5Einh[42,4]"},null,{"$f":"IF($A295<=Daten!$B$8,LOOKUP($B295,Daten!$A$220:$A$269,Daten!$X$220:$X$269),\"\") & \" \" & IF($A295<=Daten!$B$8,LOOKUP($B295,Daten!$A$220:$A$269,Daten!$Y$220:$Y$269),\"\")","v":"42,5 Inhalt5Einh[42,5]"},null,{"$f":"IF($A295<=Daten!$B$8,LOOKUP($B295,Daten!$A$271:$A$320,Daten!$X$271:$X$320),\"\") & \" \" & IF($A295<=Daten!$B$8,LOOKUP($B295,Daten!$A$271:$A$320,Daten!$Y$271:$Y$320),\"\")","v":"42,6 Inhalt5Einh[42,6]"},null,{"$f":"IF($A295<=Daten!$B$8,LOOKUP($B295,Daten!$A$322:$A$371,Daten!$X$322:$X$371),\"\") & \" \" & IF($A295<=Daten!$B$8,LOOKUP($B295,Daten!$A$322:$A$371,Daten!$Y$322:$Y$371),\"\")","v":"42,7 Inhalt5Einh[42,7]"}]
[null,null,null,{"$f":"IF($A295<=Daten!$B$8,LOOKUP($B295,Daten!$A$16:$A$65,Daten!$Z$16:$Z$65),\"\") & \" \" & IF($A295<=Daten!$B$8,LOOKUP($B295,Daten!$A$16:$A$65,Daten!$AA$16:$AA$65),\"\")","v":"42,1 Inhalt6Einh[42,1]"},null,{"$f":"IF($A295<=Daten!$B$8,LOOKUP($B295,Daten!$A$67:$A$116,Daten!$Z$67:$Z$116),\"\") & \" \" & IF($A295<=Daten!$B$8,LOOKUP($B295,Daten!$A$67:$A$116,Daten!$AA$67:$AA$116),\"\")","v":"42,2 Inhalt6Einh[42,2]"},null,{"$f":"IF($A295<=Daten!$B$8,LOOKUP($B295,Daten!$A$118:$A$167,Daten!$Z$118:$Z$167),\"\") & \" \" & IF($A295<=Daten!$B$8,LOOKUP($B295,Daten!$A$118:$A$167,Daten!$AA$118:$AA$167),\"\")","v":"42,3 Inhalt6Einh[42,3]"},null,{"$f":"IF($A295<=Daten!$B$8,LOOKUP($B295,Daten!$A$169:$A$218,Daten!$Z$169:$Z$218),\"\") & \" \" & IF($A295<=Daten!$B$8,LOOKUP($B295,Daten!$A$169:$A$218,Daten!$AA$169:$AA$218),\"\")","v":"42,4 Inhalt6Einh[42,4]"},null,{"$f":"IF($A295<=Daten!$B$8,LOOKUP($B295,Daten!$A$220:$A$269,Daten!$Z$220:$Z$269),\"\") & \" \" & IF($A295<=Daten!$B$8,LOOKUP($B295,Daten!$A$220:$A$269,Daten!$AA$220:$AA$269),\"\")","v":"42,5 Inhalt6Einh[42,5]"},null,{"$f":"IF($A295<=Daten!$B$8,LOOKUP($B295,Daten!$A$271:$A$320,Daten!$Z$271:$Z$320),\"\") & \" \" & IF($A295<=Daten!$B$8,LOOKUP($B295,Daten!$A$271:$A$320,Daten!$AA$271:$AA$320),\"\")","v":"42,6 Inhalt6Einh[42,6]"},null,{"$f":"IF($A295<=Daten!$B$8,LOOKUP($B295,Daten!$A$322:$A$371,Daten!$Z$322:$Z$371),\"\") & \" \" & IF($A295<=Daten!$B$8,LOOKUP($B295,Daten!$A$322:$A$371,Daten!$AA$322:$AA$371),\"\")","v":"42,7 Inhalt6Einh[42,7]"}]
[null,{"$f":"IF(A295<=Daten!$B$8,\"Zusatzstoffe\",\"\")","v":"Zusatzstoffe"},{"$f":"IF($A295<=Daten!$B$8,LOOKUP($B295,Daten!$A$16:$A$65,Daten!$L$16:$L$65),\"\")","v":42.1},{"$f":"IF($A295<=Daten!$B$8,LOOKUP($B295,Daten!$A$16:$A$65,Daten!$E$16:$E$65),\"\")","v":212.1},{"$f":"IF($A295<=Daten!$B$8,LOOKUP($B295,Daten!$A$67:$A$116,Daten!$L$67:$L$116),\"\")","v":42.2},{"$f":"IF($A295<=Daten!$B$8,LOOKUP($B295,Daten!$A$16:$A$65,Daten!$E$67:$E$116),\"\")","v":0},{"$f":"IF($A295<=Daten!$B$8,LOOKUP($B295,Daten!$A$118:$A$167,Daten!$L$118:$L$167),\"\")","v":42.3},{"$f":"IF($A295<=Daten!$B$8,LOOKUP($B295,Daten!$A$118:$A$167,Daten!$E$118:$E$167),\"\")","v":0},{"$f":"IF($A295<=Daten!$B$8,LOOKUP($B295,Daten!$A$169:$A$218,Daten!$L$169:$L$218),\"\")","v":42.4},{"$f":"IF($A295<=Daten!$B$8,LOOKUP($B295,Daten!$A$169:$A$218,Daten!$E$169:$E$218),\"\")","v":0},{"$f":"IF($A295<=Daten!$B$8,LOOKUP($B295,Daten!$A$220:$A$269,Daten!$L$220:$L$269),\"\")","v":42.5},{"$f":"IF($A295<=Daten!$B$8,LOOKUP($B295,Daten!$A$220:$A$269,Daten!$E$220:$E$269),\"\")","v":0},{"$f":"IF($A295<=Daten!$B$8,LOOKUP($B295,Daten!$A$271:$A$320,Daten!$L$271:$L$320),\"\")","v":42.6},{"$f":"IF($A295<=Daten!$B$8,LOOKUP($B295,Daten!$A$271:$A$320,Daten!$E$271:$E$320),\"\")","v":0},{"$f":"IF($A295<=Daten!$B$8,LOOKUP($B295,Daten!$A$322:$A$371,Daten!$L$322:$L$371),\"\")","v":42.7},{"$f":"IF($A295<=Daten!$B$8,LOOKUP($B295,Daten!$A$322:$A$371,Daten!$E$322:$E$371),\"\")","v":0}]
[43,{"$f":"IF(A302<=Daten!$B$8,Daten!AR9,\"\")","v":"Menülinie 43"},{"$f":"IF(A302<=Daten!$B$8,LOOKUP(B302,Daten!$A$16:$A$65,Daten!$C$16:$C$65),\"\")","v":"Lang[43,1]"},{"$f":"IF($A302<=Daten!$B$8,LOOKUP($B302,Daten!$A$16:$A$65,Daten!$P$16:$P$65),\"\") & \" \" & IF($A302<=Daten!$B$8,LOOKUP($B302,Daten!$A$16:$A$65,Daten!$Q$16:$Q$65),\"\")","v":"43,1 Inhalt1Einh[43,1]"},{"$f":"IF($A302<=Daten!$B$8,LOOKUP($B302,Daten!$A$67:$A$116,Daten!$C$67:$C$116),\"\")","v":"Lang[43,2]"},{"$f":"IF($A302<=Daten!$B$8,LOOKUP($B302,Daten!$A$67:$A$116,Daten!$P$67:$P$116),\"\") & \" \" & IF($A302<=Daten!$B$8,LOOKUP($B302,Daten!$A$67:$A$116,Daten!$Q$67:$Q$116),\"\")","v":"43,2 Inhalt1Einh[43,2]"},{"$f":"IF($A302<=Daten!$B$8,LOOKUP($B302,Daten!$A$118:$A$167,Daten!$C$118:$C$167),\"\")","v":"Lang[43,3]"},{"$f":"IF($A302<=Daten!$B$8,LOOKUP($B302,Daten!$A$118:$A$167,Daten!$P$118:$P$167),\"\") & \" \" & IF($A302<=Daten!$B$8,LOOKUP($B302,Daten!$A$118:$A$167,Daten!$Q$118:$Q$167),\"\")","v":"43,3 Inhalt1Einh[43,3]"},{"$f":"IF($A302<=Daten!$B$8,LOOKUP($B302,Daten!$A$169:$A$218,Daten!$C$169:$C$218),\"\")","v":"Lang[43,4]"},{"$f":"IF($A302<=Daten!$B$8,LOOKUP($B302,Daten!$A$169:$A$218,Daten!$P$169:$P$218),\"\") & \" \" & IF($A302<=Daten!$B$8,LOOKUP($B302,Daten!$A$169:$A$218,Daten!$Q$169:$Q$218),\"\")","v":"43,4 Inhalt1Einh[43,4]"},{"$f":"IF($A302<=Daten!$B$8,LOOKUP($B302,Daten!$A$220:$A$269,Daten!$C$220:$C$269),\"\")","v":"Lang[43,5]"},{"$f":"IF($A302<=Daten!$B$8,LOOKUP($B302,Daten!$A$220:$A$269,Daten!$P$220:$P$269),\"\") & \" \" & IF($A302<=Daten!$B$8,LOOKUP($B302,Daten!$A$220:$A$269,Daten!$Q$220:$Q$269),\"\")","v":"43,5 Inhalt1Einh[43,5]"},{"$f":"IF($A302<=Daten!$B$8,LOOKUP($B302,Daten!$A$271:$A$320,Daten!$C$271:$C$320),\"\")","v":"Lang[43,6]"},{"$f":"IF($A302<=Daten!$B$8,LOOKUP($B302,Daten!$A$271:$A$320,Daten!$P$271:$P$320),\"\") & \" \" & IF($A302<=Daten!$B$8,LOOKUP($B302,Daten!$A$271:$A$320,Daten!$Q$271:$Q$320),\"\")","v":"43,6 Inhalt1Einh[43,6]"},{"$f":"IF($A302<=Daten!$B$8,LOOKUP($B302,Daten!$A$322:$A$371,Daten!$B$322:$C$371),\"\")","v":{"$error":"#N/A"}},{"$f":"IF($A302<=Daten!$B$8,LOOKUP($B302,Daten!$A$322:$A$371,Daten!$P$322:$P$371),\"\") & \" \" & IF($A302<=Daten!$B$8,LOOKUP($B302,Daten!$A$322:$A$371,Daten!$Q$322:$Q$371),\"\")","v":"43,7 Inhalt1Einh[43,7]"}]
[null,null,null,{"$f":"IF($A302<=Daten!$B$8,LOOKUP($B302,Daten!$A$16:$A$65,Daten!$R$16:$R$65),\"\") & \" \" & IF($A302<=Daten!$B$8,LOOKUP($B302,Daten!$A$16:$A$65,Daten!$S$16:$S$65),\"\")","v":"43,1 Inhalt2Einh[43,1]"},null,{"$f":"IF($A302<=Daten!$B$8,LOOKUP($B302,Daten!$A$67:$A$116,Daten!$R$67:$R$116),\"\") & \" \" & IF($A302<=Daten!$B$8,LOOKUP($B302,Daten!$A$67:$A$116,Daten!$S$67:$S$116),\"\")","v":"43,2 Inhalt2Einh[43,2]"},null,{"$f":"IF($A302<=Daten!$B$8,LOOKUP($B302,Daten!$A$118:$A$167,Daten!$R$118:$R$167),\"\") & \" \" & IF($A302<=Daten!$B$8,LOOKUP($B302,Daten!$A$118:$A$167,Daten!$S$118:$S$167),\"\")","v":"43,3 Inhalt2Einh[43,3]"},null,{"$f":"IF($A302<=Daten!$B$8,LOOKUP($B302,Daten!$A$169:$A$218,Daten!$R$169:$R$218),\"\") & \" \" & IF($A302<=Daten!$B$8,LOOKUP($B302,Daten!$A$169:$A$218,Daten!$S$169:$S$218),\"\")","v":"43,4 Inhalt2Einh[43,4]"},null,{"$f":"IF($A302<=Daten!$B$8,LOOKUP($B302,Daten!$A$220:$A$269,Daten!$R$220:$R$269),\"\") & \" \" & IF($A302<=Daten!$B$8,LOOKUP($B302,Daten!$A$220:$A$269,Daten!$S$220:$S$269),\"\")","v":"43,5 Inhalt2Einh[43,5]"},null,{"$f":"IF($A302<=Daten!$B$8,LOOKUP($B302,Daten!$A$271:$A$320,Daten!$R$271:$R$320),\"\") & \" \" & IF($A302<=Daten!$B$8,LOOKUP($B302,Daten!$A$271:$A$320,Daten!$S$271:$S$320),\"\")","v":"43,6 Inhalt2Einh[43,6]"},null,{"$f":"IF($A302<=Daten!$B$8,LOOKUP($B302,Daten!$A$322:$A$371,Daten!$R$322:$R$371),\"\") & \" \" & IF($A302<=Daten!$B$8,LOOKUP($B302,Daten!$A$322:$A$371,Daten!$S$322:$S$371),\"\")","v":"43,7 Inhalt2Einh[43,7]"}]
[null,null,null,{"$f":"IF($A302<=Daten!$B$8,LOOKUP($B302,Daten!$A$16:$A$65,Daten!$T$16:$T$65),\"\") & \" \" & IF($A302<=Daten!$B$8,LOOKUP($B302,Daten!$A$16:$A$65,Daten!$U$16:$U$65),\"\")","v":"43,1 Inhalt3Einh[43,1]"},null,{"$f":"IF($A302<=Daten!$B$8,LOOKUP($B302,Daten!$A$67:$A$116,Daten!$T$67:$T$116),\"\") & \" \" & IF($A302<=Daten!$B$8,LOOKUP($B302,Daten!$A$67:$A$116,Daten!$U$67:$U$116),\"\")","v":"43,2 Inhalt3Einh[43,2]"},null,{"$f":"IF($A302<=Daten!$B$8,LOOKUP($B302,Daten!$A$118:$A$167,Daten!$T$118:$T$167),\"\") & \" \" & IF($A302<=Daten!$B$8,LOOKUP($B302,Daten!$A$118:$A$167,Daten!$U$118:$U$167),\"\")","v":"43,3 Inhalt3Einh[43,3]"},null,{"$f":"IF($A302<=Daten!$B$8,LOOKUP($B302,Daten!$A$169:$A$218,Daten!$T$169:$T$218),\"\") & \" \" & IF($A302<=Daten!$B$8,LOOKUP($B302,Daten!$A$169:$A$218,Daten!$U$169:$U$218),\"\")","v":"43,4 Inhalt3Einh[43,4]"},null,{"$f":"IF($A302<=Daten!$B$8,LOOKUP($B302,Daten!$A$220:$A$269,Daten!$T$220:$T$269),\"\") & \" \" & IF($A302<=Daten!$B$8,LOOKUP($B302,Daten!$A$220:$A$269,Daten!$U$220:$U$269),\"\")","v":"43,5 Inhalt3Einh[43,5]"},null,{"$f":"IF($A302<=Daten!$B$8,LOOKUP($B302,Daten!$A$271:$A$320,Daten!$T$271:$T$320),\"\") & \" \" & IF($A302<=Daten!$B$8,LOOKUP($B302,Daten!$A$271:$A$320,Daten!$U$271:$U$320),\"\")","v":"43,6 Inhalt3Einh[43,6]"},null,{"$f":"IF($A302<=Daten!$B$8,LOOKUP($B302,Daten!$A$322:$A$371,Daten!$T$322:$T$371),\"\") & \" \" & IF($A302<=Daten!$B$8,LOOKUP($B302,Daten!$A$322:$A$371,Daten!$U$322:$U$371),\"\")","v":"43,7 Inhalt3Einh[43,7]"}]
[null,null,null,{"$f":"IF($A302<=Daten!$B$8,LOOKUP($B302,Daten!$A$16:$A$65,Daten!$V$16:$V$65),\"\") & \" \" & IF($A302<=Daten!$B$8,LOOKUP($B302,Daten!$A$16:$A$65,Daten!$W$16:$W$65),\"\")","v":"43,1 Inhalt4Einh[43,1]"},null,{"$f":"IF($A302<=Daten!$B$8,LOOKUP($B302,Daten!$A$67:$A$116,Daten!$V$67:$V$116),\"\") & \" \" & IF($A302<=Daten!$B$8,LOOKUP($B302,Daten!$A$67:$A$116,Daten!$W$67:$W$116),\"\")","v":"43,2 Inhalt4Einh[43,2]"},null,{"$f":"IF($A302<=Daten!$B$8,LOOKUP($B302,Daten!$A$118:$A$167,Daten!$V$118:$V$167),\"\") & \" \" & IF($A302<=Daten!$B$8,LOOKUP($B302,Daten!$A$118:$A$167,Daten!$W$118:$W$167),\"\")","v":"43,3 Inhalt4Einh[43,3]"},null,{"$f":"IF($A302<=Daten!$B$8,LOOKUP($B302,Daten!$A$169:$A$218,Daten!$V$169:$V$218),\"\") & \" \" & IF($A302<=Daten!$B$8,LOOKUP($B302,Daten!$A$169:$A$218,Daten!$W$169:$W$218),\"\")","v":"43,4 Inhalt4Einh[43,4]"},null,{"$f":"IF($A302<=Daten!$B$8,LOOKUP($B302,Daten!$A$220:$A$269,Daten!$V$220:$V$269),\"\") & \" \" & IF($A302<=Daten!$B$8,LOOKUP($B302,Daten!$A$220:$A$269,Daten!$W$220:$W$269),\"\")","v":"43,5 Inhalt4Einh[43,5]"},null,{"$f":"IF($A302<=Daten!$B$8,LOOKUP($B302,Daten!$A$271:$A$320,Daten!$V$271:$V$320),\"\") & \" \" & IF($A302<=Daten!$B$8,LOOKUP($B302,Daten!$A$271:$A$320,Daten!$W$271:$W$320),\"\")","v":"43,6 Inhalt4Einh[43,6]"},null,{"$f":"IF($A302<=Daten!$B$8,LOOKUP($B302,Daten!$A$322:$A$371,Daten!$V$322:$V$371),\"\") & \" \" & IF($A302<=Daten!$B$8,LOOKUP($B302,Daten!$A$322:$A$371,Daten!$W$322:$W$371),\"\")","v":"43,7 Inhalt4Einh[43,7]"}]
[null,null,null,{"$f":"IF($A302<=Daten!$B$8,LOOKUP($B302,Daten!$A$16:$A$65,Daten!$X$16:$X$65),\"\") & \" \" & IF($A302<=Daten!$B$8,LOOKUP($B302,Daten!$A$16:$A$65,Daten!$Y$16:$Y$65),\"\")","v":"43,1 Inhalt5Einh[43,1]"},null,{"$f":"IF($A302<=Daten!$B$8,LOOKUP($B302,Daten!$A$67:$A$116,Daten!$X$67:$X$116),\"\") & \" \" & IF($A302<=Daten!$B$8,LOOKUP($B302,Daten!$A$67:$A$116,Daten!$Y$67:$Y$116),\"\")","v":"43,2 Inhalt5Einh[43,2]"},null,{"$f":"IF($A302<=Daten!$B$8,LOOKUP($B302,Daten!$A$118:$A$167,Daten!$X$118:$X$167),\"\") & \" \" & IF($A302<=Daten!$B$8,LOOKUP($B302,Daten!$A$118:$A$167,Daten!$Y$118:$Y$167),\"\")","v":"43,3 Inhalt5Einh[43,3]"},null,{"$f":"IF($A302<=Daten!$B$8,LOOKUP($B302,Daten!$A$169:$A$218,Daten!$X$169:$X$218),\"\") & \" \" & IF($A302<=Daten!$B$8,LOOKUP($B302,Daten!$A$169:$A$218,Daten!$Y$169:$Y$218),\"\")","v":"43,4 Inhalt5Einh[43,4]"},null,{"$f":"IF($A302<=Daten!$B$8,LOOKUP($B302,Daten!$A$220:$A$269,Daten!$X$220:$X$269),\"\") & \" \" & IF($A302<=Daten!$B$8,LOOKUP($B302,Daten!$A$220:$A$269,Daten!$Y$220:$Y$269),\"\")","v":"43,5 Inhalt5Einh[43,5]"},null,{"$f":"IF($A302<=Daten!$B$8,LOOKUP($B302,Daten!$A$271:$A$320,Daten!$X$271:$X$320),\"\") & \" \" & IF($A302<=Daten!$B$8,LOOKUP($B302,Daten!$A$271:$A$320,Daten!$Y$271:$Y$320),\"\")","v":"43,6 Inhalt5Einh[43,6]"},null,{"$f":"IF($A302<=Daten!$B$8,LOOKUP($B302,Daten!$A$322:$A$371,Daten!$X$322:$X$371),\"\") & \" \" & IF($A302<=Daten!$B$8,LOOKUP($B302,Daten!$A$322:$A$371,Daten!$Y$322:$Y$371),\"\")","v":"43,7 Inhalt5Einh[43,7]"}]
[null,null,null,{"$f":"IF($A302<=Daten!$B$8,LOOKUP($B302,Daten!$A$16:$A$65,Daten!$Z$16:$Z$65),\"\") & \" \" & IF($A302<=Daten!$B$8,LOOKUP($B302,Daten!$A$16:$A$65,Daten!$AA$16:$AA$65),\"\")","v":"43,1 Inhalt6Einh[43,1]"},null,{"$f":"IF($A302<=Daten!$B$8,LOOKUP($B302,Daten!$A$67:$A$116,Daten!$Z$67:$Z$116),\"\") & \" \" & IF($A302<=Daten!$B$8,LOOKUP($B302,Daten!$A$67:$A$116,Daten!$AA$67:$AA$116),\"\")","v":"43,2 Inhalt6Einh[43,2]"},null,{"$f":"IF($A302<=Daten!$B$8,LOOKUP($B302,Daten!$A$118:$A$167,Daten!$Z$118:$Z$167),\"\") & \" \" & IF($A302<=Daten!$B$8,LOOKUP($B302,Daten!$A$118:$A$167,Daten!$AA$118:$AA$167),\"\")","v":"43,3 Inhalt6Einh[43,3]"},null,{"$f":"IF($A302<=Daten!$B$8,LOOKUP($B302,Daten!$A$169:$A$218,Daten!$Z$169:$Z$218),\"\") & \" \" & IF($A302<=Daten!$B$8,LOOKUP($B302,Daten!$A$169:$A$218,Daten!$AA$169:$AA$218),\"\")","v":"43,4 Inhalt6Einh[43,4]"},null,{"$f":"IF($A302<=Daten!$B$8,LOOKUP($B302,Daten!$A$220:$A$269,Daten!$Z$220:$Z$269),\"\") & \" \" & IF($A302<=Daten!$B$8,LOOKUP($B302,Daten!$A$220:$A$269,Daten!$AA$220:$AA$269),\"\")","v":"43,5 Inhalt6Einh[43,5]"},null,{"$f":"IF($A302<=Daten!$B$8,LOOKUP($B302,Daten!$A$271:$A$320,Daten!$Z$271:$Z$320),\"\") & \" \" & IF($A302<=Daten!$B$8,LOOKUP($B302,Daten!$A$271:$A$320,Daten!$AA$271:$AA$320),\"\")","v":"43,6 Inhalt6Einh[43,6]"},null,{"$f":"IF($A302<=Daten!$B$8,LOOKUP($B302,Daten!$A$322:$A$371,Daten!$Z$322:$Z$371),\"\") & \" \" & IF($A302<=Daten!$B$8,LOOKUP($B302,Daten!$A$322:$A$371,Daten!$AA$322:$AA$371),\"\")","v":"43,7 Inhalt6Einh[43,7]"}]
[null,{"$f":"IF(A302<=Daten!$B$8,\"Zusatzstoffe\",\"\")","v":"Zusatzstoffe"},{"$f":"IF($A302<=Daten!$B$8,LOOKUP($B302,Daten!$A$16:$A$65,Daten!$L$16:$L$65),\"\")","v":43.1},{"$f":"IF($A302<=Daten!$B$8,LOOKUP($B302,Daten!$A$16:$A$65,Daten!$E$16:$E$65),\"\")","v":213.1},{"$f":"IF($A302<=Daten!$B$8,LOOKUP($B302,Daten!$A$67:$A$116,Daten!$L$67:$L$116),\"\")","v":43.2},{"$f":"IF($A302<=Daten!$B$8,LOOKUP($B302,Daten!$A$16:$A$65,Daten!$E$67:$E$116),\"\")","v":0},{"$f":"IF($A302<=Daten!$B$8,LOOKUP($B302,Daten!$A$118:$A$167,Daten!$L$118:$L$167),\"\")","v":43.3},{"$f":"IF($A302<=Daten!$B$8,LOOKUP($B302,Daten!$A$118:$A$167,Daten!$E$118:$E$167),\"\")","v":0},{"$f":"IF($A302<=Daten!$B$8,LOOKUP($B302,Daten!$A$169:$A$218,Daten!$L$169:$L$218),\"\")","v":43.4},{"$f":"IF($A302<=Daten!$B$8,LOOKUP($B302,Daten!$A$169:$A$218,Daten!$E$169:$E$218),\"\")","v":0},{"$f":"IF($A302<=Daten!$B$8,LOOKUP($B302,Daten!$A$220:$A$269,Daten!$L$220:$L$269),\"\")","v":43.5},{"$f":"IF($A302<=Daten!$B$8,LOOKUP($B302,Daten!$A$220:$A$269,Daten!$E$220:$E$269),\"\")","v":0},{"$f":"IF($A302<=Daten!$B$8,LOOKUP($B302,Daten!$A$271:$A$320,Daten!$L$271:$L$320),\"\")","v":43.6},{"$f":"IF($A302<=Daten!$B$8,LOOKUP($B302,Daten!$A$271:$A$320,Daten!$E$271:$E$320),\"\")","v":0},{"$f":"IF($A302<=Daten!$B$8,LOOKUP($B302,Daten!$A$322:$A$371,Daten!$L$322:$L$371),\"\")","v":43.7},{"$f":"IF($A302<=Daten!$B$8,LOOKUP($B302,Daten!$A$322:$A$371,Daten!$E$322:$E$371),\"\")","v":0}]
[44,{"$f":"IF(A309<=Daten!$B$8,Daten!AS9,\"\")","v":"Menülinie 44"},{"$f":"IF(A309<=Daten!$B$8,LOOKUP(B309,Daten!$A$16:$A$65,Daten!$C$16:$C$65),\"\")","v":"Lang[44,1]"},{"$f":"IF($A309<=Daten!$B$8,LOOKUP($B309,Daten!$A$16:$A$65,Daten!$P$16:$P$65),\"\") & \" \" & IF($A309<=Daten!$B$8,LOOKUP($B309,Daten!$A$16:$A$65,Daten!$Q$16:$Q$65),\"\")","v":"44,1 Inhalt1Einh[44,1]"},{"$f":"IF($A309<=Daten!$B$8,LOOKUP($B309,Daten!$A$67:$A$116,Daten!$C$67:$C$116),\"\")","v":"Lang[44,2]"},{"$f":"IF($A309<=Daten!$B$8,LOOKUP($B309,Daten!$A$67:$A$116,Daten!$P$67:$P$116),\"\") & \" \" & IF($A309<=Daten!$B$8,LOOKUP($B309,Daten!$A$67:$A$116,Daten!$Q$67:$Q$116),\"\")","v":"44,2 Inhalt1Einh[44,2]"},{"$f":"IF($A309<=Daten!$B$8,LOOKUP($B309,Daten!$A$118:$A$167,Daten!$C$118:$C$167),\"\")","v":"Lang[44,3]"},{"$f":"IF($A309<=Daten!$B$8,LOOKUP($B309,Daten!$A$118:$A$167,Daten!$P$118:$P$167),\"\") & \" \" & IF($A309<=Daten!$B$8,LOOKUP($B309,Daten!$A$118:$A$167,Daten!$Q$118:$Q$167),\"\")","v":"44,3 Inhalt1Einh[44,3]"},{"$f":"IF($A309<=Daten!$B$8,LOOKUP($B309,Daten!$A$169:$A$218,Daten!$C$169:$C$218),\"\")","v":"Lang[44,4]"},{"$f":"IF($A309<=Daten!$B$8,LOOKUP($B309,Daten!$A$169:$A$218,Daten!$P$169:$P$218),\"\") & \" \" & IF($A309<=Daten!$B$8,LOOKUP($B309,Daten!$A$169:$A$218,Daten!$Q$169:$Q$218),\"\")","v":"44,4 Inhalt1Einh[44,4]"},{"$f":"IF($A309<=Daten!$B$8,LOOKUP($B309,Daten!$A$220:$A$269,Daten!$C$220:$C$269),\"\")","v":"Lang[44,5]"},{"$f":"IF($A309<=Daten!$B$8,LOOKUP($B309,Daten!$A$220:$A$269,Daten!$P$220:$P$269),\"\") & \" \" & IF($A309<=Daten!$B$8,LOOKUP($B309,Daten!$A$220:$A$269,Daten!$Q$220:$Q$269),\"\")","v":"44,5 Inhalt1Einh[44,5]"},{"$f":"IF($A309<=Daten!$B$8,LOOKUP($B309,Daten!$A$271:$A$320,Daten!$C$271:$C$320),\"\")","v":"Lang[44,6]"},{"$f":"IF($A309<=Daten!$B$8,LOOKUP($B309,Daten!$A$271:$A$320,Daten!$P$271:$P$320),\"\") & \" \" & IF($A309<=Daten!$B$8,LOOKUP($B309,Daten!$A$271:$A$320,Daten!$Q$271:$Q$320),\"\")","v":"44,6 Inhalt1Einh[44,6]"},{"$f":"IF($A309<=Daten!$B$8,LOOKUP($B309,Daten!$A$322:$A$371,Daten!$B$322:$C$371),\"\")","v":{"$error":"#N/A"}},{"$f":"IF($A309<=Daten!$B$8,LOOKUP($B309,Daten!$A$322:$A$371,Daten!$P$322:$P$371),\"\") & \" \" & IF($A309<=Daten!$B$8,LOOKUP($B309,Daten!$A$322:$A$371,Daten!$Q$322:$Q$371),\"\")","v":"44,7 Inhalt1Einh[44,7]"}]
[null,null,null,{"$f":"IF($A309<=Daten!$B$8,LOOKUP($B309,Daten!$A$16:$A$65,Daten!$R$16:$R$65),\"\") & \" \" & IF($A309<=Daten!$B$8,LOOKUP($B309,Daten!$A$16:$A$65,Daten!$S$16:$S$65),\"\")","v":"44,1 Inhalt2Einh[44,1]"},null,{"$f":"IF($A309<=Daten!$B$8,LOOKUP($B309,Daten!$A$67:$A$116,Daten!$R$67:$R$116),\"\") & \" \" & IF($A309<=Daten!$B$8,LOOKUP($B309,Daten!$A$67:$A$116,Daten!$S$67:$S$116),\"\")","v":"44,2 Inhalt2Einh[44,2]"},null,{"$f":"IF($A309<=Daten!$B$8,LOOKUP($B309,Daten!$A$118:$A$167,Daten!$R$118:$R$167),\"\") & \" \" & IF($A309<=Daten!$B$8,LOOKUP($B309,Daten!$A$118:$A$167,Daten!$S$118:$S$167),\"\")","v":"44,3 Inhalt2Einh[44,3]"},null,{"$f":"IF($A309<=Daten!$B$8,LOOKUP($B309,Daten!$A$169:$A$218,Daten!$R$169:$R$218),\"\") & \" \" & IF($A309<=Daten!$B$8,LOOKUP($B309,Daten!$A$169:$A$218,Daten!$S$169:$S$218),\"\")","v":"44,4 Inhalt2Einh[44,4]"},null,{"$f":"IF($A309<=Daten!$B$8,LOOKUP($B309,Daten!$A$220:$A$269,Daten!$R$220:$R$269),\"\") & \" \" & IF($A309<=Daten!$B$8,LOOKUP($B309,Daten!$A$220:$A$269,Daten!$S$220:$S$269),\"\")","v":"44,5 Inhalt2Einh[44,5]"},null,{"$f":"IF($A309<=Daten!$B$8,LOOKUP($B309,Daten!$A$271:$A$320,Daten!$R$271:$R$320),\"\") & \" \" & IF($A309<=Daten!$B$8,LOOKUP($B309,Daten!$A$271:$A$320,Daten!$S$271:$S$320),\"\")","v":"44,6 Inhalt2Einh[44,6]"},null,{"$f":"IF($A309<=Daten!$B$8,LOOKUP($B309,Daten!$A$322:$A$371,Daten!$R$322:$R$371),\"\") & \" \" & IF($A309<=Daten!$B$8,LOOKUP($B309,Daten!$A$322:$A$371,Daten!$S$322:$S$371),\"\")","v":"44,7 Inhalt2Einh[44,7]"}]
[null,null,null,{"$f":"IF($A309<=Daten!$B$8,LOOKUP($B309,Daten!$A$16:$A$65,Daten!$T$16:$T$65),\"\") & \" \" & IF($A309<=Daten!$B$8,LOOKUP($B309,Daten!$A$16:$A$65,Daten!$U$16:$U$65),\"\")","v":"44,1 Inhalt3Einh[44,1]"},null,{"$f":"IF($A309<=Daten!$B$8,LOOKUP($B309,Daten!$A$67:$A$116,Daten!$T$67:$T$116),\"\") & \" \" & IF($A309<=Daten!$B$8,LOOKUP($B309,Daten!$A$67:$A$116,Daten!$U$67:$U$116),\"\")","v":"44,2 Inhalt3Einh[44,2]"},null,{"$f":"IF($A309<=Daten!$B$8,LOOKUP($B309,Daten!$A$118:$A$167,Daten!$T$118:$T$167),\"\") & \" \" & IF($A309<=Daten!$B$8,LOOKUP($B309,Daten!$A$118:$A$167,Daten!$U$118:$U$167),\"\")","v":"44,3 Inhalt3Einh[44,3]"},null,{"$f":"IF($A309<=Daten!$B$8,LOOKUP($B309,Daten!$A$169:$A$218,Daten!$T$169:$T$218),\"\") & \" \" & IF($A309<=Daten!$B$8,LOOKUP($B309,Daten!$A$169:$A$218,Daten!$U$169:$U$218),\"\")","v":"44,4 Inhalt3Einh[44,4]"},null,{"$f":"IF($A309<=Daten!$B$8,LOOKUP($B309,Daten!$A$220:$A$269,Daten!$T$220:$T$269),\"\") & \" \" & IF($A309<=Daten!$B$8,LOOKUP($B309,Daten!$A$220:$A$269,Daten!$U$220:$U$269),\"\")","v":"44,5 Inhalt3Einh[44,5]"},null,{"$f":"IF($A309<=Daten!$B$8,LOOKUP($B309,Daten!$A$271:$A$320,Daten!$T$271:$T$320),\"\") & \" \" & IF($A309<=Daten!$B$8,LOOKUP($B309,Daten!$A$271:$A$320,Daten!$U$271:$U$320),\"\")","v":"44,6 Inhalt3Einh[44,6]"},null,{"$f":"IF($A309<=Daten!$B$8,LOOKUP($B309,Daten!$A$322:$A$371,Daten!$T$322:$T$371),\"\") & \" \" & IF($A309<=Daten!$B$8,LOOKUP($B309,Daten!$A$322:$A$371,Daten!$U$322:$U$371),\"\")","v":"44,7 Inhalt3Einh[44,7]"}]
[null,null,null,{"$f":"IF($A309<=Daten!$B$8,LOOKUP($B309,Daten!$A$16:$A$65,Daten!$V$16:$V$65),\"\") & \" \" & IF($A309<=Daten!$B$8,LOOKUP($B309,Daten!$A$16:$A$65,Daten!$W$16:$W$65),\"\")","v":"44,1 Inhalt4Einh[44,1]"},null,{"$f":"IF($A309<=Daten!$B$8,LOOKUP($B309,Daten!$A$67:$A$116,Daten!$V$67:$V$116),\"\") & \" \" & IF($A309<=Daten!$B$8,LOOKUP($B309,Daten!$A$67:$A$116,Daten!$W$67:$W$116),\"\")","v":"44,2 Inhalt4Einh[44,2]"},null,{"$f":"IF($A309<=Daten!$B$8,LOOKUP($B309,Daten!$A$118:$A$167,Daten!$V$118:$V$167),\"\") & \" \" & IF($A309<=Daten!$B$8,LOOKUP($B309,Daten!$A$118:$A$167,Daten!$W$118:$W$167),\"\")","v":"44,3 Inhalt4Einh[44,3]"},null,{"$f":"IF($A309<=Daten!$B$8,LOOKUP($B309,Daten!$A$169:$A$218,Daten!$V$169:$V$218),\"\") & \" \" & IF($A309<=Daten!$B$8,LOOKUP($B309,Daten!$A$169:$A$218,Daten!$W$169:$W$218),\"\")","v":"44,4 Inhalt4Einh[44,4]"},null,{"$f":"IF($A309<=Daten!$B$8,LOOKUP($B309,Daten!$A$220:$A$269,Daten!$V$220:$V$269),\"\") & \" \" & IF($A309<=Daten!$B$8,LOOKUP($B309,Daten!$A$220:$A$269,Daten!$W$220:$W$269),\"\")","v":"44,5 Inhalt4Einh[44,5]"},null,{"$f":"IF($A309<=Daten!$B$8,LOOKUP($B309,Daten!$A$271:$A$320,Daten!$V$271:$V$320),\"\") & \" \" & IF($A309<=Daten!$B$8,LOOKUP($B309,Daten!$A$271:$A$320,Daten!$W$271:$W$320),\"\")","v":"44,6 Inhalt4Einh[44,6]"},null,{"$f":"IF($A309<=Daten!$B$8,LOOKUP($B309,Daten!$A$322:$A$371,Daten!$V$322:$V$371),\"\") & \" \" & IF($A309<=Daten!$B$8,LOOKUP($B309,Daten!$A$322:$A$371,Daten!$W$322:$W$371),\"\")","v":"44,7 Inhalt4Einh[44,7]"}]
[null,null,null,{"$f":"IF($A309<=Daten!$B$8,LOOKUP($B309,Daten!$A$16:$A$65,Daten!$X$16:$X$65),\"\") & \" \" & IF($A309<=Daten!$B$8,LOOKUP($B309,Daten!$A$16:$A$65,Daten!$Y$16:$Y$65),\"\")","v":"44,1 Inhalt5Einh[44,1]"},null,{"$f":"IF($A309<=Daten!$B$8,LOOKUP($B309,Daten!$A$67:$A$116,Daten!$X$67:$X$116),\"\") & \" \" & IF($A309<=Daten!$B$8,LOOKUP($B309,Daten!$A$67:$A$116,Daten!$Y$67:$Y$116),\"\")","v":"44,2 Inhalt5Einh[44,2]"},null,{"$f":"IF($A309<=Daten!$B$8,LOOKUP($B309,Daten!$A$118:$A$167,Daten!$X$118:$X$167),\"\") & \" \" & IF($A309<=Daten!$B$8,LOOKUP($B309,Daten!$A$118:$A$167,Daten!$Y$118:$Y$167),\"\")","v":"44,3 Inhalt5Einh[44,3]"},null,{"$f":"IF($A309<=Daten!$B$8,LOOKUP($B309,Daten!$A$169:$A$218,Daten!$X$169:$X$218),\"\") & \" \" & IF($A309<=Daten!$B$8,LOOKUP($B309,Daten!$A$169:$A$218,Daten!$Y$169:$Y$218),\"\")","v":"44,4 Inhalt5Einh[44,4]"},null,{"$f":"IF($A309<=Daten!$B$8,LOOKUP($B309,Daten!$A$220:$A$269,Daten!$X$220:$X$269),\"\") & \" \" & IF($A309<=Daten!$B$8,LOOKUP($B309,Daten!$A$220:$A$269,Daten!$Y$220:$Y$269),\"\")","v":"44,5 Inhalt5Einh[44,5]"},null,{"$f":"IF($A309<=Daten!$B$8,LOOKUP($B309,Daten!$A$271:$A$320,Daten!$X$271:$X$320),\"\") & \" \" & IF($A309<=Daten!$B$8,LOOKUP($B309,Daten!$A$271:$A$320,Daten!$Y$271:$Y$320),\"\")","v":"44,6 Inhalt5Einh[44,6]"},null,{"$f":"IF($A309<=Daten!$B$8,LOOKUP($B309,Daten!$A$322:$A$371,Daten!$X$322:$X$371),\"\") & \" \" & IF($A309<=Daten!$B$8,LOOKUP($B309,Daten!$A$322:$A$371,Daten!$Y$322:$Y$371),\"\")","v":"44,7 Inhalt5Einh[44,7]"}]
[null,null,null,{"$f":"IF($A309<=Daten!$B$8,LOOKUP($B309,Daten!$A$16:$A$65,Daten!$Z$16:$Z$65),\"\") & \" \" & IF($A309<=Daten!$B$8,LOOKUP($B309,Daten!$A$16:$A$65,Daten!$AA$16:$AA$65),\"\")","v":"44,1 Inhalt6Einh[44,1]"},null,{"$f":"IF($A309<=Daten!$B$8,LOOKUP($B309,Daten!$A$67:$A$116,Daten!$Z$67:$Z$116),\"\") & \" \" & IF($A309<=Daten!$B$8,LOOKUP($B309,Daten!$A$67:$A$116,Daten!$AA$67:$AA$116),\"\")","v":"44,2 Inhalt6Einh[44,2]"},null,{"$f":"IF($A309<=Daten!$B$8,LOOKUP($B309,Daten!$A$118:$A$167,Daten!$Z$118:$Z$167),\"\") & \" \" & IF($A309<=Daten!$B$8,LOOKUP($B309,Daten!$A$118:$A$167,Daten!$AA$118:$AA$167),\"\")","v":"44,3 Inhalt6Einh[44,3]"},null,{"$f":"IF($A309<=Daten!$B$8,LOOKUP($B309,Daten!$A$169:$A$218,Daten!$Z$169:$Z$218),\"\") & \" \" & IF($A309<=Daten!$B$8,LOOKUP($B309,Daten!$A$169:$A$218,Daten!$AA$169:$AA$218),\"\")","v":"44,4 Inhalt6Einh[44,4]"},null,{"$f":"IF($A309<=Daten!$B$8,LOOKUP($B309,Daten!$A$220:$A$269,Daten!$Z$220:$Z$269),\"\") & \" \" & IF($A309<=Daten!$B$8,LOOKUP($B309,Daten!$A$220:$A$269,Daten!$AA$220:$AA$269),\"\")","v":"44,5 Inhalt6Einh[44,5]"},null,{"$f":"IF($A309<=Daten!$B$8,LOOKUP($B309,Daten!$A$271:$A$320,Daten!$Z$271:$Z$320),\"\") & \" \" & IF($A309<=Daten!$B$8,LOOKUP($B309,Daten!$A$271:$A$320,Daten!$AA$271:$AA$320),\"\")","v":"44,6 Inhalt6Einh[44,6]"},null,{"$f":"IF($A309<=Daten!$B$8,LOOKUP($B309,Daten!$A$322:$A$371,Daten!$Z$322:$Z$371),\"\") & \" \" & IF($A309<=Daten!$B$8,LOOKUP($B309,Daten!$A$322:$A$371,Daten!$AA$322:$AA$371),\"\")","v":"44,7 Inhalt6Einh[44,7]"}]
[null,{"$f":"IF(A309<=Daten!$B$8,\"Zusatzstoffe\",\"\")","v":"Zusatzstoffe"},{"$f":"IF($A309<=Daten!$B$8,LOOKUP($B309,Daten!$A$16:$A$65,Daten!$L$16:$L$65),\"\")","v":44.1},{"$f":"IF($A309<=Daten!$B$8,LOOKUP($B309,Daten!$A$16:$A$65,Daten!$E$16:$E$65),\"\")","v":214.1},{"$f":"IF($A309<=Daten!$B$8,LOOKUP($B309,Daten!$A$67:$A$116,Daten!$L$67:$L$116),\"\")","v":44.2},{"$f":"IF($A309<=Daten!$B$8,LOOKUP($B309,Daten!$A$16:$A$65,Daten!$E$67:$E$116),\"\")","v":0},{"$f":"IF($A309<=Daten!$B$8,LOOKUP($B309,Daten!$A$118:$A$167,Daten!$L$118:$L$167),\"\")","v":44.3},{"$f":"IF($A309<=Daten!$B$8,LOOKUP($B309,Daten!$A$118:$A$167,Daten!$E$118:$E$167),\"\")","v":0},{"$f":"IF($A309<=Daten!$B$8,LOOKUP($B309,Daten!$A$169:$A$218,Daten!$L$169:$L$218),\"\")","v":44.4},{"$f":"IF($A309<=Daten!$B$8,LOOKUP($B309,Daten!$A$169:$A$218,Daten!$E$169:$E$218),\"\")","v":0},{"$f":"IF($A309<=Daten!$B$8,LOOKUP($B309,Daten!$A$220:$A$269,Daten!$L$220:$L$269),\"\")","v":44.5},{"$f":"IF($A309<=Daten!$B$8,LOOKUP($B309,Daten!$A$220:$A$269,Daten!$E$220:$E$269),\"\")","v":0},{"$f":"IF($A309<=Daten!$B$8,LOOKUP($B309,Daten!$A$271:$A$320,Daten!$L$271:$L$320),\"\")","v":44.6},{"$f":"IF($A309<=Daten!$B$8,LOOKUP($B309,Daten!$A$271:$A$320,Daten!$E$271:$E$320),\"\")","v":0},{"$f":"IF($A309<=Daten!$B$8,LOOKUP($B309,Daten!$A$322:$A$371,Daten!$L$322:$L$371),\"\")","v":44.7},{"$f":"IF($A309<=Daten!$B$8,LOOKUP($B309,Daten!$A$322:$A$371,Daten!$E$322:$E$371),\"\")","v":0}]
[45,{"$f":"IF(A316<=Daten!$B$8,Daten!AT9,\"\")","v":"Menülinie 45"},{"$f":"IF(A316<=Daten!$B$8,LOOKUP(B316,Daten!$A$16:$A$65,Daten!$C$16:$C$65),\"\")","v":"Lang[45,1]"},{"$f":"IF($A316<=Daten!$B$8,LOOKUP($B316,Daten!$A$16:$A$65,Daten!$P$16:$P$65),\"\") & \" \" & IF($A316<=Daten!$B$8,LOOKUP($B316,Daten!$A$16:$A$65,Daten!$Q$16:$Q$65),\"\")","v":"45,1 Inhalt1Einh[45,1]"},{"$f":"IF($A316<=Daten!$B$8,LOOKUP($B316,Daten!$A$67:$A$116,Daten!$C$67:$C$116),\"\")","v":"Lang[45,2]"},{"$f":"IF($A316<=Daten!$B$8,LOOKUP($B316,Daten!$A$67:$A$116,Daten!$P$67:$P$116),\"\") & \" \" & IF($A316<=Daten!$B$8,LOOKUP($B316,Daten!$A$67:$A$116,Daten!$Q$67:$Q$116),\"\")","v":"45,2 Inhalt1Einh[45,2]"},{"$f":"IF($A316<=Daten!$B$8,LOOKUP($B316,Daten!$A$118:$A$167,Daten!$C$118:$C$167),\"\")","v":"Lang[45,3]"},{"$f":"IF($A316<=Daten!$B$8,LOOKUP($B316,Daten!$A$118:$A$167,Daten!$P$118:$P$167),\"\") & \" \" & IF($A316<=Daten!$B$8,LOOKUP($B316,Daten!$A$118:$A$167,Daten!$Q$118:$Q$167),\"\")","v":"45,3 Inhalt1Einh[45,3]"},{"$f":"IF($A316<=Daten!$B$8,LOOKUP($B316,Daten!$A$169:$A$218,Daten!$C$169:$C$218),\"\")","v":"Lang[45,4]"},{"$f":"IF($A316<=Daten!$B$8,LOOKUP($B316,Daten!$A$169:$A$218,Daten!$P$169:$P$218),\"\") & \" \" & IF($A316<=Daten!$B$8,LOOKUP($B316,Daten!$A$169:$A$218,Daten!$Q$169:$Q$218),\"\")","v":"45,4 Inhalt1Einh[45,4]"},{"$f":"IF($A316<=Daten!$B$8,LOOKUP($B316,Daten!$A$220:$A$269,Daten!$C$220:$C$269),\"\")","v":"Lang[45,5]"},{"$f":"IF($A316<=Daten!$B$8,LOOKUP($B316,Daten!$A$220:$A$269,Daten!$P$220:$P$269),\"\") & \" \" & IF($A316<=Daten!$B$8,LOOKUP($B316,Daten!$A$220:$A$269,Daten!$Q$220:$Q$269),\"\")","v":"45,5 Inhalt1Einh[45,5]"},{"$f":"IF($A316<=Daten!$B$8,LOOKUP($B316,Daten!$A$271:$A$320,Daten!$C$271:$C$320),\"\")","v":"Lang[45,6]"},{"$f":"IF($A316<=Daten!$B$8,LOOKUP($B316,Daten!$A$271:$A$320,Daten!$P$271:$P$320),\"\") & \" \" & IF($A316<=Daten!$B$8,LOOKUP($B316,Daten!$A$271:$A$320,Daten!$Q$271:$Q$320),\"\")","v":"45,6 Inhalt1Einh[45,6]"},{"$f":"IF($A316<=Daten!$B$8,LOOKUP($B316,Daten!$A$322:$A$371,Daten!$B$322:$C$371),\"\")","v":{"$error":"#N/A"}},{"$f":"IF($A316<=Daten!$B$8,LOOKUP($B316,Daten!$A$322:$A$371,Daten!$P$322:$P$371),\"\") & \" \" & IF($A316<=Daten!$B$8,LOOKUP($B316,Daten!$A$322:$A$371,Daten!$Q$322:$Q$371),\"\")","v":"45,7 Inhalt1Einh[45,7]"}]
[null,null,null,{"$f":"IF($A316<=Daten!$B$8,LOOKUP($B316,Daten!$A$16:$A$65,Daten!$R$16:$R$65),\"\") & \" \" & IF($A316<=Daten!$B$8,LOOKUP($B316,Daten!$A$16:$A$65,Daten!$S$16:$S$65),\"\")","v":"45,1 Inhalt2Einh[45,1]"},null,{"$f":"IF($A316<=Daten!$B$8,LOOKUP($B316,Daten!$A$67:$A$116,Daten!$R$67:$R$116),\"\") & \" \" & IF($A316<=Daten!$B$8,LOOKUP($B316,Daten!$A$67:$A$116,Daten!$S$67:$S$116),\"\")","v":"45,2 Inhalt2Einh[45,2]"},null,{"$f":"IF($A316<=Daten!$B$8,LOOKUP($B316,Daten!$A$118:$A$167,Daten!$R$118:$R$167),\"\") & \" \" & IF($A316<=Daten!$B$8,LOOKUP($B316,Daten!$A$118:$A$167,Daten!$S$118:$S$167),\"\")","v":"45,3 Inhalt2Einh[45,3]"},null,{"$f":"IF($A316<=Daten!$B$8,LOOKUP($B316,Daten!$A$169:$A$218,Daten!$R$169:$R$218),\"\") & \" \" & IF($A316<=Daten!$B$8,LOOKUP($B316,Daten!$A$169:$A$218,Daten!$S$169:$S$218),\"\")","v":"45,4 Inhalt2Einh[45,4]"},null,{"$f":"IF($A316<=Daten!$B$8,LOOKUP($B316,Daten!$A$220:$A$269,Daten!$R$220:$R$269),\"\") & \" \" & IF($A316<=Daten!$B$8,LOOKUP($B316,Daten!$A$220:$A$269,Daten!$S$220:$S$269),\"\")","v":"45,5 Inhalt2Einh[45,5]"},null,{"$f":"IF($A316<=Daten!$B$8,LOOKUP($B316,Daten!$A$271:$A$320,Daten!$R$271:$R$320),\"\") & \" \" & IF($A316<=Daten!$B$8,LOOKUP($B316,Daten!$A$271:$A$320,Daten!$S$271:$S$320),\"\")","v":"45,6 Inhalt2Einh[45,6]"},null,{"$f":"IF($A316<=Daten!$B$8,LOOKUP($B316,Daten!$A$322:$A$371,Daten!$R$322:$R$371),\"\") & \" \" & IF($A316<=Daten!$B$8,LOOKUP($B316,Daten!$A$322:$A$371,Daten!$S$322:$S$371),\"\")","v":"45,7 Inhalt2Einh[45,7]"}]
[null,null,null,{"$f":"IF($A316<=Daten!$B$8,LOOKUP($B316,Daten!$A$16:$A$65,Daten!$T$16:$T$65),\"\") & \" \" & IF($A316<=Daten!$B$8,LOOKUP($B316,Daten!$A$16:$A$65,Daten!$U$16:$U$65),\"\")","v":"45,1 Inhalt3Einh[45,1]"},null,{"$f":"IF($A316<=Daten!$B$8,LOOKUP($B316,Daten!$A$67:$A$116,Daten!$T$67:$T$116),\"\") & \" \" & IF($A316<=Daten!$B$8,LOOKUP($B316,Daten!$A$67:$A$116,Daten!$U$67:$U$116),\"\")","v":"45,2 Inhalt3Einh[45,2]"},null,{"$f":"IF($A316<=Daten!$B$8,LOOKUP($B316,Daten!$A$118:$A$167,Daten!$T$118:$T$167),\"\") & \" \" & IF($A316<=Daten!$B$8,LOOKUP($B316,Daten!$A$118:$A$167,Daten!$U$118:$U$167),\"\")","v":"45,3 Inhalt3Einh[45,3]"},null,{"$f":"IF($A316<=Daten!$B$8,LOOKUP($B316,Daten!$A$169:$A$218,Daten!$T$169:$T$218),\"\") & \" \" & IF($A316<=Daten!$B$8,LOOKUP($B316,Daten!$A$169:$A$218,Daten!$U$169:$U$218),\"\")","v":"45,4 Inhalt3Einh[45,4]"},null,{"$f":"IF($A316<=Daten!$B$8,LOOKUP($B316,Daten!$A$220:$A$269,Daten!$T$220:$T$269),\"\") & \" \" & IF($A316<=Daten!$B$8,LOOKUP($B316,Daten!$A$220:$A$269,Daten!$U$220:$U$269),\"\")","v":"45,5 Inhalt3Einh[45,5]"},null,{"$f":"IF($A316<=Daten!$B$8,LOOKUP($B316,Daten!$A$271:$A$320,Daten!$T$271:$T$320),\"\") & \" \" & IF($A316<=Daten!$B$8,LOOKUP($B316,Daten!$A$271:$A$320,Daten!$U$271:$U$320),\"\")","v":"45,6 Inhalt3Einh[45,6]"},null,{"$f":"IF($A316<=Daten!$B$8,LOOKUP($B316,Daten!$A$322:$A$371,Daten!$T$322:$T$371),\"\") & \" \" & IF($A316<=Daten!$B$8,LOOKUP($B316,Daten!$A$322:$A$371,Daten!$U$322:$U$371),\"\")","v":"45,7 Inhalt3Einh[45,7]"}]
[null,null,null,{"$f":"IF($A316<=Daten!$B$8,LOOKUP($B316,Daten!$A$16:$A$65,Daten!$V$16:$V$65),\"\") & \" \" & IF($A316<=Daten!$B$8,LOOKUP($B316,Daten!$A$16:$A$65,Daten!$W$16:$W$65),\"\")","v":"45,1 Inhalt4Einh[45,1]"},null,{"$f":"IF($A316<=Daten!$B$8,LOOKUP($B316,Daten!$A$67:$A$116,Daten!$V$67:$V$116),\"\") & \" \" & IF($A316<=Daten!$B$8,LOOKUP($B316,Daten!$A$67:$A$116,Daten!$W$67:$W$116),\"\")","v":"45,2 Inhalt4Einh[45,2]"},null,{"$f":"IF($A316<=Daten!$B$8,LOOKUP($B316,Daten!$A$118:$A$167,Daten!$V$118:$V$167),\"\") & \" \" & IF($A316<=Daten!$B$8,LOOKUP($B316,Daten!$A$118:$A$167,Daten!$W$118:$W$167),\"\")","v":"45,3 Inhalt4Einh[45,3]"},null,{"$f":"IF($A316<=Daten!$B$8,LOOKUP($B316,Daten!$A$169:$A$218,Daten!$V$169:$V$218),\"\") & \" \" & IF($A316<=Daten!$B$8,LOOKUP($B316,Daten!$A$169:$A$218,Daten!$W$169:$W$218),\"\")","v":"45,4 Inhalt4Einh[45,4]"},null,{"$f":"IF($A316<=Daten!$B$8,LOOKUP($B316,Daten!$A$220:$A$269,Daten!$V$220:$V$269),\"\") & \" \" & IF($A316<=Daten!$B$8,LOOKUP($B316,Daten!$A$220:$A$269,Daten!$W$220:$W$269),\"\")","v":"45,5 Inhalt4Einh[45,5]"},null,{"$f":"IF($A316<=Daten!$B$8,LOOKUP($B316,Daten!$A$271:$A$320,Daten!$V$271:$V$320),\"\") & \" \" & IF($A316<=Daten!$B$8,LOOKUP($B316,Daten!$A$271:$A$320,Daten!$W$271:$W$320),\"\")","v":"45,6 Inhalt4Einh[45,6]"},null,{"$f":"IF($A316<=Daten!$B$8,LOOKUP($B316,Daten!$A$322:$A$371,Daten!$V$322:$V$371),\"\") & \" \" & IF($A316<=Daten!$B$8,LOOKUP($B316,Daten!$A$322:$A$371,Daten!$W$322:$W$371),\"\")","v":"45,7 Inhalt4Einh[45,7]"}]
[null,null,null,{"$f":"IF($A316<=Daten!$B$8,LOOKUP($B316,Daten!$A$16:$A$65,Daten!$X$16:$X$65),\"\") & \" \" & IF($A316<=Daten!$B$8,LOOKUP($B316,Daten!$A$16:$A$65,Daten!$Y$16:$Y$65),\"\")","v":"45,1 Inhalt5Einh[45,1]"},null,{"$f":"IF($A316<=Daten!$B$8,LOOKUP($B316,Daten!$A$67:$A$116,Daten!$X$67:$X$116),\"\") & \" \" & IF($A316<=Daten!$B$8,LOOKUP($B316,Daten!$A$67:$A$116,Daten!$Y$67:$Y$116),\"\")","v":"45,2 Inhalt5Einh[45,2]"},null,{"$f":"IF($A316<=Daten!$B$8,LOOKUP($B316,Daten!$A$118:$A$167,Daten!$X$118:$X$167),\"\") & \" \" & IF($A316<=Daten!$B$8,LOOKUP($B316,Daten!$A$118:$A$167,Daten!$Y$118:$Y$167),\"\")","v":"45,3 Inhalt5Einh[45,3]"},null,{"$f":"IF($A316<=Daten!$B$8,LOOKUP($B316,Daten!$A$169:$A$218,Daten!$X$169:$X$218),\"\") & \" \" & IF($A316<=Daten!$B$8,LOOKUP($B316,Daten!$A$169:$A$218,Daten!$Y$169:$Y$218),\"\")","v":"45,4 Inhalt5Einh[45,4]"},null,{"$f":"IF($A316<=Daten!$B$8,LOOKUP($B316,Daten!$A$220:$A$269,Daten!$X$220:$X$269),\"\") & \" \" & IF($A316<=Daten!$B$8,LOOKUP($B316,Daten!$A$220:$A$269,Daten!$Y$220:$Y$269),\"\")","v":"45,5 Inhalt5Einh[45,5]"},null,{"$f":"IF($A316<=Daten!$B$8,LOOKUP($B316,Daten!$A$271:$A$320,Daten!$X$271:$X$320),\"\") & \" \" & IF($A316<=Daten!$B$8,LOOKUP($B316,Daten!$A$271:$A$320,Daten!$Y$271:$Y$320),\"\")","v":"45,6 Inhalt5Einh[45,6]"},null,{"$f":"IF($A316<=Daten!$B$8,LOOKUP($B316,Daten!$A$322:$A$371,Daten!$X$322:$X$371),\"\") & \" \" & IF($A316<=Daten!$B$8,LOOKUP($B316,Daten!$A$322:$A$371,Daten!$Y$322:$Y$371),\"\")","v":"45,7 Inhalt5Einh[45,7]"}]
[null,null,null,{"$f":"IF($A316<=Daten!$B$8,LOOKUP($B316,Daten!$A$16:$A$65,Daten!$Z$16:$Z$65),\"\") & \" \" & IF($A316<=Daten!$B$8,LOOKUP($B316,Daten!$A$16:$A$65,Daten!$AA$16:$AA$65),\"\")","v":"45,1 Inhalt6Einh[45,1]"},null,{"$f":"IF($A316<=Daten!$B$8,LOOKUP($B316,Daten!$A$67:$A$116,Daten!$Z$67:$Z$116),\"\") & \" \" & IF($A316<=Daten!$B$8,LOOKUP($B316,Daten!$A$67:$A$116,Daten!$AA$67:$AA$116),\"\")","v":"45,2 Inhalt6Einh[45,2]"},null,{"$f":"IF($A316<=Daten!$B$8,LOOKUP($B316,Daten!$A$118:$A$167,Daten!$Z$118:$Z$167),\"\") & \" \" & IF($A316<=Daten!$B$8,LOOKUP($B316,Daten!$A$118:$A$167,Daten!$AA$118:$AA$167),\"\")","v":"45,3 Inhalt6Einh[45,3]"},null,{"$f":"IF($A316<=Daten!$B$8,LOOKUP($B316,Daten!$A$169:$A$218,Daten!$Z$169:$Z$218),\"\") & \" \" & IF($A316<=Daten!$B$8,LOOKUP($B316,Daten!$A$169:$A$218,Daten!$AA$169:$AA$218),\"\")","v":"45,4 Inhalt6Einh[45,4]"},null,{"$f":"IF($A316<=Daten!$B$8,LOOKUP($B316,Daten!$A$220:$A$269,Daten!$Z$220:$Z$269),\"\") & \" \" & IF($A316<=Daten!$B$8,LOOKUP($B316,Daten!$A$220:$A$269,Daten!$AA$220:$AA$269),\"\")","v":"45,5 Inhalt6Einh[45,5]"},null,{"$f":"IF($A316<=Daten!$B$8,LOOKUP($B316,Daten!$A$271:$A$320,Daten!$Z$271:$Z$320),\"\") & \" \" & IF($A316<=Daten!$B$8,LOOKUP($B316,Daten!$A$271:$A$320,Daten!$AA$271:$AA$320),\"\")","v":"45,6 Inhalt6Einh[45,6]"},null,{"$f":"IF($A316<=Daten!$B$8,LOOKUP($B316,Daten!$A$322:$A$371,Daten!$Z$322:$Z$371),\"\") & \" \" & IF($A316<=Daten!$B$8,LOOKUP($B316,Daten!$A$322:$A$371,Daten!$AA$322:$AA$371),\"\")","v":"45,7 Inhalt6Einh[45,7]"}]
[null,{"$f":"IF(A316<=Daten!$B$8,\"Zusatzstoffe\",\"\")","v":"Zusatzstoffe"},{"$f":"IF($A316<=Daten!$B$8,LOOKUP($B316,Daten!$A$16:$A$65,Daten!$L$16:$L$65),\"\")","v":45.1},{"$f":"IF($A316<=Daten!$B$8,LOOKUP($B316,Daten!$A$16:$A$65,Daten!$E$16:$E$65),\"\")","v":215.1},{"$f":"IF($A316<=Daten!$B$8,LOOKUP($B316,Daten!$A$67:$A$116,Daten!$L$67:$L$116),\"\")","v":45.2},{"$f":"IF($A316<=Daten!$B$8,LOOKUP($B316,Daten!$A$16:$A$65,Daten!$E$67:$E$116),\"\")","v":0},{"$f":"IF($A316<=Daten!$B$8,LOOKUP($B316,Daten!$A$118:$A$167,Daten!$L$118:$L$167),\"\")","v":45.3},{"$f":"IF($A316<=Daten!$B$8,LOOKUP($B316,Daten!$A$118:$A$167,Daten!$E$118:$E$167),\"\")","v":0},{"$f":"IF($A316<=Daten!$B$8,LOOKUP($B316,Daten!$A$169:$A$218,Daten!$L$169:$L$218),\"\")","v":45.4},{"$f":"IF($A316<=Daten!$B$8,LOOKUP($B316,Daten!$A$169:$A$218,Daten!$E$169:$E$218),\"\")","v":0},{"$f":"IF($A316<=Daten!$B$8,LOOKUP($B316,Daten!$A$220:$A$269,Daten!$L$220:$L$269),\"\")","v":45.5},{"$f":"IF($A316<=Daten!$B$8,LOOKUP($B316,Daten!$A$220:$A$269,Daten!$E$220:$E$269),\"\")","v":0},{"$f":"IF($A316<=Daten!$B$8,LOOKUP($B316,Daten!$A$271:$A$320,Daten!$L$271:$L$320),\"\")","v":45.6},{"$f":"IF($A316<=Daten!$B$8,LOOKUP($B316,Daten!$A$271:$A$320,Daten!$E$271:$E$320),\"\")","v":0},{"$f":"IF($A316<=Daten!$B$8,LOOKUP($B316,Daten!$A$322:$A$371,Daten!$L$322:$L$371),\"\")","v":45.7},{"$f":"IF($A316<=Daten!$B$8,LOOKUP($B316,Daten!$A$322:$A$371,Daten!$E$322:$E$371),\"\")","v":0}]
[46,{"$f":"IF(A323<=Daten!$B$8,Daten!AU9,\"\")","v":"Menülinie 46"},{"$f":"IF(A323<=Daten!$B$8,LOOKUP(B323,Daten!$A$16:$A$65,Daten!$C$16:$C$65),\"\")","v":"Lang[46,1]"},{"$f":"IF($A323<=Daten!$B$8,LOOKUP($B323,Daten!$A$16:$A$65,Daten!$P$16:$P$65),\"\") & \" \" & IF($A323<=Daten!$B$8,LOOKUP($B323,Daten!$A$16:$A$65,Daten!$Q$16:$Q$65),\"\")","v":"46,1 Inhalt1Einh[46,1]"},{"$f":"IF($A323<=Daten!$B$8,LOOKUP($B323,Daten!$A$67:$A$116,Daten!$C$67:$C$116),\"\")","v":"Lang[46,2]"},{"$f":"IF($A323<=Daten!$B$8,LOOKUP($B323,Daten!$A$67:$A$116,Daten!$P$67:$P$116),\"\") & \" \" & IF($A323<=Daten!$B$8,LOOKUP($B323,Daten!$A$67:$A$116,Daten!$Q$67:$Q$116),\"\")","v":"46,2 Inhalt1Einh[46,2]"},{"$f":"IF($A323<=Daten!$B$8,LOOKUP($B323,Daten!$A$118:$A$167,Daten!$C$118:$C$167),\"\")","v":"Lang[46,3]"},{"$f":"IF($A323<=Daten!$B$8,LOOKUP($B323,Daten!$A$118:$A$167,Daten!$P$118:$P$167),\"\") & \" \" & IF($A323<=Daten!$B$8,LOOKUP($B323,Daten!$A$118:$A$167,Daten!$Q$118:$Q$167),\"\")","v":"46,3 Inhalt1Einh[46,3]"},{"$f":"IF($A323<=Daten!$B$8,LOOKUP($B323,Daten!$A$169:$A$218,Daten!$C$169:$C$218),\"\")","v":"Lang[46,4]"},{"$f":"IF($A323<=Daten!$B$8,LOOKUP($B323,Daten!$A$169:$A$218,Daten!$P$169:$P$218),\"\") & \" \" & IF($A323<=Daten!$B$8,LOOKUP($B323,Daten!$A$169:$A$218,Daten!$Q$169:$Q$218),\"\")","v":"46,4 Inhalt1Einh[46,4]"},{"$f":"IF($A323<=Daten!$B$8,LOOKUP($B323,Daten!$A$220:$A$269,Daten!$C$220:$C$269),\"\")","v":"Lang[46,5]"},{"$f":"IF($A323<=Daten!$B$8,LOOKUP($B323,Daten!$A$220:$A$269,Daten!$P$220:$P$269),\"\") & \" \" & IF($A323<=Daten!$B$8,LOOKUP($B323,Daten!$A$220:$A$269,Daten!$Q$220:$Q$269),\"\")","v":"46,5 Inhalt1Einh[46,5]"},{"$f":"IF($A323<=Daten!$B$8,LOOKUP($B323,Daten!$A$271:$A$320,Daten!$C$271:$C$320),\"\")","v":"Lang[46,6]"},{"$f":"IF($A323<=Daten!$B$8,LOOKUP($B323,Daten!$A$271:$A$320,Daten!$P$271:$P$320),\"\") & \" \" & IF($A323<=Daten!$B$8,LOOKUP($B323,Daten!$A$271:$A$320,Daten!$Q$271:$Q$320),\"\")","v":"46,6 Inhalt1Einh[46,6]"},{"$f":"IF($A323<=Daten!$B$8,LOOKUP($B323,Daten!$A$322:$A$371,Daten!$B$322:$C$371),\"\")","v":{"$error":"#N/A"}},{"$f":"IF($A323<=Daten!$B$8,LOOKUP($B323,Daten!$A$322:$A$371,Daten!$P$322:$P$371),\"\") & \" \" & IF($A323<=Daten!$B$8,LOOKUP($B323,Daten!$A$322:$A$371,Daten!$Q$322:$Q$371),\"\")","v":"46,7 Inhalt1Einh[46,7]"}]
[null,null,null,{"$f":"IF($A323<=Daten!$B$8,LOOKUP($B323,Daten!$A$16:$A$65,Daten!$R$16:$R$65),\"\") & \" \" & IF($A323<=Daten!$B$8,LOOKUP($B323,Daten!$A$16:$A$65,Daten!$S$16:$S$65),\"\")","v":"46,1 Inhalt2Einh[46,1]"},null,{"$f":"IF($A323<=Daten!$B$8,LOOKUP($B323,Daten!$A$67:$A$116,Daten!$R$67:$R$116),\"\") & \" \" & IF($A323<=Daten!$B$8,LOOKUP($B323,Daten!$A$67:$A$116,Daten!$S$67:$S$116),\"\")","v":"46,2 Inhalt2Einh[46,2]"},null,{"$f":"IF($A323<=Daten!$B$8,LOOKUP($B323,Daten!$A$118:$A$167,Daten!$R$118:$R$167),\"\") & \" \" & IF($A323<=Daten!$B$8,LOOKUP($B323,Daten!$A$118:$A$167,Daten!$S$118:$S$167),\"\")","v":"46,3 Inhalt2Einh[46,3]"},null,{"$f":"IF($A323<=Daten!$B$8,LOOKUP($B323,Daten!$A$169:$A$218,Daten!$R$169:$R$218),\"\") & \" \" & IF($A323<=Daten!$B$8,LOOKUP($B323,Daten!$A$169:$A$218,Daten!$S$169:$S$218),\"\")","v":"46,4 Inhalt2Einh[46,4]"},null,{"$f":"IF($A323<=Daten!$B$8,LOOKUP($B323,Daten!$A$220:$A$269,Daten!$R$220:$R$269),\"\") & \" \" & IF($A323<=Daten!$B$8,LOOKUP($B323,Daten!$A$220:$A$269,Daten!$S$220:$S$269),\"\")","v":"46,5 Inhalt2Einh[46,5]"},null,{"$f":"IF($A323<=Daten!$B$8,LOOKUP($B323,Daten!$A$271:$A$320,Daten!$R$271:$R$320),\"\") & \" \" & IF($A323<=Daten!$B$8,LOOKUP($B323,Daten!$A$271:$A$320,Daten!$S$271:$S$320),\"\")","v":"46,6 Inhalt2Einh[46,6]"},null,{"$f":"IF($A323<=Daten!$B$8,LOOKUP($B323,Daten!$A$322:$A$371,Daten!$R$322:$R$371),\"\") & \" \" & IF($A323<=Daten!$B$8,LOOKUP($B323,Daten!$A$322:$A$371,Daten!$S$322:$S$371),\"\")","v":"46,7 Inhalt2Einh[46,7]"}]
[null,null,null,{"$f":"IF($A323<=Daten!$B$8,LOOKUP($B323,Daten!$A$16:$A$65,Daten!$T$16:$T$65),\"\") & \" \" & IF($A323<=Daten!$B$8,LOOKUP($B323,Daten!$A$16:$A$65,Daten!$U$16:$U$65),\"\")","v":"46,1 Inhalt3Einh[46,1]"},null,{"$f":"IF($A323<=Daten!$B$8,LOOKUP($B323,Daten!$A$67:$A$116,Daten!$T$67:$T$116),\"\") & \" \" & IF($A323<=Daten!$B$8,LOOKUP($B323,Daten!$A$67:$A$116,Daten!$U$67:$U$116),\"\")","v":"46,2 Inhalt3Einh[46,2]"},null,{"$f":"IF($A323<=Daten!$B$8,LOOKUP($B323,Daten!$A$118:$A$167,Daten!$T$118:$T$167),\"\") & \" \" & IF($A323<=Daten!$B$8,LOOKUP($B323,Daten!$A$118:$A$167,Daten!$U$118:$U$167),\"\")","v":"46,3 Inhalt3Einh[46,3]"},null,{"$f":"IF($A323<=Daten!$B$8,LOOKUP($B323,Daten!$A$169:$A$218,Daten!$T$169:$T$218),\"\") & \" \" & IF($A323<=Daten!$B$8,LOOKUP($B323,Daten!$A$169:$A$218,Daten!$U$169:$U$218),\"\")","v":"46,4 Inhalt3Einh[46,4]"},null,{"$f":"IF($A323<=Daten!$B$8,LOOKUP($B323,Daten!$A$220:$A$269,Daten!$T$220:$T$269),\"\") & \" \" & IF($A323<=Daten!$B$8,LOOKUP($B323,Daten!$A$220:$A$269,Daten!$U$220:$U$269),\"\")","v":"46,5 Inhalt3Einh[46,5]"},null,{"$f":"IF($A323<=Daten!$B$8,LOOKUP($B323,Daten!$A$271:$A$320,Daten!$T$271:$T$320),\"\") & \" \" & IF($A323<=Daten!$B$8,LOOKUP($B323,Daten!$A$271:$A$320,Daten!$U$271:$U$320),\"\")","v":"46,6 Inhalt3Einh[46,6]"},null,{"$f":"IF($A323<=Daten!$B$8,LOOKUP($B323,Daten!$A$322:$A$371,Daten!$T$322:$T$371),\"\") & \" \" & IF($A323<=Daten!$B$8,LOOKUP($B323,Daten!$A$322:$A$371,Daten!$U$322:$U$371),\"\")","v":"46,7 Inhalt3Einh[46,7]"}]
[null,null,null,{"$f":"IF($A323<=Daten!$B$8,LOOKUP($B323,Daten!$A$16:$A$65,Daten!$V$16:$V$65),\"\") & \" \" & IF($A323<=Daten!$B$8,LOOKUP($B323,Daten!$A$16:$A$65,Daten!$W$16:$W$65),\"\")","v":"46,1 Inhalt4Einh[46,1]"},null,{"$f":"IF($A323<=Daten!$B$8,LOOKUP($B323,Daten!$A$67:$A$116,Daten!$V$67:$V$116),\"\") & \" \" & IF($A323<=Daten!$B$8,LOOKUP($B323,Daten!$A$67:$A$116,Daten!$W$67:$W$116),\"\")","v":"46,2 Inhalt4Einh[46,2]"},null,{"$f":"IF($A323<=Daten!$B$8,LOOKUP($B323,Daten!$A$118:$A$167,Daten!$V$118:$V$167),\"\") & \" \" & IF($A323<=Daten!$B$8,LOOKUP($B323,Daten!$A$118:$A$167,Daten!$W$118:$W$167),\"\")","v":"46,3 Inhalt4Einh[46,3]"},null,{"$f":"IF($A323<=Daten!$B$8,LOOKUP($B323,Daten!$A$169:$A$218,Daten!$V$169:$V$218),\"\") & \" \" & IF($A323<=Daten!$B$8,LOOKUP($B323,Daten!$A$169:$A$218,Daten!$W$169:$W$218),\"\")","v":"46,4 Inhalt4Einh[46,4]"},null,{"$f":"IF($A323<=Daten!$B$8,LOOKUP($B323,Daten!$A$220:$A$269,Daten!$V$220:$V$269),\"\") & \" \" & IF($A323<=Daten!$B$8,LOOKUP($B323,Daten!$A$220:$A$269,Daten!$W$220:$W$269),\"\")","v":"46,5 Inhalt4Einh[46,5]"},null,{"$f":"IF($A323<=Daten!$B$8,LOOKUP($B323,Daten!$A$271:$A$320,Daten!$V$271:$V$320),\"\") & \" \" & IF($A323<=Daten!$B$8,LOOKUP($B323,Daten!$A$271:$A$320,Daten!$W$271:$W$320),\"\")","v":"46,6 Inhalt4Einh[46,6]"},null,{"$f":"IF($A323<=Daten!$B$8,LOOKUP($B323,Daten!$A$322:$A$371,Daten!$V$322:$V$371),\"\") & \" \" & IF($A323<=Daten!$B$8,LOOKUP($B323,Daten!$A$322:$A$371,Daten!$W$322:$W$371),\"\")","v":"46,7 Inhalt4Einh[46,7]"}]
[null,null,null,{"$f":"IF($A323<=Daten!$B$8,LOOKUP($B323,Daten!$A$16:$A$65,Daten!$X$16:$X$65),\"\") & \" \" & IF($A323<=Daten!$B$8,LOOKUP($B323,Daten!$A$16:$A$65,Daten!$Y$16:$Y$65),\"\")","v":"46,1 Inhalt5Einh[46,1]"},null,{"$f":"IF($A323<=Daten!$B$8,LOOKUP($B323,Daten!$A$67:$A$116,Daten!$X$67:$X$116),\"\") & \" \" & IF($A323<=Daten!$B$8,LOOKUP($B323,Daten!$A$67:$A$116,Daten!$Y$67:$Y$116),\"\")","v":"46,2 Inhalt5Einh[46,2]"},null,{"$f":"IF($A323<=Daten!$B$8,LOOKUP($B323,Daten!$A$118:$A$167,Daten!$X$118:$X$167),\"\") & \" \" & IF($A323<=Daten!$B$8,LOOKUP($B323,Daten!$A$118:$A$167,Daten!$Y$118:$Y$167),\"\")","v":"46,3 Inhalt5Einh[46,3]"},null,{"$f":"IF($A323<=Daten!$B$8,LOOKUP($B323,Daten!$A$169:$A$218,Daten!$X$169:$X$218),\"\") & \" \" & IF($A323<=Daten!$B$8,LOOKUP($B323,Daten!$A$169:$A$218,Daten!$Y$169:$Y$218),\"\")","v":"46,4 Inhalt5Einh[46,4]"},null,{"$f":"IF($A323<=Daten!$B$8,LOOKUP($B323,Daten!$A$220:$A$269,Daten!$X$220:$X$269),\"\") & \" \" & IF($A323<=Daten!$B$8,LOOKUP($B323,Daten!$A$220:$A$269,Daten!$Y$220:$Y$269),\"\")","v":"46,5 Inhalt5Einh[46,5]"},null,{"$f":"IF($A323<=Daten!$B$8,LOOKUP($B323,Daten!$A$271:$A$320,Daten!$X$271:$X$320),\"\") & \" \" & IF($A323<=Daten!$B$8,LOOKUP($B323,Daten!$A$271:$A$320,Daten!$Y$271:$Y$320),\"\")","v":"46,6 Inhalt5Einh[46,6]"},null,{"$f":"IF($A323<=Daten!$B$8,LOOKUP($B323,Daten!$A$322:$A$371,Daten!$X$322:$X$371),\"\") & \" \" & IF($A323<=Daten!$B$8,LOOKUP($B323,Daten!$A$322:$A$371,Daten!$Y$322:$Y$371),\"\")","v":"46,7 Inhalt5Einh[46,7]"}]
[null,null,null,{"$f":"IF($A323<=Daten!$B$8,LOOKUP($B323,Daten!$A$16:$A$65,Daten!$Z$16:$Z$65),\"\") & \" \" & IF($A323<=Daten!$B$8,LOOKUP($B323,Daten!$A$16:$A$65,Daten!$AA$16:$AA$65),\"\")","v":"46,1 Inhalt6Einh[46,1]"},null,{"$f":"IF($A323<=Daten!$B$8,LOOKUP($B323,Daten!$A$67:$A$116,Daten!$Z$67:$Z$116),\"\") & \" \" & IF($A323<=Daten!$B$8,LOOKUP($B323,Daten!$A$67:$A$116,Daten!$AA$67:$AA$116),\"\")","v":"46,2 Inhalt6Einh[46,2]"},null,{"$f":"IF($A323<=Daten!$B$8,LOOKUP($B323,Daten!$A$118:$A$167,Daten!$Z$118:$Z$167),\"\") & \" \" & IF($A323<=Daten!$B$8,LOOKUP($B323,Daten!$A$118:$A$167,Daten!$AA$118:$AA$167),\"\")","v":"46,3 Inhalt6Einh[46,3]"},null,{"$f":"IF($A323<=Daten!$B$8,LOOKUP($B323,Daten!$A$169:$A$218,Daten!$Z$169:$Z$218),\"\") & \" \" & IF($A323<=Daten!$B$8,LOOKUP($B323,Daten!$A$169:$A$218,Daten!$AA$169:$AA$218),\"\")","v":"46,4 Inhalt6Einh[46,4]"},null,{"$f":"IF($A323<=Daten!$B$8,LOOKUP($B323,Daten!$A$220:$A$269,Daten!$Z$220:$Z$269),\"\") & \" \" & IF($A323<=Daten!$B$8,LOOKUP($B323,Daten!$A$220:$A$269,Daten!$AA$220:$AA$269),\"\")","v":"46,5 Inhalt6Einh[46,5]"},null,{"$f":"IF($A323<=Daten!$B$8,LOOKUP($B323,Daten!$A$271:$A$320,Daten!$Z$271:$Z$320),\"\") & \" \" & IF($A323<=Daten!$B$8,LOOKUP($B323,Daten!$A$271:$A$320,Daten!$AA$271:$AA$320),\"\")","v":"46,6 Inhalt6Einh[46,6]"},null,{"$f":"IF($A323<=Daten!$B$8,LOOKUP($B323,Daten!$A$322:$A$371,Daten!$Z$322:$Z$371),\"\") & \" \" & IF($A323<=Daten!$B$8,LOOKUP($B323,Daten!$A$322:$A$371,Daten!$AA$322:$AA$371),\"\")","v":"46,7 Inhalt6Einh[46,7]"}]
[null,{"$f":"IF(A323<=Daten!$B$8,\"Zusatzstoffe\",\"\")","v":"Zusatzstoffe"},{"$f":"IF($A323<=Daten!$B$8,LOOKUP($B323,Daten!$A$16:$A$65,Daten!$L$16:$L$65),\"\")","v":46.1},{"$f":"IF($A323<=Daten!$B$8,LOOKUP($B323,Daten!$A$16:$A$65,Daten!$E$16:$E$65),\"\")","v":216.1},{"$f":"IF($A323<=Daten!$B$8,LOOKUP($B323,Daten!$A$67:$A$116,Daten!$L$67:$L$116),\"\")","v":46.2},{"$f":"IF($A323<=Daten!$B$8,LOOKUP($B323,Daten!$A$16:$A$65,Daten!$E$67:$E$116),\"\")","v":0},{"$f":"IF($A323<=Daten!$B$8,LOOKUP($B323,Daten!$A$118:$A$167,Daten!$L$118:$L$167),\"\")","v":46.3},{"$f":"IF($A323<=Daten!$B$8,LOOKUP($B323,Daten!$A$118:$A$167,Daten!$E$118:$E$167),\"\")","v":0},{"$f":"IF($A323<=Daten!$B$8,LOOKUP($B323,Daten!$A$169:$A$218,Daten!$L$169:$L$218),\"\")","v":46.4},{"$f":"IF($A323<=Daten!$B$8,LOOKUP($B323,Daten!$A$169:$A$218,Daten!$E$169:$E$218),\"\")","v":0},{"$f":"IF($A323<=Daten!$B$8,LOOKUP($B323,Daten!$A$220:$A$269,Daten!$L$220:$L$269),\"\")","v":46.5},{"$f":"IF($A323<=Daten!$B$8,LOOKUP($B323,Daten!$A$220:$A$269,Daten!$E$220:$E$269),\"\")","v":0},{"$f":"IF($A323<=Daten!$B$8,LOOKUP($B323,Daten!$A$271:$A$320,Daten!$L$271:$L$320),\"\")","v":46.6},{"$f":"IF($A323<=Daten!$B$8,LOOKUP($B323,Daten!$A$271:$A$320,Daten!$E$271:$E$320),\"\")","v":0},{"$f":"IF($A323<=Daten!$B$8,LOOKUP($B323,Daten!$A$322:$A$371,Daten!$L$322:$L$371),\"\")","v":46.7},{"$f":"IF($A323<=Daten!$B$8,LOOKUP($B323,Daten!$A$322:$A$371,Daten!$E$322:$E$371),\"\")","v":0}]
[47,{"$f":"IF(A330<=Daten!$B$8,Daten!AV9,\"\")","v":"Menülinie 47"},{"$f":"IF(A330<=Daten!$B$8,LOOKUP(B330,Daten!$A$16:$A$65,Daten!$C$16:$C$65),\"\")","v":"Lang[47,1]"},{"$f":"IF($A330<=Daten!$B$8,LOOKUP($B330,Daten!$A$16:$A$65,Daten!$P$16:$P$65),\"\") & \" \" & IF($A330<=Daten!$B$8,LOOKUP($B330,Daten!$A$16:$A$65,Daten!$Q$16:$Q$65),\"\")","v":"47,1 Inhalt1Einh[47,1]"},{"$f":"IF($A330<=Daten!$B$8,LOOKUP($B330,Daten!$A$67:$A$116,Daten!$C$67:$C$116),\"\")","v":"Lang[47,2]"},{"$f":"IF($A330<=Daten!$B$8,LOOKUP($B330,Daten!$A$67:$A$116,Daten!$P$67:$P$116),\"\") & \" \" & IF($A330<=Daten!$B$8,LOOKUP($B330,Daten!$A$67:$A$116,Daten!$Q$67:$Q$116),\"\")","v":"47,2 Inhalt1Einh[47,2]"},{"$f":"IF($A330<=Daten!$B$8,LOOKUP($B330,Daten!$A$118:$A$167,Daten!$C$118:$C$167),\"\")","v":"Lang[47,3]"},{"$f":"IF($A330<=Daten!$B$8,LOOKUP($B330,Daten!$A$118:$A$167,Daten!$P$118:$P$167),\"\") & \" \" & IF($A330<=Daten!$B$8,LOOKUP($B330,Daten!$A$118:$A$167,Daten!$Q$118:$Q$167),\"\")","v":"47,3 Inhalt1Einh[47,3]"},{"$f":"IF($A330<=Daten!$B$8,LOOKUP($B330,Daten!$A$169:$A$218,Daten!$C$169:$C$218),\"\")","v":"Lang[47,4]"},{"$f":"IF($A330<=Daten!$B$8,LOOKUP($B330,Daten!$A$169:$A$218,Daten!$P$169:$P$218),\"\") & \" \" & IF($A330<=Daten!$B$8,LOOKUP($B330,Daten!$A$169:$A$218,Daten!$Q$169:$Q$218),\"\")","v":"47,4 Inhalt1Einh[47,4]"},{"$f":"IF($A330<=Daten!$B$8,LOOKUP($B330,Daten!$A$220:$A$269,Daten!$C$220:$C$269),\"\")","v":"Lang[47,5]"},{"$f":"IF($A330<=Daten!$B$8,LOOKUP($B330,Daten!$A$220:$A$269,Daten!$P$220:$P$269),\"\") & \" \" & IF($A330<=Daten!$B$8,LOOKUP($B330,Daten!$A$220:$A$269,Daten!$Q$220:$Q$269),\"\")","v":"47,5 Inhalt1Einh[47,5]"},{"$f":"IF($A330<=Daten!$B$8,LOOKUP($B330,Daten!$A$271:$A$320,Daten!$C$271:$C$320),\"\")","v":"Lang[47,6]"},{"$f":"IF($A330<=Daten!$B$8,LOOKUP($B330,Daten!$A$271:$A$320,Daten!$P$271:$P$320),\"\") & \" \" & IF($A330<=Daten!$B$8,LOOKUP($B330,Daten!$A$271:$A$320,Daten!$Q$271:$Q$320),\"\")","v":"47,6 Inhalt1Einh[47,6]"},{"$f":"IF($A330<=Daten!$B$8,LOOKUP($B330,Daten!$A$322:$A$371,Daten!$B$322:$C$371),\"\")","v":{"$error":"#N/A"}},{"$f":"IF($A330<=Daten!$B$8,LOOKUP($B330,Daten!$A$322:$A$371,Daten!$P$322:$P$371),\"\") & \" \" & IF($A330<=Daten!$B$8,LOOKUP($B330,Daten!$A$322:$A$371,Daten!$Q$322:$Q$371),\"\")","v":"47,7 Inhalt1Einh[47,7]"}]
[null,null,null,{"$f":"IF($A330<=Daten!$B$8,LOOKUP($B330,Daten!$A$16:$A$65,Daten!$R$16:$R$65),\"\") & \" \" & IF($A330<=Daten!$B$8,LOOKUP($B330,Daten!$A$16:$A$65,Daten!$S$16:$S$65),\"\")","v":"47,1 Inhalt2Einh[47,1]"},null,{"$f":"IF($A330<=Daten!$B$8,LOOKUP($B330,Daten!$A$67:$A$116,Daten!$R$67:$R$116),\"\") & \" \" & IF($A330<=Daten!$B$8,LOOKUP($B330,Daten!$A$67:$A$116,Daten!$S$67:$S$116),\"\")","v":"47,2 Inhalt2Einh[47,2]"},null,{"$f":"IF($A330<=Daten!$B$8,LOOKUP($B330,Daten!$A$118:$A$167,Daten!$R$118:$R$167),\"\") & \" \" & IF($A330<=Daten!$B$8,LOOKUP($B330,Daten!$A$118:$A$167,Daten!$S$118:$S$167),\"\")","v":"47,3 Inhalt2Einh[47,3]"},null,{"$f":"IF($A330<=Daten!$B$8,LOOKUP($B330,Daten!$A$169:$A$218,Daten!$R$169:$R$218),\"\") & \" \" & IF($A330<=Daten!$B$8,LOOKUP($B330,Daten!$A$169:$A$218,Daten!$S$169:$S$218),\"\")","v":"47,4 Inhalt2Einh[47,4]"},null,{"$f":"IF($A330<=Daten!$B$8,LOOKUP($B330,Daten!$A$220:$A$269,Daten!$R$220:$R$269),\"\") & \" \" & IF($A330<=Daten!$B$8,LOOKUP($B330,Daten!$A$220:$A$269,Daten!$S$220:$S$269),\"\")","v":"47,5 Inhalt2Einh[47,5]"},null,{"$f":"IF($A330<=Daten!$B$8,LOOKUP($B330,Daten!$A$271:$A$320,Daten!$R$271:$R$320),\"\") & \" \" & IF($A330<=Daten!$B$8,LOOKUP($B330,Daten!$A$271:$A$320,Daten!$S$271:$S$320),\"\")","v":"47,6 Inhalt2Einh[47,6]"},null,{"$f":"IF($A330<=Daten!$B$8,LOOKUP($B330,Daten!$A$322:$A$371,Daten!$R$322:$R$371),\"\") & \" \" & IF($A330<=Daten!$B$8,LOOKUP($B330,Daten!$A$322:$A$371,Daten!$S$322:$S$371),\"\")","v":"47,7 Inhalt2Einh[47,7]"}]
[null,null,null,{"$f":"IF($A330<=Daten!$B$8,LOOKUP($B330,Daten!$A$16:$A$65,Daten!$T$16:$T$65),\"\") & \" \" & IF($A330<=Daten!$B$8,LOOKUP($B330,Daten!$A$16:$A$65,Daten!$U$16:$U$65),\"\")","v":"47,1 Inhalt3Einh[47,1]"},null,{"$f":"IF($A330<=Daten!$B$8,LOOKUP($B330,Daten!$A$67:$A$116,Daten!$T$67:$T$116),\"\") & \" \" & IF($A330<=Daten!$B$8,LOOKUP($B330,Daten!$A$67:$A$116,Daten!$U$67:$U$116),\"\")","v":"47,2 Inhalt3Einh[47,2]"},null,{"$f":"IF($A330<=Daten!$B$8,LOOKUP($B330,Daten!$A$118:$A$167,Daten!$T$118:$T$167),\"\") & \" \" & IF($A330<=Daten!$B$8,LOOKUP($B330,Daten!$A$118:$A$167,Daten!$U$118:$U$167),\"\")","v":"47,3 Inhalt3Einh[47,3]"},null,{"$f":"IF($A330<=Daten!$B$8,LOOKUP($B330,Daten!$A$169:$A$218,Daten!$T$169:$T$218),\"\") & \" \" & IF($A330<=Daten!$B$8,LOOKUP($B330,Daten!$A$169:$A$218,Daten!$U$169:$U$218),\"\")","v":"47,4 Inhalt3Einh[47,4]"},null,{"$f":"IF($A330<=Daten!$B$8,LOOKUP($B330,Daten!$A$220:$A$269,Daten!$T$220:$T$269),\"\") & \" \" & IF($A330<=Daten!$B$8,LOOKUP($B330,Daten!$A$220:$A$269,Daten!$U$220:$U$269),\"\")","v":"47,5 Inhalt3Einh[47,5]"},null,{"$f":"IF($A330<=Daten!$B$8,LOOKUP($B330,Daten!$A$271:$A$320,Daten!$T$271:$T$320),\"\") & \" \" & IF($A330<=Daten!$B$8,LOOKUP($B330,Daten!$A$271:$A$320,Daten!$U$271:$U$320),\"\")","v":"47,6 Inhalt3Einh[47,6]"},null,{"$f":"IF($A330<=Daten!$B$8,LOOKUP($B330,Daten!$A$322:$A$371,Daten!$T$322:$T$371),\"\") & \" \" & IF($A330<=Daten!$B$8,LOOKUP($B330,Daten!$A$322:$A$371,Daten!$U$322:$U$371),\"\")","v":"47,7 Inhalt3Einh[47,7]"}]
[null,null,null,{"$f":"IF($A330<=Daten!$B$8,LOOKUP($B330,Daten!$A$16:$A$65,Daten!$V$16:$V$65),\"\") & \" \" & IF($A330<=Daten!$B$8,LOOKUP($B330,Daten!$A$16:$A$65,Daten!$W$16:$W$65),\"\")","v":"47,1 Inhalt4Einh[47,1]"},null,{"$f":"IF($A330<=Daten!$B$8,LOOKUP($B330,Daten!$A$67:$A$116,Daten!$V$67:$V$116),\"\") & \" \" & IF($A330<=Daten!$B$8,LOOKUP($B330,Daten!$A$67:$A$116,Daten!$W$67:$W$116),\"\")","v":"47,2 Inhalt4Einh[47,2]"},null,{"$f":"IF($A330<=Daten!$B$8,LOOKUP($B330,Daten!$A$118:$A$167,Daten!$V$118:$V$167),\"\") & \" \" & IF($A330<=Daten!$B$8,LOOKUP($B330,Daten!$A$118:$A$167,Daten!$W$118:$W$167),\"\")","v":"47,3 Inhalt4Einh[47,3]"},null,{"$f":"IF($A330<=Daten!$B$8,LOOKUP($B330,Daten!$A$169:$A$218,Daten!$V$169:$V$218),\"\") & \" \" & IF($A330<=Daten!$B$8,LOOKUP($B330,Daten!$A$169:$A$218,Daten!$W$169:$W$218),\"\")","v":"47,4 Inhalt4Einh[47,4]"},null,{"$f":"IF($A330<=Daten!$B$8,LOOKUP($B330,Daten!$A$220:$A$269,Daten!$V$220:$V$269),\"\") & \" \" & IF($A330<=Daten!$B$8,LOOKUP($B330,Daten!$A$220:$A$269,Daten!$W$220:$W$269),\"\")","v":"47,5 Inhalt4Einh[47,5]"},null,{"$f":"IF($A330<=Daten!$B$8,LOOKUP($B330,Daten!$A$271:$A$320,Daten!$V$271:$V$320),\"\") & \" \" & IF($A330<=Daten!$B$8,LOOKUP($B330,Daten!$A$271:$A$320,Daten!$W$271:$W$320),\"\")","v":"47,6 Inhalt4Einh[47,6]"},null,{"$f":"IF($A330<=Daten!$B$8,LOOKUP($B330,Daten!$A$322:$A$371,Daten!$V$322:$V$371),\"\") & \" \" & IF($A330<=Daten!$B$8,LOOKUP($B330,Daten!$A$322:$A$371,Daten!$W$322:$W$371),\"\")","v":"47,7 Inhalt4Einh[47,7]"}]
[null,null,null,{"$f":"IF($A330<=Daten!$B$8,LOOKUP($B330,Daten!$A$16:$A$65,Daten!$X$16:$X$65),\"\") & \" \" & IF($A330<=Daten!$B$8,LOOKUP($B330,Daten!$A$16:$A$65,Daten!$Y$16:$Y$65),\"\")","v":"47,1 Inhalt5Einh[47,1]"},null,{"$f":"IF($A330<=Daten!$B$8,LOOKUP($B330,Daten!$A$67:$A$116,Daten!$X$67:$X$116),\"\") & \" \" & IF($A330<=Daten!$B$8,LOOKUP($B330,Daten!$A$67:$A$116,Daten!$Y$67:$Y$116),\"\")","v":"47,2 Inhalt5Einh[47,2]"},null,{"$f":"IF($A330<=Daten!$B$8,LOOKUP($B330,Daten!$A$118:$A$167,Daten!$X$118:$X$167),\"\") & \" \" & IF($A330<=Daten!$B$8,LOOKUP($B330,Daten!$A$118:$A$167,Daten!$Y$118:$Y$167),\"\")","v":"47,3 Inhalt5Einh[47,3]"},null,{"$f":"IF($A330<=Daten!$B$8,LOOKUP($B330,Daten!$A$169:$A$218,Daten!$X$169:$X$218),\"\") & \" \" & IF($A330<=Daten!$B$8,LOOKUP($B330,Daten!$A$169:$A$218,Daten!$Y$169:$Y$218),\"\")","v":"47,4 Inhalt5Einh[47,4]"},null,{"$f":"IF($A330<=Daten!$B$8,LOOKUP($B330,Daten!$A$220:$A$269,Daten!$X$220:$X$269),\"\") & \" \" & IF($A330<=Daten!$B$8,LOOKUP($B330,Daten!$A$220:$A$269,Daten!$Y$220:$Y$269),\"\")","v":"47,5 Inhalt5Einh[47,5]"},null,{"$f":"IF($A330<=Daten!$B$8,LOOKUP($B330,Daten!$A$271:$A$320,Daten!$X$271:$X$320),\"\") & \" \" & IF($A330<=Daten!$B$8,LOOKUP($B330,Daten!$A$271:$A$320,Daten!$Y$271:$Y$320),\"\")","v":"47,6 Inhalt5Einh[47,6]"},null,{"$f":"IF($A330<=Daten!$B$8,LOOKUP($B330,Daten!$A$322:$A$371,Daten!$X$322:$X$371),\"\") & \" \" & IF($A330<=Daten!$B$8,LOOKUP($B330,Daten!$A$322:$A$371,Daten!$Y$322:$Y$371),\"\")","v":"47,7 Inhalt5Einh[47,7]"}]
[null,null,null,{"$f":"IF($A330<=Daten!$B$8,LOOKUP($B330,Daten!$A$16:$A$65,Daten!$Z$16:$Z$65),\"\") & \" \" & IF($A330<=Daten!$B$8,LOOKUP($B330,Daten!$A$16:$A$65,Daten!$AA$16:$AA$65),\"\")","v":"47,1 Inhalt6Einh[47,1]"},null,{"$f":"IF($A330<=Daten!$B$8,LOOKUP($B330,Daten!$A$67:$A$116,Daten!$Z$67:$Z$116),\"\") & \" \" & IF($A330<=Daten!$B$8,LOOKUP($B330,Daten!$A$67:$A$116,Daten!$AA$67:$AA$116),\"\")","v":"47,2 Inhalt6Einh[47,2]"},null,{"$f":"IF($A330<=Daten!$B$8,LOOKUP($B330,Daten!$A$118:$A$167,Daten!$Z$118:$Z$167),\"\") & \" \" & IF($A330<=Daten!$B$8,LOOKUP($B330,Daten!$A$118:$A$167,Daten!$AA$118:$AA$167),\"\")","v":"47,3 Inhalt6Einh[47,3]"},null,{"$f":"IF($A330<=Daten!$B$8,LOOKUP($B330,Daten!$A$169:$A$218,Daten!$Z$169:$Z$218),\"\") & \" \" & IF($A330<=Daten!$B$8,LOOKUP($B330,Daten!$A$169:$A$218,Daten!$AA$169:$AA$218),\"\")","v":"47,4 Inhalt6Einh[47,4]"},null,{"$f":"IF($A330<=Daten!$B$8,LOOKUP($B330,Daten!$A$220:$A$269,Daten!$Z$220:$Z$269),\"\") & \" \" & IF($A330<=Daten!$B$8,LOOKUP($B330,Daten!$A$220:$A$269,Daten!$AA$220:$AA$269),\"\")","v":"47,5 Inhalt6Einh[47,5]"},null,{"$f":"IF($A330<=Daten!$B$8,LOOKUP($B330,Daten!$A$271:$A$320,Daten!$Z$271:$Z$320),\"\") & \" \" & IF($A330<=Daten!$B$8,LOOKUP($B330,Daten!$A$271:$A$320,Daten!$AA$271:$AA$320),\"\")","v":"47,6 Inhalt6Einh[47,6]"},null,{"$f":"IF($A330<=Daten!$B$8,LOOKUP($B330,Daten!$A$322:$A$371,Daten!$Z$322:$Z$371),\"\") & \" \" & IF($A330<=Daten!$B$8,LOOKUP($B330,Daten!$A$322:$A$371,Daten!$AA$322:$AA$371),\"\")","v":"47,7 Inhalt6Einh[47,7]"}]
[null,{"$f":"IF(A330<=Daten!$B$8,\"Zusatzstoffe\",\"\")","v":"Zusatzstoffe"},{"$f":"IF($A330<=Daten!$B$8,LOOKUP($B330,Daten!$A$16:$A$65,Daten!$L$16:$L$65),\"\")","v":47.1},{"$f":"IF($A330<=Daten!$B$8,LOOKUP($B330,Daten!$A$16:$A$65,Daten!$E$16:$E$65),\"\")","v":217.1},{"$f":"IF($A330<=Daten!$B$8,LOOKUP($B330,Daten!$A$67:$A$116,Daten!$L$67:$L$116),\"\")","v":47.2},{"$f":"IF($A330<=Daten!$B$8,LOOKUP($B330,Daten!$A$16:$A$65,Daten!$E$67:$E$116),\"\")","v":0},{"$f":"IF($A330<=Daten!$B$8,LOOKUP($B330,Daten!$A$118:$A$167,Daten!$L$118:$L$167),\"\")","v":47.3},{"$f":"IF($A330<=Daten!$B$8,LOOKUP($B330,Daten!$A$118:$A$167,Daten!$E$118:$E$167),\"\")","v":0},{"$f":"IF($A330<=Daten!$B$8,LOOKUP($B330,Daten!$A$169:$A$218,Daten!$L$169:$L$218),\"\")","v":47.4},{"$f":"IF($A330<=Daten!$B$8,LOOKUP($B330,Daten!$A$169:$A$218,Daten!$E$169:$E$218),\"\")","v":0},{"$f":"IF($A330<=Daten!$B$8,LOOKUP($B330,Daten!$A$220:$A$269,Daten!$L$220:$L$269),\"\")","v":47.5},{"$f":"IF($A330<=Daten!$B$8,LOOKUP($B330,Daten!$A$220:$A$269,Daten!$E$220:$E$269),\"\")","v":0},{"$f":"IF($A330<=Daten!$B$8,LOOKUP($B330,Daten!$A$271:$A$320,Daten!$L$271:$L$320),\"\")","v":47.6},{"$f":"IF($A330<=Daten!$B$8,LOOKUP($B330,Daten!$A$271:$A$320,Daten!$E$271:$E$320),\"\")","v":0},{"$f":"IF($A330<=Daten!$B$8,LOOKUP($B330,Daten!$A$322:$A$371,Daten!$L$322:$L$371),\"\")","v":47.7},{"$f":"IF($A330<=Daten!$B$8,LOOKUP($B330,Daten!$A$322:$A$371,Daten!$E$322:$E$371),\"\")","v":0}]
[48,{"$f":"IF(A337<=Daten!$B$8,Daten!AW9,\"\")","v":"Menülinie 48"},{"$f":"IF(A337<=Daten!$B$8,LOOKUP(B337,Daten!$A$16:$A$65,Daten!$C$16:$C$65),\"\")","v":"Lang[48,1]"},{"$f":"IF($A337<=Daten!$B$8,LOOKUP($B337,Daten!$A$16:$A$65,Daten!$P$16:$P$65),\"\") & \" \" & IF($A337<=Daten!$B$8,LOOKUP($B337,Daten!$A$16:$A$65,Daten!$Q$16:$Q$65),\"\")","v":"48,1 Inhalt1Einh[48,1]"},{"$f":"IF($A337<=Daten!$B$8,LOOKUP($B337,Daten!$A$57:$A$116,Daten!$C$57:$C$116),\"\")","v":"Lang[48,2]"},{"$f":"IF($A337<=Daten!$B$8,LOOKUP($B337,Daten!$A$57:$A$116,Daten!$P$57:$P$116),\"\") & \" \" & IF($A337<=Daten!$B$8,LOOKUP($B337,Daten!$A$57:$A$116,Daten!$Q$57:$Q$116),\"\")","v":"48,2 Inhalt1Einh[48,2]"},{"$f":"IF($A337<=Daten!$B$8,LOOKUP($B337,Daten!$A$118:$A$167,Daten!$C$118:$C$167),\"\")","v":"Lang[48,3]"},{"$f":"IF($A337<=Daten!$B$8,LOOKUP($B337,Daten!$A$118:$A$167,Daten!$P$118:$P$167),\"\") & \" \" & IF($A337<=Daten!$B$8,LOOKUP($B337,Daten!$A$118:$A$167,Daten!$Q$118:$Q$167),\"\")","v":"48,3 Inhalt1Einh[48,3]"},{"$f":"IF($A337<=Daten!$B$8,LOOKUP($B337,Daten!$A$169:$A$218,Daten!$C$169:$C$218),\"\")","v":"Lang[48,4]"},{"$f":"IF($A337<=Daten!$B$8,LOOKUP($B337,Daten!$A$169:$A$218,Daten!$P$169:$P$218),\"\") & \" \" & IF($A337<=Daten!$B$8,LOOKUP($B337,Daten!$A$169:$A$218,Daten!$Q$169:$Q$218),\"\")","v":"48,4 Inhalt1Einh[48,4]"},{"$f":"IF($A337<=Daten!$B$8,LOOKUP($B337,Daten!$A$220:$A$269,Daten!$C$220:$C$269),\"\")","v":"Lang[48,5]"},{"$f":"IF($A337<=Daten!$B$8,LOOKUP($B337,Daten!$A$220:$A$269,Daten!$P$220:$P$269),\"\") & \" \" & IF($A337<=Daten!$B$8,LOOKUP($B337,Daten!$A$220:$A$269,Daten!$Q$220:$Q$269),\"\")","v":"48,5 Inhalt1Einh[48,5]"},{"$f":"IF($A337<=Daten!$B$8,LOOKUP($B337,Daten!$A$271:$A$320,Daten!$C$271:$C$320),\"\")","v":"Lang[48,6]"},{"$f":"IF($A337<=Daten!$B$8,LOOKUP($B337,Daten!$A$271:$A$320,Daten!$P$271:$P$320),\"\") & \" \" & IF($A337<=Daten!$B$8,LOOKUP($B337,Daten!$A$271:$A$320,Daten!$Q$271:$Q$320),\"\")","v":"48,6 Inhalt1Einh[48,6]"},{"$f":"IF($A337<=Daten!$B$8,LOOKUP($B337,Daten!$A$322:$A$371,Daten!$B$322:$C$371),\"\")","v":{"$error":"#N/A"}},{"$f":"IF($A337<=Daten!$B$8,LOOKUP($B337,Daten!$A$322:$A$371,Daten!$P$322:$P$371),\"\") & \" \" & IF($A337<=Daten!$B$8,LOOKUP($B337,Daten!$A$322:$A$371,Daten!$Q$322:$Q$371),\"\")","v":"48,7 Inhalt1Einh[48,7]"}]
[null,null,null,{"$f":"IF($A337<=Daten!$B$8,LOOKUP($B337,Daten!$A$16:$A$65,Daten!$R$16:$R$65),\"\") & \" \" & IF($A337<=Daten!$B$8,LOOKUP($B337,Daten!$A$16:$A$65,Daten!$S$16:$S$65),\"\")","v":"48,1 Inhalt2Einh[48,1]"},null,{"$f":"IF($A337<=Daten!$B$8,LOOKUP($B337,Daten!$A$57:$A$116,Daten!$R$57:$R$116),\"\") & \" \" & IF($A337<=Daten!$B$8,LOOKUP($B337,Daten!$A$57:$A$116,Daten!$S$57:$S$116),\"\")","v":"48,2 Inhalt2Einh[48,2]"},null,{"$f":"IF($A337<=Daten!$B$8,LOOKUP($B337,Daten!$A$118:$A$167,Daten!$R$118:$R$167),\"\") & \" \" & IF($A337<=Daten!$B$8,LOOKUP($B337,Daten!$A$118:$A$167,Daten!$S$118:$S$167),\"\")","v":"48,3 Inhalt2Einh[48,3]"},null,{"$f":"IF($A337<=Daten!$B$8,LOOKUP($B337,Daten!$A$169:$A$218,Daten!$R$169:$R$218),\"\") & \" \" & IF($A337<=Daten!$B$8,LOOKUP($B337,Daten!$A$169:$A$218,Daten!$S$169:$S$218),\"\")","v":"48,4 Inhalt2Einh[48,4]"},null,{"$f":"IF($A337<=Daten!$B$8,LOOKUP($B337,Daten!$A$220:$A$269,Daten!$R$220:$R$269),\"\") & \" \" & IF($A337<=Daten!$B$8,LOOKUP($B337,Daten!$A$220:$A$269,Daten!$S$220:$S$269),\"\")","v":"48,5 Inhalt2Einh[48,5]"},null,{"$f":"IF($A337<=Daten!$B$8,LOOKUP($B337,Daten!$A$271:$A$320,Daten!$R$271:$R$320),\"\") & \" \" & IF($A337<=Daten!$B$8,LOOKUP($B337,Daten!$A$271:$A$320,Daten!$S$271:$S$320),\"\")","v":"48,6 Inhalt2Einh[48,6]"},null,{"$f":"IF($A337<=Daten!$B$8,LOOKUP($B337,Daten!$A$322:$A$371,Daten!$R$322:$R$371),\"\") & \" \" & IF($A337<=Daten!$B$8,LOOKUP($B337,Daten!$A$322:$A$371,Daten!$S$322:$S$371),\"\")","v":"48,7 Inhalt2Einh[48,7]"}]
[null,null,null,{"$f":"IF($A337<=Daten!$B$8,LOOKUP($B337,Daten!$A$16:$A$65,Daten!$T$16:$T$65),\"\") & \" \" & IF($A337<=Daten!$B$8,LOOKUP($B337,Daten!$A$16:$A$65,Daten!$U$16:$U$65),\"\")","v":"48,1 Inhalt3Einh[48,1]"},null,{"$f":"IF($A337<=Daten!$B$8,LOOKUP($B337,Daten!$A$57:$A$116,Daten!$T$57:$T$116),\"\") & \" \" & IF($A337<=Daten!$B$8,LOOKUP($B337,Daten!$A$57:$A$116,Daten!$U$57:$U$116),\"\")","v":"48,2 Inhalt3Einh[48,2]"},null,{"$f":"IF($A337<=Daten!$B$8,LOOKUP($B337,Daten!$A$118:$A$167,Daten!$T$118:$T$167),\"\") & \" \" & IF($A337<=Daten!$B$8,LOOKUP($B337,Daten!$A$118:$A$167,Daten!$U$118:$U$167),\"\")","v":"48,3 Inhalt3Einh[48,3]"},null,{"$f":"IF($A337<=Daten!$B$8,LOOKUP($B337,Daten!$A$169:$A$218,Daten!$T$169:$T$218),\"\") & \" \" & IF($A337<=Daten!$B$8,LOOKUP($B337,Daten!$A$169:$A$218,Daten!$U$169:$U$218),\"\")","v":"48,4 Inhalt3Einh[48,4]"},null,{"$f":"IF($A337<=Daten!$B$8,LOOKUP($B337,Daten!$A$220:$A$269,Daten!$T$220:$T$269),\"\") & \" \" & IF($A337<=Daten!$B$8,LOOKUP($B337,Daten!$A$220:$A$269,Daten!$U$220:$U$269),\"\")","v":"48,5 Inhalt3Einh[48,5]"},null,{"$f":"IF($A337<=Daten!$B$8,LOOKUP($B337,Daten!$A$271:$A$320,Daten!$T$271:$T$320),\"\") & \" \" & IF($A337<=Daten!$B$8,LOOKUP($B337,Daten!$A$271:$A$320,Daten!$U$271:$U$320),\"\")","v":"48,6 Inhalt3Einh[48,6]"},null,{"$f":"IF($A337<=Daten!$B$8,LOOKUP($B337,Daten!$A$322:$A$371,Daten!$T$322:$T$371),\"\") & \" \" & IF($A337<=Daten!$B$8,LOOKUP($B337,Daten!$A$322:$A$371,Daten!$U$322:$U$371),\"\")","v":"48,7 Inhalt3Einh[48,7]"}]
[null,null,null,{"$f":"IF($A337<=Daten!$B$8,LOOKUP($B337,Daten!$A$16:$A$65,Daten!$V$16:$V$65),\"\") & \" \" & IF($A337<=Daten!$B$8,LOOKUP($B337,Daten!$A$16:$A$65,Daten!$W$16:$W$65),\"\")","v":"48,1 Inhalt4Einh[48,1]"},null,{"$f":"IF($A337<=Daten!$B$8,LOOKUP($B337,Daten!$A$57:$A$116,Daten!$V$57:$V$116),\"\") & \" \" & IF($A337<=Daten!$B$8,LOOKUP($B337,Daten!$A$57:$A$116,Daten!$W$57:$W$116),\"\")","v":"48,2 Inhalt4Einh[48,2]"},null,{"$f":"IF($A337<=Daten!$B$8,LOOKUP($B337,Daten!$A$118:$A$167,Daten!$V$118:$V$167),\"\") & \" \" & IF($A337<=Daten!$B$8,LOOKUP($B337,Daten!$A$118:$A$167,Daten!$W$118:$W$167),\"\")","v":"48,3 Inhalt4Einh[48,3]"},null,{"$f":"IF($A337<=Daten!$B$8,LOOKUP($B337,Daten!$A$169:$A$218,Daten!$V$169:$V$218),\"\") & \" \" & IF($A337<=Daten!$B$8,LOOKUP($B337,Daten!$A$169:$A$218,Daten!$W$169:$W$218),\"\")","v":"48,4 Inhalt4Einh[48,4]"},null,{"$f":"IF($A337<=Daten!$B$8,LOOKUP($B337,Daten!$A$220:$A$269,Daten!$V$220:$V$269),\"\") & \" \" & IF($A337<=Daten!$B$8,LOOKUP($B337,Daten!$A$220:$A$269,Daten!$W$220:$W$269),\"\")","v":"48,5 Inhalt4Einh[48,5]"},null,{"$f":"IF($A337<=Daten!$B$8,LOOKUP($B337,Daten!$A$271:$A$320,Daten!$V$271:$V$320),\"\") & \" \" & IF($A337<=Daten!$B$8,LOOKUP($B337,Daten!$A$271:$A$320,Daten!$W$271:$W$320),\"\")","v":"48,6 Inhalt4Einh[48,6]"},null,{"$f":"IF($A337<=Daten!$B$8,LOOKUP($B337,Daten!$A$322:$A$371,Daten!$V$322:$V$371),\"\") & \" \" & IF($A337<=Daten!$B$8,LOOKUP($B337,Daten!$A$322:$A$371,Daten!$W$322:$W$371),\"\")","v":"48,7 Inhalt4Einh[48,7]"}]
[null,null,null,{"$f":"IF($A337<=Daten!$B$8,LOOKUP($B337,Daten!$A$16:$A$65,Daten!$X$16:$X$65),\"\") & \" \" & IF($A337<=Daten!$B$8,LOOKUP($B337,Daten!$A$16:$A$65,Daten!$Y$16:$Y$65),\"\")","v":"48,1 Inhalt5Einh[48,1]"},null,{"$f":"IF($A337<=Daten!$B$8,LOOKUP($B337,Daten!$A$57:$A$116,Daten!$X$57:$X$116),\"\") & \" \" & IF($A337<=Daten!$B$8,LOOKUP($B337,Daten!$A$57:$A$116,Daten!$Y$57:$Y$116),\"\")","v":"48,2 Inhalt5Einh[48,2]"},null,{"$f":"IF($A337<=Daten!$B$8,LOOKUP($B337,Daten!$A$118:$A$167,Daten!$X$118:$X$167),\"\") & \" \" & IF($A337<=Daten!$B$8,LOOKUP($B337,Daten!$A$118:$A$167,Daten!$Y$118:$Y$167),\"\")","v":"48,3 Inhalt5Einh[48,3]"},null,{"$f":"IF($A337<=Daten!$B$8,LOOKUP($B337,Daten!$A$169:$A$218,Daten!$X$169:$X$218),\"\") & \" \" & IF($A337<=Daten!$B$8,LOOKUP($B337,Daten!$A$169:$A$218,Daten!$Y$169:$Y$218),\"\")","v":"48,4 Inhalt5Einh[48,4]"},null,{"$f":"IF($A337<=Daten!$B$8,LOOKUP($B337,Daten!$A$220:$A$269,Daten!$X$220:$X$269),\"\") & \" \" & IF($A337<=Daten!$B$8,LOOKUP($B337,Daten!$A$220:$A$269,Daten!$Y$220:$Y$269),\"\")","v":"48,5 Inhalt5Einh[48,5]"},null,{"$f":"IF($A337<=Daten!$B$8,LOOKUP($B337,Daten!$A$271:$A$320,Daten!$X$271:$X$320),\"\") & \" \" & IF($A337<=Daten!$B$8,LOOKUP($B337,Daten!$A$271:$A$320,Daten!$Y$271:$Y$320),\"\")","v":"48,6 Inhalt5Einh[48,6]"},null,{"$f":"IF($A337<=Daten!$B$8,LOOKUP($B337,Daten!$A$322:$A$371,Daten!$X$322:$X$371),\"\") & \" \" & IF($A337<=Daten!$B$8,LOOKUP($B337,Daten!$A$322:$A$371,Daten!$Y$322:$Y$371),\"\")","v":"48,7 Inhalt5Einh[48,7]"}]
[null,null,null,{"$f":"IF($A337<=Daten!$B$8,LOOKUP($B337,Daten!$A$16:$A$65,Daten!$Z$16:$Z$65),\"\") & \" \" & IF($A337<=Daten!$B$8,LOOKUP($B337,Daten!$A$16:$A$65,Daten!$AA$16:$AA$65),\"\")","v":"48,1 Inhalt6Einh[48,1]"},null,{"$f":"IF($A337<=Daten!$B$8,LOOKUP($B337,Daten!$A$57:$A$116,Daten!$Z$57:$Z$116),\"\") & \" \" & IF($A337<=Daten!$B$8,LOOKUP($B337,Daten!$A$57:$A$116,Daten!$AA$57:$AA$116),\"\")","v":"48,2 Inhalt6Einh[48,2]"},null,{"$f":"IF($A337<=Daten!$B$8,LOOKUP($B337,Daten!$A$118:$A$167,Daten!$Z$118:$Z$167),\"\") & \" \" & IF($A337<=Daten!$B$8,LOOKUP($B337,Daten!$A$118:$A$167,Daten!$AA$118:$AA$167),\"\")","v":"48,3 Inhalt6Einh[48,3]"},null,{"$f":"IF($A337<=Daten!$B$8,LOOKUP($B337,Daten!$A$169:$A$218,Daten!$Z$169:$Z$218),\"\") & \" \" & IF($A337<=Daten!$B$8,LOOKUP($B337,Daten!$A$169:$A$218,Daten!$AA$169:$AA$218),\"\")","v":"48,4 Inhalt6Einh[48,4]"},null,{"$f":"IF($A337<=Daten!$B$8,LOOKUP($B337,Daten!$A$220:$A$269,Daten!$Z$220:$Z$269),\"\") & \" \" & IF($A337<=Daten!$B$8,LOOKUP($B337,Daten!$A$220:$A$269,Daten!$AA$220:$AA$269),\"\")","v":"48,5 Inhalt6Einh[48,5]"},null,{"$f":"IF($A337<=Daten!$B$8,LOOKUP($B337,Daten!$A$271:$A$320,Daten!$Z$271:$Z$320),\"\") & \" \" & IF($A337<=Daten!$B$8,LOOKUP($B337,Daten!$A$271:$A$320,Daten!$AA$271:$AA$320),\"\")","v":"48,6 Inhalt6Einh[48,6]"},null,{"$f":"IF($A337<=Daten!$B$8,LOOKUP($B337,Daten!$A$322:$A$371,Daten!$Z$322:$Z$371),\"\") & \" \" & IF($A337<=Daten!$B$8,LOOKUP($B337,Daten!$A$322:$A$371,Daten!$AA$322:$AA$371),\"\")","v":"48,7 Inhalt6Einh[48,7]"}]
[null,{"$f":"IF(A337<=Daten!$B$8,\"Zusatzstoffe\",\"\")","v":"Zusatzstoffe"},{"$f":"IF($A337<=Daten!$B$8,LOOKUP($B337,Daten!$A$16:$A$65,Daten!$L$16:$L$65),\"\")","v":48.1},{"$f":"IF($A337<=Daten!$B$8,LOOKUP($B337,Daten!$A$16:$A$65,Daten!$E$16:$E$65),\"\")","v":218.1},{"$f":"IF($A337<=Daten!$B$8,LOOKUP($B337,Daten!$A$67:$A$116,Daten!$L$67:$L$116),\"\")","v":48.2},{"$f":"IF($A337<=Daten!$B$8,LOOKUP($B337,Daten!$A$16:$A$65,Daten!$E$67:$E$116),\"\")","v":0},{"$f":"IF($A337<=Daten!$B$8,LOOKUP($B337,Daten!$A$118:$A$167,Daten!$L$118:$L$167),\"\")","v":48.3},{"$f":"IF($A337<=Daten!$B$8,LOOKUP($B337,Daten!$A$118:$A$167,Daten!$E$118:$E$167),\"\")","v":0},{"$f":"IF($A337<=Daten!$B$8,LOOKUP($B337,Daten!$A$169:$A$218,Daten!$L$169:$L$218),\"\")","v":48.4},{"$f":"IF($A337<=Daten!$B$8,LOOKUP($B337,Daten!$A$169:$A$218,Daten!$E$169:$E$218),\"\")","v":0},{"$f":"IF($A337<=Daten!$B$8,LOOKUP($B337,Daten!$A$220:$A$269,Daten!$L$220:$L$269),\"\")","v":48.5},{"$f":"IF($A337<=Daten!$B$8,LOOKUP($B337,Daten!$A$220:$A$269,Daten!$E$220:$E$269),\"\")","v":0},{"$f":"IF($A337<=Daten!$B$8,LOOKUP($B337,Daten!$A$271:$A$320,Daten!$L$271:$L$320),\"\")","v":48.6},{"$f":"IF($A337<=Daten!$B$8,LOOKUP($B337,Daten!$A$271:$A$320,Daten!$E$271:$E$320),\"\")","v":0},{"$f":"IF($A337<=Daten!$B$8,LOOKUP($B337,Daten!$A$322:$A$371,Daten!$L$322:$L$371),\"\")","v":48.7},{"$f":"IF($A337<=Daten!$B$8,LOOKUP($B337,Daten!$A$322:$A$371,Daten!$E$322:$E$371),\"\")","v":0}]
[49,{"$f":"IF(A344<=Daten!$B$8,Daten!AX9,\"\")","v":"Menülinie 49"},{"$f":"IF(A344<=Daten!$B$8,LOOKUP(B344,Daten!$A$16:$A$65,Daten!$C$16:$C$65),\"\")","v":"Lang[49,1]"},{"$f":"IF($A344<=Daten!$B$8,LOOKUP($B344,Daten!$A$16:$A$65,Daten!$P$16:$P$65),\"\") & \" \" & IF($A344<=Daten!$B$8,LOOKUP($B344,Daten!$A$16:$A$65,Daten!$Q$16:$Q$65),\"\")","v":"49,1 Inhalt1Einh[49,1]"},{"$f":"IF($A344<=Daten!$B$8,LOOKUP($B344,Daten!$A$67:$A$116,Daten!$C$67:$C$116),\"\")","v":"Lang[49,2]"},{"$f":"IF($A344<=Daten!$B$8,LOOKUP($B344,Daten!$A$67:$A$116,Daten!$P$67:$P$116),\"\") & \" \" & IF($A344<=Daten!$B$8,LOOKUP($B344,Daten!$A$67:$A$116,Daten!$Q$67:$Q$116),\"\")","v":"49,2 Inhalt1Einh[49,2]"},{"$f":"IF($A344<=Daten!$B$8,LOOKUP($B344,Daten!$A$118:$A$167,Daten!$C$118:$C$167),\"\")","v":"Lang[49,3]"},{"$f":"IF($A344<=Daten!$B$8,LOOKUP($B344,Daten!$A$118:$A$167,Daten!$P$118:$P$167),\"\") & \" \" & IF($A344<=Daten!$B$8,LOOKUP($B344,Daten!$A$118:$A$167,Daten!$Q$118:$Q$167),\"\")","v":"49,3 Inhalt1Einh[49,3]"},{"$f":"IF($A344<=Daten!$B$8,LOOKUP($B344,Daten!$A$169:$A$218,Daten!$C$169:$C$218),\"\")","v":"Lang[49,4]"},{"$f":"IF($A344<=Daten!$B$8,LOOKUP($B344,Daten!$A$169:$A$218,Daten!$P$169:$P$218),\"\") & \" \" & IF($A344<=Daten!$B$8,LOOKUP($B344,Daten!$A$169:$A$218,Daten!$Q$169:$Q$218),\"\")","v":"49,4 Inhalt1Einh[49,4]"},{"$f":"IF($A344<=Daten!$B$8,LOOKUP($B344,Daten!$A$220:$A$269,Daten!$C$220:$C$269),\"\")","v":"Lang[49,5]"},{"$f":"IF($A344<=Daten!$B$8,LOOKUP($B344,Daten!$A$220:$A$269,Daten!$P$220:$P$269),\"\") & \" \" & IF($A344<=Daten!$B$8,LOOKUP($B344,Daten!$A$220:$A$269,Daten!$Q$220:$Q$269),\"\")","v":"49,5 Inhalt1Einh[49,5]"},{"$f":"IF($A344<=Daten!$B$8,LOOKUP($B344,Daten!$A$271:$A$320,Daten!$C$271:$C$320),\"\")","v":"Lang[49,6]"},{"$f":"IF($A344<=Daten!$B$8,LOOKUP($B344,Daten!$A$271:$A$320,Daten!$P$271:$P$320),\"\") & \" \" & IF($A344<=Daten!$B$8,LOOKUP($B344,Daten!$A$271:$A$320,Daten!$Q$271:$Q$320),\"\")","v":"49,6 Inhalt1Einh[49,6]"},{"$f":"IF($A344<=Daten!$B$8,LOOKUP($B344,Daten!$A$322:$A$371,Daten!$B$322:$C$371),\"\")","v":{"$error":"#N/A"}},{"$f":"IF($A344<=Daten!$B$8,LOOKUP($B344,Daten!$A$322:$A$371,Daten!$P$322:$P$371),\"\") & \" \" & IF($A344<=Daten!$B$8,LOOKUP($B344,Daten!$A$322:$A$371,Daten!$Q$322:$Q$371),\"\")","v":"49,7 Inhalt1Einh[49,7]"}]
[null,null,null,{"$f":"IF($A344<=Daten!$B$8,LOOKUP($B344,Daten!$A$16:$A$65,Daten!$R$16:$R$65),\"\") & \" \" & IF($A344<=Daten!$B$8,LOOKUP($B344,Daten!$A$16:$A$65,Daten!$S$16:$S$65),\"\")","v":"49,1 Inhalt2Einh[49,1]"},null,{"$f":"IF($A344<=Daten!$B$8,LOOKUP($B344,Daten!$A$67:$A$116,Daten!$R$67:$R$116),\"\") & \" \" & IF($A344<=Daten!$B$8,LOOKUP($B344,Daten!$A$67:$A$116,Daten!$S$67:$S$116),\"\")","v":"49,2 Inhalt2Einh[49,2]"},null,{"$f":"IF($A344<=Daten!$B$8,LOOKUP($B344,Daten!$A$118:$A$167,Daten!$R$118:$R$167),\"\") & \" \" & IF($A344<=Daten!$B$8,LOOKUP($B344,Daten!$A$118:$A$167,Daten!$S$118:$S$167),\"\")","v":"49,3 Inhalt2Einh[49,3]"},null,{"$f":"IF($A344<=Daten!$B$8,LOOKUP($B344,Daten!$A$169:$A$218,Daten!$R$169:$R$218),\"\") & \" \" & IF($A344<=Daten!$B$8,LOOKUP($B344,Daten!$A$169:$A$218,Daten!$S$169:$S$218),\"\")","v":"49,4 Inhalt2Einh[49,4]"},null,{"$f":"IF($A344<=Daten!$B$8,LOOKUP($B344,Daten!$A$220:$A$269,Daten!$R$220:$R$269),\"\") & \" \" & IF($A344<=Daten!$B$8,LOOKUP($B344,Daten!$A$220:$A$269,Daten!$S$220:$S$269),\"\")","v":"49,5 Inhalt2Einh[49,5]"},null,{"$f":"IF($A344<=Daten!$B$8,LOOKUP($B344,Daten!$A$271:$A$320,Daten!$R$271:$R$320),\"\") & \" \" & IF($A344<=Daten!$B$8,LOOKUP($B344,Daten!$A$271:$A$320,Daten!$S$271:$S$320),\"\")","v":"49,6 Inhalt2Einh[49,6]"},null,{"$f":"IF($A344<=Daten!$B$8,LOOKUP($B344,Daten!$A$322:$A$371,Daten!$R$322:$R$371),\"\") & \" \" & IF($A344<=Daten!$B$8,LOOKUP($B344,Daten!$A$322:$A$371,Daten!$S$322:$S$371),\"\")","v":"49,7 Inhalt2Einh[49,7]"}]
[null,null,null,{"$f":"IF($A344<=Daten!$B$8,LOOKUP($B344,Daten!$A$16:$A$65,Daten!$T$16:$T$65),\"\") & \" \" & IF($A344<=Daten!$B$8,LOOKUP($B344,Daten!$A$16:$A$65,Daten!$U$16:$U$65),\"\")","v":"49,1 Inhalt3Einh[49,1]"},null,{"$f":"IF($A344<=Daten!$B$8,LOOKUP($B344,Daten!$A$67:$A$116,Daten!$T$67:$T$116),\"\") & \" \" & IF($A344<=Daten!$B$8,LOOKUP($B344,Daten!$A$67:$A$116,Daten!$U$67:$U$116),\"\")","v":"49,2 Inhalt3Einh[49,2]"},null,{"$f":"IF($A344<=Daten!$B$8,LOOKUP($B344,Daten!$A$118:$A$167,Daten!$T$118:$T$167),\"\") & \" \" & IF($A344<=Daten!$B$8,LOOKUP($B344,Daten!$A$118:$A$167,Daten!$U$118:$U$167),\"\")","v":"49,3 Inhalt3Einh[49,3]"},null,{"$f":"IF($A344<=Daten!$B$8,LOOKUP($B344,Daten!$A$169:$A$218,Daten!$T$169:$T$218),\"\") & \" \" & IF($A344<=Daten!$B$8,LOOKUP($B344,Daten!$A$169:$A$218,Daten!$U$169:$U$218),\"\")","v":"49,4 Inhalt3Einh[49,4]"},null,{"$f":"IF($A344<=Daten!$B$8,LOOKUP($B344,Daten!$A$220:$A$269,Daten!$T$220:$T$269),\"\") & \" \" & IF($A344<=Daten!$B$8,LOOKUP($B344,Daten!$A$220:$A$269,Daten!$U$220:$U$269),\"\")","v":"49,5 Inhalt3Einh[49,5]"},null,{"$f":"IF($A344<=Daten!$B$8,LOOKUP($B344,Daten!$A$271:$A$320,Daten!$T$271:$T$320),\"\") & \" \" & IF($A344<=Daten!$B$8,LOOKUP($B344,Daten!$A$271:$A$320,Daten!$U$271:$U$320),\"\")","v":"49,6 Inhalt3Einh[49,6]"},null,{"$f":"IF($A344<=Daten!$B$8,LOOKUP($B344,Daten!$A$322:$A$371,Daten!$T$322:$T$371),\"\") & \" \" & IF($A344<=Daten!$B$8,LOOKUP($B344,Daten!$A$322:$A$371,Daten!$U$322:$U$371),\"\")","v":"49,7 Inhalt3Einh[49,7]"}]
[null,null,null,{"$f":"IF($A344<=Daten!$B$8,LOOKUP($B344,Daten!$A$16:$A$65,Daten!$V$16:$V$65),\"\") & \" \" & IF($A344<=Daten!$B$8,LOOKUP($B344,Daten!$A$16:$A$65,Daten!$W$16:$W$65),\"\")","v":"49,1 Inhalt4Einh[49,1]"},null,{"$f":"IF($A344<=Daten!$B$8,LOOKUP($B344,Daten!$A$67:$A$116,Daten!$V$67:$V$116),\"\") & \" \" & IF($A344<=Daten!$B$8,LOOKUP($B344,Daten!$A$67:$A$116,Daten!$W$67:$W$116),\"\")","v":"49,2 Inhalt4Einh[49,2]"},null,{"$f":"IF($A344<=Daten!$B$8,LOOKUP($B344,Daten!$A$118:$A$167,Daten!$V$118:$V$167),\"\") & \" \" & IF($A344<=Daten!$B$8,LOOKUP($B344,Daten!$A$118:$A$167,Daten!$W$118:$W$167),\"\")","v":"49,3 Inhalt4Einh[49,3]"},null,{"$f":"IF($A344<=Daten!$B$8,LOOKUP($B344,Daten!$A$169:$A$218,Daten!$V$169:$V$218),\"\") & \" \" & IF($A344<=Daten!$B$8,LOOKUP($B344,Daten!$A$169:$A$218,Daten!$W$169:$W$218),\"\")","v":"49,4 Inhalt4Einh[49,4]"},null,{"$f":"IF($A344<=Daten!$B$8,LOOKUP($B344,Daten!$A$220:$A$269,Daten!$V$220:$V$269),\"\") & \" \" & IF($A344<=Daten!$B$8,LOOKUP($B344,Daten!$A$220:$A$269,Daten!$W$220:$W$269),\"\")","v":"49,5 Inhalt4Einh[49,5]"},null,{"$f":"IF($A344<=Daten!$B$8,LOOKUP($B344,Daten!$A$271:$A$320,Daten!$V$271:$V$320),\"\") & \" \" & IF($A344<=Daten!$B$8,LOOKUP($B344,Daten!$A$271:$A$320,Daten!$W$271:$W$320),\"\")","v":"49,6 Inhalt4Einh[49,6]"},null,{"$f":"IF($A344<=Daten!$B$8,LOOKUP($B344,Daten!$A$322:$A$371,Daten!$V$322:$V$371),\"\") & \" \" & IF($A344<=Daten!$B$8,LOOKUP($B344,Daten!$A$322:$A$371,Daten!$W$322:$W$371),\"\")","v":"49,7 Inhalt4Einh[49,7]"}]
[null,null,null,{"$f":"IF($A344<=Daten!$B$8,LOOKUP($B344,Daten!$A$16:$A$65,Daten!$X$16:$X$65),\"\") & \" \" & IF($A344<=Daten!$B$8,LOOKUP($B344,Daten!$A$16:$A$65,Daten!$Y$16:$Y$65),\"\")","v":"49,1 Inhalt5Einh[49,1]"},null,{"$f":"IF($A344<=Daten!$B$8,LOOKUP($B344,Daten!$A$67:$A$116,Daten!$X$67:$X$116),\"\") & \" \" & IF($A344<=Daten!$B$8,LOOKUP($B344,Daten!$A$67:$A$116,Daten!$Y$67:$Y$116),\"\")","v":"49,2 Inhalt5Einh[49,2]"},null,{"$f":"IF($A344<=Daten!$B$8,LOOKUP($B344,Daten!$A$118:$A$167,Daten!$X$118:$X$167),\"\") & \" \" & IF($A344<=Daten!$B$8,LOOKUP($B344,Daten!$A$118:$A$167,Daten!$Y$118:$Y$167),\"\")","v":"49,3 Inhalt5Einh[49,3]"},null,{"$f":"IF($A344<=Daten!$B$8,LOOKUP($B344,Daten!$A$169:$A$218,Daten!$X$169:$X$218),\"\") & \" \" & IF($A344<=Daten!$B$8,LOOKUP($B344,Daten!$A$169:$A$218,Daten!$Y$169:$Y$218),\"\")","v":"49,4 Inhalt5Einh[49,4]"},null,{"$f":"IF($A344<=Daten!$B$8,LOOKUP($B344,Daten!$A$220:$A$269,Daten!$X$220:$X$269),\"\") & \" \" & IF($A344<=Daten!$B$8,LOOKUP($B344,Daten!$A$220:$A$269,Daten!$Y$220:$Y$269),\"\")","v":"49,5 Inhalt5Einh[49,5]"},null,{"$f":"IF($A344<=Daten!$B$8,LOOKUP($B344,Daten!$A$271:$A$320,Daten!$X$271:$X$320),\"\") & \" \" & IF($A344<=Daten!$B$8,LOOKUP($B344,Daten!$A$271:$A$320,Daten!$Y$271:$Y$320),\"\")","v":"49,6 Inhalt5Einh[49,6]"},null,{"$f":"IF($A344<=Daten!$B$8,LOOKUP($B344,Daten!$A$322:$A$371,Daten!$X$322:$X$371),\"\") & \" \" & IF($A344<=Daten!$B$8,LOOKUP($B344,Daten!$A$322:$A$371,Daten!$Y$322:$Y$371),\"\")","v":"49,7 Inhalt5Einh[49,7]"}]
[null,null,null,{"$f":"IF($A344<=Daten!$B$8,LOOKUP($B344,Daten!$A$16:$A$65,Daten!$Z$16:$Z$65),\"\") & \" \" & IF($A344<=Daten!$B$8,LOOKUP($B344,Daten!$A$16:$A$65,Daten!$AA$16:$AA$65),\"\")","v":"49,1 Inhalt6Einh[49,1]"},null,{"$f":"IF($A344<=Daten!$B$8,LOOKUP($B344,Daten!$A$67:$A$116,Daten!$Z$67:$Z$116),\"\") & \" \" & IF($A344<=Daten!$B$8,LOOKUP($B344,Daten!$A$67:$A$116,Daten!$AA$67:$AA$116),\"\")","v":"49,2 Inhalt6Einh[49,2]"},null,{"$f":"IF($A344<=Daten!$B$8,LOOKUP($B344,Daten!$A$118:$A$167,Daten!$Z$118:$Z$167),\"\") & \" \" & IF($A344<=Daten!$B$8,LOOKUP($B344,Daten!$A$118:$A$167,Daten!$AA$118:$AA$167),\"\")","v":"49,3 Inhalt6Einh[49,3]"},null,{"$f":"IF($A344<=Daten!$B$8,LOOKUP($B344,Daten!$A$169:$A$218,Daten!$Z$169:$Z$218),\"\") & \" \" & IF($A344<=Daten!$B$8,LOOKUP($B344,Daten!$A$169:$A$218,Daten!$AA$169:$AA$218),\"\")","v":"49,4 Inhalt6Einh[49,4]"},null,{"$f":"IF($A344<=Daten!$B$8,LOOKUP($B344,Daten!$A$220:$A$269,Daten!$Z$220:$Z$269),\"\") & \" \" & IF($A344<=Daten!$B$8,LOOKUP($B344,Daten!$A$220:$A$269,Daten!$AA$220:$AA$269),\"\")","v":"49,5 Inhalt6Einh[49,5]"},null,{"$f":"IF($A344<=Daten!$B$8,LOOKUP($B344,Daten!$A$271:$A$320,Daten!$Z$271:$Z$320),\"\") & \" \" & IF($A344<=Daten!$B$8,LOOKUP($B344,Daten!$A$271:$A$320,Daten!$AA$271:$AA$320),\"\")","v":"49,6 Inhalt6Einh[49,6]"},null,{"$f":"IF($A344<=Daten!$B$8,LOOKUP($B344,Daten!$A$322:$A$371,Daten!$Z$322:$Z$371),\"\") & \" \" & IF($A344<=Daten!$B$8,LOOKUP($B344,Daten!$A$322:$A$371,Daten!$AA$322:$AA$371),\"\")","v":"49,7 Inhalt6Einh[49,7]"}]
[null,{"$f":"IF(A344<=Daten!$B$8,\"Zusatzstoffe\",\"\")","v":"Zusatzstoffe"},{"$f":"IF($A344<=Daten!$B$8,LOOKUP($B344,Daten!$A$16:$A$65,Daten!$L$16:$L$65),\"\")","v":49.1},{"$f":"IF($A344<=Daten!$B$8,LOOKUP($B344,Daten!$A$16:$A$65,Daten!$E$16:$E$65),\"\")","v":219.1},{"$f":"IF($A344<=Daten!$B$8,LOOKUP($B344,Daten!$A$67:$A$116,Daten!$L$67:$L$116),\"\")","v":49.2},{"$f":"IF($A344<=Daten!$B$8,LOOKUP($B344,Daten!$A$16:$A$65,Daten!$E$67:$E$116),\"\")","v":0},{"$f":"IF($A344<=Daten!$B$8,LOOKUP($B344,Daten!$A$118:$A$167,Daten!$L$118:$L$167),\"\")","v":49.3},{"$f":"IF($A344<=Daten!$B$8,LOOKUP($B344,Daten!$A$118:$A$167,Daten!$E$118:$E$167),\"\")","v":0},{"$f":"IF($A344<=Daten!$B$8,LOOKUP($B344,Daten!$A$169:$A$218,Daten!$L$169:$L$218),\"\")","v":49.4},{"$f":"IF($A344<=Daten!$B$8,LOOKUP($B344,Daten!$A$169:$A$218,Daten!$E$169:$E$218),\"\")","v":0},{"$f":"IF($A344<=Daten!$B$8,LOOKUP($B344,Daten!$A$220:$A$269,Daten!$L$220:$L$269),\"\")","v":49.5},{"$f":"IF($A344<=Daten!$B$8,LOOKUP($B344,Daten!$A$220:$A$269,Daten!$E$220:$E$269),\"\")","v":0},{"$f":"IF($A344<=Daten!$B$8,LOOKUP($B344,Daten!$A$271:$A$320,Daten!$L$271:$L$320),\"\")","v":49.6},{"$f":"IF($A344<=Daten!$B$8,LOOKUP($B344,Daten!$A$271:$A$320,Daten!$E$271:$E$320),\"\")","v":0},{"$f":"IF($A344<=Daten!$B$8,LOOKUP($B344,Daten!$A$322:$A$371,Daten!$L$322:$L$371),\"\")","v":49.7},{"$f":"IF($A344<=Daten!$B$8,LOOKUP($B344,Daten!$A$322:$A$371,Daten!$E$322:$E$371),\"\")","v":0}]
[50,{"$f":"IF(A351<=Daten!$B$8,Daten!AY9,\"\")","v":"Menülinie 50"},{"$f":"IF(A351<=Daten!$B$8,LOOKUP(B351,Daten!$A$16:$A$65,Daten!$C$16:$C$65),\"\")","v":"Lang[50,1]"},{"$f":"IF($A351<=Daten!$B$8,LOOKUP($B351,Daten!$A$16:$A$65,Daten!$P$16:$P$65),\"\") & \" \" & IF($A351<=Daten!$B$8,LOOKUP($B351,Daten!$A$16:$A$65,Daten!$Q$16:$Q$65),\"\")","v":"50,1 Inhalt1Einh[50,1]"},{"$f":"IF($A351<=Daten!$B$8,LOOKUP($B351,Daten!$A$67:$A$116,Daten!$C$67:$C$116),\"\")","v":"Lang[50,2]"},{"$f":"IF($A351<=Daten!$B$8,LOOKUP($B351,Daten!$A$67:$A$116,Daten!$P$67:$P$116),\"\") & \" \" & IF($A351<=Daten!$B$8,LOOKUP($B351,Daten!$A$67:$A$116,Daten!$Q$67:$Q$116),\"\")","v":"50,2 Inhalt1Einh[50,2]"},{"$f":"IF($A351<=Daten!$B$8,LOOKUP($B351,Daten!$A$118:$A$167,Daten!$C$118:$C$167),\"\")","v":"Lang[50,3]"},{"$f":"IF($A351<=Daten!$B$8,LOOKUP($B351,Daten!$A$118:$A$167,Daten!$P$118:$P$167),\"\") & \" \" & IF($A351<=Daten!$B$8,LOOKUP($B351,Daten!$A$118:$A$167,Daten!$Q$118:$Q$167),\"\")","v":"50,3 Inhalt1Einh[50,3]"},{"$f":"IF($A351<=Daten!$B$8,LOOKUP($B351,Daten!$A$169:$A$218,Daten!$C$169:$C$218),\"\")","v":"Lang[50,4]"},{"$f":"IF($A351<=Daten!$B$8,LOOKUP($B351,Daten!$A$169:$A$218,Daten!$P$169:$P$218),\"\") & \" \" & IF($A351<=Daten!$B$8,LOOKUP($B351,Daten!$A$169:$A$218,Daten!$Q$169:$Q$218),\"\")","v":"50,4 Inhalt1Einh[50,4]"},{"$f":"IF($A351<=Daten!$B$8,LOOKUP($B351,Daten!$A$220:$A$269,Daten!$C$220:$C$269),\"\")","v":"Lang[50,5]"},{"$f":"IF($A351<=Daten!$B$8,LOOKUP($B351,Daten!$A$220:$A$269,Daten!$P$220:$P$269),\"\") & \" \" & IF($A351<=Daten!$B$8,LOOKUP($B351,Daten!$A$220:$A$269,Daten!$Q$220:$Q$269),\"\")","v":"50,5 Inhalt1Einh[50,5]"},{"$f":"IF($A351<=Daten!$B$8,LOOKUP($B351,Daten!$A$271:$A$320,Daten!$C$271:$C$320),\"\")","v":"Lang[50,6]"},{"$f":"IF($A351<=Daten!$B$8,LOOKUP($B351,Daten!$A$271:$A$320,Daten!$P$271:$P$320),\"\") & \" \" & IF($A351<=Daten!$B$8,LOOKUP($B351,Daten!$A$271:$A$320,Daten!$Q$271:$Q$320),\"\")","v":"50,6 Inhalt1Einh[50,6]"},{"$f":"IF($A351<=Daten!$B$8,LOOKUP($B351,Daten!$A$322:$A$371,Daten!$B$322:$C$371),\"\")","v":{"$error":"#N/A"}},{"$f":"IF($A351<=Daten!$B$8,LOOKUP($B351,Daten!$A$322:$A$371,Daten!$P$322:$P$371),\"\") & \" \" & IF($A351<=Daten!$B$8,LOOKUP($B351,Daten!$A$322:$A$371,Daten!$Q$322:$Q$371),\"\")","v":"50,7 Inhalt1Einh[50,7]"}]
[null,null,null,{"$f":"IF($A351<=Daten!$B$8,LOOKUP($B351,Daten!$A$16:$A$65,Daten!$R$16:$R$65),\"\") & \" \" & IF($A351<=Daten!$B$8,LOOKUP($B351,Daten!$A$16:$A$65,Daten!$S$16:$S$65),\"\")","v":"50,1 Inhalt2Einh[50,1]"},null,{"$f":"IF($A351<=Daten!$B$8,LOOKUP($B351,Daten!$A$67:$A$116,Daten!$R$67:$R$116),\"\") & \" \" & IF($A351<=Daten!$B$8,LOOKUP($B351,Daten!$A$67:$A$116,Daten!$S$67:$S$116),\"\")","v":"50,2 Inhalt2Einh[50,2]"},null,{"$f":"IF($A351<=Daten!$B$8,LOOKUP($B351,Daten!$A$118:$A$167,Daten!$R$118:$R$167),\"\") & \" \" & IF($A351<=Daten!$B$8,LOOKUP($B351,Daten!$A$118:$A$167,Daten!$S$118:$S$167),\"\")","v":"50,3 Inhalt2Einh[50,3]"},null,{"$f":"IF($A351<=Daten!$B$8,LOOKUP($B351,Daten!$A$169:$A$218,Daten!$R$169:$R$218),\"\") & \" \" & IF($A351<=Daten!$B$8,LOOKUP($B351,Daten!$A$169:$A$218,Daten!$S$169:$S$218),\"\")","v":"50,4 Inhalt2Einh[50,4]"},null,{"$f":"IF($A351<=Daten!$B$8,LOOKUP($B351,Daten!$A$220:$A$269,Daten!$R$220:$R$269),\"\") & \" \" & IF($A351<=Daten!$B$8,LOOKUP($B351,Daten!$A$220:$A$269,Daten!$S$220:$S$269),\"\")","v":"50,5 Inhalt2Einh[50,5]"},null,{"$f":"IF($A351<=Daten!$B$8,LOOKUP($B351,Daten!$A$271:$A$320,Daten!$R$271:$R$320),\"\") & \" \" & IF($A351<=Daten!$B$8,LOOKUP($B351,Daten!$A$271:$A$320,Daten!$S$271:$S$320),\"\")","v":"50,6 Inhalt2Einh[50,6]"},null,{"$f":"IF($A351<=Daten!$B$8,LOOKUP($B351,Daten!$A$322:$A$371,Daten!$R$322:$R$371),\"\") & \" \" & IF($A351<=Daten!$B$8,LOOKUP($B351,Daten!$A$322:$A$371,Daten!$S$322:$S$371),\"\")","v":"50,7 Inhalt2Einh[50,7]"}]
[null,null,null,{"$f":"IF($A351<=Daten!$B$8,LOOKUP($B351,Daten!$A$16:$A$65,Daten!$T$16:$T$65),\"\") & \" \" & IF($A351<=Daten!$B$8,LOOKUP($B351,Daten!$A$16:$A$65,Daten!$U$16:$U$65),\"\")","v":"50,1 Inhalt3Einh[50,1]"},null,{"$f":"IF($A351<=Daten!$B$8,LOOKUP($B351,Daten!$A$67:$A$116,Daten!$T$67:$T$116),\"\") & \" \" & IF($A351<=Daten!$B$8,LOOKUP($B351,Daten!$A$67:$A$116,Daten!$U$67:$U$116),\"\")","v":"50,2 Inhalt3Einh[50,2]"},null,{"$f":"IF($A351<=Daten!$B$8,LOOKUP($B351,Daten!$A$118:$A$167,Daten!$T$118:$T$167),\"\") & \" \" & IF($A351<=Daten!$B$8,LOOKUP($B351,Daten!$A$118:$A$167,Daten!$U$118:$U$167),\"\")","v":"50,3 Inhalt3Einh[50,3]"},null,{"$f":"IF($A351<=Daten!$B$8,LOOKUP($B351,Daten!$A$169:$A$218,Daten!$T$169:$T$218),\"\") & \" \" & IF($A351<=Daten!$B$8,LOOKUP($B351,Daten!$A$169:$A$218,Daten!$U$169:$U$218),\"\")","v":"50,4 Inhalt3Einh[50,4]"},null,{"$f":"IF($A351<=Daten!$B$8,LOOKUP($B351,Daten!$A$220:$A$269,Daten!$T$220:$T$269),\"\") & \" \" & IF($A351<=Daten!$B$8,LOOKUP($B351,Daten!$A$220:$A$269,Daten!$U$220:$U$269),\"\")","v":"50,5 Inhalt3Einh[50,5]"},null,{"$f":"IF($A351<=Daten!$B$8,LOOKUP($B351,Daten!$A$271:$A$320,Daten!$T$271:$T$320),\"\") & \" \" & IF($A351<=Daten!$B$8,LOOKUP($B351,Daten!$A$271:$A$320,Daten!$U$271:$U$320),\"\")","v":"50,6 Inhalt3Einh[50,6]"},null,{"$f":"IF($A351<=Daten!$B$8,LOOKUP($B351,Daten!$A$322:$A$371,Daten!$T$322:$T$371),\"\") & \" \" & IF($A351<=Daten!$B$8,LOOKUP($B351,Daten!$A$322:$A$371,Daten!$U$322:$U$371),\"\")","v":"50,7 Inhalt3Einh[50,7]"}]
[null,null,null,{"$f":"IF($A351<=Daten!$B$8,LOOKUP($B351,Daten!$A$16:$A$65,Daten!$V$16:$V$65),\"\") & \" \" & IF($A351<=Daten!$B$8,LOOKUP($B351,Daten!$A$16:$A$65,Daten!$W$16:$W$65),\"\")","v":"50,1 Inhalt4Einh[50,1]"},null,{"$f":"IF($A351<=Daten!$B$8,LOOKUP($B351,Daten!$A$67:$A$116,Daten!$V$67:$V$116),\"\") & \" \" & IF($A351<=Daten!$B$8,LOOKUP($B351,Daten!$A$67:$A$116,Daten!$W$67:$W$116),\"\")","v":"50,2 Inhalt4Einh[50,2]"},null,{"$f":"IF($A351<=Daten!$B$8,LOOKUP($B351,Daten!$A$118:$A$167,Daten!$V$118:$V$167),\"\") & \" \" & IF($A351<=Daten!$B$8,LOOKUP($B351,Daten!$A$118:$A$167,Daten!$W$118:$W$167),\"\")","v":"50,3 Inhalt4Einh[50,3]"},null,{"$f":"IF($A351<=Daten!$B$8,LOOKUP($B351,Daten!$A$169:$A$218,Daten!$V$169:$V$218),\"\") & \" \" & IF($A351<=Daten!$B$8,LOOKUP($B351,Daten!$A$169:$A$218,Daten!$W$169:$W$218),\"\")","v":"50,4 Inhalt4Einh[50,4]"},null,{"$f":"IF($A351<=Daten!$B$8,LOOKUP($B351,Daten!$A$220:$A$269,Daten!$V$220:$V$269),\"\") & \" \" & IF($A351<=Daten!$B$8,LOOKUP($B351,Daten!$A$220:$A$269,Daten!$W$220:$W$269),\"\")","v":"50,5 Inhalt4Einh[50,5]"},null,{"$f":"IF($A351<=Daten!$B$8,LOOKUP($B351,Daten!$A$271:$A$320,Daten!$V$271:$V$320),\"\") & \" \" & IF($A351<=Daten!$B$8,LOOKUP($B351,Daten!$A$271:$A$320,Daten!$W$271:$W$320),\"\")","v":"50,6 Inhalt4Einh[50,6]"},null,{"$f":"IF($A351<=Daten!$B$8,LOOKUP($B351,Daten!$A$322:$A$371,Daten!$V$322:$V$371),\"\") & \" \" & IF($A351<=Daten!$B$8,LOOKUP($B351,Daten!$A$322:$A$371,Daten!$W$322:$W$371),\"\")","v":"50,7 Inhalt4Einh[50,7]"}]
[null,null,null,{"$f":"IF($A351<=Daten!$B$8,LOOKUP($B351,Daten!$A$16:$A$65,Daten!$X$16:$X$65),\"\") & \" \" & IF($A351<=Daten!$B$8,LOOKUP($B351,Daten!$A$16:$A$65,Daten!$Y$16:$Y$65),\"\")","v":"50,1 Inhalt5Einh[50,1]"},null,{"$f":"IF($A351<=Daten!$B$8,LOOKUP($B351,Daten!$A$67:$A$116,Daten!$X$67:$X$116),\"\") & \" \" & IF($A351<=Daten!$B$8,LOOKUP($B351,Daten!$A$67:$A$116,Daten!$Y$67:$Y$116),\"\")","v":"50,2 Inhalt5Einh[50,2]"},null,{"$f":"IF($A351<=Daten!$B$8,LOOKUP($B351,Daten!$A$118:$A$167,Daten!$X$118:$X$167),\"\") & \" \" & IF($A351<=Daten!$B$8,LOOKUP($B351,Daten!$A$118:$A$167,Daten!$Y$118:$Y$167),\"\")","v":"50,3 Inhalt5Einh[50,3]"},null,{"$f":"IF($A351<=Daten!$B$8,LOOKUP($B351,Daten!$A$169:$A$218,Daten!$X$169:$X$218),\"\") & \" \" & IF($A351<=Daten!$B$8,LOOKUP($B351,Daten!$A$169:$A$218,Daten!$Y$169:$Y$218),\"\")","v":"50,4 Inhalt5Einh[50,4]"},null,{"$f":"IF($A351<=Daten!$B$8,LOOKUP($B351,Daten!$A$220:$A$269,Daten!$X$220:$X$269),\"\") & \" \" & IF($A351<=Daten!$B$8,LOOKUP($B351,Daten!$A$220:$A$269,Daten!$Y$220:$Y$269),\"\")","v":"50,5 Inhalt5Einh[50,5]"},null,{"$f":"IF($A351<=Daten!$B$8,LOOKUP($B351,Daten!$A$271:$A$320,Daten!$X$271:$X$320),\"\") & \" \" & IF($A351<=Daten!$B$8,LOOKUP($B351,Daten!$A$271:$A$320,Daten!$Y$271:$Y$320),\"\")","v":"50,6 Inhalt5Einh[50,6]"},null,{"$f":"IF($A351<=Daten!$B$8,LOOKUP($B351,Daten!$A$322:$A$371,Daten!$X$322:$X$371),\"\") & \" \" & IF($A351<=Daten!$B$8,LOOKUP($B351,Daten!$A$322:$A$371,Daten!$Y$322:$Y$371),\"\")","v":"50,7 Inhalt5Einh[50,7]"}]
[null,null,null,{"$f":"IF($A351<=Daten!$B$8,LOOKUP($B351,Daten!$A$16:$A$65,Daten!$Z$16:$Z$65),\"\") & \" \" & IF($A351<=Daten!$B$8,LOOKUP($B351,Daten!$A$16:$A$65,Daten!$AA$16:$AA$65),\"\")","v":"50,1 Inhalt6Einh[50,1]"},null,{"$f":"IF($A351<=Daten!$B$8,LOOKUP($B351,Daten!$A$67:$A$116,Daten!$Z$67:$Z$116),\"\") & \" \" & IF($A351<=Daten!$B$8,LOOKUP($B351,Daten!$A$67:$A$116,Daten!$AA$67:$AA$116),\"\")","v":"50,2 Inhalt6Einh[50,2]"},null,{"$f":"IF($A351<=Daten!$B$8,LOOKUP($B351,Daten!$A$118:$A$167,Daten!$Z$118:$Z$167),\"\") & \" \" & IF($A351<=Daten!$B$8,LOOKUP($B351,Daten!$A$118:$A$167,Daten!$AA$118:$AA$167),\"\")","v":"50,3 Inhalt6Einh[50,3]"},null,{"$f":"IF($A351<=Daten!$B$8,LOOKUP($B351,Daten!$A$169:$A$218,Daten!$Z$169:$Z$218),\"\") & \" \" & IF($A351<=Daten!$B$8,LOOKUP($B351,Daten!$A$169:$A$218,Daten!$AA$169:$AA$218),\"\")","v":"50,4 Inhalt6Einh[50,4]"},null,{"$f":"IF($A351<=Daten!$B$8,LOOKUP($B351,Daten!$A$220:$A$269,Daten!$Z$220:$Z$269),\"\") & \" \" & IF($A351<=Daten!$B$8,LOOKUP($B351,Daten!$A$220:$A$269,Daten!$AA$220:$AA$269),\"\")","v":"50,5 Inhalt6Einh[50,5]"},null,{"$f":"IF($A351<=Daten!$B$8,LOOKUP($B351,Daten!$A$271:$A$320,Daten!$Z$271:$Z$320),\"\") & \" \" & IF($A351<=Daten!$B$8,LOOKUP($B351,Daten!$A$271:$A$320,Daten!$AA$271:$AA$320),\"\")","v":"50,6 Inhalt6Einh[50,6]"},null,{"$f":"IF($A351<=Daten!$B$8,LOOKUP($B351,Daten!$A$322:$A$371,Daten!$Z$322:$Z$371),\"\") & \" \" & IF($A351<=Daten!$B$8,LOOKUP($B351,Daten!$A$322:$A$371,Daten!$AA$322:$AA$371),\"\")","v":"50,7 Inhalt6Einh[50,7]"}]
[null,{"$f":"IF(A351<=Daten!$B$8,\"Zusatzstoffe\",\"\")","v":"Zusatzstoffe"},{"$f":"IF($A351<=Daten!$B$8,LOOKUP($B351,Daten!$A$16:$A$65,Daten!$L$16:$L$65),\"\")","v":50.1},{"$f":"IF($A351<=Daten!$B$8,LOOKUP($B351,Daten!$A$16:$A$65,Daten!$E$16:$E$65),\"\")","v":0},{"$f":"IF($A351<=Daten!$B$8,LOOKUP($B351,Daten!$A$67:$A$116,Daten!$L$67:$L$116),\"\")","v":50.2},{"$f":"IF($A351<=Daten!$B$8,LOOKUP($B351,Daten!$A$16:$A$65,Daten!$E$67:$E$116),\"\")","v":0},{"$f":"IF($A351<=Daten!$B$8,LOOKUP($B351,Daten!$A$118:$A$167,Daten!$L$118:$L$167),\"\")","v":50.3},{"$f":"IF($A351<=Daten!$B$8,LOOKUP($B351,Daten!$A$118:$A$167,Daten!$E$118:$E$167),\"\")","v":0},{"$f":"IF($A351<=Daten!$B$8,LOOKUP($B351,Daten!$A$169:$A$218,Daten!$L$169:$L$218),\"\")","v":50.4},{"$f":"IF($A351<=Daten!$B$8,LOOKUP($B351,Daten!$A$169:$A$218,Daten!$E$169:$E$218),\"\")","v":0},{"$f":"IF($A351<=Daten!$B$8,LOOKUP($B351,Daten!$A$220:$A$269,Daten!$L$220:$L$269),\"\")","v":50.5},{"$f":"IF($A351<=Daten!$B$8,LOOKUP($B351,Daten!$A$220:$A$269,Daten!$E$220:$E$269),\"\")","v":0},{"$f":"IF($A351<=Daten!$B$8,LOOKUP($B351,Daten!$A$271:$A$320,Daten!$L$271:$L$320),\"\")","v":50.6},{"$f":"IF($A351<=Daten!$B$8,LOOKUP($B351,Daten!$A$271:$A$320,Daten!$E$271:$E$320),\"\")","v":0},{"$f":"IF($A351<=Daten!$B$8,LOOKUP($B351,Daten!$A$322:$A$371,Daten!$L$322:$L$371),\"\")","v":50.7},{"$f":"IF($A351<=Daten!$B$8,LOOKUP($B351,Daten!$A$322:$A$371,Daten!$E$322:$E$371),\"\")","v":0}]
[]
[null,"Legende der Inhaltsstoffe",{"$f":"IF(ISBLANK(Daten!B$7),\"\",Daten!B$7)","v":"Inhalt1Name"},{"$f":"IF(ISBLANK(Daten!K$16),\"\",Daten!K$16)","v":1},null,"Legende der Zusatzstoffe und Allergene"]
[null,null,{"$f":"IF(ISBLANK(Daten!C$7),\"\",Daten!C$7)","v":"Inhalt2Name"},{"$f":"IF(ISBLANK(Daten!P$16),\"\",Daten!P$16)","v":1.1000000000000001},null,{"$f":"Daten!B5","v":"Legende der Zusatzstoffe (Textfeld)"}]
[null,null,{"$f":"IF(ISBLANK(Daten!D$7),\"\",Daten!D$7)","v":"Inhalt3Name"},{"$f":"IF(ISBLANK(Daten!R$16),\"\",Daten!R$16)","v":1.1000000000000001},null,null,null,null,null,null,null,null,null,null,null,"erstellt durch"]
[null,null,{"$f":"IF(ISBLANK(Daten!E$7),\"\",Daten!E$7)","v":"Inhalt4Name"},{"$f":"IF(ISBLANK(Daten!T$16),\"\",Daten!T$16)","v":1.1000000000000001}]
[null,null,{"$f":"IF(ISBLANK(Daten!F$7),\"\",Daten!F$7)","v":"Inhalt5Name"},{"$f":"IF(ISBLANK(Daten!V$16),\"\",Daten!V$16)","v":1.1000000000000001}]
[null,null,{"$f":"IF(ISBLANK(Daten!G$7),\"\",Daten!G$7)","v":"Inhalt6Name"},{"$f":"IF(ISBLANK(Daten!X$16),\"\",Daten!X$16)","v":1.1000000000000001}]

{"sheet":"Speiseplan (Preis)","index":2,"n_rows":364,"n_cols":16,"rows_kept":364,"cut":false,"hidden":false,"merged":[[4,8,5,9],[4,10,5,11],[6,12,6,13],[7,12,12,12],[4,14,5,15],[14,14,19,14],[6,14,6,15],[0,1,0,15],[2,1,2,15],[4,2,5,3],[4,4,5,5],[4,6,5,7],[14,6,19,6],[14,8,19,8],[14,10,19,10],[4,12,5,13],[7,14,12,14],[6,2,6,3],[6,4,6,5],[6,6,6,7],[6,8,6,9],[6,10,6,11],[14,12,19,12],[7,1,12,1],[21,1,26,1],[21,2,26,2],[21,4,26,4],[21,6,26,6],[21,8,26,8],[21,10,26,10],[21,12,26,12],[21,14,26,14],[7,2,12,2],[7,4,12,4],[7,6,12,6],[7,8,12,8],[7,10,12,10],[14,1,19,1],[14,2,19,2],[14,4,19,4],[35,1,40,1],[35,2,40,2],[35,4,40,4],[35,6,40,6],[35,8,40,8],[35,10,40,10],[35,12,40,12],[35,14,40,14],[28,12,33,12],[28,14,33,14],[28,1,33,1],[28,2,33,2],[28,4,33,4],[28,6,33,6],[28,8,33,8],[28,10,33,10],[49,1,54,1],[49,2,54,2],[49,4,54,4],[49,6,54,6],[49,8,54,8],[49,10,54,10],[49,12,54,12],[49,14,54,14],[42,1,47,1],[42,2,47,2],[42,4,47,4],[42,6,47,6],[42,8,47,8],[42,10,47,10],[42,12,47,12],[42,14,47,14],[63,1,68,1],[63,2,68,2],[63,4,68,4],[63,6,68,6],[63,8,68,8],[63,10,68,10],[63,12,68,12],[63,14,68,14],[56,1,61,1],[56,2,61,2],[56,4,61,4],[56,6,61,6],[56,8,61,8],[56,10,61,10],[56,12,61,12],[56,14,61,14],[77,1,82,1],[77,2,82,2],[77,4,82,4],[77,6,82,6],[77,8,82,8],[77,10,82,10],[77,12,82,12],[77,14,82,14],[70,1,75,1],[70,2,75,2],[70,4,75,4],[70,6,75,6],[70,8,75,8],[70,10,75,10],[70,12,75,12],[70,14,75,14],[91,1,96,1],[91,2,96,2],[91,4,96,4],[91,6,96,6],[91,8,96,8],[91,10,96,10],[91,12,96,12],[91,14,96,14],[84,1,89,1],[84,2,89,2],[84,4,89,4],[84,6,89,6],[84,8,89,8],[84,10,89,10],[84,12,89,12],[84,14,89,14],[105,1,110,1],[105,2,110,2],[105,4,110,4],[105,6,110,6],[105,8,110,8],[105,10,110,10],[105,12,110,12],[105,14,110,14],[98,1,103,1],[98,2,103,2],[98,4,103,4],[98,6,103,6],[98,8,103,8],[98,10,103,10],[98,12,103,12],[98,14,103,14],[119,1,124,1],[119,2,124,2],[119,4,124,4],[119,6,124,6],[119,8,124,8],[119,10,124,10],[119,12,124,12],[119,14,124,14],[112,1,117,1],[112,2,117,2],[112,4,117,4],[112,6,117,6],[112,8,117,8],[112,10,117,10],[112,12,117,12],[112,14,117,14],[133,1,138,1],[133,2,138,2],[133,4,138,4],[133,6,138,6],[133,8,138,8],[133,10,138,10],[133,12,138,12],[133,14,138,14],[126,1,131,1],[126,2,131,2],[126,4,131,4],[126,6,131,6],[126,8,131,8],[126,10,131,10],[126,12,131,12],[126,14,131,14],[147,1,152,1],[147,2,152,2],[147,4,152,4],[147,6,152,6],[147,8,152,8],[147,10,152,10],[147,12,152,12],[147,14,152,14],[140,1,145,1],[140,2,145,2],[140,4,145,4],[140,6,145,6],[140,8,145,8],[140,10,145,10],[140,12,145,12],[140,14,145,14],[161,1,166,1],[161,2,166,2],[161,4,166,4],[161,6,166,6],[161,8,166,8],[161,10,166,10],[161,12,166,12],[161,14,166,14],[154,1,159,1],[154,2,159,2],[154,4,159,4],[154,6,159,6],[154,8,159,8],[154,10,159,10],[154,12,159,12],[154,14,159,14],[175,1,180,1],[175,2,180,2],[175,4,180,4],[175,6,180,6],[175,8,180,8],[175,10,180,10],[175,12,180,12],[175,14,180,14],[168,1,173,1],[168,2,173,2],[168,4,173,4],[168,6,173,6],[168,8,173,8],[168,10,173,10],[168,12,173,12],[168,14,173,14],[189,1,194,1],[189,2,194,2],[189,4,194,4],[189,6,194,6],[189,8,194,8],[189,10,194,10],[189,12,194,12],[189,14,194,14],[182,1,187,1],[182,2,187,2],[182,4,187,4],[182,6,187,6],[182,8,187,8],[182,10,187,10],[182,12,187,12],[182,14,187,14],[203,1,208,1],[203,2,208,2],[203,4,208,4],[203,6,208,6],[203,8,208,8],[203,10,208,10],[203,12,208,12],[203,14,208,14],[196,1,201,1],[196,2,201,2],[196,4,201,4],[196,6,201,6],[196,8,201,8],[196,10,201,10],[196,12,201,12],[196,14,201,14],[217,1,222,1],[217,2,222,2],[217,4,222,4],[217,6,222,6],[217,8,222,8],[217,10,222,10],[217,12,222,12],[217,14,222,14],[210,1,215,1],[210,2,215,2],[210,4,215,4],[210,6,215,6],[210,8,215,8],[210,10,215,10],[210,12,215,12],[210,14,215,14],[231,1,236,1],[231,2,236,2],[231,4,236,4],[231,6,236,6],[231,8,236,8],[231,10,236,10],[231,12,236,12],[231,14,236,14],[224,1,229,1],[224,2,229,2],[224,4,229,4],[224,6,229,6],[224,8,229,8],[224,10,229,10],[224,12,229,12],[224,14,229,14],[245,1,250,1],[245,2,250,2],[245,4,250,4],[245,6,250,6],[245,8,250,8],[245,10,250,10],[245,12,250,12],[245,14,250,14],[238,1,243,1],[238,2,243,2],[238,4,243,4],[238,6,243,6],[238,8,243,8],[238,10,243,10],[238,12,243,12],[238,14,243,14],[259,1,264,1],[259,2,264,2],[259,4,264,4],[259,6,264,6],[259,8,264,8],[259,10,264,10],[259,12,264,12],[259,14,264,14],[252,1,257,1],[252,2,257,2],[252,4,257,4],[252,6,257,6],[252,8,257,8],[252,10,257,10],[252,12,257,12],[252,14,257,14],[273,1,278,1],[273,2,278,2],[273,4,278,4],[273,6,278,6],[273,8,278,8],[273,10,278,10],[273,12,278,12],[273,14,278,14],[266,1,271,1],[266,2,271,2],[266,4,271,4],[266,6,271,6],[266,8,271,8],[266,10,271,10],[266,12,271,12],[266,14,271,14],[287,1,292,1],[287,2,292,2],[287,4,292,4],[287,6,292,6],[287,8,292,8],[287,10,292,10],[287,12,292,12],[287,14,292,14],[280,1,285,1],[280,2,285,2],[280,4,285,4],[280,6,285,6],[280,8,285,8],[280,10,285,10],[280,12,285,12],[280,14,285,14],[301,1,306,1],[301,2,306,2],[301,4,306,4],[301,6,306,6],[301,8,306,8],[301,10,306,10],[301,12,306,12],[301,14,306,14],[294,1,299,1],[294,2,299,2],[294,4,299,4],[294,6,299,6],[294,8,299,8],[294,10,299,10],[294,12,299,12],[294,14,299,14],[315,1,320,1],[315,2,320,2],[315,4,320,4],[315,6,320,6],[315,8,320,8],[315,10,320,10],[315,12,320,12],[315,14,320,14],[308,1,313,1],[308,2,313,2],[308,4,313,4],[308,6,313,6],[308,8,313,8],[308,10,313,10],[308,12,313,12],[308,14,313,14],[329,1,334,1],[329,2,334,2],[329,4,334,4],[329,6,334,6],[329,8,334,8],[329,10,334,10],[329,12,334,12],[329,14,334,14],[322,1,327,1],[322,2,327,2],[322,4,327,4],[322,6,327,6],[322,8,327,8],[322,10,327,10],[322,12,327,12],[322,14,327,14],[343,1,348,1],[343,2,348,2],[343,4,348,4],[343,6,348,6],[343,8,348,8],[343,10,348,10],[343,12,348,12],[343,14,348,14],[336,1,341,1],[336,2,341,2],[336,4,341,4],[336,6,341,6],[336,8,341,8],[336,10,341,10],[336,12,341,12],[336,14,341,14],[359,5,363,12],[350,1,355,1],[350,2,355,2],[350,4,355,4],[350,6,355,6],[350,8,355,8],[350,10,355,10],[350,12,355,12],[350,14,355,14]]}
[null,{"$f":"Daten!B1","v":"Vorlageplan"}]
[]
[null,{"$f":"\"Speiseplan vom \"&TEXT(Daten!$B$3,\"tt.MM.jjjj\")&\" bis \"&TEXT(Daten!$B$4,\"tt.MM.jjjj\")&\", \"&TEXT(Daten!$B$2,\"0\")&\". Kalenderwoche\"","v":"Speiseplan vom   bis  ,  . Kalenderwoche"}]
[null,null,null,0,null,1,null,2,null,3,null,4,null,5,null,6]
[null,"Datum",{"$f":"Daten!$B$3+D$4","v":{"$error":"#VALUE!"}},null,{"$f":"Daten!$B$3+F$4","v":{"$error":"#VALUE!"}},null,{"$f":"Daten!$B$3+H$4","v":{"$error":"#VALUE!"}},null,{"$f":"Daten!$B$3+J$4","v":{"$error":"#VALUE!"}},null,{"$f":"Daten!$B$3+L$4","v":{"$error":"#VALUE!"}},null,{"$f":"Daten!$B$3+N$4","v":{"$error":"#VALUE!"}},null,{"$f":"Daten!$B$3+P$4","v":{"$error":"#VALUE!"}}]
[]
[null,"Menülinie",{"$f":"Daten!$B$3+D$4","v":{"$error":"#VALUE!"}},null,{"$f":"Daten!$B$3+F$4","v":{"$error":"#VALUE!"}},null,{"$f":"Daten!$B$3+H$4","v":{"$error":"#VALUE!"}},null,{"$f":"Daten!$B$3+J$4","v":{"$error":"#VALUE!"}},null,{"$f":"Daten!$B$3+L$4","v":{"$error":"#VALUE!"}},null,{"$f":"Daten!$B$3+N$4","v":{"$error":"#VALUE!"}},null,{"$f":"Daten!$B$3+P$4","v":{"$error":"#VALUE!"}}]
[1,{"$f":"IF(A8<=Daten!$B$8,Daten!B9,\"\")","v":"Menülinie 1"},{"$f":"IF($A8<=Daten!$B$8,LOOKUP($B8,Daten!$A$16:$A$65,Daten!$C$16:$C$65),\"\")","v":" "},{"$f":"IF($A8<=Daten!$B$8,LOOKUP($B8,Daten!$A$16:$A$65,Daten!$P$16:$P$65),\"\") & \" \" & IF($A8<=Daten!$B$8,LOOKUP($B8,Daten!$A$16:$A$65,Daten!$Q$16:$Q$65),\"\")","v":"1,1 Inhalt1Einh[1,1]"},{"$f":"IF($A8<=Daten!$B$8,LOOKUP($B8,Daten!$A$67:$A$116,Daten!$C$67:$C$116),\"\")","v":" "},{"$f":"IF($A8<=Daten!$B$8,LOOKUP($B8,Daten!$A$67:$A$116,Daten!$P$67:$P$116),\"\") & \" \" & IF($A8<=Daten!$B$8,LOOKUP($B8,Daten!$A$67:$A$116,Daten!$Q$67:$Q$116),\"\")","v":"1,2 Inhalt1Einh[1,2]"},{"$f":"IF($A8<=Daten!$B$8,LOOKUP($B8,Daten!$A$118:$A$167,Daten!$C$118:$C$167),\"\")","v":" "},{"$f":"IF($A8<=Daten!$B$8,LOOKUP($B8,Daten!$A$118:$A$167,Daten!$P$118:$P$167),\"\") & \" \" & IF($A8<=Daten!$B$8,LOOKUP($B8,Daten!$A$118:$A$167,Daten!$Q$118:$Q$167),\"\")","v":"1,3 Inhalt1Einh[1,3]"},{"$f":"IF($A8<=Daten!$B$8,LOOKUP($B8,Daten!$A$169:$A$218,Daten!$C$169:$C$218),\"\")","v":" "},{"$f":"IF($A8<=Daten!$B$8,LOOKUP($B8,Daten!$A$169:$A$218,Daten!$P$169:$P$218),\"\") & \" \" & IF($A8<=Daten!$B$8,LOOKUP($B8,Daten!$A$169:$A$218,Daten!$Q$169:$Q$218),\"\")","v":"1,4 Inhalt1Einh[1,4]"},{"$f":"IF($A8<=Daten!$B$8,LOOKUP($B8,Daten!$A$220:$A$269,Daten!$C$220:$C$269),\"\")","v":" "},{"$f":"IF($A8<=Daten!$B$8,LOOKUP($B8,Daten!$A$220:$A$269,Daten!$P$220:$P$269),\"\") & \" \" & IF($A8<=Daten!$B$8,LOOKUP($B8,Daten!$A$220:$A$269,Daten!$Q$220:$Q$269),\"\")","v":"1,5 Inhalt1Einh[1,5]"},{"$f":"IF($A8<=Daten!$B$8,LOOKUP($B8,Daten!$A$271:$A$320,Daten!$C$271:$C$320),\"\")","v":"Lang[1,6]"},{"$f":"IF($A8<=Daten!$B$8,LOOKUP($B8,Daten!$A$271:$A$320,Daten!$P$271:$P$320),\"\") & \" \" & IF($A8<=Daten!$B$8,LOOKUP($B8,Daten!$A$271:$A$320,Daten!$Q$271:$Q$320),\"\")","v":"1,6 Inhalt1Einh[1,6]"},{"$f":"IF($A8<=Daten!$B$8,LOOKUP($B8,Daten!$A$322:$A$371,Daten!$B$322:$C$371),\"\")","v":{"$error":"#N/A"}},{"$f":"IF($A8<=Daten!$B$8,LOOKUP($B8,Daten!$A$322:$A$371,Daten!$P$322:$P$371),\"\") & \" \" & IF($A8<=Daten!$B$8,LOOKUP($B8,Daten!$A$322:$A$371,Daten!$Q$322:$Q$371),\"\")","v":"1,7 Inhalt1Einh[1,7]"}]
[null,null,null,{"$f":"IF($A8<=Daten!$B$8,LOOKUP($B8,Daten!$A$16:$A$65,Daten!$R$16:$R$65),\"\") & \" \" & IF($A8<=Daten!$B$8,LOOKUP($B8,Daten!$A$16:$A$65,Daten!$S$16:$S$65),\"\")","v":"1,1 Inhalt2Einh[1,1]"},null,{"$f":"IF($A8<=Daten!$B$8,LOOKUP($B8,Daten!$A$67:$A$116,Daten!$R$67:$R$116),\"\") & \" \" & IF($A8<=Daten!$B$8,LOOKUP($B8,Daten!$A$67:$A$116,Daten!$S$67:$S$116),\"\")","v":"1,2 Inhalt2Einh[1,2]"},null,{"$f":"IF($A8<=Daten!$B$8,LOOKUP($B8,Daten!$A$118:$A$167,Daten!$R$118:$R$167),\"\") & \" \" & IF($A8<=Daten!$B$8,LOOKUP($B8,Daten!$A$118:$A$167,Daten!$S$118:$S$167),\"\")","v":"1,3 Inhalt2Einh[1,3]"},null,{"$f":"IF($A8<=Daten!$B$8,LOOKUP($B8,Daten!$A$169:$A$218,Daten!$R$169:$R$218),\"\") & \" \" & IF($A8<=Daten!$B$8,LOOKUP($B8,Daten!$A$169:$A$218,Daten!$S$169:$S$218),\"\")","v":"1,4 Inhalt2Einh[1,4]"},null,{"$f":"IF($A8<=Daten!$B$8,LOOKUP($B8,Daten!$A$220:$A$269,Daten!$R$220:$R$269),\"\") & \" \" & IF($A8<=Daten!$B$8,LOOKUP($B8,Daten!$A$220:$A$269,Daten!$S$220:$S$269),\"\")","v":"1,5 Inhalt2Einh[1,5]"},null,{"$f":"IF($A8<=Daten!$B$8,LOOKUP($B8,Daten!$A$271:$A$320,Daten!$R$271:$R$320),\"\") & \" \" & IF($A8<=Daten!$B$8,LOOKUP($B8,Daten!$A$271:$A$320,Daten!$S$271:$S$320),\"\")","v":"1,6 Inhalt2Einh[1,6]"},null,{"$f":"IF($A8<=Daten!$B$8,LOOKUP($B8,Daten!$A$322:$A$371,Daten!$R$322:$R$371),\"\") & \" \" & IF($A8<=Daten!$B$8,LOOKUP($B8,Daten!$A$322:$A$371,Daten!$S$322:$S$371),\"\")","v":"1,7 Inhalt2Einh[1,7]"}]
[null,null,null,{"$f":"IF($A8<=Daten!$B$8,LOOKUP($B8,Daten!$A$16:$A$65,Daten!$T$16:$T$65),\"\") & \" \" & IF($A8<=Daten!$B$8,LOOKUP($B8,Daten!$A$16:$A$65,Daten!$U$16:$U$65),\"\")","v":"1,1 Inhalt3Einh[1,1]"},null,{"$f":"IF($A8<=Daten!$B$8,LOOKUP($B8,Daten!$A$67:$A$116,Daten!$T$67:$T$116),\"\") & \" \" & IF($A8<=Daten!$B$8,LOOKUP($B8,Daten!$A$67:$A$116,Daten!$U$67:$U$116),\"\")","v":"1,2 Inhalt3Einh[1,2]"},null,{"$f":"IF($A8<=Daten!$B$8,LOOKUP($B8,Daten!$A$118:$A$167,Daten!$T$118:$T$167),\"\") & \" \" & IF($A8<=Daten!$B$8,LOOKUP($B8,Daten!$A$118:$A$167,Daten!$U$118:$U$167),\"\")","v":"1,3 Inhalt3Einh[1,3]"},null,{"$f":"IF($A8<=Daten!$B$8,LOOKUP($B8,Daten!$A$169:$A$218,Daten!$T$169:$T$218),\"\") & \" \" & IF($A8<=Daten!$B$8,LOOKUP($B8,Daten!$A$169:$A$218,Daten!$U$169:$U$218),\"\")","v":"1,4 Inhalt3Einh[1,4]"},null,{"$f":"IF($A8<=Daten!$B$8,LOOKUP($B8,Daten!$A$220:$A$269,Daten!$T$220:$T$269),\"\") & \" \" & IF($A8<=Daten!$B$8,LOOKUP($B8,Daten!$A$220:$A$269,Daten!$U$220:$U$269),\"\")","v":"1,5 Inhalt3Einh[1,5]"},null,{"$f":"IF($A8<=Daten!$B$8,LOOKUP($B8,Daten!$A$271:$A$320,Daten!$T$271:$T$320),\"\") & \" \" & IF($A8<=Daten!$B$8,LOOKUP($B8,Daten!$A$271:$A$320,Daten!$U$271:$U$320),\"\")","v":"1,6 Inhalt3Einh[1,6]"},null,{"$f":"IF($A8<=Daten!$B$8,LOOKUP($B8,Daten!$A$322:$A$371,Daten!$T$322:$T$371),\"\") & \" \" & IF($A8<=Daten!$B$8,LOOKUP($B8,Daten!$A$322:$A$371,Daten!$U$322:$U$371),\"\")","v":"1,7 Inhalt3Einh[1,7]"}]
[null,null,null,{"$f":"IF($A8<=Daten!$B$8,LOOKUP($B8,Daten!$A$16:$A$65,Daten!$V$16:$V$65),\"\") & \" \" & IF($A8<=Daten!$B$8,LOOKUP($B8,Daten!$A$16:$A$65,Daten!$W$16:$W$65),\"\")","v":"1,1 Inhalt4Einh[1,1]"},null,{"$f":"IF($A8<=Daten!$B$8,LOOKUP($B8,Daten!$A$67:$A$116,Daten!$V$67:$V$116),\"\") & \" \" & IF($A8<=Daten!$B$8,LOOKUP($B8,Daten!$A$67:$A$116,Daten!$W$67:$W$116),\"\")","v":"1,2 Inhalt4Einh[1,2]"},null,{"$f":"IF($A8<=Daten!$B$8,LOOKUP($B8,Daten!$A$118:$A$167,Daten!$V$118:$V$167),\"\") & \" \" & IF($A8<=Daten!$B$8,LOOKUP($B8,Daten!$A$118:$A$167,Daten!$W$118:$W$167),\"\")","v":"1,3 Inhalt4Einh[1,3]"},null,{"$f":"IF($A8<=Daten!$B$8,LOOKUP($B8,Daten!$A$169:$A$218,Daten!$V$169:$V$218),\"\") & \" \" & IF($A8<=Daten!$B$8,LOOKUP($B8,Daten!$A$169:$A$218,Daten!$W$169:$W$218),\"\")","v":"1,4 Inhalt4Einh[1,4]"},null,{"$f":"IF($A8<=Daten!$B$8,LOOKUP($B8,Daten!$A$220:$A$269,Daten!$V$220:$V$269),\"\") & \" \" & IF($A8<=Daten!$B$8,LOOKUP($B8,Daten!$A$220:$A$269,Daten!$W$220:$W$269),\"\")","v":"1,5 Inhalt4Einh[1,5]"},null,{"$f":"IF($A8<=Daten!$B$8,LOOKUP($B8,Daten!$A$271:$A$320,Daten!$V$271:$V$320),\"\") & \" \" & IF($A8<=Daten!$B$8,LOOKUP($B8,Daten!$A$271:$A$320,Daten!$W$271:$W$320),\"\")","v":"1,6 Inhalt4Einh[1,6]"},null,{"$f":"IF($A8<=Daten!$B$8,LOOKUP($B8,Daten!$A$322:$A$371,Daten!$V$322:$V$371),\"\") & \" \" & IF($A8<=Daten!$B$8,LOOKUP($B8,Daten!$A$322:$A$371,Daten!$W$322:$W$371),\"\")","v":"1,7 Inhalt4Einh[1,7]"}]
[null,null,null,{"$f":"IF($A8<=Daten!$B$8,LOOKUP($B8,Daten!$A$16:$A$65,Daten!$X$16:$X$65),\"\") & \" \" & IF($A8<=Daten!$B$8,LOOKUP($B8,Daten!$A$16:$A$65,Daten!$Y$16:$Y$65),\"\")","v":"1,1 Inhalt5Einh[1,1]"},null,{"$f":"IF($A8<=Daten!$B$8,LOOKUP($B8,Daten!$A$67:$A$116,Daten!$X$67:$X$116),\"\") & \" \" & IF($A8<=Daten!$B$8,LOOKUP($B8,Daten!$A$67:$A$116,Daten!$Y$67:$Y$116),\"\")","v":"1,2 Inhalt5Einh[1,2]"},null,{"$f":"IF($A8<=Daten!$B$8,LOOKUP($B8,Daten!$A$118:$A$167,Daten!$X$118:$X$167),\"\") & \" \" & IF($A8<=Daten!$B$8,LOOKUP($B8,Daten!$A$118:$A$167,Daten!$Y$118:$Y$167),\"\")","v":"1,3 Inhalt5Einh[1,3]"},null,{"$f":"IF($A8<=Daten!$B$8,LOOKUP($B8,Daten!$A$169:$A$218,Daten!$X$169:$X$218),\"\") & \" \" & IF($A8<=Daten!$B$8,LOOKUP($B8,Daten!$A$169:$A$218,Daten!$Y$169:$Y$218),\"\")","v":"1,4 Inhalt5Einh[1,4]"},null,{"$f":"IF($A8<=Daten!$B$8,LOOKUP($B8,Daten!$A$220:$A$269,Daten!$X$220:$X$269),\"\") & \" \" & IF($A8<=Daten!$B$8,LOOKUP($B8,Daten!$A$220:$A$269,Daten!$Y$220:$Y$269),\"\")","v":"1,5 Inhalt5Einh[1,5]"},null,{"$f":"IF($A8<=Daten!$B$8,LOOKUP($B8,Daten!$A$271:$A$320,Daten!$X$271:$X$320),\"\") & \" \" & IF($A8<=Daten!$B$8,LOOKUP($B8,Daten!$A$271:$A$320,Daten!$Y$271:$Y$320),\"\")","v":"1,6 Inhalt5Einh[1,6]"},null,{"$f":"IF($A8<=Daten!$B$8,LOOKUP($B8,Daten!$A$322:$A$371,Daten!$X$322:$X$371),\"\") & \" \" & IF($A8<=Daten!$B$8,LOOKUP($B8,Daten!$A$322:$A$371,Daten!$Y$322:$Y$371),\"\")","v":"1,7 Inhalt5Einh[1,7]"}]
[null,null,null,{"$f":"IF($A8<=Daten!$B$8,LOOKUP($B8,Daten!$A$16:$A$65,Daten!$Z$16:$Z$65),\"\") & \" \" & IF($A8<=Daten!$B$8,LOOKUP($B8,Daten!$A$16:$A$65,Daten!$AA$16:$AA$65),\"\")","v":"1,1 Inhalt6Einh[1,1]"},null,{"$f":"IF($A8<=Daten!$B$8,LOOKUP($B8,Daten!$A$67:$A$116,Daten!$Z$67:$Z$116),\"\") & \" \" & IF($A8<=Daten!$B$8,LOOKUP($B8,Daten!$A$67:$A$116,Daten!$AA$67:$AA$116),\"\")","v":"1,2 Inhalt6Einh[1,2]"},null,{"$f":"IF($A8<=Daten!$B$8,LOOKUP($B8,Daten!$A$118:$A$167,Daten!$Z$118:$Z$167),\"\") & \" \" & IF($A8<=Daten!$B$8,LOOKUP($B8,Daten!$A$118:$A$167,Daten!$AA$118:$AA$167),\"\")","v":"1,3 Inhalt6Einh[1,3]"},null,{"$f":"IF($A8<=Daten!$B$8,LOOKUP($B8,Daten!$A$169:$A$218,Daten!$Z$169:$Z$218),\"\") & \" \" & IF($A8<=Daten!$B$8,LOOKUP($B8,Daten!$A$169:$A$218,Daten!$AA$169:$AA$218),\"\")","v":"1,4 Inhalt6Einh[1,4]"},null,{"$f":"IF($A8<=Daten!$B$8,LOOKUP($B8,Daten!$A$220:$A$269,Daten!$Z$220:$Z$269),\"\") & \" \" & IF($A8<=Daten!$B$8,LOOKUP($B8,Daten!$A$220:$A$269,Daten!$AA$220:$AA$269),\"\")","v":"1,5 Inhalt6Einh[1,5]"},null,{"$f":"IF($A8<=Daten!$B$8,LOOKUP($B8,Daten!$A$271:$A$320,Daten!$Z$271:$Z$320),\"\") & \" \" & IF($A8<=Daten!$B$8,LOOKUP($B8,Daten!$A$271:$A$320,Daten!$AA$271:$AA$320),\"\")","v":"1,6 Inhalt6Einh[1,6]"},null,{"$f":"IF($A8<=Daten!$B$8,LOOKUP($B8,Daten!$A$322:$A$371,Daten!$Z$322:$Z$371),\"\") & \" \" & IF($A8<=Daten!$B$8,LOOKUP($B8,Daten!$A$322:$A$371,Daten!$AA$322:$AA$371),\"\")","v":"1,7 Inhalt6Einh[1,7]"}]
[null,{"$f":"IF(A8<=Daten!$B$8,\"Zusatzstoffe\",\"\")","v":"Zusatzstoffe"},{"$f":"IF($A8<=Daten!$B$8,LOOKUP($B8,Daten!$A$16:$A$65,Daten!$L$16:$L$65),\"\")","v":1.1000000000000001},{"$f":"IF($A8<=Daten!$B$8,LOOKUP($B8,Daten!$A$16:$A$65,Daten!$D$16:$D$65),\"\")","v":1.1000000000000001},{"$f":"IF($A8<=Daten!$B$8,LOOKUP($B8,Daten!$A$67:$A$116,Daten!$L$67:$L$116),\"\")","v":1.2},{"$f":"IF($A8<=Daten!$B$8,LOOKUP($B8,Daten!$A$16:$A$65,Daten!$D$67:$D$116),\"\")","v":1.2},{"$f":"IF($A8<=Daten!$B$8,LOOKUP($B8,Daten!$A$118:$A$167,Daten!$L$118:$L$167),\"\")","v":1.3},{"$f":"IF($A8<=Daten!$B$8,LOOKUP($B8,Daten!$A$118:$A$167,Daten!$D$118:$D$167),\"\")","v":1.3},{"$f":"IF($A8<=Daten!$B$8,LOOKUP($B8,Daten!$A$169:$A$218,Daten!$L$169:$L$218),\"\")","v":1.4},{"$f":"IF($A8<=Daten!$B$8,LOOKUP($B8,Daten!$A$169:$A$218,Daten!$D$169:$D$218),\"\")","v":1.4},{"$f":"IF($A8<=Daten!$B$8,LOOKUP($B8,Daten!$A$220:$A$269,Daten!$L$220:$L$269),\"\")","v":1.5},{"$f":"IF($A8<=Daten!$B$8,LOOKUP($B8,Daten!$A$220:$A$269,Daten!$D$220:$D$269),\"\")","v":1.5},{"$f":"IF($A8<=Daten!$B$8,LOOKUP($B8,Daten!$A$271:$A$320,Daten!$L$271:$L$320),\"\")","v":1.6},{"$f":"IF($A8<=Daten!$B$8,LOOKUP($B8,Daten!$A$271:$A$320,Daten!$D$271:$D$320),\"\")","v":1.6},{"$f":"IF($A8<=Daten!$B$8,LOOKUP($B8,Daten!$A$322:$A$371,Daten!$L$322:$L$371),\"\")","v":1.7},{"$f":"IF($A8<=Daten!$B$8,LOOKUP($B8,Daten!$A$322:$A$371,Daten!$D$322:$D$371),\"\")","v":1.7}]
[2,{"$f":"IF(A15<=Daten!$B$8,Daten!C9,\"\")","v":"Menülinie 2"},{"$f":"IF($A15<=Daten!$B$8,LOOKUP($B15,Daten!$A$16:$A$65,Daten!$C$16:$C$65),\"\")","v":" "},{"$f":"IF($A15<=Daten!$B$8,LOOKUP($B15,Daten!$A$16:$A$65,Daten!$P$16:$P$65),\"\") & \" \" & IF($A15<=Daten!$B$8,LOOKUP($B15,Daten!$A$16:$A$65,Daten!$Q$16:$Q$65),\"\")","v":"2,1 Inhalt1Einh[2,1]"},{"$f":"IF($A15<=Daten!$B$8,LOOKUP($B15,Daten!$A$67:$A$116,Daten!$C$67:$C$116),\"\")","v":" "},{"$f":"IF($A15<=Daten!$B$8,LOOKUP($B15,Daten!$A$67:$A$116,Daten!$P$67:$P$116),\"\") & \" \" & IF($A15<=Daten!$B$8,LOOKUP($B15,Daten!$A$67:$A$116,Daten!$Q$67:$Q$116),\"\")","v":"2,2 Inhalt1Einh[2,2]"},{"$f":"IF($A15<=Daten!$B$8,LOOKUP($B15,Daten!$A$118:$A$167,Daten!$C$118:$C$167),\"\")","v":" "},{"$f":"IF($A15<=Daten!$B$8,LOOKUP($B15,Daten!$A$118:$A$167,Daten!$P$118:$P$167),\"\") & \" \" & IF($A15<=Daten!$B$8,LOOKUP($B15,Daten!$A$118:$A$167,Daten!$Q$118:$Q$167),\"\")","v":"2,3 Inhalt1Einh[2,3]"},{"$f":"IF($A15<=Daten!$B$8,LOOKUP($B15,Daten!$A$169:$A$218,Daten!$C$169:$C$218),\"\")","v":" "},{"$f":"IF($A15<=Daten!$B$8,LOOKUP($B15,Daten!$A$169:$A$218,Daten!$P$169:$P$218),\"\") & \" \" & IF($A15<=Daten!$B$8,LOOKUP($B15,Daten!$A$169:$A$218,Daten!$Q$169:$Q$218),\"\")","v":"2,4 Inhalt1Einh[2,4]"},{"$f":"IF($A15<=Daten!$B$8,LOOKUP($B15,Daten!$A$220:$A$269,Daten!$C$220:$C$269),\"\")","v":" "},{"$f":"IF($A15<=Daten!$B$8,LOOKUP($B15,Daten!$A$220:$A$269,Daten!$P$220:$P$269),\"\") & \" \" & IF($A15<=Daten!$B$8,LOOKUP($B15,Daten!$A$220:$A$269,Daten!$Q$220:$Q$269),\"\")","v":"2,5 Inhalt1Einh[2,5]"},{"$f":"IF($A15<=Daten!$B$8,LOOKUP($B15,Daten!$A$271:$A$320,Daten!$C$271:$C$320),\"\")","v":"Lang[2,6]"},{"$f":"IF($A15<=Daten!$B$8,LOOKUP($B15,Daten!$A$271:$A$320,Daten!$P$271:$P$320),\"\") & \" \" & IF($A15<=Daten!$B$8,LOOKUP($B15,Daten!$A$271:$A$320,Daten!$Q$271:$Q$320),\"\")","v":"2,6 Inhalt1Einh[2,6]"},{"$f":"IF($A15<=Daten!$B$8,LOOKUP($B15,Daten!$A$322:$A$371,Daten!$B$322:$C$371),\"\")","v":{"$error":"#N/A"}},{"$f":"IF($A15<=Daten!$B$8,LOOKUP($B15,Daten!$A$322:$A$371,Daten!$P$322:$P$371),\"\") & \" \" & IF($A15<=Daten!$B$8,LOOKUP($B15,Daten!$A$322:$A$371,Daten!$Q$322:$Q$371),\"\")","v":"2,7 Inhalt1Einh[2,7]"}]
[null,null,null,{"$f":"IF($A15<=Daten!$B$8,LOOKUP($B15,Daten!$A$16:$A$65,Daten!$R$16:$R$65),\"\") & \" \" & IF($A15<=Daten!$B$8,LOOKUP($B15,Daten!$A$16:$A$65,Daten!$S$16:$S$65),\"\")","v":"2,1 Inhalt2Einh[2,1]"},null,{"$f":"IF($A15<=Daten!$B$8,LOOKUP($B15,Daten!$A$67:$A$116,Daten!$R$67:$R$116),\"\") & \" \" & IF($A15<=Daten!$B$8,LOOKUP($B15,Daten!$A$67:$A$116,Daten!$S$67:$S$116),\"\")","v":"2,2 Inhalt2Einh[2,2]"},null,{"$f":"IF($A15<=Daten!$B$8,LOOKUP($B15,Daten!$A$118:$A$167,Daten!$R$118:$R$167),\"\") & \" \" & IF($A15<=Daten!$B$8,LOOKUP($B15,Daten!$A$118:$A$167,Daten!$S$118:$S$167),\"\")","v":"2,3 Inhalt2Einh[2,3]"},null,{"$f":"IF($A15<=Daten!$B$8,LOOKUP($B15,Daten!$A$169:$A$218,Daten!$R$169:$R$218),\"\") & \" \" & IF($A15<=Daten!$B$8,LOOKUP($B15,Daten!$A$169:$A$218,Daten!$S$169:$S$218),\"\")","v":"2,4 Inhalt2Einh[2,4]"},null,{"$f":"IF($A15<=Daten!$B$8,LOOKUP($B15,Daten!$A$220:$A$269,Daten!$R$220:$R$269),\"\") & \" \" & IF($A15<=Daten!$B$8,LOOKUP($B15,Daten!$A$220:$A$269,Daten!$S$220:$S$269),\"\")","v":"2,5 Inhalt2Einh[2,5]"},null,{"$f":"IF($A15<=Daten!$B$8,LOOKUP($B15,Daten!$A$271:$A$320,Daten!$R$271:$R$320),\"\") & \" \" & IF($A15<=Daten!$B$8,LOOKUP($B15,Daten!$A$271:$A$320,Daten!$S$271:$S$320),\"\")","v":"2,6 Inhalt2Einh[2,6]"},null,{"$f":"IF($A15<=Daten!$B$8,LOOKUP($B15,Daten!$A$322:$A$371,Daten!$R$322:$R$371),\"\") & \" \" & IF($A15<=Daten!$B$8,LOOKUP($B15,Daten!$A$322:$A$371,Daten!$S$322:$S$371),\"\")","v":"2,7 Inhalt2Einh[2,7]"}]
[null,null,null,{"$f":"IF($A15<=Daten!$B$8,LOOKUP($B15,Daten!$A$16:$A$65,Daten!$T$16:$T$65),\"\") & \" \" & IF($A15<=Daten!$B$8,LOOKUP($B15,Daten!$A$16:$A$65,Daten!$U$16:$U$65),\"\")","v":"2,1 Inhalt3Einh[2,1]"},null,{"$f":"IF($A15<=Daten!$B$8,LOOKUP($B15,Daten!$A$67:$A$116,Daten!$T$67:$T$116),\"\") & \" \" & IF($A15<=Daten!$B$8,LOOKUP($B15,Daten!$A$67:$A$116,Daten!$U$67:$U$116),\"\")","v":"2,2 Inhalt3Einh[2,2]"},null,{"$f":"IF($A15<=Daten!$B$8,LOOKUP($B15,Daten!$A$118:$A$167,Daten!$T$118:$T$167),\"\") & \" \" & IF($A15<=Daten!$B$8,LOOKUP($B15,Daten!$A$118:$A$167,Daten!$U$118:$U$167),\"\")","v":"2,3 Inhalt3Einh[2,3]"},null,{"$f":"IF($A15<=Daten!$B$8,LOOKUP($B15,Daten!$A$169:$A$218,Daten!$T$169:$T$218),\"\") & \" \" & IF($A15<=Daten!$B$8,LOOKUP($B15,Daten!$A$169:$A$218,Daten!$U$169:$U$218),\"\")","v":"2,4 Inhalt3Einh[2,4]"},null,{"$f":"IF($A15<=Daten!$B$8,LOOKUP($B15,Daten!$A$220:$A$269,Daten!$T$220:$T$269),\"\") & \" \" & IF($A15<=Daten!$B$8,LOOKUP($B15,Daten!$A$220:$A$269,Daten!$U$220:$U$269),\"\")","v":"2,5 Inhalt3Einh[2,5]"},null,{"$f":"IF($A15<=Daten!$B$8,LOOKUP($B15,Daten!$A$271:$A$320,Daten!$T$271:$T$320),\"\") & \" \" & IF($A15<=Daten!$B$8,LOOKUP($B15,Daten!$A$271:$A$320,Daten!$U$271:$U$320),\"\")","v":"2,6 Inhalt3Einh[2,6]"},null,{"$f":"IF($A15<=Daten!$B$8,LOOKUP($B15,Daten!$A$322:$A$371,Daten!$T$322:$T$371),\"\") & \" \" & IF($A15<=Daten!$B$8,LOOKUP($B15,Daten!$A$322:$A$371,Daten!$U$322:$U$371),\"\")","v":"2,7 Inhalt3Einh[2,7]"}]
[null,null,null,{"$f":"IF($A15<=Daten!$B$8,LOOKUP($B15,Daten!$A$16:$A$65,Daten!$V$16:$V$65),\"\") & \" \" & IF($A15<=Daten!$B$8,LOOKUP($B15,Daten!$A$16:$A$65,Daten!$W$16:$W$65),\"\")","v":"2,1 Inhalt4Einh[2,1]"},null,{"$f":"IF($A15<=Daten!$B$8,LOOKUP($B15,Daten!$A$67:$A$116,Daten!$V$67:$V$116),\"\") & \" \" & IF($A15<=Daten!$B$8,LOOKUP($B15,Daten!$A$67:$A$116,Daten!$W$67:$W$116),\"\")","v":"2,2 Inhalt4Einh[2,2]"},null,{"$f":"IF($A15<=Daten!$B$8,LOOKUP($B15,Daten!$A$118:$A$167,Daten!$V$118:$V$167),\"\") & \" \" & IF($A15<=Daten!$B$8,LOOKUP($B15,Daten!$A$118:$A$167,Daten!$W$118:$W$167),\"\")","v":"2,3 Inhalt4Einh[2,3]"},null,{"$f":"IF($A15<=Daten!$B$8,LOOKUP($B15,Daten!$A$169:$A$218,Daten!$V$169:$V$218),\"\") & \" \" & IF($A15<=Daten!$B$8,LOOKUP($B15,Daten!$A$169:$A$218,Daten!$W$169:$W$218),\"\")","v":"2,4 Inhalt4Einh[2,4]"},null,{"$f":"IF($A15<=Daten!$B$8,LOOKUP($B15,Daten!$A$220:$A$269,Daten!$V$220:$V$269),\"\") & \" \" & IF($A15<=Daten!$B$8,LOOKUP($B15,Daten!$A$220:$A$269,Daten!$W$220:$W$269),\"\")","v":"2,5 Inhalt4Einh[2,5]"},null,{"$f":"IF($A15<=Daten!$B$8,LOOKUP($B15,Daten!$A$271:$A$320,Daten!$V$271:$V$320),\"\") & \" \" & IF($A15<=Daten!$B$8,LOOKUP($B15,Daten!$A$271:$A$320,Daten!$W$271:$W$320),\"\")","v":"2,6 Inhalt4Einh[2,6]"},null,{"$f":"IF($A15<=Daten!$B$8,LOOKUP($B15,Daten!$A$322:$A$371,Daten!$V$322:$V$371),\"\") & \" \" & IF($A15<=Daten!$B$8,LOOKUP($B15,Daten!$A$322:$A$371,Daten!$W$322:$W$371),\"\")","v":"2,7 Inhalt4Einh[2,7]"}]
[null,null,null,{"$f":"IF($A15<=Daten!$B$8,LOOKUP($B15,Daten!$A$16:$A$65,Daten!$X$16:$X$65),\"\") & \" \" & IF($A15<=Daten!$B$8,LOOKUP($B15,Daten!$A$16:$A$65,Daten!$Y$16:$Y$65),\"\")","v":"2,1 Inhalt5Einh[2,1]"},null,{"$f":"IF($A15<=Daten!$B$8,LOOKUP($B15,Daten!$A$67:$A$116,Daten!$X$67:$X$116),\"\") & \" \" & IF($A15<=Daten!$B$8,LOOKUP($B15,Daten!$A$67:$A$116,Daten!$Y$67:$Y$116),\"\")","v":"2,2 Inhalt5Einh[2,2]"},null,{"$f":"IF($A15<=Daten!$B$8,LOOKUP($B15,Daten!$A$118:$A$167,Daten!$X$118:$X$167),\"\") & \" \" & IF($A15<=Daten!$B$8,LOOKUP($B15,Daten!$A$118:$A$167,Daten!$Y$118:$Y$167),\"\")","v":"2,3 Inhalt5Einh[2,3]"},null,{"$f":"IF($A15<=Daten!$B$8,LOOKUP($B15,Daten!$A$169:$A$218,Daten!$X$169:$X$218),\"\") & \" \" & IF($A15<=Daten!$B$8,LOOKUP($B15,Daten!$A$169:$A$218,Daten!$Y$169:$Y$218),\"\")","v":"2,4 Inhalt5Einh[2,4]"},null,{"$f":"IF($A15<=Daten!$B$8,LOOKUP($B15,Daten!$A$220:$A$269,Daten!$X$220:$X$269),\"\") & \" \" & IF($A15<=Daten!$B$8,LOOKUP($B15,Daten!$A$220:$A$269,Daten!$Y$220:$Y$269),\"\")","v":"2,5 Inhalt5Einh[2,5]"},null,{"$f":"IF($A15<=Daten!$B$8,LOOKUP($B15,Daten!$A$271:$A$320,Daten!$X$271:$X$320),\"\") & \" \" & IF($A15<=Daten!$B$8,LOOKUP($B15,Daten!$A$271:$A$320,Daten!$Y$271:$Y$320),\"\")","v":"2,6 Inhalt5Einh[2,6]"},null,{"$f":"IF($A15<=Daten!$B$8,LOOKUP($B15,Daten!$A$322:$A$371,Daten!$X$322:$X$371),\"\") & \" \" & IF($A15<=Daten!$B$8,LOOKUP($B15,Daten!$A$322:$A$371,Daten!$Y$322:$Y$371),\"\")","v":"2,7 Inhalt5Einh[2,7]"}]
[null,null,null,{"$f":"IF($A15<=Daten!$B$8,LOOKUP($B15,Daten!$A$16:$A$65,Daten!$Z$16:$Z$65),\"\") & \" \" & IF($A15<=Daten!$B$8,LOOKUP($B15,Daten!$A$16:$A$65,Daten!$AA$16:$AA$65),\"\")","v":"2,1 Inhalt6Einh[2,1]"},null,{"$f":"IF($A15<=Daten!$B$8,LOOKUP($B15,Daten!$A$67:$A$116,Daten!$Z$67:$Z$116),\"\") & \" \" & IF($A15<=Daten!$B$8,LOOKUP($B15,Daten!$A$67:$A$116,Daten!$AA$67:$AA$116),\"\")","v":"2,2 Inhalt6Einh[2,2]"},null,{"$f":"IF($A15<=Daten!$B$8,LOOKUP($B15,Daten!$A$118:$A$167,Daten!$Z$118:$Z$167),\"\") & \" \" & IF($A15<=Daten!$B$8,LOOKUP($B15,Daten!$A$118:$A$167,Daten!$AA$118:$AA$167),\"\")","v":"2,3 Inhalt6Einh[2,3]"},null,{"$f":"IF($A15<=Daten!$B$8,LOOKUP($B15,Daten!$A$169:$A$218,Daten!$Z$169:$Z$218),\"\") & \" \" & IF($A15<=Daten!$B$8,LOOKUP($B15,Daten!$A$169:$A$218,Daten!$AA$169:$AA$218),\"\")","v":"2,4 Inhalt6Einh[2,4]"},null,{"$f":"IF($A15<=Daten!$B$8,LOOKUP($B15,Daten!$A$220:$A$269,Daten!$Z$220:$Z$269),\"\") & \" \" & IF($A15<=Daten!$B$8,LOOKUP($B15,Daten!$A$220:$A$269,Daten!$AA$220:$AA$269),\"\")","v":"2,5 Inhalt6Einh[2,5]"},null,{"$f":"IF($A15<=Daten!$B$8,LOOKUP($B15,Daten!$A$271:$A$320,Daten!$Z$271:$Z$320),\"\") & \" \" & IF($A15<=Daten!$B$8,LOOKUP($B15,Daten!$A$271:$A$320,Daten!$AA$271:$AA$320),\"\")","v":"2,6 Inhalt6Einh[2,6]"},null,{"$f":"IF($A15<=Daten!$B$8,LOOKUP($B15,Daten!$A$322:$A$371,Daten!$Z$322:$Z$371),\"\") & \" \" & IF($A15<=Daten!$B$8,LOOKUP($B15,Daten!$A$322:$A$371,Daten!$AA$322:$AA$371),\"\")","v":"2,7 Inhalt6Einh[2,7]"}]
[null,{"$f":"IF(A15<=Daten!$B$8,\"Zusatzstoffe\",\"\")","v":"Zusatzstoffe"},{"$f":"IF($A15<=Daten!$B$8,LOOKUP($B15,Daten!$A$16:$A$65,Daten!$L$16:$L$65),\"\")","v":2.1},{"$f":"IF($A15<=Daten!$B$8,LOOKUP($B15,Daten!$A$16:$A$65,Daten!$D$16:$D$65),\"\")","v":2.1},{"$f":"IF($A15<=Daten!$B$8,LOOKUP($B15,Daten!$A$67:$A$116,Daten!$L$67:$L$116),\"\")","v":2.2000000000000002},{"$f":"IF($A15<=Daten!$B$8,LOOKUP($B15,Daten!$A$16:$A$65,Daten!$D$67:$D$116),\"\")","v":2.2000000000000002},{"$f":"IF($A15<=Daten!$B$8,LOOKUP($B15,Daten!$A$118:$A$167,Daten!$L$118:$L$167),\"\")","v":2.2999999999999998},{"$f":"IF($A15<=Daten!$B$8,LOOKUP($B15,Daten!$A$118:$A$167,Daten!$D$118:$D$167),\"\")","v":2.2999999999999998},{"$f":"IF($A15<=Daten!$B$8,LOOKUP($B15,Daten!$A$169:$A$218,Daten!$L$169:$L$218),\"\")","v":2.4},{"$f":"IF($A15<=Daten!$B$8,LOOKUP($B15,Daten!$A$169:$A$218,Daten!$D$169:$D$218),\"\")","v":2.4},{"$f":"IF($A15<=Daten!$B$8,LOOKUP($B15,Daten!$A$220:$A$269,Daten!$L$220:$L$269),\"\")","v":2.5},{"$f":"IF($A15<=Daten!$B$8,LOOKUP($B15,Daten!$A$220:$A$269,Daten!$D$220:$D$269),\"\")","v":2.5},{"$f":"IF($A15<=Daten!$B$8,LOOKUP($B15,Daten!$A$271:$A$320,Daten!$L$271:$L$320),\"\")","v":2.6},{"$f":"IF($A15<=Daten!$B$8,LOOKUP($B15,Daten!$A$271:$A$320,Daten!$D$271:$D$320),\"\")","v":2.6},{"$f":"IF($A15<=Daten!$B$8,LOOKUP($B15,Daten!$A$322:$A$371,Daten!$L$322:$L$371),\"\")","v":2.7},{"$f":"IF($A15<=Daten!$B$8,LOOKUP($B15,Daten!$A$322:$A$371,Daten!$D$322:$D$371),\"\")","v":2.7}]
[3,{"$f":"IF(A22<=Daten!$B$8,Daten!D9,\"\")","v":"Menülinie 3"},{"$f":"IF(A22<=Daten!$B$8,LOOKUP(B22,Daten!$A$16:$A$65,Daten!$C$16:$C$65),\"\")","v":"Lang[3,1]"},{"$f":"IF($A22<=Daten!$B$8,LOOKUP($B22,Daten!$A$16:$A$65,Daten!$P$16:$P$65),\"\") & \" \" & IF($A22<=Daten!$B$8,LOOKUP($B22,Daten!$A$16:$A$65,Daten!$Q$16:$Q$65),\"\")","v":"3,1 Inhalt1Einh[3,1]"},{"$f":"IF($A22<=Daten!$B$8,LOOKUP($B22,Daten!$A$67:$A$116,Daten!$C$67:$C$116),\"\")","v":"Lang[3,2]"},{"$f":"IF($A22<=Daten!$B$8,LOOKUP($B22,Daten!$A$67:$A$116,Daten!$P$67:$P$116),\"\") & \" \" & IF($A22<=Daten!$B$8,LOOKUP($B22,Daten!$A$67:$A$116,Daten!$Q$67:$Q$116),\"\")","v":"3,2 Inhalt1Einh[3,2]"},{"$f":"IF($A22<=Daten!$B$8,LOOKUP($B22,Daten!$A$118:$A$167,Daten!$C$118:$C$167),\"\")","v":"Lang[3,3]"},{"$f":"IF($A22<=Daten!$B$8,LOOKUP($B22,Daten!$A$118:$A$167,Daten!$P$118:$P$167),\"\") & \" \" & IF($A22<=Daten!$B$8,LOOKUP($B22,Daten!$A$118:$A$167,Daten!$Q$118:$Q$167),\"\")","v":"3,3 Inhalt1Einh[3,3]"},{"$f":"IF($A22<=Daten!$B$8,LOOKUP($B22,Daten!$A$169:$A$218,Daten!$C$169:$C$218),\"\")","v":"Lang[3,4]"},{"$f":"IF($A22<=Daten!$B$8,LOOKUP($B22,Daten!$A$169:$A$218,Daten!$P$169:$P$218),\"\") & \" \" & IF($A22<=Daten!$B$8,LOOKUP($B22,Daten!$A$169:$A$218,Daten!$Q$169:$Q$218),\"\")","v":"3,4 Inhalt1Einh[3,4]"},{"$f":"IF($A22<=Daten!$B$8,LOOKUP($B22,Daten!$A$220:$A$269,Daten!$C$220:$C$269),\"\")","v":"Lang[3,5]"},{"$f":"IF($A22<=Daten!$B$8,LOOKUP($B22,Daten!$A$220:$A$269,Daten!$P$220:$P$269),\"\") & \" \" & IF($A22<=Daten!$B$8,LOOKUP($B22,Daten!$A$220:$A$269,Daten!$Q$220:$Q$269),\"\")","v":"3,5 Inhalt1Einh[3,5]"},{"$f":"IF($A22<=Daten!$B$8,LOOKUP($B22,Daten!$A$271:$A$320,Daten!$C$271:$C$320),\"\")","v":"Lang[3,6]"},{"$f":"IF($A22<=Daten!$B$8,LOOKUP($B22,Daten!$A$271:$A$320,Daten!$P$271:$P$320),\"\") & \" \" & IF($A22<=Daten!$B$8,LOOKUP($B22,Daten!$A$271:$A$320,Daten!$Q$271:$Q$320),\"\")","v":"3,6 Inhalt1Einh[3,6]"},{"$f":"IF($A22<=Daten!$B$8,LOOKUP($B22,Daten!$A$322:$A$371,Daten!$B$322:$C$371),\"\")","v":{"$error":"#N/A"}},{"$f":"IF($A22<=Daten!$B$8,LOOKUP($B22,Daten!$A$322:$A$371,Daten!$P$322:$P$371),\"\") & \" \" & IF($A22<=Daten!$B$8,LOOKUP($B22,Daten!$A$322:$A$371,Daten!$Q$322:$Q$371),\"\")","v":"3,7 Inhalt1Einh[3,7]"}]
[null,null,null,{"$f":"IF($A22<=Daten!$B$8,LOOKUP($B22,Daten!$A$16:$A$65,Daten!$R$16:$R$65),\"\") & \" \" & IF($A22<=Daten!$B$8,LOOKUP($B22,Daten!$A$16:$A$65,Daten!$S$16:$S$65),\"\")","v":"3,1 Inhalt2Einh[3,1]"},null,{"$f":"IF($A22<=Daten!$B$8,LOOKUP($B22,Daten!$A$67:$A$116,Daten!$R$67:$R$116),\"\") & \" \" & IF($A22<=Daten!$B$8,LOOKUP($B22,Daten!$A$67:$A$116,Daten!$S$67:$S$116),\"\")","v":"3,2 Inhalt2Einh[3,2]"},null,{"$f":"IF($A22<=Daten!$B$8,LOOKUP($B22,Daten!$A$118:$A$167,Daten!$R$118:$R$167),\"\") & \" \" & IF($A22<=Daten!$B$8,LOOKUP($B22,Daten!$A$118:$A$167,Daten!$S$118:$S$167),\"\")","v":"3,3 Inhalt2Einh[3,3]"},null,{"$f":"IF($A22<=Daten!$B$8,LOOKUP($B22,Daten!$A$169:$A$218,Daten!$R$169:$R$218),\"\") & \" \" & IF($A22<=Daten!$B$8,LOOKUP($B22,Daten!$A$169:$A$218,Daten!$S$169:$S$218),\"\")","v":"3,4 Inhalt2Einh[3,4]"},null,{"$f":"IF($A22<=Daten!$B$8,LOOKUP($B22,Daten!$A$220:$A$269,Daten!$R$220:$R$269),\"\") & \" \" & IF($A22<=Daten!$B$8,LOOKUP($B22,Daten!$A$220:$A$269,Daten!$S$220:$S$269),\"\")","v":"3,5 Inhalt2Einh[3,5]"},null,{"$f":"IF($A22<=Daten!$B$8,LOOKUP($B22,Daten!$A$271:$A$320,Daten!$R$271:$R$320),\"\") & \" \" & IF($A22<=Daten!$B$8,LOOKUP($B22,Daten!$A$271:$A$320,Daten!$S$271:$S$320),\"\")","v":"3,6 Inhalt2Einh[3,6]"},null,{"$f":"IF($A22<=Daten!$B$8,LOOKUP($B22,Daten!$A$322:$A$371,Daten!$R$322:$R$371),\"\") & \" \" & IF($A22<=Daten!$B$8,LOOKUP($B22,Daten!$A$322:$A$371,Daten!$S$322:$S$371),\"\")","v":"3,7 Inhalt2Einh[3,7]"}]
[null,null,null,{"$f":"IF($A22<=Daten!$B$8,LOOKUP($B22,Daten!$A$16:$A$65,Daten!$T$16:$T$65),\"\") & \" \" & IF($A22<=Daten!$B$8,LOOKUP($B22,Daten!$A$16:$A$65,Daten!$U$16:$U$65),\"\")","v":"3,1 Inhalt3Einh[3,1]"},null,{"$f":"IF($A22<=Daten!$B$8,LOOKUP($B22,Daten!$A$67:$A$116,Daten!$T$67:$T$116),\"\") & \" \" & IF($A22<=Daten!$B$8,LOOKUP($B22,Daten!$A$67:$A$116,Daten!$U$67:$U$116),\"\")","v":"3,2 Inhalt3Einh[3,2]"},null,{"$f":"IF($A22<=Daten!$B$8,LOOKUP($B22,Daten!$A$118:$A$167,Daten!$T$118:$T$167),\"\") & \" \" & IF($A22<=Daten!$B$8,LOOKUP($B22,Daten!$A$118:$A$167,Daten!$U$118:$U$167),\"\")","v":"3,3 Inhalt3Einh[3,3]"},null,{"$f":"IF($A22<=Daten!$B$8,LOOKUP($B22,Daten!$A$169:$A$218,Daten!$T$169:$T$218),\"\") & \" \" & IF($A22<=Daten!$B$8,LOOKUP($B22,Daten!$A$169:$A$218,Daten!$U$169:$U$218),\"\")","v":"3,4 Inhalt3Einh[3,4]"},null,{"$f":"IF($A22<=Daten!$B$8,LOOKUP($B22,Daten!$A$220:$A$269,Daten!$T$220:$T$269),\"\") & \" \" & IF($A22<=Daten!$B$8,LOOKUP($B22,Daten!$A$220:$A$269,Daten!$U$220:$U$269),\"\")","v":"3,5 Inhalt3Einh[3,5]"},null,{"$f":"IF($A22<=Daten!$B$8,LOOKUP($B22,Daten!$A$271:$A$320,Daten!$T$271:$T$320),\"\") & \" \" & IF($A22<=Daten!$B$8,LOOKUP($B22,Daten!$A$271:$A$320,Daten!$U$271:$U$320),\"\")","v":"3,6 Inhalt3Einh[3,6]"},null,{"$f":"IF($A22<=Daten!$B$8,LOOKUP($B22,Daten!$A$322:$A$371,Daten!$T$322:$T$371),\"\") & \" \" & IF($A22<=Daten!$B$8,LOOKUP($B22,Daten!$A$322:$A$371,Daten!$U$322:$U$371),\"\")","v":"3,7 Inhalt3Einh[3,7]"}]
[null,null,null,{"$f":"IF($A22<=Daten!$B$8,LOOKUP($B22,Daten!$A$16:$A$65,Daten!$V$16:$V$65),\"\") & \" \" & IF($A22<=Daten!$B$8,LOOKUP($B22,Daten!$A$16:$A$65,Daten!$W$16:$W$65),\"\")","v":"3,1 Inhalt4Einh[3,1]"},null,{"$f":"IF($A22<=Daten!$B$8,LOOKUP($B22,Daten!$A$67:$A$116,Daten!$V$67:$V$116),\"\") & \" \" & IF($A22<=Daten!$B$8,LOOKUP($B22,Daten!$A$67:$A$116,Daten!$W$67:$W$116),\"\")","v":"3,2 Inhalt4Einh[3,2]"},null,{"$f":"IF($A22<=Daten!$B$8,LOOKUP($B22,Daten!$A$118:$A$167,Daten!$V$118:$V$167),\"\") & \" \" & IF($A22<=Daten!$B$8,LOOKUP($B22,Daten!$A$118:$A$167,Daten!$W$118:$W$167),\"\")","v":"3,3 Inhalt4Einh[3,3]"},null,{"$f":"IF($A22<=Daten!$B$8,LOOKUP($B22,Daten!$A$169:$A$218,Daten!$V$169:$V$218),\"\") & \" \" & IF($A22<=Daten!$B$8,LOOKUP($B22,Daten!$A$169:$A$218,Daten!$W$169:$W$218),\"\")","v":"3,4 Inhalt4Einh[3,4]"},null,{"$f":"IF($A22<=Daten!$B$8,LOOKUP($B22,Daten!$A$220:$A$269,Daten!$V$220:$V$269),\"\") & \" \" & IF($A22<=Daten!$B$8,LOOKUP($B22,Daten!$A$220:$A$269,Daten!$W$220:$W$269),\"\")","v":"3,5 Inhalt4Einh[3,5]"},null,{"$f":"IF($A22<=Daten!$B$8,LOOKUP($B22,Daten!$A$271:$A$320,Daten!$V$271:$V$320),\"\") & \" \" & IF($A22<=Daten!$B$8,LOOKUP($B22,Daten!$A$271:$A$320,Daten!$W$271:$W$320),\"\")","v":"3,6 Inhalt4Einh[3,6]"},null,{"$f":"IF($A22<=Daten!$B$8,LOOKUP($B22,Daten!$A$322:$A$371,Daten!$V$322:$V$371),\"\") & \" \" & IF($A22<=Daten!$B$8,LOOKUP($B22,Daten!$A$322:$A$371,Daten!$W$322:$W$371),\"\")","v":"3,7 Inhalt4Einh[3,7]"}]
[null,null,null,{"$f":"IF($A22<=Daten!$B$8,LOOKUP($B22,Daten!$A$16:$A$65,Daten!$X$16:$X$65),\"\") & \" \" & IF($A22<=Daten!$B$8,LOOKUP($B22,Daten!$A$16:$A$65,Daten!$Y$16:$Y$65),\"\")","v":"3,1 Inhalt5Einh[3,1]"},null,{"$f":"IF($A22<=Daten!$B$8,LOOKUP($B22,Daten!$A$67:$A$116,Daten!$X$67:$X$116),\"\") & \" \" & IF($A22<=Daten!$B$8,LOOKUP($B22,Daten!$A$67:$A$116,Daten!$Y$67:$Y$116),\"\")","v":"3,2 Inhalt5Einh[3,2]"},null,{"$f":"IF($A22<=Daten!$B$8,LOOKUP($B22,Daten!$A$118:$A$167,Daten!$X$118:$X$167),\"\") & \" \" & IF($A22<=Daten!$B$8,LOOKUP($B22,Daten!$A$118:$A$167,Daten!$Y$118:$Y$167),\"\")","v":"3,3 Inhalt5Einh[3,3]"},null,{"$f":"IF($A22<=Daten!$B$8,LOOKUP($B22,Daten!$A$169:$A$218,Daten!$X$169:$X$218),\"\") & \" \" & IF($A22<=Daten!$B$8,LOOKUP($B22,Daten!$A$169:$A$218,Daten!$Y$169:$Y$218),\"\")","v":"3,4 Inhalt5Einh[3,4]"},null,{"$f":"IF($A22<=Daten!$B$8,LOOKUP($B22,Daten!$A$220:$A$269,Daten!$X$220:$X$269),\"\") & \" \" & IF($A22<=Daten!$B$8,LOOKUP($B22,Daten!$A$220:$A$269,Daten!$Y$220:$Y$269),\"\")","v":"3,5 Inhalt5Einh[3,5]"},null,{"$f":"IF($A22<=Daten!$B$8,LOOKUP($B22,Daten!$A$271:$A$320,Daten!$X$271:$X$320),\"\") & \" \" & IF($A22<=Daten!$B$8,LOOKUP($B22,Daten!$A$271:$A$320,Daten!$Y$271:$Y$320),\"\")","v":"3,6 Inhalt5Einh[3,6]"},null,{"$f":"IF($A22<=Daten!$B$8,LOOKUP($B22,Daten!$A$322:$A$371,Daten!$X$322:$X$371),\"\") & \" \" & IF($A22<=Daten!$B$8,LOOKUP($B22,Daten!$A$322:$A$371,Daten!$Y$322:$Y$371),\"\")","v":"3,7 Inhalt5Einh[3,7]"}]
[null,null,null,{"$f":"IF($A22<=Daten!$B$8,LOOKUP($B22,Daten!$A$16:$A$65,Daten!$Z$16:$Z$65),\"\") & \" \" & IF($A22<=Daten!$B$8,LOOKUP($B22,Daten!$A$16:$A$65,Daten!$AA$16:$AA$65),\"\")","v":"3,1 Inhalt6Einh[3,1]"},null,{"$f":"IF($A22<=Daten!$B$8,LOOKUP($B22,Daten!$A$67:$A$116,Daten!$Z$67:$Z$116),\"\") & \" \" & IF($A22<=Daten!$B$8,LOOKUP($B22,Daten!$A$67:$A$116,Daten!$AA$67:$AA$116),\"\")","v":"3,2 Inhalt6Einh[3,2]"},null,{"$f":"IF($A22<=Daten!$B$8,LOOKUP($B22,Daten!$A$118:$A$167,Daten!$Z$118:$Z$167),\"\") & \" \" & IF($A22<=Daten!$B$8,LOOKUP($B22,Daten!$A$118:$A$167,Daten!$AA$118:$AA$167),\"\")","v":"3,3 Inhalt6Einh[3,3]"},null,{"$f":"IF($A22<=Daten!$B$8,LOOKUP($B22,Daten!$A$169:$A$218,Daten!$Z$169:$Z$218),\"\") & \" \" & IF($A22<=Daten!$B$8,LOOKUP($B22,Daten!$A$169:$A$218,Daten!$AA$169:$AA$218),\"\")","v":"3,4 Inhalt6Einh[3,4]"},null,{"$f":"IF($A22<=Daten!$B$8,LOOKUP($B22,Daten!$A$220:$A$269,Daten!$Z$220:$Z$269),\"\") & \" \" & IF($A22<=Daten!$B$8,LOOKUP($B22,Daten!$A$220:$A$269,Daten!$AA$220:$AA$269),\"\")","v":"3,5 Inhalt6Einh[3,5]"},null,{"$f":"IF($A22<=Daten!$B$8,LOOKUP($B22,Daten!$A$271:$A$320,Daten!$Z$271:$Z$320),\"\") & \" \" & IF($A22<=Daten!$B$8,LOOKUP($B22,Daten!$A$271:$A$320,Daten!$AA$271:$AA$320),\"\")","v":"3,6 Inhalt6Einh[3,6]"},null,{"$f":"IF($A22<=Daten!$B$8,LOOKUP($B22,Daten!$A$322:$A$371,Daten!$Z$322:$Z$371),\"\") & \" \" & IF($A22<=Daten!$B$8,LOOKUP($B22,Daten!$A$322:$A$371,Daten!$AA$322:$AA$371),\"\")","v":"3,7 Inhalt6Einh[3,7]"}]
[null,{"$f":"IF(A22<=Daten!$B$8,\"Zusatzstoffe\",\"\")","v":"Zusatzstoffe"},{"$f":"IF($A22<=Daten!$B$8,LOOKUP($B22,Daten!$A$16:$A$65,Daten!$L$16:$L$65),\"\")","v":3.1},{"$f":"IF($A22<=Daten!$B$8,LOOKUP($B22,Daten!$A$16:$A$65,Daten!$D$16:$D$65),\"\")","v":3.1},{"$f":"IF($A22<=Daten!$B$8,LOOKUP($B22,Daten!$A$67:$A$116,Daten!$L$67:$L$116),\"\")","v":3.2},{"$f":"IF($A22<=Daten!$B$8,LOOKUP($B22,Daten!$A$16:$A$65,Daten!$D$67:$D$116),\"\")","v":3.2},{"$f":"IF($A22<=Daten!$B$8,LOOKUP($B22,Daten!$A$118:$A$167,Daten!$L$118:$L$167),\"\")","v":3.3},{"$f":"IF($A22<=Daten!$B$8,LOOKUP($B22,Daten!$A$118:$A$167,Daten!$D$118:$D$167),\"\")","v":3.3},{"$f":"IF($A22<=Daten!$B$8,LOOKUP($B22,Daten!$A$169:$A$218,Daten!$L$169:$L$218),\"\")","v":3.4},{"$f":"IF($A22<=Daten!$B$8,LOOKUP($B22,Daten!$A$169:$A$218,Daten!$D$169:$D$218),\"\")","v":3.4},{"$f":"IF($A22<=Daten!$B$8,LOOKUP($B22,Daten!$A$220:$A$269,Daten!$L$220:$L$269),\"\")","v":3.5},{"$f":"IF($A22<=Daten!$B$8,LOOKUP($B22,Daten!$A$220:$A$269,Daten!$D$220:$D$269),\"\")","v":3.5},{"$f":"IF($A22<=Daten!$B$8,LOOKUP($B22,Daten!$A$271:$A$320,Daten!$L$271:$L$320),\"\")","v":3.6},{"$f":"IF($A22<=Daten!$B$8,LOOKUP($B22,Daten!$A$271:$A$320,Daten!$D$271:$D$320),\"\")","v":3.6},{"$f":"IF($A22<=Daten!$B$8,LOOKUP($B22,Daten!$A$322:$A$371,Daten!$L$322:$L$371),\"\")","v":3.7},{"$f":"IF($A22<=Daten!$B$8,LOOKUP($B22,Daten!$A$322:$A$371,Daten!$D$322:$D$371),\"\")","v":3.7}]
[4,{"$f":"IF(A29<=Daten!$B$8,Daten!E9,\"\")","v":"Menülinie 4"},{"$f":"IF(A29<=Daten!$B$8,LOOKUP(B29,Daten!$A$16:$A$65,Daten!$C$16:$C$65),\"\")","v":"Lang[4,1]"},{"$f":"IF($A29<=Daten!$B$8,LOOKUP($B29,Daten!$A$16:$A$65,Daten!$P$16:$P$65),\"\") & \" \" & IF($A29<=Daten!$B$8,LOOKUP($B29,Daten!$A$16:$A$65,Daten!$Q$16:$Q$65),\"\")","v":"4,1 Inhalt1Einh[4,1]"},{"$f":"IF($A29<=Daten!$B$8,LOOKUP($B29,Daten!$A$67:$A$116,Daten!$C$67:$C$116),\"\")","v":"Lang[4,2]"},{"$f":"IF($A29<=Daten!$B$8,LOOKUP($B29,Daten!$A$67:$A$116,Daten!$P$67:$P$116),\"\") & \" \" & IF($A29<=Daten!$B$8,LOOKUP($B29,Daten!$A$67:$A$116,Daten!$Q$67:$Q$116),\"\")","v":"4,2 Inhalt1Einh[4,2]"},{"$f":"IF($A29<=Daten!$B$8,LOOKUP($B29,Daten!$A$118:$A$167,Daten!$C$118:$C$167),\"\")","v":"Lang[4,3]"},{"$f":"IF($A29<=Daten!$B$8,LOOKUP($B29,Daten!$A$118:$A$167,Daten!$P$118:$P$167),\"\") & \" \" & IF($A29<=Daten!$B$8,LOOKUP($B29,Daten!$A$118:$A$167,Daten!$Q$118:$Q$167),\"\")","v":"4,3 Inhalt1Einh[4,3]"},{"$f":"IF($A29<=Daten!$B$8,LOOKUP($B29,Daten!$A$169:$A$218,Daten!$C$169:$C$218),\"\")","v":"Lang[4,4]"},{"$f":"IF($A29<=Daten!$B$8,LOOKUP($B29,Daten!$A$169:$A$218,Daten!$P$169:$P$218),\"\") & \" \" & IF($A29<=Daten!$B$8,LOOKUP($B29,Daten!$A$169:$A$218,Daten!$Q$169:$Q$218),\"\")","v":"4,4 Inhalt1Einh[4,4]"},{"$f":"IF($A29<=Daten!$B$8,LOOKUP($B29,Daten!$A$220:$A$269,Daten!$C$220:$C$269),\"\")","v":"Lang[4,5]"},{"$f":"IF($A29<=Daten!$B$8,LOOKUP($B29,Daten!$A$220:$A$269,Daten!$P$220:$P$269),\"\") & \" \" & IF($A29<=Daten!$B$8,LOOKUP($B29,Daten!$A$220:$A$269,Daten!$Q$220:$Q$269),\"\")","v":"4,5 Inhalt1Einh[4,5]"},{"$f":"IF($A29<=Daten!$B$8,LOOKUP($B29,Daten!$A$271:$A$320,Daten!$C$271:$C$320),\"\")","v":"Lang[4,6]"},{"$f":"IF($A29<=Daten!$B$8,LOOKUP($B29,Daten!$A$271:$A$320,Daten!$P$271:$P$320),\"\") & \" \" & IF($A29<=Daten!$B$8,LOOKUP($B29,Daten!$A$271:$A$320,Daten!$Q$271:$Q$320),\"\")","v":"4,6 Inhalt1Einh[4,6]"},{"$f":"IF($A29<=Daten!$B$8,LOOKUP($B29,Daten!$A$322:$A$371,Daten!$B$322:$C$371),\"\")","v":{"$error":"#N/A"}},{"$f":"IF($A29<=Daten!$B$8,LOOKUP($B29,Daten!$A$322:$A$371,Daten!$P$322:$P$371),\"\") & \" \" & IF($A29<=Daten!$B$8,LOOKUP($B29,Daten!$A$322:$A$371,Daten!$Q$322:$Q$371),\"\")","v":"4,7 Inhalt1Einh[4,7]"}]
[null,null,null,{"$f":"IF($A29<=Daten!$B$8,LOOKUP($B29,Daten!$A$16:$A$65,Daten!$R$16:$R$65),\"\") & \" \" & IF($A29<=Daten!$B$8,LOOKUP($B29,Daten!$A$16:$A$65,Daten!$S$16:$S$65),\"\")","v":"4,1 Inhalt2Einh[4,1]"},null,{"$f":"IF($A29<=Daten!$B$8,LOOKUP($B29,Daten!$A$67:$A$116,Daten!$R$67:$R$116),\"\") & \" \" & IF($A29<=Daten!$B$8,LOOKUP($B29,Daten!$A$67:$A$116,Daten!$S$67:$S$116),\"\")","v":"4,2 Inhalt2Einh[4,2]"},null,{"$f":"IF($A29<=Daten!$B$8,LOOKUP($B29,Daten!$A$118:$A$167,Daten!$R$118:$R$167),\"\") & \" \" & IF($A29<=Daten!$B$8,LOOKUP($B29,Daten!$A$118:$A$167,Daten!$S$118:$S$167),\"\")","v":"4,3 Inhalt2Einh[4,3]"},null,{"$f":"IF($A29<=Daten!$B$8,LOOKUP($B29,Daten!$A$169:$A$218,Daten!$R$169:$R$218),\"\") & \" \" & IF($A29<=Daten!$B$8,LOOKUP($B29,Daten!$A$169:$A$218,Daten!$S$169:$S$218),\"\")","v":"4,4 Inhalt2Einh[4,4]"},null,{"$f":"IF($A29<=Daten!$B$8,LOOKUP($B29,Daten!$A$220:$A$269,Daten!$R$220:$R$269),\"\") & \" \" & IF($A29<=Daten!$B$8,LOOKUP($B29,Daten!$A$220:$A$269,Daten!$S$220:$S$269),\"\")","v":"4,5 Inhalt2Einh[4,5]"},null,{"$f":"IF($A29<=Daten!$B$8,LOOKUP($B29,Daten!$A$271:$A$320,Daten!$R$271:$R$320),\"\") & \" \" & IF($A29<=Daten!$B$8,LOOKUP($B29,Daten!$A$271:$A$320,Daten!$S$271:$S$320),\"\")","v":"4,6 Inhalt2Einh[4,6]"},null,{"$f":"IF($A29<=Daten!$B$8,LOOKUP($B29,Daten!$A$322:$A$371,Daten!$R$322:$R$371),\"\") & \" \" & IF($A29<=Daten!$B$8,LOOKUP($B29,Daten!$A$322:$A$371,Daten!$S$322:$S$371),\"\")","v":"4,7 Inhalt2Einh[4,7]"}]
[null,null,null,{"$f":"IF($A29<=Daten!$B$8,LOOKUP($B29,Daten!$A$16:$A$65,Daten!$T$16:$T$65),\"\") & \" \" & IF($A29<=Daten!$B$8,LOOKUP($B29,Daten!$A$16:$A$65,Daten!$U$16:$U$65),\"\")","v":"4,1 Inhalt3Einh[4,1]"},null,{"$f":"IF($A29<=Daten!$B$8,LOOKUP($B29,Daten!$A$67:$A$116,Daten!$T$67:$T$116),\"\") & \" \" & IF($A29<=Daten!$B$8,LOOKUP($B29,Daten!$A$67:$A$116,Daten!$U$67:$U$116),\"\")","v":"4,2 Inhalt3Einh[4,2]"},null,{"$f":"IF($A29<=Daten!$B$8,LOOKUP($B29,Daten!$A$118:$A$167,Daten!$T$118:$T$167),\"\") & \" \" & IF($A29<=Daten!$B$8,LOOKUP($B29,Daten!$A$118:$A$167,Daten!$U$118:$U$167),\"\")","v":"4,3 Inhalt3Einh[4,3]"},null,{"$f":"IF($A29<=Daten!$B$8,LOOKUP($B29,Daten!$A$169:$A$218,Daten!$T$169:$T$218),\"\") & \" \" & IF($A29<=Daten!$B$8,LOOKUP($B29,Daten!$A$169:$A$218,Daten!$U$169:$U$218),\"\")","v":"4,4 Inhalt3Einh[4,4]"},null,{"$f":"IF($A29<=Daten!$B$8,LOOKUP($B29,Daten!$A$220:$A$269,Daten!$T$220:$T$269),\"\") & \" \" & IF($A29<=Daten!$B$8,LOOKUP($B29,Daten!$A$220:$A$269,Daten!$U$220:$U$269),\"\")","v":"4,5 Inhalt3Einh[4,5]"},null,{"$f":"IF($A29<=Daten!$B$8,LOOKUP($B29,Daten!$A$271:$A$320,Daten!$T$271:$T$320),\"\") & \" \" & IF($A29<=Daten!$B$8,LOOKUP($B29,Daten!$A$271:$A$320,Daten!$U$271:$U$320),\"\")","v":"4,6 Inhalt3Einh[4,6]"},null,{"$f":"IF($A29<=Daten!$B$8,LOOKUP($B29,Daten!$A$322:$A$371,Daten!$T$322:$T$371),\"\") & \" \" & IF($A29<=Daten!$B$8,LOOKUP($B29,Daten!$A$322:$A$371,Daten!$U$322:$U$371),\"\")","v":"4,7 Inhalt3Einh[4,7]"}]
[null,null,null,{"$f":"IF($A29<=Daten!$B$8,LOOKUP($B29,Daten!$A$16:$A$65,Daten!$V$16:$V$65),\"\") & \" \" & IF($A29<=Daten!$B$8,LOOKUP($B29,Daten!$A$16:$A$65,Daten!$W$16:$W$65),\"\")","v":"4,1 Inhalt4Einh[4,1]"},null,{"$f":"IF($A29<=Daten!$B$8,LOOKUP($B29,Daten!$A$67:$A$116,Daten!$V$67:$V$116),\"\") & \" \" & IF($A29<=Daten!$B$8,LOOKUP($B29,Daten!$A$67:$A$116,Daten!$W$67:$W$116),\"\")","v":"4,2 Inhalt4Einh[4,2]"},null,{"$f":"IF($A29<=Daten!$B$8,LOOKUP($B29,Daten!$A$118:$A$167,Daten!$V$118:$V$167),\"\") & \" \" & IF($A29<=Daten!$B$8,LOOKUP($B29,Daten!$A$118:$A$167,Daten!$W$118:$W$167),\"\")","v":"4,3 Inhalt4Einh[4,3]"},null,{"$f":"IF($A29<=Daten!$B$8,LOOKUP($B29,Daten!$A$169:$A$218,Daten!$V$169:$V$218),\"\") & \" \" & IF($A29<=Daten!$B$8,LOOKUP($B29,Daten!$A$169:$A$218,Daten!$W$169:$W$218),\"\")","v":"4,4 Inhalt4Einh[4,4]"},null,{"$f":"IF($A29<=Daten!$B$8,LOOKUP($B29,Daten!$A$220:$A$269,Daten!$V$220:$V$269),\"\") & \" \" & IF($A29<=Daten!$B$8,LOOKUP($B29,Daten!$A$220:$A$269,Daten!$W$220:$W$269),\"\")","v":"4,5 Inhalt4Einh[4,5]"},null,{"$f":"IF($A29<=Daten!$B$8,LOOKUP($B29,Daten!$A$271:$A$320,Daten!$V$271:$V$320),\"\") & \" \" & IF($A29<=Daten!$B$8,LOOKUP($B29,Daten!$A$271:$A$320,Daten!$W$271:$W$320),\"\")","v":"4,6 Inhalt4Einh[4,6]"},null,{"$f":"IF($A29<=Daten!$B$8,LOOKUP($B29,Daten!$A$322:$A$371,Daten!$V$322:$V$371),\"\") & \" \" & IF($A29<=Daten!$B$8,LOOKUP($B29,Daten!$A$322:$A$371,Daten!$W$322:$W$371),\"\")","v":"4,7 Inhalt4Einh[4,7]"}]
[null,null,null,{"$f":"IF($A29<=Daten!$B$8,LOOKUP($B29,Daten!$A$16:$A$65,Daten!$X$16:$X$65),\"\") & \" \" & IF($A29<=Daten!$B$8,LOOKUP($B29,Daten!$A$16:$A$65,Daten!$Y$16:$Y$65),\"\")","v":"4,1 Inhalt5Einh[4,1]"},null,{"$f":"IF($A29<=Daten!$B$8,LOOKUP($B29,Daten!$A$67:$A$116,Daten!$X$67:$X$116),\"\") & \" \" & IF($A29<=Daten!$B$8,LOOKUP($B29,Daten!$A$67:$A$116,Daten!$Y$67:$Y$116),\"\")","v":"4,2 Inhalt5Einh[4,2]"},null,{"$f":"IF($A29<=Daten!$B$8,LOOKUP($B29,Daten!$A$118:$A$167,Daten!$X$118:$X$167),\"\") & \" \" & IF($A29<=Daten!$B$8,LOOKUP($B29,Daten!$A$118:$A$167,Daten!$Y$118:$Y$167),\"\")","v":"4,3 Inhalt5Einh[4,3]"},null,{"$f":"IF($A29<=Daten!$B$8,LOOKUP($B29,Daten!$A$169:$A$218,Daten!$X$169:$X$218),\"\") & \" \" & IF($A29<=Daten!$B$8,LOOKUP($B29,Daten!$A$169:$A$218,Daten!$Y$169:$Y$218),\"\")","v":"4,4 Inhalt5Einh[4,4]"},null,{"$f":"IF($A29<=Daten!$B$8,LOOKUP($B29,Daten!$A$220:$A$269,Daten!$X$220:$X$269),\"\") & \" \" & IF($A29<=Daten!$B$8,LOOKUP($B29,Daten!$A$220:$A$269,Daten!$Y$220:$Y$269),\"\")","v":"4,5 Inhalt5Einh[4,5]"},null,{"$f":"IF($A29<=Daten!$B$8,LOOKUP($B29,Daten!$A$271:$A$320,Daten!$X$271:$X$320),\"\") & \" \" & IF($A29<=Daten!$B$8,LOOKUP($B29,Daten!$A$271:$A$320,Daten!$Y$271:$Y$320),\"\")","v":"4,6 Inhalt5Einh[4,6]"},null,{"$f":"IF($A29<=Daten!$B$8,LOOKUP($B29,Daten!$A$322:$A$371,Daten!$X$322:$X$371),\"\") & \" \" & IF($A29<=Daten!$B$8,LOOKUP($B29,Daten!$A$322:$A$371,Daten!$Y$322:$Y$371),\"\")","v":"4,7 Inhalt5Einh[4,7]"}]
[null,null,null,{"$f":"IF($A29<=Daten!$B$8,LOOKUP($B29,Daten!$A$16:$A$65,Daten!$Z$16:$Z$65),\"\") & \" \" & IF($A29<=Daten!$B$8,LOOKUP($B29,Daten!$A$16:$A$65,Daten!$AA$16:$AA$65),\"\")","v":"4,1 Inhalt6Einh[4,1]"},null,{"$f":"IF($A29<=Daten!$B$8,LOOKUP($B29,Daten!$A$67:$A$116,Daten!$Z$67:$Z$116),\"\") & \" \" & IF($A29<=Daten!$B$8,LOOKUP($B29,Daten!$A$67:$A$116,Daten!$AA$67:$AA$116),\"\")","v":"4,2 Inhalt6Einh[4,2]"},null,{"$f":"IF($A29<=Daten!$B$8,LOOKUP($B29,Daten!$A$118:$A$167,Daten!$Z$118:$Z$167),\"\") & \" \" & IF($A29<=Daten!$B$8,LOOKUP($B29,Daten!$A$118:$A$167,Daten!$AA$118:$AA$167),\"\")","v":"4,3 Inhalt6Einh[4,3]"},null,{"$f":"IF($A29<=Daten!$B$8,LOOKUP($B29,Daten!$A$169:$A$218,Daten!$Z$169:$Z$218),\"\") & \" \" & IF($A29<=Daten!$B$8,LOOKUP($B29,Daten!$A$169:$A$218,Daten!$AA$169:$AA$218),\"\")","v":"4,4 Inhalt6Einh[4,4]"},null,{"$f":"IF($A29<=Daten!$B$8,LOOKUP($B29,Daten!$A$220:$A$269,Daten!$Z$220:$Z$269),\"\") & \" \" & IF($A29<=Daten!$B$8,LOOKUP($B29,Daten!$A$220:$A$269,Daten!$AA$220:$AA$269),\"\")","v":"4,5 Inhalt6Einh[4,5]"},null,{"$f":"IF($A29<=Daten!$B$8,LOOKUP($B29,Daten!$A$271:$A$320,Daten!$Z$271:$Z$320),\"\") & \" \" & IF($A29<=Daten!$B$8,LOOKUP($B29,Daten!$A$271:$A$320,Daten!$AA$271:$AA$320),\"\")","v":"4,6 Inhalt6Einh[4,6]"},null,{"$f":"IF($A29<=Daten!$B$8,LOOKUP($B29,Daten!$A$322:$A$371,Daten!$Z$322:$Z$371),\"\") & \" \" & IF($A29<=Daten!$B$8,LOOKUP($B29,Daten!$A$322:$A$371,Daten!$AA$322:$AA$371),\"\")","v":"4,7 Inhalt6Einh[4,7]"}]
[null,{"$f":"IF(A29<=Daten!$B$8,\"Zusatzstoffe\",\"\")","v":"Zusatzstoffe"},{"$f":"IF($A29<=Daten!$B$8,LOOKUP($B29,Daten!$A$16:$A$65,Daten!$L$16:$L$65),\"\")","v":4.0999999999999996},{"$f":"IF($A29<=Daten!$B$8,LOOKUP($B29,Daten!$A$16:$A$65,Daten!$D$16:$D$65),\"\")","v":4.0999999999999996},{"$f":"IF($A29<=Daten!$B$8,LOOKUP($B29,Daten!$A$67:$A$116,Daten!$L$67:$L$116),\"\")","v":4.2},{"$f":"IF($A29<=Daten!$B$8,LOOKUP($B29,Daten!$A$16:$A$65,Daten!$D$67:$D$116),\"\")","v":4.2},{"$f":"IF($A29<=Daten!$B$8,LOOKUP($B29,Daten!$A$118:$A$167,Daten!$L$118:$L$167),\"\")","v":4.3},{"$f":"IF($A29<=Daten!$B$8,LOOKUP($B29,Daten!$A$118:$A$167,Daten!$D$118:$D$167),\"\")","v":4.3},{"$f":"IF($A29<=Daten!$B$8,LOOKUP($B29,Daten!$A$169:$A$218,Daten!$L$169:$L$218),\"\")","v":4.4000000000000004},{"$f":"IF($A29<=Daten!$B$8,LOOKUP($B29,Daten!$A$169:$A$218,Daten!$D$169:$D$218),\"\")","v":4.4000000000000004},{"$f":"IF($A29<=Daten!$B$8,LOOKUP($B29,Daten!$A$220:$A$269,Daten!$L$220:$L$269),\"\")","v":4.5},{"$f":"IF($A29<=Daten!$B$8,LOOKUP($B29,Daten!$A$220:$A$269,Daten!$D$220:$D$269),\"\")","v":4.5},{"$f":"IF($A29<=Daten!$B$8,LOOKUP($B29,Daten!$A$271:$A$320,Daten!$L$271:$L$320),\"\")","v":4.5999999999999996},{"$f":"IF($A29<=Daten!$B$8,LOOKUP($B29,Daten!$A$271:$A$320,Daten!$D$271:$D$320),\"\")","v":4.5999999999999996},{"$f":"IF($A29<=Daten!$B$8,LOOKUP($B29,Daten!$A$322:$A$371,Daten!$L$322:$L$371),\"\")","v":4.7},{"$f":"IF($A29<=Daten!$B$8,LOOKUP($B29,Daten!$A$322:$A$371,Daten!$D$322:$D$371),\"\")","v":4.7}]
[5,{"$f":"IF(A36<=Daten!$B$8,Daten!F9,\"\")","v":"Menülinie 5"},{"$f":"IF(A36<=Daten!$B$8,LOOKUP(B36,Daten!$A$16:$A$65,Daten!$C$16:$C$65),\"\")","v":"Lang[5,1]"},{"$f":"IF($A36<=Daten!$B$8,LOOKUP($B36,Daten!$A$16:$A$65,Daten!$P$16:$P$65),\"\") & \" \" & IF($A36<=Daten!$B$8,LOOKUP($B36,Daten!$A$16:$A$65,Daten!$Q$16:$Q$65),\"\")","v":"5,1 Inhalt1Einh[5,1]"},{"$f":"IF($A36<=Daten!$B$8,LOOKUP($B36,Daten!$A$67:$A$116,Daten!$C$67:$C$116),\"\")","v":"Lang[5,2]"},{"$f":"IF($A36<=Daten!$B$8,LOOKUP($B36,Daten!$A$67:$A$116,Daten!$P$67:$P$116),\"\") & \" \" & IF($A36<=Daten!$B$8,LOOKUP($B36,Daten!$A$67:$A$116,Daten!$Q$67:$Q$116),\"\")","v":"5,2 Inhalt1Einh[5,2]"},{"$f":"IF($A36<=Daten!$B$8,LOOKUP($B36,Daten!$A$118:$A$167,Daten!$C$118:$C$167),\"\")","v":"Lang[5,3]"},{"$f":"IF($A36<=Daten!$B$8,LOOKUP($B36,Daten!$A$118:$A$167,Daten!$P$118:$P$167),\"\") & \" \" & IF($A36<=Daten!$B$8,LOOKUP($B36,Daten!$A$118:$A$167,Daten!$Q$118:$Q$167),\"\")","v":"5,3 Inhalt1Einh[5,3]"},{"$f":"IF($A36<=Daten!$B$8,LOOKUP($B36,Daten!$A$169:$A$218,Daten!$C$169:$C$218),\"\")","v":"Lang[5,4]"},{"$f":"IF($A36<=Daten!$B$8,LOOKUP($B36,Daten!$A$169:$A$218,Daten!$P$169:$P$218),\"\") & \" \" & IF($A36<=Daten!$B$8,LOOKUP($B36,Daten!$A$169:$A$218,Daten!$Q$169:$Q$218),\"\")","v":"5,4 Inhalt1Einh[5,4]"},{"$f":"IF($A36<=Daten!$B$8,LOOKUP($B36,Daten!$A$220:$A$269,Daten!$C$220:$C$269),\"\")","v":"Lang[5,5]"},{"$f":"IF($A36<=Daten!$B$8,LOOKUP($B36,Daten!$A$220:$A$269,Daten!$P$220:$P$269),\"\") & \" \" & IF($A36<=Daten!$B$8,LOOKUP($B36,Daten!$A$220:$A$269,Daten!$Q$220:$Q$269),\"\")","v":"5,5 Inhalt1Einh[5,5]"},{"$f":"IF($A36<=Daten!$B$8,LOOKUP($B36,Daten!$A$271:$A$320,Daten!$C$271:$C$320),\"\")","v":"Lang[5,6]"},{"$f":"IF($A36<=Daten!$B$8,LOOKUP($B36,Daten!$A$271:$A$320,Daten!$P$271:$P$320),\"\") & \" \" & IF($A36<=Daten!$B$8,LOOKUP($B36,Daten!$A$271:$A$320,Daten!$Q$271:$Q$320),\"\")","v":"5,6 Inhalt1Einh[5,6]"},{"$f":"IF($A36<=Daten!$B$8,LOOKUP($B36,Daten!$A$322:$A$371,Daten!$B$322:$C$371),\"\")","v":{"$error":"#N/A"}},{"$f":"IF($A36<=Daten!$B$8,LOOKUP($B36,Daten!$A$322:$A$371,Daten!$P$322:$P$371),\"\") & \" \" & IF($A36<=Daten!$B$8,LOOKUP($B36,Daten!$A$322:$A$371,Daten!$Q$322:$Q$371),\"\")","v":"5,7 Inhalt1Einh[5,7]"}]
[null,null,null,{"$f":"IF($A36<=Daten!$B$8,LOOKUP($B36,Daten!$A$16:$A$65,Daten!$R$16:$R$65),\"\") & \" \" & IF($A36<=Daten!$B$8,LOOKUP($B36,Daten!$A$16:$A$65,Daten!$S$16:$S$65),\"\")","v":"5,1 Inhalt2Einh[5,1]"},null,{"$f":"IF($A36<=Daten!$B$8,LOOKUP($B36,Daten!$A$67:$A$116,Daten!$R$67:$R$116),\"\") & \" \" & IF($A36<=Daten!$B$8,LOOKUP($B36,Daten!$A$67:$A$116,Daten!$S$67:$S$116),\"\")","v":"5,2 Inhalt2Einh[5,2]"},null,{"$f":"IF($A36<=Daten!$B$8,LOOKUP($B36,Daten!$A$118:$A$167,Daten!$R$118:$R$167),\"\") & \" \" & IF($A36<=Daten!$B$8,LOOKUP($B36,Daten!$A$118:$A$167,Daten!$S$118:$S$167),\"\")","v":"5,3 Inhalt2Einh[5,3]"},null,{"$f":"IF($A36<=Daten!$B$8,LOOKUP($B36,Daten!$A$169:$A$218,Daten!$R$169:$R$218),\"\") & \" \" & IF($A36<=Daten!$B$8,LOOKUP($B36,Daten!$A$169:$A$218,Daten!$S$169:$S$218),\"\")","v":"5,4 Inhalt2Einh[5,4]"},null,{"$f":"IF($A36<=Daten!$B$8,LOOKUP($B36,Daten!$A$220:$A$269,Daten!$R$220:$R$269),\"\") & \" \" & IF($A36<=Daten!$B$8,LOOKUP($B36,Daten!$A$220:$A$269,Daten!$S$220:$S$269),\"\")","v":"5,5 Inhalt2Einh[5,5]"},null,{"$f":"IF($A36<=Daten!$B$8,LOOKUP($B36,Daten!$A$271:$A$320,Daten!$R$271:$R$320),\"\") & \" \" & IF($A36<=Daten!$B$8,LOOKUP($B36,Daten!$A$271:$A$320,Daten!$S$271:$S$320),\"\")","v":"5,6 Inhalt2Einh[5,6]"},null,{"$f":"IF($A36<=Daten!$B$8,LOOKUP($B36,Daten!$A$322:$A$371,Daten!$R$322:$R$371),\"\") & \" \" & IF($A36<=Daten!$B$8,LOOKUP($B36,Daten!$A$322:$A$371,Daten!$S$322:$S$371),\"\")","v":"5,7 Inhalt2Einh[5,7]"}]
[null,null,null,{"$f":"IF($A36<=Daten!$B$8,LOOKUP($B36,Daten!$A$16:$A$65,Daten!$T$16:$T$65),\"\") & \" \" & IF($A36<=Daten!$B$8,LOOKUP($B36,Daten!$A$16:$A$65,Daten!$U$16:$U$65),\"\")","v":"5,1 Inhalt3Einh[5,1]"},null,{"$f":"IF($A36<=Daten!$B$8,LOOKUP($B36,Daten!$A$67:$A$116,Daten!$T$67:$T$116),\"\") & \" \" & IF($A36<=Daten!$B$8,LOOKUP($B36,Daten!$A$67:$A$116,Daten!$U$67:$U$116),\"\")","v":"5,2 Inhalt3Einh[5,2]"},null,{"$f":"IF($A36<=Daten!$B$8,LOOKUP($B36,Daten!$A$118:$A$167,Daten!$T$118:$T$167),\"\") & \" \" & IF($A36<=Daten!$B$8,LOOKUP($B36,Daten!$A$118:$A$167,Daten!$U$118:$U$167),\"\")","v":"5,3 Inhalt3Einh[5,3]"},null,{"$f":"IF($A36<=Daten!$B$8,LOOKUP($B36,Daten!$A$169:$A$218,Daten!$T$169:$T$218),\"\") & \" \" & IF($A36<=Daten!$B$8,LOOKUP($B36,Daten!$A$169:$A$218,Daten!$U$169:$U$218),\"\")","v":"5,4 Inhalt3Einh[5,4]"},null,{"$f":"IF($A36<=Daten!$B$8,LOOKUP($B36,Daten!$A$220:$A$269,Daten!$T$220:$T$269),\"\") & \" \" & IF($A36<=Daten!$B$8,LOOKUP($B36,Daten!$A$220:$A$269,Daten!$U$220:$U$269),\"\")","v":"5,5 Inhalt3Einh[5,5]"},null,{"$f":"IF($A36<=Daten!$B$8,LOOKUP($B36,Daten!$A$271:$A$320,Daten!$T$271:$T$320),\"\") & \" \" & IF($A36<=Daten!$B$8,LOOKUP($B36,Daten!$A$271:$A$320,Daten!$U$271:$U$320),\"\")","v":"5,6 Inhalt3Einh[5,6]"},null,{"$f":"IF($A36<=Daten!$B$8,LOOKUP($B36,Daten!$A$322:$A$371,Daten!$T$322:$T$371),\"\") & \" \" & IF($A36<=Daten!$B$8,LOOKUP($B36,Daten!$A$322:$A$371,Daten!$U$322:$U$371),\"\")","v":"5,7 Inhalt3Einh[5,7]"}]
[null,null,null,{"$f":"IF($A36<=Daten!$B$8,LOOKUP($B36,Daten!$A$16:$A$65,Daten!$V$16:$V$65),\"\") & \" \" & IF($A36<=Daten!$B$8,LOOKUP($B36,Daten!$A$16:$A$65,Daten!$W$16:$W$65),\"\")","v":"5,1 Inhalt4Einh[5,1]"},null,{"$f":"IF($A36<=Daten!$B$8,LOOKUP($B36,Daten!$A$67:$A$116,Daten!$V$67:$V$116),\"\") & \" \" & IF($A36<=Daten!$B$8,LOOKUP($B36,Daten!$A$67:$A$116,Daten!$W$67:$W$116),\"\")","v":"5,2 Inhalt4Einh[5,2]"},null,{"$f":"IF($A36<=Daten!$B$8,LOOKUP($B36,Daten!$A$118:$A$167,Daten!$V$118:$V$167),\"\") & \" \" & IF($A36<=Daten!$B$8,LOOKUP($B36,Daten!$A$118:$A$167,Daten!$W$118:$W$167),\"\")","v":"5,3 Inhalt4Einh[5,3]"},null,{"$f":"IF($A36<=Daten!$B$8,LOOKUP($B36,Daten!$A$169:$A$218,Daten!$V$169:$V$218),\"\") & \" \" & IF($A36<=Daten!$B$8,LOOKUP($B36,Daten!$A$169:$A$218,Daten!$W$169:$W$218),\"\")","v":"5,4 Inhalt4Einh[5,4]"},null,{"$f":"IF($A36<=Daten!$B$8,LOOKUP($B36,Daten!$A$220:$A$269,Daten!$V$220:$V$269),\"\") & \" \" & IF($A36<=Daten!$B$8,LOOKUP($B36,Daten!$A$220:$A$269,Daten!$W$220:$W$269),\"\")","v":"5,5 Inhalt4Einh[5,5]"},null,{"$f":"IF($A36<=Daten!$B$8,LOOKUP($B36,Daten!$A$271:$A$320,Daten!$V$271:$V$320),\"\") & \" \" & IF($A36<=Daten!$B$8,LOOKUP($B36,Daten!$A$271:$A$320,Daten!$W$271:$W$320),\"\")","v":"5,6 Inhalt4Einh[5,6]"},null,{"$f":"IF($A36<=Daten!$B$8,LOOKUP($B36,Daten!$A$322:$A$371,Daten!$V$322:$V$371),\"\") & \" \" & IF($A36<=Daten!$B$8,LOOKUP($B36,Daten!$A$322:$A$371,Daten!$W$322:$W$371),\"\")","v":"5,7 Inhalt4Einh[5,7]"}]
[null,null,null,{"$f":"IF($A36<=Daten!$B$8,LOOKUP($B36,Daten!$A$16:$A$65,Daten!$X$16:$X$65),\"\") & \" \" & IF($A36<=Daten!$B$8,LOOKUP($B36,Daten!$A$16:$A$65,Daten!$Y$16:$Y$65),\"\")","v":"5,1 Inhalt5Einh[5,1]"},null,{"$f":"IF($A36<=Daten!$B$8,LOOKUP($B36,Daten!$A$67:$A$116,Daten!$X$67:$X$116),\"\") & \" \" & IF($A36<=Daten!$B$8,LOOKUP($B36,Daten!$A$67:$A$116,Daten!$Y$67:$Y$116),\"\")","v":"5,2 Inhalt5Einh[5,2]"},null,{"$f":"IF($A36<=Daten!$B$8,LOOKUP($B36,Daten!$A$118:$A$167,Daten!$X$118:$X$167),\"\") & \" \" & IF($A36<=Daten!$B$8,LOOKUP($B36,Daten!$A$118:$A$167,Daten!$Y$118:$Y$167),\"\")","v":"5,3 Inhalt5Einh[5,3]"},null,{"$f":"IF($A36<=Daten!$B$8,LOOKUP($B36,Daten!$A$169:$A$218,Daten!$X$169:$X$218),\"\") & \" \" & IF($A36<=Daten!$B$8,LOOKUP($B36,Daten!$A$169:$A$218,Daten!$Y$169:$Y$218),\"\")","v":"5,4 Inhalt5Einh[5,4]"},null,{"$f":"IF($A36<=Daten!$B$8,LOOKUP($B36,Daten!$A$220:$A$269,Daten!$X$220:$X$269),\"\") & \" \" & IF($A36<=Daten!$B$8,LOOKUP($B36,Daten!$A$220:$A$269,Daten!$Y$220:$Y$269),\"\")","v":"5,5 Inhalt5Einh[5,5]"},null,{"$f":"IF($A36<=Daten!$B$8,LOOKUP($B36,Daten!$A$271:$A$320,Daten!$X$271:$X$320),\"\") & \" \" & IF($A36<=Daten!$B$8,LOOKUP($B36,Daten!$A$271:$A$320,Daten!$Y$271:$Y$320),\"\")","v":"5,6 Inhalt5Einh[5,6]"},null,{"$f":"IF($A36<=Daten!$B$8,LOOKUP($B36,Daten!$A$322:$A$371,Daten!$X$322:$X$371),\"\") & \" \" & IF($A36<=Daten!$B$8,LOOKUP($B36,Daten!$A$322:$A$371,Daten!$Y$322:$Y$371),\"\")","v":"5,7 Inhalt5Einh[5,7]"}]
[null,null,null,{"$f":"IF($A36<=Daten!$B$8,LOOKUP($B36,Daten!$A$16:$A$65,Daten!$Z$16:$Z$65),\"\") & \" \" & IF($A36<=Daten!$B$8,LOOKUP($B36,Daten!$A$16:$A$65,Daten!$AA$16:$AA$65),\"\")","v":"5,1 Inhalt6Einh[5,1]"},null,{"$f":"IF($A36<=Daten!$B$8,LOOKUP($B36,Daten!$A$67:$A$116,Daten!$Z$67:$Z$116),\"\") & \" \" & IF($A36<=Daten!$B$8,LOOKUP($B36,Daten!$A$67:$A$116,Daten!$AA$67:$AA$116),\"\")","v":"5,2 Inhalt6Einh[5,2]"},null,{"$f":"IF($A36<=Daten!$B$8,LOOKUP($B36,Daten!$A$118:$A$167,Daten!$Z$118:$Z$167),\"\") & \" \" & IF($A36<=Daten!$B$8,LOOKUP($B36,Daten!$A$118:$A$167,Daten!$AA$118:$AA$167),\"\")","v":"5,3 Inhalt6Einh[5,3]"},null,{"$f":"IF($A36<=Daten!$B$8,LOOKUP($B36,Daten!$A$169:$A$218,Daten!$Z$169:$Z$218),\"\") & \" \" & IF($A36<=Daten!$B$8,LOOKUP($B36,Daten!$A$169:$A$218,Daten!$AA$169:$AA$218),\"\")","v":"5,4 Inhalt6Einh[5,4]"},null,{"$f":"IF($A36<=Daten!$B$8,LOOKUP($B36,Daten!$A$220:$A$269,Daten!$Z$220:$Z$269),\"\") & \" \" & IF($A36<=Daten!$B$8,LOOKUP($B36,Daten!$A$220:$A$269,Daten!$AA$220:$AA$269),\"\")","v":"5,5 Inhalt6Einh[5,5]"},null,{"$f":"IF($A36<=Daten!$B$8,LOOKUP($B36,Daten!$A$271:$A$320,Daten!$Z$271:$Z$320),\"\") & \" \" & IF($A36<=Daten!$B$8,LOOKUP($B36,Daten!$A$271:$A$320,Daten!$AA$271:$AA$320),\"\")","v":"5,6 Inhalt6Einh[5,6]"},null,{"$f":"IF($A36<=Daten!$B$8,LOOKUP($B36,Daten!$A$322:$A$371,Daten!$Z$322:$Z$371),\"\") & \" \" & IF($A36<=Daten!$B$8,LOOKUP($B36,Daten!$A$322:$A$371,Daten!$AA$322:$AA$371),\"\")","v":"5,7 Inhalt6Einh[5,7]"}]
[null,{"$f":"IF(A36<=Daten!$B$8,\"Zusatzstoffe\",\"\")","v":"Zusatzstoffe"},{"$f":"IF($A36<=Daten!$B$8,LOOKUP($B36,Daten!$A$16:$A$65,Daten!$L$16:$L$65),\"\")","v":5.0999999999999996},{"$f":"IF($A36<=Daten!$B$8,LOOKUP($B36,Daten!$A$16:$A$65,Daten!$D$16:$D$65),\"\")","v":5.0999999999999996},{"$f":"IF($A36<=Daten!$B$8,LOOKUP($B36,Daten!$A$67:$A$116,Daten!$L$67:$L$116),\"\")","v":5.2},{"$f":"IF($A36<=Daten!$B$8,LOOKUP($B36,Daten!$A$16:$A$65,Daten!$D$67:$D$116),\"\")","v":5.2},{"$f":"IF($A36<=Daten!$B$8,LOOKUP($B36,Daten!$A$118:$A$167,Daten!$L$118:$L$167),\"\")","v":5.3},{"$f":"IF($A36<=Daten!$B$8,LOOKUP($B36,Daten!$A$118:$A$167,Daten!$D$118:$D$167),\"\")","v":5.3},{"$f":"IF($A36<=Daten!$B$8,LOOKUP($B36,Daten!$A$169:$A$218,Daten!$L$169:$L$218),\"\")","v":5.4},{"$f":"IF($A36<=Daten!$B$8,LOOKUP($B36,Daten!$A$169:$A$218,Daten!$D$169:$D$218),\"\")","v":5.4},{"$f":"IF($A36<=Daten!$B$8,LOOKUP($B36,Daten!$A$220:$A$269,Daten!$L$220:$L$269),\"\")","v":5.5},{"$f":"IF($A36<=Daten!$B$8,LOOKUP($B36,Daten!$A$220:$A$269,Daten!$D$220:$D$269),\"\")","v":5.5},{"$f":"IF($A36<=Daten!$B$8,LOOKUP($B36,Daten!$A$271:$A$320,Daten!$L$271:$L$320),\"\")","v":5.6},{"$f":"IF($A36<=Daten!$B$8,LOOKUP($B36,Daten!$A$271:$A$320,Daten!$D$271:$D$320),\"\")","v":5.6},{"$f":"IF($A36<=Daten!$B$8,LOOKUP($B36,Daten!$A$322:$A$371,Daten!$L$322:$L$371),\"\")","v":5.7},{"$f":"IF($A36<=Daten!$B$8,LOOKUP($B36,Daten!$A$322:$A$371,Daten!$D$322:$D$371),\"\")","v":5.7}]
[6,{"$f":"IF(A43<=Daten!$B$8,Daten!G9,\"\")","v":"Menülinie 6"},{"$f":"IF(A43<=Daten!$B$8,LOOKUP(B43,Daten!$A$16:$A$65,Daten!$C$16:$C$65),\"\")","v":"Lang[6,1]"},{"$f":"IF($A43<=Daten!$B$8,LOOKUP($B43,Daten!$A$16:$A$65,Daten!$P$16:$P$65),\"\") & \" \" & IF($A43<=Daten!$B$8,LOOKUP($B43,Daten!$A$16:$A$65,Daten!$Q$16:$Q$65),\"\")","v":"6,1 Inhalt1Einh[6,1]"},{"$f":"IF($A43<=Daten!$B$8,LOOKUP($B43,Daten!$A$67:$A$116,Daten!$C$67:$C$116),\"\")","v":"Lang[6,2]"},{"$f":"IF($A43<=Daten!$B$8,LOOKUP($B43,Daten!$A$67:$A$116,Daten!$P$67:$P$116),\"\") & \" \" & IF($A43<=Daten!$B$8,LOOKUP($B43,Daten!$A$67:$A$116,Daten!$Q$67:$Q$116),\"\")","v":"6,2 Inhalt1Einh[6,2]"},{"$f":"IF($A43<=Daten!$B$8,LOOKUP($B43,Daten!$A$118:$A$167,Daten!$C$118:$C$167),\"\")","v":"Lang[6,3]"},{"$f":"IF($A43<=Daten!$B$8,LOOKUP($B43,Daten!$A$118:$A$167,Daten!$P$118:$P$167),\"\") & \" \" & IF($A43<=Daten!$B$8,LOOKUP($B43,Daten!$A$118:$A$167,Daten!$Q$118:$Q$167),\"\")","v":"6,3 Inhalt1Einh[6,3]"},{"$f":"IF($A43<=Daten!$B$8,LOOKUP($B43,Daten!$A$169:$A$218,Daten!$C$169:$C$218),\"\")","v":"Lang[6,4]"},{"$f":"IF($A43<=Daten!$B$8,LOOKUP($B43,Daten!$A$169:$A$218,Daten!$P$169:$P$218),\"\") & \" \" & IF($A43<=Daten!$B$8,LOOKUP($B43,Daten!$A$169:$A$218,Daten!$Q$169:$Q$218),\"\")","v":"6,4 Inhalt1Einh[6,4]"},{"$f":"IF($A43<=Daten!$B$8,LOOKUP($B43,Daten!$A$220:$A$269,Daten!$C$220:$C$269),\"\")","v":"Lang[6,5]"},{"$f":"IF($A43<=Daten!$B$8,LOOKUP($B43,Daten!$A$220:$A$269,Daten!$P$220:$P$269),\"\") & \" \" & IF($A43<=Daten!$B$8,LOOKUP($B43,Daten!$A$220:$A$269,Daten!$Q$220:$Q$269),\"\")","v":"6,5 Inhalt1Einh[6,5]"},{"$f":"IF($A43<=Daten!$B$8,LOOKUP($B43,Daten!$A$271:$A$320,Daten!$C$271:$C$320),\"\")","v":"Lang[6,6]"},{"$f":"IF($A43<=Daten!$B$8,LOOKUP($B43,Daten!$A$271:$A$320,Daten!$P$271:$P$320),\"\") & \" \" & IF($A43<=Daten!$B$8,LOOKUP($B43,Daten!$A$271:$A$320,Daten!$Q$271:$Q$320),\"\")","v":"6,6 Inhalt1Einh[6,6]"},{"$f":"IF($A43<=Daten!$B$8,LOOKUP($B43,Daten!$A$322:$A$371,Daten!$B$322:$C$371),\"\")","v":{"$error":"#N/A"}},{"$f":"IF($A43<=Daten!$B$8,LOOKUP($B43,Daten!$A$322:$A$371,Daten!$P$322:$P$371),\"\") & \" \" & IF($A43<=Daten!$B$8,LOOKUP($B43,Daten!$A$322:$A$371,Daten!$Q$322:$Q$371),\"\")","v":"6,7 Inhalt1Einh[6,7]"}]
[null,null,null,{"$f":"IF($A43<=Daten!$B$8,LOOKUP($B43,Daten!$A$16:$A$65,Daten!$R$16:$R$65),\"\") & \" \" & IF($A43<=Daten!$B$8,LOOKUP($B43,Daten!$A$16:$A$65,Daten!$S$16:$S$65),\"\")","v":"6,1 Inhalt2Einh[6,1]"},null,{"$f":"IF($A43<=Daten!$B$8,LOOKUP($B43,Daten!$A$67:$A$116,Daten!$R$67:$R$116),\"\") & \" \" & IF($A43<=Daten!$B$8,LOOKUP($B43,Daten!$A$67:$A$116,Daten!$S$67:$S$116),\"\")","v":"6,2 Inhalt2Einh[6,2]"},null,{"$f":"IF($A43<=Daten!$B$8,LOOKUP($B43,Daten!$A$118:$A$167,Daten!$R$118:$R$167),\"\") & \" \" & IF($A43<=Daten!$B$8,LOOKUP($B43,Daten!$A$118:$A$167,Daten!$S$118:$S$167),\"\")","v":"6,3 Inhalt2Einh[6,3]"},null,{"$f":"IF($A43<=Daten!$B$8,LOOKUP($B43,Daten!$A$169:$A$218,Daten!$R$169:$R$218),\"\") & \" \" & IF($A43<=Daten!$B$8,LOOKUP($B43,Daten!$A$169:$A$218,Daten!$S$169:$S$218),\"\")","v":"6,4 Inhalt2Einh[6,4]"},null,{"$f":"IF($A43<=Daten!$B$8,LOOKUP($B43,Daten!$A$220:$A$269,Daten!$R$220:$R$269),\"\") & \" \" & IF($A43<=Daten!$B$8,LOOKUP($B43,Daten!$A$220:$A$269,Daten!$S$220:$S$269),\"\")","v":"6,5 Inhalt2Einh[6,5]"},null,{"$f":"IF($A43<=Daten!$B$8,LOOKUP($B43,Daten!$A$271:$A$320,Daten!$R$271:$R$320),\"\") & \" \" & IF($A43<=Daten!$B$8,LOOKUP($B43,Daten!$A$271:$A$320,Daten!$S$271:$S$320),\"\")","v":"6,6 Inhalt2Einh[6,6]"},null,{"$f":"IF($A43<=Daten!$B$8,LOOKUP($B43,Daten!$A$322:$A$371,Daten!$R$322:$R$371),\"\") & \" \" & IF($A43<=Daten!$B$8,LOOKUP($B43,Daten!$A$322:$A$371,Daten!$S$322:$S$371),\"\")","v":"6,7 Inhalt2Einh[6,7]"}]
[null,null,null,{"$f":"IF($A43<=Daten!$B$8,LOOKUP($B43,Daten!$A$16:$A$65,Daten!$T$16:$T$65),\"\") & \" \" & IF($A43<=Daten!$B$8,LOOKUP($B43,Daten!$A$16:$A$65,Daten!$U$16:$U$65),\"\")","v":"6,1 Inhalt3Einh[6,1]"},null,{"$f":"IF($A43<=Daten!$B$8,LOOKUP($B43,Daten!$A$67:$A$116,Daten!$T$67:$T$116),\"\") & \" \" & IF($A43<=Daten!$B$8,LOOKUP($B43,Daten!$A$67:$A$116,Daten!$U$67:$U$116),\"\")","v":"6,2 Inhalt3Einh[6,2]"},null,{"$f":"IF($A43<=Daten!$B$8,LOOKUP($B43,Daten!$A$118:$A$167,Daten!$T$118:$T$167),\"\") & \" \" & IF($A43<=Daten!$B$8,LOOKUP($B43,Daten!$A$118:$A$167,Daten!$U$118:$U$167),\"\")","v":"6,3 Inhalt3Einh[6,3]"},null,{"$f":"IF($A43<=Daten!$B$8,LOOKUP($B43,Daten!$A$169:$A$218,Daten!$T$169:$T$218),\"\") & \" \" & IF($A43<=Daten!$B$8,LOOKUP($B43,Daten!$A$169:$A$218,Daten!$U$169:$U$218),\"\")","v":"6,4 Inhalt3Einh[6,4]"},null,{"$f":"IF($A43<=Daten!$B$8,LOOKUP($B43,Daten!$A$220:$A$269,Daten!$T$220:$T$269),\"\") & \" \" & IF($A43<=Daten!$B$8,LOOKUP($B43,Daten!$A$220:$A$269,Daten!$U$220:$U$269),\"\")","v":"6,5 Inhalt3Einh[6,5]"},null,{"$f":"IF($A43<=Daten!$B$8,LOOKUP($B43,Daten!$A$271:$A$320,Daten!$T$271:$T$320),\"\") & \" \" & IF($A43<=Daten!$B$8,LOOKUP($B43,Daten!$A$271:$A$320,Daten!$U$271:$U$320),\"\")","v":"6,6 Inhalt3Einh[6,6]"},null,{"$f":"IF($A43<=Daten!$B$8,LOOKUP($B43,Daten!$A$322:$A$371,Daten!$T$322:$T$371),\"\") & \" \" & IF($A43<=Daten!$B$8,LOOKUP($B43,Daten!$A$322:$A$371,Daten!$U$322:$U$371),\"\")","v":"6,7 Inhalt3Einh[6,7]"}]
[null,null,null,{"$f":"IF($A43<=Daten!$B$8,LOOKUP($B43,Daten!$A$16:$A$65,Daten!$V$16:$V$65),\"\") & \" \" & IF($A43<=Daten!$B$8,LOOKUP($B43,Daten!$A$16:$A$65,Daten!$W$16:$W$65),\"\")","v":"6,1 Inhalt4Einh[6,1]"},null,{"$f":"IF($A43<=Daten!$B$8,LOOKUP($B43,Daten!$A$67:$A$116,Daten!$V$67:$V$116),\"\") & \" \" & IF($A43<=Daten!$B$8,LOOKUP($B43,Daten!$A$67:$A$116,Daten!$W$67:$W$116),\"\")","v":"6,2 Inhalt4Einh[6,2]"},null,{"$f":"IF($A43<=Daten!$B$8,LOOKUP($B43,Daten!$A$118:$A$167,Daten!$V$118:$V$167),\"\") & \" \" & IF($A43<=Daten!$B$8,LOOKUP($B43,Daten!$A$118:$A$167,Daten!$W$118:$W$167),\"\")","v":"6,3 Inhalt4Einh[6,3]"},null,{"$f":"IF($A43<=Daten!$B$8,LOOKUP($B43,Daten!$A$169:$A$218,Daten!$V$169:$V$218),\"\") & \" \" & IF($A43<=Daten!$B$8,LOOKUP($B43,Daten!$A$169:$A$218,Daten!$W$169:$W$218),\"\")","v":"6,4 Inhalt4Einh[6,4]"},null,{"$f":"IF($A43<=Daten!$B$8,LOOKUP($B43,Daten!$A$220:$A$269,Daten!$V$220:$V$269),\"\") & \" \" & IF($A43<=Daten!$B$8,LOOKUP($B43,Daten!$A$220:$A$269,Daten!$W$220:$W$269),\"\")","v":"6,5 Inhalt4Einh[6,5]"},null,{"$f":"IF($A43<=Daten!$B$8,LOOKUP($B43,Daten!$A$271:$A$320,Daten!$V$271:$V$320),\"\") & \" \" & IF($A43<=Daten!$B$8,LOOKUP($B43,Daten!$A$271:$A$320,Daten!$W$271:$W$320),\"\")","v":"6,6 Inhalt4Einh[6,6]"},null,{"$f":"IF($A43<=Daten!$B$8,LOOKUP($B43,Daten!$A$322:$A$371,Daten!$V$322:$V$371),\"\") & \" \" & IF($A43<=Daten!$B$8,LOOKUP($B43,Daten!$A$322:$A$371,Daten!$W$322:$W$371),\"\")","v":"6,7 Inhalt4Einh[6,7]"}]
[null,null,null,{"$f":"IF($A43<=Daten!$B$8,LOOKUP($B43,Daten!$A$16:$A$65,Daten!$X$16:$X$65),\"\") & \" \" & IF($A43<=Daten!$B$8,LOOKUP($B43,Daten!$A$16:$A$65,Daten!$Y$16:$Y$65),\"\")","v":"6,1 Inhalt5Einh[6,1]"},null,{"$f":"IF($A43<=Daten!$B$8,LOOKUP($B43,Daten!$A$67:$A$116,Daten!$X$67:$X$116),\"\") & \" \" & IF($A43<=Daten!$B$8,LOOKUP($B43,Daten!$A$67:$A$116,Daten!$Y$67:$Y$116),\"\")","v":"6,2 Inhalt5Einh[6,2]"},null,{"$f":"IF($A43<=Daten!$B$8,LOOKUP($B43,Daten!$A$118:$A$167,Daten!$X$118:$X$167),\"\") & \" \" & IF($A43<=Daten!$B$8,LOOKUP($B43,Daten!$A$118:$A$167,Daten!$Y$118:$Y$167),\"\")","v":"6,3 Inhalt5Einh[6,3]"},null,{"$f":"IF($A43<=Daten!$B$8,LOOKUP($B43,Daten!$A$169:$A$218,Daten!$X$169:$X$218),\"\") & \" \" & IF($A43<=Daten!$B$8,LOOKUP($B43,Daten!$A$169:$A$218,Daten!$Y$169:$Y$218),\"\")","v":"6,4 Inhalt5Einh[6,4]"},null,{"$f":"IF($A43<=Daten!$B$8,LOOKUP($B43,Daten!$A$220:$A$269,Daten!$X$220:$X$269),\"\") & \" \" & IF($A43<=Daten!$B$8,LOOKUP($B43,Daten!$A$220:$A$269,Daten!$Y$220:$Y$269),\"\")","v":"6,5 Inhalt5Einh[6,5]"},null,{"$f":"IF($A43<=Daten!$B$8,LOOKUP($B43,Daten!$A$271:$A$320,Daten!$X$271:$X$320),\"\") & \" \" & IF($A43<=Daten!$B$8,LOOKUP($B43,Daten!$A$271:$A$320,Daten!$Y$271:$Y$320),\"\")","v":"6,6 Inhalt5Einh[6,6]"},null,{"$f":"IF($A43<=Daten!$B$8,LOOKUP($B43,Daten!$A$322:$A$371,Daten!$X$322:$X$371),\"\") & \" \" & IF($A43<=Daten!$B$8,LOOKUP($B43,Daten!$A$322:$A$371,Daten!$Y$322:$Y$371),\"\")","v":"6,7 Inhalt5Einh[6,7]"}]
[null,null,null,{"$f":"IF($A43<=Daten!$B$8,LOOKUP($B43,Daten!$A$16:$A$65,Daten!$Z$16:$Z$65),\"\") & \" \" & IF($A43<=Daten!$B$8,LOOKUP($B43,Daten!$A$16:$A$65,Daten!$AA$16:$AA$65),\"\")","v":"6,1 Inhalt6Einh[6,1]"},null,{"$f":"IF($A43<=Daten!$B$8,LOOKUP($B43,Daten!$A$67:$A$116,Daten!$Z$67:$Z$116),\"\") & \" \" & IF($A43<=Daten!$B$8,LOOKUP($B43,Daten!$A$67:$A$116,Daten!$AA$67:$AA$116),\"\")","v":"6,2 Inhalt6Einh[6,2]"},null,{"$f":"IF($A43<=Daten!$B$8,LOOKUP($B43,Daten!$A$118:$A$167,Daten!$Z$118:$Z$167),\"\") & \" \" & IF($A43<=Daten!$B$8,LOOKUP($B43,Daten!$A$118:$A$167,Daten!$AA$118:$AA$167),\"\")","v":"6,3 Inhalt6Einh[6,3]"},null,{"$f":"IF($A43<=Daten!$B$8,LOOKUP($B43,Daten!$A$169:$A$218,Daten!$Z$169:$Z$218),\"\") & \" \" & IF($A43<=Daten!$B$8,LOOKUP($B43,Daten!$A$169:$A$218,Daten!$AA$169:$AA$218),\"\")","v":"6,4 Inhalt6Einh[6,4]"},null,{"$f":"IF($A43<=Daten!$B$8,LOOKUP($B43,Daten!$A$220:$A$269,Daten!$Z$220:$Z$269),\"\") & \" \" & IF($A43<=Daten!$B$8,LOOKUP($B43,Daten!$A$220:$A$269,Daten!$AA$220:$AA$269),\"\")","v":"6,5 Inhalt6Einh[6,5]"},null,{"$f":"IF($A43<=Daten!$B$8,LOOKUP($B43,Daten!$A$271:$A$320,Daten!$Z$271:$Z$320),\"\") & \" \" & IF($A43<=Daten!$B$8,LOOKUP($B43,Daten!$A$271:$A$320,Daten!$AA$271:$AA$320),\"\")","v":"6,6 Inhalt6Einh[6,6]"},null,{"$f":"IF($A43<=Daten!$B$8,LOOKUP($B43,Daten!$A$322:$A$371,Daten!$Z$322:$Z$371),\"\") & \" \" & IF($A43<=Daten!$B$8,LOOKUP($B43,Daten!$A$322:$A$371,Daten!$AA$322:$AA$371),\"\")","v":"6,7 Inhalt6Einh[6,7]"}]
[null,{"$f":"IF(A43<=Daten!$B$8,\"Zusatzstoffe\",\"\")","v":"Zusatzstoffe"},{"$f":"IF($A43<=Daten!$B$8,LOOKUP($B43,Daten!$A$16:$A$65,Daten!$L$16:$L$65),\"\")","v":6.1},{"$f":"IF($A43<=Daten!$B$8,LOOKUP($B43,Daten!$A$16:$A$65,Daten!$D$16:$D$65),\"\")","v":6.1},{"$f":"IF($A43<=Daten!$B$8,LOOKUP($B43,Daten!$A$67:$A$116,Daten!$L$67:$L$116),\"\")","v":6.2},{"$f":"IF($A43<=Daten!$B$8,LOOKUP($B43,Daten!$A$16:$A$65,Daten!$D$67:$D$116),\"\")","v":6.2},{"$f":"IF($A43<=Daten!$B$8,LOOKUP($B43,Daten!$A$118:$A$167,Daten!$L$118:$L$167),\"\")","v":6.3},{"$f":"IF($A43<=Daten!$B$8,LOOKUP($B43,Daten!$A$118:$A$167,Daten!$D$118:$D$167),\"\")","v":6.3},{"$f":"IF($A43<=Daten!$B$8,LOOKUP($B43,Daten!$A$169:$A$218,Daten!$L$169:$L$218),\"\")","v":6.4},{"$f":"IF($A43<=Daten!$B$8,LOOKUP($B43,Daten!$A$169:$A$218,Daten!$D$169:$D$218),\"\")","v":6.4},{"$f":"IF($A43<=Daten!$B$8,LOOKUP($B43,Daten!$A$220:$A$269,Daten!$L$220:$L$269),\"\")","v":6.5},{"$f":"IF($A43<=Daten!$B$8,LOOKUP($B43,Daten!$A$220:$A$269,Daten!$D$220:$D$269),\"\")","v":6.5},{"$f":"IF($A43<=Daten!$B$8,LOOKUP($B43,Daten!$A$271:$A$320,Daten!$L$271:$L$320),\"\")","v":6.6},{"$f":"IF($A43<=Daten!$B$8,LOOKUP($B43,Daten!$A$271:$A$320,Daten!$D$271:$D$320),\"\")","v":6.6},{"$f":"IF($A43<=Daten!$B$8,LOOKUP($B43,Daten!$A$322:$A$371,Daten!$L$322:$L$371),\"\")","v":6.7},{"$f":"IF($A43<=Daten!$B$8,LOOKUP($B43,Daten!$A$322:$A$371,Daten!$D$322:$D$371),\"\")","v":6.7}]
[7,{"$f":"IF(A50<=Daten!$B$8,Daten!H9,\"\")","v":"Menülinie 7"},{"$f":"IF(A50<=Daten!$B$8,LOOKUP(B50,Daten!$A$16:$A$65,Daten!$C$16:$C$65),\"\")","v":"Lang[7,1]"},{"$f":"IF($A50<=Daten!$B$8,LOOKUP($B50,Daten!$A$16:$A$65,Daten!$P$16:$P$65),\"\") & \" \" & IF($A50<=Daten!$B$8,LOOKUP($B50,Daten!$A$16:$A$65,Daten!$Q$16:$Q$65),\"\")","v":"7,1 Inhalt1Einh[7,1]"},{"$f":"IF($A50<=Daten!$B$8,LOOKUP($B50,Daten!$A$67:$A$116,Daten!$C$67:$C$116),\"\")","v":"Lang[7,2]"},{"$f":"IF($A50<=Daten!$B$8,LOOKUP($B50,Daten!$A$67:$A$116,Daten!$P$67:$P$116),\"\") & \" \" & IF($A50<=Daten!$B$8,LOOKUP($B50,Daten!$A$67:$A$116,Daten!$Q$67:$Q$116),\"\")","v":"7,2 Inhalt1Einh[7,2]"},{"$f":"IF($A50<=Daten!$B$8,LOOKUP($B50,Daten!$A$118:$A$167,Daten!$C$118:$C$167),\"\")","v":"Lang[7,3]"},{"$f":"IF($A50<=Daten!$B$8,LOOKUP($B50,Daten!$A$118:$A$167,Daten!$P$118:$P$167),\"\") & \" \" & IF($A50<=Daten!$B$8,LOOKUP($B50,Daten!$A$118:$A$167,Daten!$Q$118:$Q$167),\"\")","v":"7,3 Inhalt1Einh[7,3]"},{"$f":"IF($A50<=Daten!$B$8,LOOKUP($B50,Daten!$A$169:$A$218,Daten!$C$169:$C$218),\"\")","v":"Lang[7,4]"},{"$f":"IF($A50<=Daten!$B$8,LOOKUP($B50,Daten!$A$169:$A$218,Daten!$P$169:$P$218),\"\") & \" \" & IF($A50<=Daten!$B$8,LOOKUP($B50,Daten!$A$169:$A$218,Daten!$Q$169:$Q$218),\"\")","v":"7,4 Inhalt1Einh[7,4]"},{"$f":"IF($A50<=Daten!$B$8,LOOKUP($B50,Daten!$A$220:$A$269,Daten!$C$220:$C$269),\"\")","v":"Lang[7,5]"},{"$f":"IF($A50<=Daten!$B$8,LOOKUP($B50,Daten!$A$220:$A$269,Daten!$P$220:$P$269),\"\") & \" \" & IF($A50<=Daten!$B$8,LOOKUP($B50,Daten!$A$220:$A$269,Daten!$Q$220:$Q$269),\"\")","v":"7,5 Inhalt1Einh[7,5]"},{"$f":"IF($A50<=Daten!$B$8,LOOKUP($B50,Daten!$A$271:$A$320,Daten!$C$271:$C$320),\"\")","v":"Lang[7,6]"},{"$f":"IF($A50<=Daten!$B$8,LOOKUP($B50,Daten!$A$271:$A$320,Daten!$P$271:$P$320),\"\") & \" \" & IF($A50<=Daten!$B$8,LOOKUP($B50,Daten!$A$271:$A$320,Daten!$Q$271:$Q$320),\"\")","v":"7,6 Inhalt1Einh[7,6]"},{"$f":"IF($A50<=Daten!$B$8,LOOKUP($B50,Daten!$A$322:$A$371,Daten!$B$322:$C$371),\"\")","v":{"$error":"#N/A"}},{"$f":"IF($A50<=Daten!$B$8,LOOKUP($B50,Daten!$A$322:$A$371,Daten!$P$322:$P$371),\"\") & \" \" & IF($A50<=Daten!$B$8,LOOKUP($B50,Daten!$A$322:$A$371,Daten!$Q$322:$Q$371),\"\")","v":"7,7 Inhalt1Einh[7,7]"}]
[null,null,null,{"$f":"IF($A50<=Daten!$B$8,LOOKUP($B50,Daten!$A$16:$A$65,Daten!$R$16:$R$65),\"\") & \" \" & IF($A50<=Daten!$B$8,LOOKUP($B50,Daten!$A$16:$A$65,Daten!$S$16:$S$65),\"\")","v":"7,1 Inhalt2Einh[7,1]"},null,{"$f":"IF($A50<=Daten!$B$8,LOOKUP($B50,Daten!$A$67:$A$116,Daten!$R$67:$R$116),\"\") & \" \" & IF($A50<=Daten!$B$8,LOOKUP($B50,Daten!$A$67:$A$116,Daten!$S$67:$S$116),\"\")","v":"7,2 Inhalt2Einh[7,2]"},null,{"$f":"IF($A50<=Daten!$B$8,LOOKUP($B50,Daten!$A$118:$A$167,Daten!$R$118:$R$167),\"\") & \" \" & IF($A50<=Daten!$B$8,LOOKUP($B50,Daten!$A$118:$A$167,Daten!$S$118:$S$167),\"\")","v":"7,3 Inhalt2Einh[7,3]"},null,{"$f":"IF($A50<=Daten!$B$8,LOOKUP($B50,Daten!$A$169:$A$218,Daten!$R$169:$R$218),\"\") & \" \" & IF($A50<=Daten!$B$8,LOOKUP($B50,Daten!$A$169:$A$218,Daten!$S$169:$S$218),\"\")","v":"7,4 Inhalt2Einh[7,4]"},null,{"$f":"IF($A50<=Daten!$B$8,LOOKUP($B50,Daten!$A$220:$A$269,Daten!$R$220:$R$269),\"\") & \" \" & IF($A50<=Daten!$B$8,LOOKUP($B50,Daten!$A$220:$A$269,Daten!$S$220:$S$269),\"\")","v":"7,5 Inhalt2Einh[7,5]"},null,{"$f":"IF($A50<=Daten!$B$8,LOOKUP($B50,Daten!$A$271:$A$320,Daten!$R$271:$R$320),\"\") & \" \" & IF($A50<=Daten!$B$8,LOOKUP($B50,Daten!$A$271:$A$320,Daten!$S$271:$S$320),\"\")","v":"7,6 Inhalt2Einh[7,6]"},null,{"$f":"IF($A50<=Daten!$B$8,LOOKUP($B50,Daten!$A$322:$A$371,Daten!$R$322:$R$371),\"\") & \" \" & IF($A50<=Daten!$B$8,LOOKUP($B50,Daten!$A$322:$A$371,Daten!$S$322:$S$371),\"\")","v":"7,7 Inhalt2Einh[7,7]"}]
[null,null,null,{"$f":"IF($A50<=Daten!$B$8,LOOKUP($B50,Daten!$A$16:$A$65,Daten!$T$16:$T$65),\"\") & \" \" & IF($A50<=Daten!$B$8,LOOKUP($B50,Daten!$A$16:$A$65,Daten!$U$16:$U$65),\"\")","v":"7,1 Inhalt3Einh[7,1]"},null,{"$f":"IF($A50<=Daten!$B$8,LOOKUP($B50,Daten!$A$67:$A$116,Daten!$T$67:$T$116),\"\") & \" \" & IF($A50<=Daten!$B$8,LOOKUP($B50,Daten!$A$67:$A$116,Daten!$U$67:$U$116),\"\")","v":"7,2 Inhalt3Einh[7,2]"},null,{"$f":"IF($A50<=Daten!$B$8,LOOKUP($B50,Daten!$A$118:$A$167,Daten!$T$118:$T$167),\"\") & \" \" & IF($A50<=Daten!$B$8,LOOKUP($B50,Daten!$A$118:$A$167,Daten!$U$118:$U$167),\"\")","v":"7,3 Inhalt3Einh[7,3]"},null,{"$f":"IF($A50<=Daten!$B$8,LOOKUP($B50,Daten!$A$169:$A$218,Daten!$T$169:$T$218),\"\") & \" \" & IF($A50<=Daten!$B$8,LOOKUP($B50,Daten!$A$169:$A$218,Daten!$U$169:$U$218),\"\")","v":"7,4 Inhalt3Einh[7,4]"},null,{"$f":"IF($A50<=Daten!$B$8,LOOKUP($B50,Daten!$A$220:$A$269,Daten!$T$220:$T$269),\"\") & \" \" & IF($A50<=Daten!$B$8,LOOKUP($B50,Daten!$A$220:$A$269,Daten!$U$220:$U$269),\"\")","v":"7,5 Inhalt3Einh[7,5]"},null,{"$f":"IF($A50<=Daten!$B$8,LOOKUP($B50,Daten!$A$271:$A$320,Daten!$T$271:$T$320),\"\") & \" \" & IF($A50<=Daten!$B$8,LOOKUP($B50,Daten!$A$271:$A$320,Daten!$U$271:$U$320),\"\")","v":"7,6 Inhalt3Einh[7,6]"},null,{"$f":"IF($A50<=Daten!$B$8,LOOKUP($B50,Daten!$A$322:$A$371,Daten!$T$322:$T$371),\"\") & \" \" & IF($A50<=Daten!$B$8,LOOKUP($B50,Daten!$A$322:$A$371,Daten!$U$322:$U$371),\"\")","v":"7,7 Inhalt3Einh[7,7]"}]
[null,null,null,{"$f":"IF($A50<=Daten!$B$8,LOOKUP($B50,Daten!$A$16:$A$65,Daten!$V$16:$V$65),\"\") & \" \" & IF($A50<=Daten!$B$8,LOOKUP($B50,Daten!$A$16:$A$65,Daten!$W$16:$W$65),\"\")","v":"7,1 Inhalt4Einh[7,1]"},null,{"$f":"IF($A50<=Daten!$B$8,LOOKUP($B50,Daten!$A$67:$A$116,Daten!$V$67:$V$116),\"\") & \" \" & IF($A50<=Daten!$B$8,LOOKUP($B50,Daten!$A$67:$A$116,Daten!$W$67:$W$116),\"\")","v":"7,2 Inhalt4Einh[7,2]"},null,{"$f":"IF($A50<=Daten!$B$8,LOOKUP($B50,Daten!$A$118:$A$167,Daten!$V$118:$V$167),\"\") & \" \" & IF($A50<=Daten!$B$8,LOOKUP($B50,Daten!$A$118:$A$167,Daten!$W$118:$W$167),\"\")","v":"7,3 Inhalt4Einh[7,3]"},null,{"$f":"IF($A50<=Daten!$B$8,LOOKUP($B50,Daten!$A$169:$A$218,Daten!$V$169:$V$218),\"\") & \" \" & IF($A50<=Daten!$B$8,LOOKUP($B50,Daten!$A$169:$A$218,Daten!$W$169:$W$218),\"\")","v":"7,4 Inhalt4Einh[7,4]"},null,{"$f":"IF($A50<=Daten!$B$8,LOOKUP($B50,Daten!$A$220:$A$269,Daten!$V$220:$V$269),\"\") & \" \" & IF($A50<=Daten!$B$8,LOOKUP($B50,Daten!$A$220:$A$269,Daten!$W$220:$W$269),\"\")","v":"7,5 Inhalt4Einh[7,5]"},null,{"$f":"IF($A50<=Daten!$B$8,LOOKUP($B50,Daten!$A$271:$A$320,Daten!$V$271:$V$320),\"\") & \" \" & IF($A50<=Daten!$B$8,LOOKUP($B50,Daten!$A$271:$A$320,Daten!$W$271:$W$320),\"\")","v":"7,6 Inhalt4Einh[7,6]"},null,{"$f":"IF($A50<=Daten!$B$8,LOOKUP($B50,Daten!$A$322:$A$371,Daten!$V$322:$V$371),\"\") & \" \" & IF($A50<=Daten!$B$8,LOOKUP($B50,Daten!$A$322:$A$371,Daten!$W$322:$W$371),\"\")","v":"7,7 Inhalt4Einh[7,7]"}]
[null,null,null,{"$f":"IF($A50<=Daten!$B$8,LOOKUP($B50,Daten!$A$16:$A$65,Daten!$X$16:$X$65),\"\") & \" \" & IF($A50<=Daten!$B$8,LOOKUP($B50,Daten!$A$16:$A$65,Daten!$Y$16:$Y$65),\"\")","v":"7,1 Inhalt5Einh[7,1]"},null,{"$f":"IF($A50<=Daten!$B$8,LOOKUP($B50,Daten!$A$67:$A$116,Daten!$X$67:$X$116),\"\") & \" \" & IF($A50<=Daten!$B$8,LOOKUP($B50,Daten!$A$67:$A$116,Daten!$Y$67:$Y$116),\"\")","v":"7,2 Inhalt5Einh[7,2]"},null,{"$f":"IF($A50<=Daten!$B$8,LOOKUP($B50,Daten!$A$118:$A$167,Daten!$X$118:$X$167),\"\") & \" \" & IF($A50<=Daten!$B$8,LOOKUP($B50,Daten!$A$118:$A$167,Daten!$Y$118:$Y$167),\"\")","v":"7,3 Inhalt5Einh[7,3]"},null,{"$f":"IF($A50<=Daten!$B$8,LOOKUP($B50,Daten!$A$169:$A$218,Daten!$X$169:$X$218),\"\") & \" \" & IF($A50<=Daten!$B$8,LOOKUP($B50,Daten!$A$169:$A$218,Daten!$Y$169:$Y$218),\"\")","v":"7,4 Inhalt5Einh[7,4]"},null,{"$f":"IF($A50<=Daten!$B$8,LOOKUP($B50,Daten!$A$220:$A$269,Daten!$X$220:$X$269),\"\") & \" \" & IF($A50<=Daten!$B$8,LOOKUP($B50,Daten!$A$220:$A$269,Daten!$Y$220:$Y$269),\"\")","v":"7,5 Inhalt5Einh[7,5]"},null,{"$f":"IF($A50<=Daten!$B$8,LOOKUP($B50,Daten!$A$271:$A$320,Daten!$X$271:$X$320),\"\") & \" \" & IF($A50<=Daten!$B$8,LOOKUP($B50,Daten!$A$271:$A$320,Daten!$Y$271:$Y$320),\"\")","v":"7,6 Inhalt5Einh[7,6]"},null,{"$f":"IF($A50<=Daten!$B$8,LOOKUP($B50,Daten!$A$322:$A$371,Daten!$X$322:$X$371),\"\") & \" \" & IF($A50<=Daten!$B$8,LOOKUP($B50,Daten!$A$322:$A$371,Daten!$Y$322:$Y$371),\"\")","v":"7,7 Inhalt5Einh[7,7]"}]
[null,null,null,{"$f":"IF($A50<=Daten!$B$8,LOOKUP($B50,Daten!$A$16:$A$65,Daten!$Z$16:$Z$65),\"\") & \" \" & IF($A50<=Daten!$B$8,LOOKUP($B50,Daten!$A$16:$A$65,Daten!$AA$16:$AA$65),\"\")","v":"7,1 Inhalt6Einh[7,1]"},null,{"$f":"IF($A50<=Daten!$B$8,LOOKUP($B50,Daten!$A$67:$A$116,Daten!$Z$67:$Z$116),\"\") & \" \" & IF($A50<=Daten!$B$8,LOOKUP($B50,Daten!$A$67:$A$116,Daten!$AA$67:$AA$116),\"\")","v":"7,2 Inhalt6Einh[7,2]"},null,{"$f":"IF($A50<=Daten!$B$8,LOOKUP($B50,Daten!$A$118:$A$167,Daten!$Z$118:$Z$167),\"\") & \" \" & IF($A50<=Daten!$B$8,LOOKUP($B50,Daten!$A$118:$A$167,Daten!$AA$118:$AA$167),\"\")","v":"7,3 Inhalt6Einh[7,3]"},null,{"$f":"IF($A50<=Daten!$B$8,LOOKUP($B50,Daten!$A$169:$A$218,Daten!$Z$169:$Z$218),\"\") & \" \" & IF($A50<=Daten!$B$8,LOOKUP($B50,Daten!$A$169:$A$218,Daten!$AA$169:$AA$218),\"\")","v":"7,4 Inhalt6Einh[7,4]"},null,{"$f":"IF($A50<=Daten!$B$8,LOOKUP($B50,Daten!$A$220:$A$269,Daten!$Z$220:$Z$269),\"\") & \" \" & IF($A50<=Daten!$B$8,LOOKUP($B50,Daten!$A$220:$A$269,Daten!$AA$220:$AA$269),\"\")","v":"7,5 Inhalt6Einh[7,5]"},null,{"$f":"IF($A50<=Daten!$B$8,LOOKUP($B50,Daten!$A$271:$A$320,Daten!$Z$271:$Z$320),\"\") & \" \" & IF($A50<=Daten!$B$8,LOOKUP($B50,Daten!$A$271:$A$320,Daten!$AA$271:$AA$320),\"\")","v":"7,6 Inhalt6Einh[7,6]"},null,{"$f":"IF($A50<=Daten!$B$8,LOOKUP($B50,Daten!$A$322:$A$371,Daten!$Z$322:$Z$371),\"\") & \" \" & IF($A50<=Daten!$B$8,LOOKUP($B50,Daten!$A$322:$A$371,Daten!$AA$322:$AA$371),\"\")","v":"7,7 Inhalt6Einh[7,7]"}]
[null,{"$f":"IF(A50<=Daten!$B$8,\"Zusatzstoffe\",\"\")","v":"Zusatzstoffe"},{"$f":"IF($A50<=Daten!$B$8,LOOKUP($B50,Daten!$A$16:$A$65,Daten!$L$16:$L$65),\"\")","v":7.1},{"$f":"IF($A50<=Daten!$B$8,LOOKUP($B50,Daten!$A$16:$A$65,Daten!$D$16:$D$65),\"\")","v":7.1},{"$f":"IF($A50<=Daten!$B$8,LOOKUP($B50,Daten!$A$67:$A$116,Daten!$L$67:$L$116),\"\")","v":7.2},{"$f":"IF($A50<=Daten!$B$8,LOOKUP($B50,Daten!$A$16:$A$65,Daten!$D$67:$D$116),\"\")","v":7.2},{"$f":"IF($A50<=Daten!$B$8,LOOKUP($B50,Daten!$A$118:$A$167,Daten!$L$118:$L$167),\"\")","v":7.3},{"$f":"IF($A50<=Daten!$B$8,LOOKUP($B50,Daten!$A$118:$A$167,Daten!$D$118:$D$167),\"\")","v":7.3},{"$f":"IF($A50<=Daten!$B$8,LOOKUP($B50,Daten!$A$169:$A$218,Daten!$L$169:$L$218),\"\")","v":7.4},{"$f":"IF($A50<=Daten!$B$8,LOOKUP($B50,Daten!$A$169:$A$218,Daten!$D$169:$D$218),\"\")","v":7.4},{"$f":"IF($A50<=Daten!$B$8,LOOKUP($B50,Daten!$A$220:$A$269,Daten!$L$220:$L$269),\"\")","v":7.5},{"$f":"IF($A50<=Daten!$B$8,LOOKUP($B50,Daten!$A$220:$A$269,Daten!$D$220:$D$269),\"\")","v":7.5},{"$f":"IF($A50<=Daten!$B$8,LOOKUP($B50,Daten!$A$271:$A$320,Daten!$L$271:$L$320),\"\")","v":7.6},{"$f":"IF($A50<=Daten!$B$8,LOOKUP($B50,Daten!$A$271:$A$320,Daten!$D$271:$D$320),\"\")","v":7.6},{"$f":"IF($A50<=Daten!$B$8,LOOKUP($B50,Daten!$A$322:$A$371,Daten!$L$322:$L$371),\"\")","v":7.7},{"$f":"IF($A50<=Daten!$B$8,LOOKUP($B50,Daten!$A$322:$A$371,Daten!$D$322:$D$371),\"\")","v":7.7}]
[8,{"$f":"IF(A57<=Daten!$B$8,Daten!I9,\"\")","v":"Menülinie 8"},{"$f":"IF(A57<=Daten!$B$8,LOOKUP(B57,Daten!$A$16:$A$65,Daten!$C$16:$C$65),\"\")","v":"Lang[8,1]"},{"$f":"IF($A57<=Daten!$B$8,LOOKUP($B57,Daten!$A$16:$A$65,Daten!$P$16:$P$65),\"\") & \" \" & IF($A57<=Daten!$B$8,LOOKUP($B57,Daten!$A$16:$A$65,Daten!$Q$16:$Q$65),\"\")","v":"8,1 Inhalt1Einh[8,1]"},{"$f":"IF($A57<=Daten!$B$8,LOOKUP($B57,Daten!$A$57:$A$116,Daten!$C$57:$C$116),\"\")","v":"Lang[8,2]"},{"$f":"IF($A57<=Daten!$B$8,LOOKUP($B57,Daten!$A$57:$A$116,Daten!$P$57:$P$116),\"\") & \" \" & IF($A57<=Daten!$B$8,LOOKUP($B57,Daten!$A$57:$A$116,Daten!$Q$57:$Q$116),\"\")","v":"8,2 Inhalt1Einh[8,2]"},{"$f":"IF($A57<=Daten!$B$8,LOOKUP($B57,Daten!$A$118:$A$167,Daten!$C$118:$C$167),\"\")","v":"Lang[8,3]"},{"$f":"IF($A57<=Daten!$B$8,LOOKUP($B57,Daten!$A$118:$A$167,Daten!$P$118:$P$167),\"\") & \" \" & IF($A57<=Daten!$B$8,LOOKUP($B57,Daten!$A$118:$A$167,Daten!$Q$118:$Q$167),\"\")","v":"8,3 Inhalt1Einh[8,3]"},{"$f":"IF($A57<=Daten!$B$8,LOOKUP($B57,Daten!$A$169:$A$218,Daten!$C$169:$C$218),\"\")","v":"Lang[8,4]"},{"$f":"IF($A57<=Daten!$B$8,LOOKUP($B57,Daten!$A$169:$A$218,Daten!$P$169:$P$218),\"\") & \" \" & IF($A57<=Daten!$B$8,LOOKUP($B57,Daten!$A$169:$A$218,Daten!$Q$169:$Q$218),\"\")","v":"8,4 Inhalt1Einh[8,4]"},{"$f":"IF($A57<=Daten!$B$8,LOOKUP($B57,Daten!$A$220:$A$269,Daten!$C$220:$C$269),\"\")","v":"Lang[8,5]"},{"$f":"IF($A57<=Daten!$B$8,LOOKUP($B57,Daten!$A$220:$A$269,Daten!$P$220:$P$269),\"\") & \" \" & IF($A57<=Daten!$B$8,LOOKUP($B57,Daten!$A$220:$A$269,Daten!$Q$220:$Q$269),\"\")","v":"8,5 Inhalt1Einh[8,5]"},{"$f":"IF($A57<=Daten!$B$8,LOOKUP($B57,Daten!$A$271:$A$320,Daten!$C$271:$C$320),\"\")","v":"Lang[8,6]"},{"$f":"IF($A57<=Daten!$B$8,LOOKUP($B57,Daten!$A$271:$A$320,Daten!$P$271:$P$320),\"\") & \" \" & IF($A57<=Daten!$B$8,LOOKUP($B57,Daten!$A$271:$A$320,Daten!$Q$271:$Q$320),\"\")","v":"8,6 Inhalt1Einh[8,6]"},{"$f":"IF($A57<=Daten!$B$8,LOOKUP($B57,Daten!$A$322:$A$371,Daten!$B$322:$C$371),\"\")","v":{"$error":"#N/A"}},{"$f":"IF($A57<=Daten!$B$8,LOOKUP($B57,Daten!$A$322:$A$371,Daten!$P$322:$P$371),\"\") & \" \" & IF($A57<=Daten!$B$8,LOOKUP($B57,Daten!$A$322:$A$371,Daten!$Q$322:$Q$371),\"\")","v":"8,7 Inhalt1Einh[8,7]"}]
[null,null,null,{"$f":"IF($A57<=Daten!$B$8,LOOKUP($B57,Daten!$A$16:$A$65,Daten!$R$16:$R$65),\"\") & \" \" & IF($A57<=Daten!$B$8,LOOKUP($B57,Daten!$A$16:$A$65,Daten!$S$16:$S$65),\"\")","v":"8,1 Inhalt2Einh[8,1]"},null,{"$f":"IF($A57<=Daten!$B$8,LOOKUP($B57,Daten!$A$57:$A$116,Daten!$R$57:$R$116),\"\") & \" \" & IF($A57<=Daten!$B$8,LOOKUP($B57,Daten!$A$57:$A$116,Daten!$S$57:$S$116),\"\")","v":"8,2 Inhalt2Einh[8,2]"},null,{"$f":"IF($A57<=Daten!$B$8,LOOKUP($B57,Daten!$A$118:$A$167,Daten!$R$118:$R$167),\"\") & \" \" & IF($A57<=Daten!$B$8,LOOKUP($B57,Daten!$A$118:$A$167,Daten!$S$118:$S$167),\"\")","v":"8,3 Inhalt2Einh[8,3]"},null,{"$f":"IF($A57<=Daten!$B$8,LOOKUP($B57,Daten!$A$169:$A$218,Daten!$R$169:$R$218),\"\") & \" \" & IF($A57<=Daten!$B$8,LOOKUP($B57,Daten!$A$169:$A$218,Daten!$S$169:$S$218),\"\")","v":"8,4 Inhalt2Einh[8,4]"},null,{"$f":"IF($A57<=Daten!$B$8,LOOKUP($B57,Daten!$A$220:$A$269,Daten!$R$220:$R$269),\"\") & \" \" & IF($A57<=Daten!$B$8,LOOKUP($B57,Daten!$A$220:$A$269,Daten!$S$220:$S$269),\"\")","v":"8,5 Inhalt2Einh[8,5]"},null,{"$f":"IF($A57<=Daten!$B$8,LOOKUP($B57,Daten!$A$271:$A$320,Daten!$R$271:$R$320),\"\") & \" \" & IF($A57<=Daten!$B$8,LOOKUP($B57,Daten!$A$271:$A$320,Daten!$S$271:$S$320),\"\")","v":"8,6 Inhalt2Einh[8,6]"},null,{"$f":"IF($A57<=Daten!$B$8,LOOKUP($B57,Daten!$A$322:$A$371,Daten!$R$322:$R$371),\"\") & \" \" & IF($A57<=Daten!$B$8,LOOKUP($B57,Daten!$A$322:$A$371,Daten!$S$322:$S$371),\"\")","v":"8,7 Inhalt2Einh[8,7]"}]
[null,null,null,{"$f":"IF($A57<=Daten!$B$8,LOOKUP($B57,Daten!$A$16:$A$65,Daten!$T$16:$T$65),\"\") & \" \" & IF($A57<=Daten!$B$8,LOOKUP($B57,Daten!$A$16:$A$65,Daten!$U$16:$U$65),\"\")","v":"8,1 Inhalt3Einh[8,1]"},null,{"$f":"IF($A57<=Daten!$B$8,LOOKUP($B57,Daten!$A$57:$A$116,Daten!$T$57:$T$116),\"\") & \" \" & IF($A57<=Daten!$B$8,LOOKUP($B57,Daten!$A$57:$A$116,Daten!$U$57:$U$116),\"\")","v":"8,2 Inhalt3Einh[8,2]"},null,{"$f":"IF($A57<=Daten!$B$8,LOOKUP($B57,Daten!$A$118:$A$167,Daten!$T$118:$T$167),\"\") & \" \" & IF($A57<=Daten!$B$8,LOOKUP($B57,Daten!$A$118:$A$167,Daten!$U$118:$U$167),\"\")","v":"8,3 Inhalt3Einh[8,3]"},null,{"$f":"IF($A57<=Daten!$B$8,LOOKUP($B57,Daten!$A$169:$A$218,Daten!$T$169:$T$218),\"\") & \" \" & IF($A57<=Daten!$B$8,LOOKUP($B57,Daten!$A$169:$A$218,Daten!$U$169:$U$218),\"\")","v":"8,4 Inhalt3Einh[8,4]"},null,{"$f":"IF($A57<=Daten!$B$8,LOOKUP($B57,Daten!$A$220:$A$269,Daten!$T$220:$T$269),\"\") & \" \" & IF($A57<=Daten!$B$8,LOOKUP($B57,Daten!$A$220:$A$269,Daten!$U$220:$U$269),\"\")","v":"8,5 Inhalt3Einh[8,5]"},null,{"$f":"IF($A57<=Daten!$B$8,LOOKUP($B57,Daten!$A$271:$A$320,Daten!$T$271:$T$320),\"\") & \" \" & IF($A57<=Daten!$B$8,LOOKUP($B57,Daten!$A$271:$A$320,Daten!$U$271:$U$320),\"\")","v":"8,6 Inhalt3Einh[8,6]"},null,{"$f":"IF($A57<=Daten!$B$8,LOOKUP($B57,Daten!$A$322:$A$371,Daten!$T$322:$T$371),\"\") & \" \" & IF($A57<=Daten!$B$8,LOOKUP($B57,Daten!$A$322:$A$371,Daten!$U$322:$U$371),\"\")","v":"8,7 Inhalt3Einh[8,7]"}]
[null,null,null,{"$f":"IF($A57<=Daten!$B$8,LOOKUP($B57,Daten!$A$16:$A$65,Daten!$V$16:$V$65),\"\") & \" \" & IF($A57<=Daten!$B$8,LOOKUP($B57,Daten!$A$16:$A$65,Daten!$W$16:$W$65),\"\")","v":"8,1 Inhalt4Einh[8,1]"},null,{"$f":"IF($A57<=Daten!$B$8,LOOKUP($B57,Daten!$A$57:$A$116,Daten!$V$57:$V$116),\"\") & \" \" & IF($A57<=Daten!$B$8,LOOKUP($B57,Daten!$A$57:$A$116,Daten!$W$57:$W$116),\"\")","v":"8,2 Inhalt4Einh[8,2]"},null,{"$f":"IF($A57<=Daten!$B$8,LOOKUP($B57,Daten!$A$118:$A$167,Daten!$V$118:$V$167),\"\") & \" \" & IF($A57<=Daten!$B$8,LOOKUP($B57,Daten!$A$118:$A$167,Daten!$W$118:$W$167),\"\")","v":"8,3 Inhalt4Einh[8,3]"},null,{"$f":"IF($A57<=Daten!$B$8,LOOKUP($B57,Daten!$A$169:$A$218,Daten!$V$169:$V$218),\"\") & \" \" & IF($A57<=Daten!$B$8,LOOKUP($B57,Daten!$A$169:$A$218,Daten!$W$169:$W$218),\"\")","v":"8,4 Inhalt4Einh[8,4]"},null,{"$f":"IF($A57<=Daten!$B$8,LOOKUP($B57,Daten!$A$220:$A$269,Daten!$V$220:$V$269),\"\") & \" \" & IF($A57<=Daten!$B$8,LOOKUP($B57,Daten!$A$220:$A$269,Daten!$W$220:$W$269),\"\")","v":"8,5 Inhalt4Einh[8,5]"},null,{"$f":"IF($A57<=Daten!$B$8,LOOKUP($B57,Daten!$A$271:$A$320,Daten!$V$271:$V$320),\"\") & \" \" & IF($A57<=Daten!$B$8,LOOKUP($B57,Daten!$A$271:$A$320,Daten!$W$271:$W$320),\"\")","v":"8,6 Inhalt4Einh[8,6]"},null,{"$f":"IF($A57<=Daten!$B$8,LOOKUP($B57,Daten!$A$322:$A$371,Daten!$V$322:$V$371),\"\") & \" \" & IF($A57<=Daten!$B$8,LOOKUP($B57,Daten!$A$322:$A$371,Daten!$W$322:$W$371),\"\")","v":"8,7 Inhalt4Einh[8,7]"}]
[null,null,null,{"$f":"IF($A57<=Daten!$B$8,LOOKUP($B57,Daten!$A$16:$A$65,Daten!$X$16:$X$65),\"\") & \" \" & IF($A57<=Daten!$B$8,LOOKUP($B57,Daten!$A$16:$A$65,Daten!$Y$16:$Y$65),\"\")","v":"8,1 Inhalt5Einh[8,1]"},null,{"$f":"IF($A57<=Daten!$B$8,LOOKUP($B57,Daten!$A$57:$A$116,Daten!$X$57:$X$116),\"\") & \" \" & IF($A57<=Daten!$B$8,LOOKUP($B57,Daten!$A$57:$A$116,Daten!$Y$57:$Y$116),\"\")","v":"8,2 Inhalt5Einh[8,2]"},null,{"$f":"IF($A57<=Daten!$B$8,LOOKUP($B57,Daten!$A$118:$A$167,Daten!$X$118:$X$167),\"\") & \" \" & IF($A57<=Daten!$B$8,LOOKUP($B57,Daten!$A$118:$A$167,Daten!$Y$118:$Y$167),\"\")","v":"8,3 Inhalt5Einh[8,3]"},null,{"$f":"IF($A57<=Daten!$B$8,LOOKUP($B57,Daten!$A$169:$A$218,Daten!$X$169:$X$218),\"\") & \" \" & IF($A57<=Daten!$B$8,LOOKUP($B57,Daten!$A$169:$A$218,Daten!$Y$169:$Y$218),\"\")","v":"8,4 Inhalt5Einh[8,4]"},null,{"$f":"IF($A57<=Daten!$B$8,LOOKUP($B57,Daten!$A$220:$A$269,Daten!$X$220:$X$269),\"\") & \" \" & IF($A57<=Daten!$B$8,LOOKUP($B57,Daten!$A$220:$A$269,Daten!$Y$220:$Y$269),\"\")","v":"8,5 Inhalt5Einh[8,5]"},null,{"$f":"IF($A57<=Daten!$B$8,LOOKUP($B57,Daten!$A$271:$A$320,Daten!$X$271:$X$320),\"\") & \" \" & IF($A57<=Daten!$B$8,LOOKUP($B57,Daten!$A$271:$A$320,Daten!$Y$271:$Y$320),\"\")","v":"8,6 Inhalt5Einh[8,6]"},null,{"$f":"IF($A57<=Daten!$B$8,LOOKUP($B57,Daten!$A$322:$A$371,Daten!$X$322:$X$371),\"\") & \" \" & IF($A57<=Daten!$B$8,LOOKUP($B57,Daten!$A$322:$A$371,Daten!$Y$322:$Y$371),\"\")","v":"8,7 Inhalt5Einh[8,7]"}]
[null,null,null,{"$f":"IF($A57<=Daten!$B$8,LOOKUP($B57,Daten!$A$16:$A$65,Daten!$Z$16:$Z$65),\"\") & \" \" & IF($A57<=Daten!$B$8,LOOKUP($B57,Daten!$A$16:$A$65,Daten!$AA$16:$AA$65),\"\")","v":"8,1 Inhalt6Einh[8,1]"},null,{"$f":"IF($A57<=Daten!$B$8,LOOKUP($B57,Daten!$A$57:$A$116,Daten!$Z$57:$Z$116),\"\") & \" \" & IF($A57<=Daten!$B$8,LOOKUP($B57,Daten!$A$57:$A$116,Daten!$AA$57:$AA$116),\"\")","v":"8,2 Inhalt6Einh[8,2]"},null,{"$f":"IF($A57<=Daten!$B$8,LOOKUP($B57,Daten!$A$118:$A$167,Daten!$Z$118:$Z$167),\"\") & \" \" & IF($A57<=Daten!$B$8,LOOKUP($B57,Daten!$A$118:$A$167,Daten!$AA$118:$AA$167),\"\")","v":"8,3 Inhalt6Einh[8,3]"},null,{"$f":"IF($A57<=Daten!$B$8,LOOKUP($B57,Daten!$A$169:$A$218,Daten!$Z$169:$Z$218),\"\") & \" \" & IF($A57<=Daten!$B$8,LOOKUP($B57,Daten!$A$169:$A$218,Daten!$AA$169:$AA$218),\"\")","v":"8,4 Inhalt6Einh[8,4]"},null,{"$f":"IF($A57<=Daten!$B$8,LOOKUP($B57,Daten!$A$220:$A$269,Daten!$Z$220:$Z$269),\"\") & \" \" & IF($A57<=Daten!$B$8,LOOKUP($B57,Daten!$A$220:$A$269,Daten!$AA$220:$AA$269),\"\")","v":"8,5 Inhalt6Einh[8,5]"},null,{"$f":"IF($A57<=Daten!$B$8,LOOKUP($B57,Daten!$A$271:$A$320,Daten!$Z$271:$Z$320),\"\") & \" \" & IF($A57<=Daten!$B$8,LOOKUP($B57,Daten!$A$271:$A$320,Daten!$AA$271:$AA$320),\"\")","v":"8,6 Inhalt6Einh[8,6]"},null,{"$f":"IF($A57<=Daten!$B$8,LOOKUP($B57,Daten!$A$322:$A$371,Daten!$Z$322:$Z$371),\"\") & \" \" & IF($A57<=Daten!$B$8,LOOKUP($B57,Daten!$A$322:$A$371,Daten!$AA$322:$AA$371),\"\")","v":"8,7 Inhalt6Einh[8,7]"}]
[null,{"$f":"IF(A57<=Daten!$B$8,\"Zusatzstoffe\",\"\")","v":"Zusatzstoffe"},{"$f":"IF($A57<=Daten!$B$8,LOOKUP($B57,Daten!$A$16:$A$65,Daten!$L$16:$L$65),\"\")","v":8.1},{"$f":"IF($A57<=Daten!$B$8,LOOKUP($B57,Daten!$A$16:$A$65,Daten!$D$16:$D$65),\"\")","v":8.1},{"$f":"IF($A57<=Daten!$B$8,LOOKUP($B57,Daten!$A$67:$A$116,Daten!$L$67:$L$116),\"\")","v":8.1999999999999993},{"$f":"IF($A57<=Daten!$B$8,LOOKUP($B57,Daten!$A$16:$A$65,Daten!$D$67:$D$116),\"\")","v":8.1999999999999993},{"$f":"IF($A57<=Daten!$B$8,LOOKUP($B57,Daten!$A$118:$A$167,Daten!$L$118:$L$167),\"\")","v":8.3000000000000007},{"$f":"IF($A57<=Daten!$B$8,LOOKUP($B57,Daten!$A$118:$A$167,Daten!$D$118:$D$167),\"\")","v":8.3000000000000007},{"$f":"IF($A57<=Daten!$B$8,LOOKUP($B57,Daten!$A$169:$A$218,Daten!$L$169:$L$218),\"\")","v":8.4},{"$f":"IF($A57<=Daten!$B$8,LOOKUP($B57,Daten!$A$169:$A$218,Daten!$D$169:$D$218),\"\")","v":8.4},{"$f":"IF($A57<=Daten!$B$8,LOOKUP($B57,Daten!$A$220:$A$269,Daten!$L$220:$L$269),\"\")","v":8.5},{"$f":"IF($A57<=Daten!$B$8,LOOKUP($B57,Daten!$A$220:$A$269,Daten!$D$220:$D$269),\"\")","v":8.5},{"$f":"IF($A57<=Daten!$B$8,LOOKUP($B57,Daten!$A$271:$A$320,Daten!$L$271:$L$320),\"\")","v":8.6},{"$f":"IF($A57<=Daten!$B$8,LOOKUP($B57,Daten!$A$271:$A$320,Daten!$D$271:$D$320),\"\")","v":8.6},{"$f":"IF($A57<=Daten!$B$8,LOOKUP($B57,Daten!$A$322:$A$371,Daten!$L$322:$L$371),\"\")","v":8.6999999999999993},{"$f":"IF($A57<=Daten!$B$8,LOOKUP($B57,Daten!$A$322:$A$371,Daten!$D$322:$D$371),\"\")","v":8.6999999999999993}]
[9,{"$f":"IF(A64<=Daten!$B$8,Daten!J9,\"\")","v":"Menülinie 9"},{"$f":"IF(A64<=Daten!$B$8,LOOKUP(B64,Daten!$A$16:$A$65,Daten!$C$16:$C$65),\"\")","v":"Lang[9,1]"},{"$f":"IF($A64<=Daten!$B$8,LOOKUP($B64,Daten!$A$16:$A$65,Daten!$P$16:$P$65),\"\") & \" \" & IF($A64<=Daten!$B$8,LOOKUP($B64,Daten!$A$16:$A$65,Daten!$Q$16:$Q$65),\"\")","v":"9,1 Inhalt1Einh[9,1]"},{"$f":"IF($A64<=Daten!$B$8,LOOKUP($B64,Daten!$A$67:$A$116,Daten!$C$67:$C$116),\"\")","v":"Lang[9,2]"},{"$f":"IF($A64<=Daten!$B$8,LOOKUP($B64,Daten!$A$67:$A$116,Daten!$P$67:$P$116),\"\") & \" \" & IF($A64<=Daten!$B$8,LOOKUP($B64,Daten!$A$67:$A$116,Daten!$Q$67:$Q$116),\"\")","v":"9,2 Inhalt1Einh[9,2]"},{"$f":"IF($A64<=Daten!$B$8,LOOKUP($B64,Daten!$A$118:$A$167,Daten!$C$118:$C$167),\"\")","v":"Lang[9,3]"},{"$f":"IF($A64<=Daten!$B$8,LOOKUP($B64,Daten!$A$118:$A$167,Daten!$P$118:$P$167),\"\") & \" \" & IF($A64<=Daten!$B$8,LOOKUP($B64,Daten!$A$118:$A$167,Daten!$Q$118:$Q$167),\"\")","v":"9,3 Inhalt1Einh[9,3]"},{"$f":"IF($A64<=Daten!$B$8,LOOKUP($B64,Daten!$A$169:$A$218,Daten!$C$169:$C$218),\"\")","v":"Lang[9,4]"},{"$f":"IF($A64<=Daten!$B$8,LOOKUP($B64,Daten!$A$169:$A$218,Daten!$P$169:$P$218),\"\") & \" \" & IF($A64<=Daten!$B$8,LOOKUP($B64,Daten!$A$169:$A$218,Daten!$Q$169:$Q$218),\"\")","v":"9,4 Inhalt1Einh[9,4]"},{"$f":"IF($A64<=Daten!$B$8,LOOKUP($B64,Daten!$A$220:$A$269,Daten!$C$220:$C$269),\"\")","v":"Lang[9,5]"},{"$f":"IF($A64<=Daten!$B$8,LOOKUP($B64,Daten!$A$220:$A$269,Daten!$P$220:$P$269),\"\") & \" \" & IF($A64<=Daten!$B$8,LOOKUP($B64,Daten!$A$220:$A$269,Daten!$Q$220:$Q$269),\"\")","v":"9,5 Inhalt1Einh[9,5]"},{"$f":"IF($A64<=Daten!$B$8,LOOKUP($B64,Daten!$A$271:$A$320,Daten!$C$271:$C$320),\"\")","v":"Lang[9,6]"},{"$f":"IF($A64<=Daten!$B$8,LOOKUP($B64,Daten!$A$271:$A$320,Daten!$P$271:$P$320),\"\") & \" \" & IF($A64<=Daten!$B$8,LOOKUP($B64,Daten!$A$271:$A$320,Daten!$Q$271:$Q$320),\"\")","v":"9,6 Inhalt1Einh[9,6]"},{"$f":"IF($A64<=Daten!$B$8,LOOKUP($B64,Daten!$A$322:$A$371,Daten!$B$322:$C$371),\"\")","v":{"$error":"#N/A"}},{"$f":"IF($A64<=Daten!$B$8,LOOKUP($B64,Daten!$A$322:$A$371,Daten!$P$322:$P$371),\"\") & \" \" & IF($A64<=Daten!$B$8,LOOKUP($B64,Daten!$A$322:$A$371,Daten!$Q$322:$Q$371),\"\")","v":"9,7 Inhalt1Einh[9,7]"}]
[null,null,null,{"$f":"IF($A64<=Daten!$B$8,LOOKUP($B64,Daten!$A$16:$A$65,Daten!$R$16:$R$65),\"\") & \" \" & IF($A64<=Daten!$B$8,LOOKUP($B64,Daten!$A$16:$A$65,Daten!$S$16:$S$65),\"\")","v":"9,1 Inhalt2Einh[9,1]"},null,{"$f":"IF($A64<=Daten!$B$8,LOOKUP($B64,Daten!$A$67:$A$116,Daten!$R$67:$R$116),\"\") & \" \" & IF($A64<=Daten!$B$8,LOOKUP($B64,Daten!$A$67:$A$116,Daten!$S$67:$S$116),\"\")","v":"9,2 Inhalt2Einh[9,2]"},null,{"$f":"IF($A64<=Daten!$B$8,LOOKUP($B64,Daten!$A$118:$A$167,Daten!$R$118:$R$167),\"\") & \" \" & IF($A64<=Daten!$B$8,LOOKUP($B64,Daten!$A$118:$A$167,Daten!$S$118:$S$167),\"\")","v":"9,3 Inhalt2Einh[9,3]"},null,{"$f":"IF($A64<=Daten!$B$8,LOOKUP($B64,Daten!$A$169:$A$218,Daten!$R$169:$R$218),\"\") & \" \" & IF($A64<=Daten!$B$8,LOOKUP($B64,Daten!$A$169:$A$218,Daten!$S$169:$S$218),\"\")","v":"9,4 Inhalt2Einh[9,4]"},null,{"$f":"IF($A64<=Daten!$B$8,LOOKUP($B64,Daten!$A$220:$A$269,Daten!$R$220:$R$269),\"\") & \" \" & IF($A64<=Daten!$B$8,LOOKUP($B64,Daten!$A$220:$A$269,Daten!$S$220:$S$269),\"\")","v":"9,5 Inhalt2Einh[9,5]"},null,{"$f":"IF($A64<=Daten!$B$8,LOOKUP($B64,Daten!$A$271:$A$320,Daten!$R$271:$R$320),\"\") & \" \" & IF($A64<=Daten!$B$8,LOOKUP($B64,Daten!$A$271:$A$320,Daten!$S$271:$S$320),\"\")","v":"9,6 Inhalt2Einh[9,6]"},null,{"$f":"IF($A64<=Daten!$B$8,LOOKUP($B64,Daten!$A$322:$A$371,Daten!$R$322:$R$371),\"\") & \" \" & IF($A64<=Daten!$B$8,LOOKUP($B64,Daten!$A$322:$A$371,Daten!$S$322:$S$371),\"\")","v":"9,7 Inhalt2Einh[9,7]"}]
[null,null,null,{"$f":"IF($A64<=Daten!$B$8,LOOKUP($B64,Daten!$A$16:$A$65,Daten!$T$16:$T$65),\"\") & \" \" & IF($A64<=Daten!$B$8,LOOKUP($B64,Daten!$A$16:$A$65,Daten!$U$16:$U$65),\"\")","v":"9,1 Inhalt3Einh[9,1]"},null,{"$f":"IF($A64<=Daten!$B$8,LOOKUP($B64,Daten!$A$67:$A$116,Daten!$T$67:$T$116),\"\") & \" \" & IF($A64<=Daten!$B$8,LOOKUP($B64,Daten!$A$67:$A$116,Daten!$U$67:$U$116),\"\")","v":"9,2 Inhalt3Einh[9,2]"},null,{"$f":"IF($A64<=Daten!$B$8,LOOKUP($B64,Daten!$A$118:$A$167,Daten!$T$118:$T$167),\"\") & \" \" & IF($A64<=Daten!$B$8,LOOKUP($B64,Daten!$A$118:$A$167,Daten!$U$118:$U$167),\"\")","v":"9,3 Inhalt3Einh[9,3]"},null,{"$f":"IF($A64<=Daten!$B$8,LOOKUP($B64,Daten!$A$169:$A$218,Daten!$T$169:$T$218),\"\") & \" \" & IF($A64<=Daten!$B$8,LOOKUP($B64,Daten!$A$169:$A$218,Daten!$U$169:$U$218),\"\")","v":"9,4 Inhalt3Einh[9,4]"},null,{"$f":"IF($A64<=Daten!$B$8,LOOKUP($B64,Daten!$A$220:$A$269,Daten!$T$220:$T$269),\"\") & \" \" & IF($A64<=Daten!$B$8,LOOKUP($B64,Daten!$A$220:$A$269,Daten!$U$220:$U$269),\"\")","v":"9,5 Inhalt3Einh[9,5]"},null,{"$f":"IF($A64<=Daten!$B$8,LOOKUP($B64,Daten!$A$271:$A$320,Daten!$T$271:$T$320),\"\") & \" \" & IF($A64<=Daten!$B$8,LOOKUP($B64,Daten!$A$271:$A$320,Daten!$U$271:$U$320),\"\")","v":"9,6 Inhalt3Einh[9,6]"},null,{"$f":"IF($A64<=Daten!$B$8,LOOKUP($B64,Daten!$A$322:$A$371,Daten!$T$322:$T$371),\"\") & \" \" & IF($A64<=Daten!$B$8,LOOKUP($B64,Daten!$A$322:$A$371,Daten!$U$322:$U$371),\"\")","v":"9,7 Inhalt3Einh[9,7]"}]
[null,null,null,{"$f":"IF($A64<=Daten!$B$8,LOOKUP($B64,Daten!$A$16:$A$65,Daten!$V$16:$V$65),\"\") & \" \" & IF($A64<=Daten!$B$8,LOOKUP($B64,Daten!$A$16:$A$65,Daten!$W$16:$W$65),\"\")","v":"9,1 Inhalt4Einh[9,1]"},null,{"$f":"IF($A64<=Daten!$B$8,LOOKUP($B64,Daten!$A$67:$A$116,Daten!$V$67:$V$116),\"\") & \" \" & IF($A64<=Daten!$B$8,LOOKUP($B64,Daten!$A$67:$A$116,Daten!$W$67:$W$116),\"\")","v":"9,2 Inhalt4Einh[9,2]"},null,{"$f":"IF($A64<=Daten!$B$8,LOOKUP($B64,Daten!$A$118:$A$167,Daten!$V$118:$V$167),\"\") & \" \" & IF($A64<=Daten!$B$8,LOOKUP($B64,Daten!$A$118:$A$167,Daten!$W$118:$W$167),\"\")","v":"9,3 Inhalt4Einh[9,3]"},null,{"$f":"IF($A64<=Daten!$B$8,LOOKUP($B64,Daten!$A$169:$A$218,Daten!$V$169:$V$218),\"\") & \" \" & IF($A64<=Daten!$B$8,LOOKUP($B64,Daten!$A$169:$A$218,Daten!$W$169:$W$218),\"\")","v":"9,4 Inhalt4Einh[9,4]"},null,{"$f":"IF($A64<=Daten!$B$8,LOOKUP($B64,Daten!$A$220:$A$269,Daten!$V$220:$V$269),\"\") & \" \" & IF($A64<=Daten!$B$8,LOOKUP($B64,Daten!$A$220:$A$269,Daten!$W$220:$W$269),\"\")","v":"9,5 Inhalt4Einh[9,5]"},null,{"$f":"IF($A64<=Daten!$B$8,LOOKUP($B64,Daten!$A$271:$A$320,Daten!$V$271:$V$320),\"\") & \" \" & IF($A64<=Daten!$B$8,LOOKUP($B64,Daten!$A$271:$A$320,Daten!$W$271:$W$320),\"\")","v":"9,6 Inhalt4Einh[9,6]"},null,{"$f":"IF($A64<=Daten!$B$8,LOOKUP($B64,Daten!$A$322:$A$371,Daten!$V$322:$V$371),\"\") & \" \" & IF($A64<=Daten!$B$8,LOOKUP($B64,Daten!$A$322:$A$371,Daten!$W$322:$W$371),\"\")","v":"9,7 Inhalt4Einh[9,7]"}]
[null,null,null,{"$f":"IF($A64<=Daten!$B$8,LOOKUP($B64,Daten!$A$16:$A$65,Daten!$X$16:$X$65),\"\") & \" \" & IF($A64<=Daten!$B$8,LOOKUP($B64,Daten!$A$16:$A$65,Daten!$Y$16:$Y$65),\"\")","v":"9,1 Inhalt5Einh[9,1]"},null,{"$f":"IF($A64<=Daten!$B$8,LOOKUP($B64,Daten!$A$67:$A$116,Daten!$X$67:$X$116),\"\") & \" \" & IF($A64<=Daten!$B$8,LOOKUP($B64,Daten!$A$67:$A$116,Daten!$Y$67:$Y$116),\"\")","v":"9,2 Inhalt5Einh[9,2]"},null,{"$f":"IF($A64<=Daten!$B$8,LOOKUP($B64,Daten!$A$118:$A$167,Daten!$X$118:$X$167),\"\") & \" \" & IF($A64<=Daten!$B$8,LOOKUP($B64,Daten!$A$118:$A$167,Daten!$Y$118:$Y$167),\"\")","v":"9,3 Inhalt5Einh[9,3]"},null,{"$f":"IF($A64<=Daten!$B$8,LOOKUP($B64,Daten!$A$169:$A$218,Daten!$X$169:$X$218),\"\") & \" \" & IF($A64<=Daten!$B$8,LOOKUP($B64,Daten!$A$169:$A$218,Daten!$Y$169:$Y$218),\"\")","v":"9,4 Inhalt5Einh[9,4]"},null,{"$f":"IF($A64<=Daten!$B$8,LOOKUP($B64,Daten!$A$220:$A$269,Daten!$X$220:$X$269),\"\") & \" \" & IF($A64<=Daten!$B$8,LOOKUP($B64,Daten!$A$220:$A$269,Daten!$Y$220:$Y$269),\"\")","v":"9,5 Inhalt5Einh[9,5]"},null,{"$f":"IF($A64<=Daten!$B$8,LOOKUP($B64,Daten!$A$271:$A$320,Daten!$X$271:$X$320),\"\") & \" \" & IF($A64<=Daten!$B$8,LOOKUP($B64,Daten!$A$271:$A$320,Daten!$Y$271:$Y$320),\"\")","v":"9,6 Inhalt5Einh[9,6]"},null,{"$f":"IF($A64<=Daten!$B$8,LOOKUP($B64,Daten!$A$322:$A$371,Daten!$X$322:$X$371),\"\") & \" \" & IF($A64<=Daten!$B$8,LOOKUP($B64,Daten!$A$322:$A$371,Daten!$Y$322:$Y$371),\"\")","v":"9,7 Inhalt5Einh[9,7]"}]
[null,null,null,{"$f":"IF($A64<=Daten!$B$8,LOOKUP($B64,Daten!$A$16:$A$65,Daten!$Z$16:$Z$65),\"\") & \" \" & IF($A64<=Daten!$B$8,LOOKUP($B64,Daten!$A$16:$A$65,Daten!$AA$16:$AA$65),\"\")","v":"9,1 Inhalt6Einh[9,1]"},null,{"$f":"IF($A64<=Daten!$B$8,LOOKUP($B64,Daten!$A$67:$A$116,Daten!$Z$67:$Z$116),\"\") & \" \" & IF($A64<=Daten!$B$8,LOOKUP($B64,Daten!$A$67:$A$116,Daten!$AA$67:$AA$116),\"\")","v":"9,2 Inhalt6Einh[9,2]"},null,{"$f":"IF($A64<=Daten!$B$8,LOOKUP($B64,Daten!$A$118:$A$167,Daten!$Z$118:$Z$167),\"\") & \" \" & IF($A64<=Daten!$B$8,LOOKUP($B64,Daten!$A$118:$A$167,Daten!$AA$118:$AA$167),\"\")","v":"9,3 Inhalt6Einh[9,3]"},null,{"$f":"IF($A64<=Daten!$B$8,LOOKUP($B64,Daten!$A$169:$A$218,Daten!$Z$169:$Z$218),\"\") & \" \" & IF($A64<=Daten!$B$8,LOOKUP($B64,Daten!$A$169:$A$218,Daten!$AA$169:$AA$218),\"\")","v":"9,4 Inhalt6Einh[9,4]"},null,{"$f":"IF($A64<=Daten!$B$8,LOOKUP($B64,Daten!$A$220:$A$269,Daten!$Z$220:$Z$269),\"\") & \" \" & IF($A64<=Daten!$B$8,LOOKUP($B64,Daten!$A$220:$A$269,Daten!$AA$220:$AA$269),\"\")","v":"9,5 Inhalt6Einh[9,5]"},null,{"$f":"IF($A64<=Daten!$B$8,LOOKUP($B64,Daten!$A$271:$A$320,Daten!$Z$271:$Z$320),\"\") & \" \" & IF($A64<=Daten!$B$8,LOOKUP($B64,Daten!$A$271:$A$320,Daten!$AA$271:$AA$320),\"\")","v":"9,6 Inhalt6Einh[9,6]"},null,{"$f":"IF($A64<=Daten!$B$8,LOOKUP($B64,Daten!$A$322:$A$371,Daten!$Z$322:$Z$371),\"\") & \" \" & IF($A64<=Daten!$B$8,LOOKUP($B64,Daten!$A$322:$A$371,Daten!$AA$322:$AA$371),\"\")","v":"9,7 Inhalt6Einh[9,7]"}]
[null,{"$f":"IF(A64<=Daten!$B$8,\"Zusatzstoffe\",\"\")","v":"Zusatzstoffe"},{"$f":"IF($A64<=Daten!$B$8,LOOKUP($B64,Daten!$A$16:$A$65,Daten!$L$16:$L$65),\"\")","v":9.1},{"$f":"IF($A64<=Daten!$B$8,LOOKUP($B64,Daten!$A$16:$A$65,Daten!$D$16:$D$65),\"\")","v":9.1},{"$f":"IF($A64<=Daten!$B$8,LOOKUP($B64,Daten!$A$67:$A$116,Daten!$L$67:$L$116),\"\")","v":9.1999999999999993},{"$f":"IF($A64<=Daten!$B$8,LOOKUP($B64,Daten!$A$16:$A$65,Daten!$D$67:$D$116),\"\")","v":9.1999999999999993},{"$f":"IF($A64<=Daten!$B$8,LOOKUP($B64,Daten!$A$118:$A$167,Daten!$L$118:$L$167),\"\")","v":9.3000000000000007},{"$f":"IF($A64<=Daten!$B$8,LOOKUP($B64,Daten!$A$118:$A$167,Daten!$D$118:$D$167),\"\")","v":9.3000000000000007},{"$f":"IF($A64<=Daten!$B$8,LOOKUP($B64,Daten!$A$169:$A$218,Daten!$L$169:$L$218),\"\")","v":9.4},{"$f":"IF($A64<=Daten!$B$8,LOOKUP($B64,Daten!$A$169:$A$218,Daten!$D$169:$D$218),\"\")","v":9.4},{"$f":"IF($A64<=Daten!$B$8,LOOKUP($B64,Daten!$A$220:$A$269,Daten!$L$220:$L$269),\"\")","v":9.5},{"$f":"IF($A64<=Daten!$B$8,LOOKUP($B64,Daten!$A$220:$A$269,Daten!$D$220:$D$269),\"\")","v":9.5},{"$f":"IF($A64<=Daten!$B$8,LOOKUP($B64,Daten!$A$271:$A$320,Daten!$L$271:$L$320),\"\")","v":9.6},{"$f":"IF($A64<=Daten!$B$8,LOOKUP($B64,Daten!$A$271:$A$320,Daten!$D$271:$D$320),\"\")","v":9.6},{"$f":"IF($A64<=Daten!$B$8,LOOKUP($B64,Daten!$A$322:$A$371,Daten!$L$322:$L$371),\"\")","v":9.6999999999999993},{"$f":"IF($A64<=Daten!$B$8,LOOKUP($B64,Daten!$A$322:$A$371,Daten!$D$322:$D$371),\"\")","v":9.6999999999999993}]
[10,{"$f":"IF(A71<=Daten!$B$8,Daten!K9,\"\")","v":"Menülinie 10"},{"$f":"IF(A71<=Daten!$B$8,LOOKUP(B71,Daten!$A$16:$A$65,Daten!$C$16:$C$65),\"\")","v":"Lang[10,1]"},{"$f":"IF($A71<=Daten!$B$8,LOOKUP($B71,Daten!$A$16:$A$65,Daten!$P$16:$P$65),\"\") & \" \" & IF($A71<=Daten!$B$8,LOOKUP($B71,Daten!$A$16:$A$65,Daten!$Q$16:$Q$65),\"\")","v":"10,1 Inhalt1Einh[10,1]"},{"$f":"IF($A71<=Daten!$B$8,LOOKUP($B71,Daten!$A$67:$A$116,Daten!$C$67:$C$116),\"\")","v":"Lang[10,2]"},{"$f":"IF($A71<=Daten!$B$8,LOOKUP($B71,Daten!$A$67:$A$116,Daten!$P$67:$P$116),\"\") & \" \" & IF($A71<=Daten!$B$8,LOOKUP($B71,Daten!$A$67:$A$116,Daten!$Q$67:$Q$116),\"\")","v":"10,2 Inhalt1Einh[10,2]"},{"$f":"IF($A71<=Daten!$B$8,LOOKUP($B71,Daten!$A$118:$A$167,Daten!$C$118:$C$167),\"\")","v":"Lang[10,3]"},{"$f":"IF($A71<=Daten!$B$8,LOOKUP($B71,Daten!$A$118:$A$167,Daten!$P$118:$P$167),\"\") & \" \" & IF($A71<=Daten!$B$8,LOOKUP($B71,Daten!$A$118:$A$167,Daten!$Q$118:$Q$167),\"\")","v":"10,3 Inhalt1Einh[10,3]"},{"$f":"IF($A71<=Daten!$B$8,LOOKUP($B71,Daten!$A$169:$A$218,Daten!$C$169:$C$218),\"\")","v":"Lang[10,4]"},{"$f":"IF($A71<=Daten!$B$8,LOOKUP($B71,Daten!$A$169:$A$218,Daten!$P$169:$P$218),\"\") & \" \" & IF($A71<=Daten!$B$8,LOOKUP($B71,Daten!$A$169:$A$218,Daten!$Q$169:$Q$218),\"\")","v":"10,4 Inhalt1Einh[10,4]"},{"$f":"IF($A71<=Daten!$B$8,LOOKUP($B71,Daten!$A$220:$A$269,Daten!$C$220:$C$269),\"\")","v":"Lang[10,5]"},{"$f":"IF($A71<=Daten!$B$8,LOOKUP($B71,Daten!$A$220:$A$269,Daten!$P$220:$P$269),\"\") & \" \" & IF($A71<=Daten!$B$8,LOOKUP($B71,Daten!$A$220:$A$269,Daten!$Q$220:$Q$269),\"\")","v":"10,5 Inhalt1Einh[10,5]"},{"$f":"IF($A71<=Daten!$B$8,LOOKUP($B71,Daten!$A$271:$A$320,Daten!$C$271:$C$320),\"\")","v":"Lang[10,6]"},{"$f":"IF($A71<=Daten!$B$8,LOOKUP($B71,Daten!$A$271:$A$320,Daten!$P$271:$P$320),\"\") & \" \" & IF($A71<=Daten!$B$8,LOOKUP($B71,Daten!$A$271:$A$320,Daten!$Q$271:$Q$320),\"\")","v":"10,6 Inhalt1Einh[10,6]"},{"$f":"IF($A71<=Daten!$B$8,LOOKUP($B71,Daten!$A$322:$A$371,Daten!$B$322:$C$371),\"\")","v":{"$error":"#N/A"}},{"$f":"IF($A71<=Daten!$B$8,LOOKUP($B71,Daten!$A$322:$A$371,Daten!$P$322:$P$371),\"\") & \" \" & IF($A71<=Daten!$B$8,LOOKUP($B71,Daten!$A$322:$A$371,Daten!$Q$322:$Q$371),\"\")","v":"10,7 Inhalt1Einh[10,7]"}]
[null,null,null,{"$f":"IF($A71<=Daten!$B$8,LOOKUP($B71,Daten!$A$16:$A$65,Daten!$R$16:$R$65),\"\") & \" \" & IF($A71<=Daten!$B$8,LOOKUP($B71,Daten!$A$16:$A$65,Daten!$S$16:$S$65),\"\")","v":"10,1 Inhalt2Einh[10,1]"},null,{"$f":"IF($A71<=Daten!$B$8,LOOKUP($B71,Daten!$A$67:$A$116,Daten!$R$67:$R$116),\"\") & \" \" & IF($A71<=Daten!$B$8,LOOKUP($B71,Daten!$A$67:$A$116,Daten!$S$67:$S$116),\"\")","v":"10,2 Inhalt2Einh[10,2]"},null,{"$f":"IF($A71<=Daten!$B$8,LOOKUP($B71,Daten!$A$118:$A$167,Daten!$R$118:$R$167),\"\") & \" \" & IF($A71<=Daten!$B$8,LOOKUP($B71,Daten!$A$118:$A$167,Daten!$S$118:$S$167),\"\")","v":"10,3 Inhalt2Einh[10,3]"},null,{"$f":"IF($A71<=Daten!$B$8,LOOKUP($B71,Daten!$A$169:$A$218,Daten!$R$169:$R$218),\"\") & \" \" & IF($A71<=Daten!$B$8,LOOKUP($B71,Daten!$A$169:$A$218,Daten!$S$169:$S$218),\"\")","v":"10,4 Inhalt2Einh[10,4]"},null,{"$f":"IF($A71<=Daten!$B$8,LOOKUP($B71,Daten!$A$220:$A$269,Daten!$R$220:$R$269),\"\") & \" \" & IF($A71<=Daten!$B$8,LOOKUP($B71,Daten!$A$220:$A$269,Daten!$S$220:$S$269),\"\")","v":"10,5 Inhalt2Einh[10,5]"},null,{"$f":"IF($A71<=Daten!$B$8,LOOKUP($B71,Daten!$A$271:$A$320,Daten!$R$271:$R$320),\"\") & \" \" & IF($A71<=Daten!$B$8,LOOKUP($B71,Daten!$A$271:$A$320,Daten!$S$271:$S$320),\"\")","v":"10,6 Inhalt2Einh[10,6]"},null,{"$f":"IF($A71<=Daten!$B$8,LOOKUP($B71,Daten!$A$322:$A$371,Daten!$R$322:$R$371),\"\") & \" \" & IF($A71<=Daten!$B$8,LOOKUP($B71,Daten!$A$322:$A$371,Daten!$S$322:$S$371),\"\")","v":"10,7 Inhalt2Einh[10,7]"}]
[null,null,null,{"$f":"IF($A71<=Daten!$B$8,LOOKUP($B71,Daten!$A$16:$A$65,Daten!$T$16:$T$65),\"\") & \" \" & IF($A71<=Daten!$B$8,LOOKUP($B71,Daten!$A$16:$A$65,Daten!$U$16:$U$65),\"\")","v":"10,1 Inhalt3Einh[10,1]"},null,{"$f":"IF($A71<=Daten!$B$8,LOOKUP($B71,Daten!$A$67:$A$116,Daten!$T$67:$T$116),\"\") & \" \" & IF($A71<=Daten!$B$8,LOOKUP($B71,Daten!$A$67:$A$116,Daten!$U$67:$U$116),\"\")","v":"10,2 Inhalt3Einh[10,2]"},null,{"$f":"IF($A71<=Daten!$B$8,LOOKUP($B71,Daten!$A$118:$A$167,Daten!$T$118:$T$167),\"\") & \" \" & IF($A71<=Daten!$B$8,LOOKUP($B71,Daten!$A$118:$A$167,Daten!$U$118:$U$167),\"\")","v":"10,3 Inhalt3Einh[10,3]"},null,{"$f":"IF($A71<=Daten!$B$8,LOOKUP($B71,Daten!$A$169:$A$218,Daten!$T$169:$T$218),\"\") & \" \" & IF($A71<=Daten!$B$8,LOOKUP($B71,Daten!$A$169:$A$218,Daten!$U$169:$U$218),\"\")","v":"10,4 Inhalt3Einh[10,4]"},null,{"$f":"IF($A71<=Daten!$B$8,LOOKUP($B71,Daten!$A$220:$A$269,Daten!$T$220:$T$269),\"\") & \" \" & IF($A71<=Daten!$B$8,LOOKUP($B71,Daten!$A$220:$A$269,Daten!$U$220:$U$269),\"\")","v":"10,5 Inhalt3Einh[10,5]"},null,{"$f":"IF($A71<=Daten!$B$8,LOOKUP($B71,Daten!$A$271:$A$320,Daten!$T$271:$T$320),\"\") & \" \" & IF($A71<=Daten!$B$8,LOOKUP($B71,Daten!$A$271:$A$320,Daten!$U$271:$U$320),\"\")","v":"10,6 Inhalt3Einh[10,6]"},null,{"$f":"IF($A71<=Daten!$B$8,LOOKUP($B71,Daten!$A$322:$A$371,Daten!$T$322:$T$371),\"\") & \" \" & IF($A71<=Daten!$B$8,LOOKUP($B71,Daten!$A$322:$A$371,Daten!$U$322:$U$371),\"\")","v":"10,7 Inhalt3Einh[10,7]"}]
[null,null,null,{"$f":"IF($A71<=Daten!$B$8,LOOKUP($B71,Daten!$A$16:$A$65,Daten!$V$16:$V$65),\"\") & \" \" & IF($A71<=Daten!$B$8,LOOKUP($B71,Daten!$A$16:$A$65,Daten!$W$16:$W$65),\"\")","v":"10,1 Inhalt4Einh[10,1]"},null,{"$f":"IF($A71<=Daten!$B$8,LOOKUP($B71,Daten!$A$67:$A$116,Daten!$V$67:$V$116),\"\") & \" \" & IF($A71<=Daten!$B$8,LOOKUP($B71,Daten!$A$67:$A$116,Daten!$W$67:$W$116),\"\")","v":"10,2 Inhalt4Einh[10,2]"},null,{"$f":"IF($A71<=Daten!$B$8,LOOKUP($B71,Daten!$A$118:$A$167,Daten!$V$118:$V$167),\"\") & \" \" & IF($A71<=Daten!$B$8,LOOKUP($B71,Daten!$A$118:$A$167,Daten!$W$118:$W$167),\"\")","v":"10,3 Inhalt4Einh[10,3]"},null,{"$f":"IF($A71<=Daten!$B$8,LOOKUP($B71,Daten!$A$169:$A$218,Daten!$V$169:$V$218),\"\") & \" \" & IF($A71<=Daten!$B$8,LOOKUP($B71,Daten!$A$169:$A$218,Daten!$W$169:$W$218),\"\")","v":"10,4 Inhalt4Einh[10,4]"},null,{"$f":"IF($A71<=Daten!$B$8,LOOKUP($B71,Daten!$A$220:$A$269,Daten!$V$220:$V$269),\"\") & \" \" & IF($A71<=Daten!$B$8,LOOKUP($B71,Daten!$A$220:$A$269,Daten!$W$220:$W$269),\"\")","v":"10,5 Inhalt4Einh[10,5]"},null,{"$f":"IF($A71<=Daten!$B$8,LOOKUP($B71,Daten!$A$271:$A$320,Daten!$V$271:$V$320),\"\") & \" \" & IF($A71<=Daten!$B$8,LOOKUP($B71,Daten!$A$271:$A$320,Daten!$W$271:$W$320),\"\")","v":"10,6 Inhalt4Einh[10,6]"},null,{"$f":"IF($A71<=Daten!$B$8,LOOKUP($B71,Daten!$A$322:$A$371,Daten!$V$322:$V$371),\"\") & \" \" & IF($A71<=Daten!$B$8,LOOKUP($B71,Daten!$A$322:$A$371,Daten!$W$322:$W$371),\"\")","v":"10,7 Inhalt4Einh[10,7]"}]
[null,null,null,{"$f":"IF($A71<=Daten!$B$8,LOOKUP($B71,Daten!$A$16:$A$65,Daten!$X$16:$X$65),\"\") & \" \" & IF($A71<=Daten!$B$8,LOOKUP($B71,Daten!$A$16:$A$65,Daten!$Y$16:$Y$65),\"\")","v":"10,1 Inhalt5Einh[10,1]"},null,{"$f":"IF($A71<=Daten!$B$8,LOOKUP($B71,Daten!$A$67:$A$116,Daten!$X$67:$X$116),\"\") & \" \" & IF($A71<=Daten!$B$8,LOOKUP($B71,Daten!$A$67:$A$116,Daten!$Y$67:$Y$116),\"\")","v":"10,2 Inhalt5Einh[10,2]"},null,{"$f":"IF($A71<=Daten!$B$8,LOOKUP($B71,Daten!$A$118:$A$167,Daten!$X$118:$X$167),\"\") & \" \" & IF($A71<=Daten!$B$8,LOOKUP($B71,Daten!$A$118:$A$167,Daten!$Y$118:$Y$167),\"\")","v":"10,3 Inhalt5Einh[10,3]"},null,{"$f":"IF($A71<=Daten!$B$8,LOOKUP($B71,Daten!$A$169:$A$218,Daten!$X$169:$X$218),\"\") & \" \" & IF($A71<=Daten!$B$8,LOOKUP($B71,Daten!$A$169:$A$218,Daten!$Y$169:$Y$218),\"\")","v":"10,4 Inhalt5Einh[10,4]"},null,{"$f":"IF($A71<=Daten!$B$8,LOOKUP($B71,Daten!$A$220:$A$269,Daten!$X$220:$X$269),\"\") & \" \" & IF($A71<=Daten!$B$8,LOOKUP($B71,Daten!$A$220:$A$269,Daten!$Y$220:$Y$269),\"\")","v":"10,5 Inhalt5Einh[10,5]"},null,{"$f":"IF($A71<=Daten!$B$8,LOOKUP($B71,Daten!$A$271:$A$320,Daten!$X$271:$X$320),\"\") & \" \" & IF($A71<=Daten!$B$8,LOOKUP($B71,Daten!$A$271:$A$320,Daten!$Y$271:$Y$320),\"\")","v":"10,6 Inhalt5Einh[10,6]"},null,{"$f":"IF($A71<=Daten!$B$8,LOOKUP($B71,Daten!$A$322:$A$371,Daten!$X$322:$X$371),\"\") & \" \" & IF($A71<=Daten!$B$8,LOOKUP($B71,Daten!$A$322:$A$371,Daten!$Y$322:$Y$371),\"\")","v":"10,7 Inhalt5Einh[10,7]"}]
[null,null,null,{"$f":"IF($A71<=Daten!$B$8,LOOKUP($B71,Daten!$A$16:$A$65,Daten!$Z$16:$Z$65),\"\") & \" \" & IF($A71<=Daten!$B$8,LOOKUP($B71,Daten!$A$16:$A$65,Daten!$AA$16:$AA$65),\"\")","v":"10,1 Inhalt6Einh[10,1]"},null,{"$f":"IF($A71<=Daten!$B$8,LOOKUP($B71,Daten!$A$67:$A$116,Daten!$Z$67:$Z$116),\"\") & \" \" & IF($A71<=Daten!$B$8,LOOKUP($B71,Daten!$A$67:$A$116,Daten!$AA$67:$AA$116),\"\")","v":"10,2 Inhalt6Einh[10,2]"},null,{"$f":"IF($A71<=Daten!$B$8,LOOKUP($B71,Daten!$A$118:$A$167,Daten!$Z$118:$Z$167),\"\") & \" \" & IF($A71<=Daten!$B$8,LOOKUP($B71,Daten!$A$118:$A$167,Daten!$AA$118:$AA$167),\"\")","v":"10,3 Inhalt6Einh[10,3]"},null,{"$f":"IF($A71<=Daten!$B$8,LOOKUP($B71,Daten!$A$169:$A$218,Daten!$Z$169:$Z$218),\"\") & \" \" & IF($A71<=Daten!$B$8,LOOKUP($B71,Daten!$A$169:$A$218,Daten!$AA$169:$AA$218),\"\")","v":"10,4 Inhalt6Einh[10,4]"},null,{"$f":"IF($A71<=Daten!$B$8,LOOKUP($B71,Daten!$A$220:$A$269,Daten!$Z$220:$Z$269),\"\") & \" \" & IF($A71<=Daten!$B$8,LOOKUP($B71,Daten!$A$220:$A$269,Daten!$AA$220:$AA$269),\"\")","v":"10,5 Inhalt6Einh[10,5]"},null,{"$f":"IF($A71<=Daten!$B$8,LOOKUP($B71,Daten!$A$271:$A$320,Daten!$Z$271:$Z$320),\"\") & \" \" & IF($A71<=Daten!$B$8,LOOKUP($B71,Daten!$A$271:$A$320,Daten!$AA$271:$AA$320),\"\")","v":"10,6 Inhalt6Einh[10,6]"},null,{"$f":"IF($A71<=Daten!$B$8,LOOKUP($B71,Daten!$A$322:$A$371,Daten!$Z$322:$Z$371),\"\") & \" \" & IF($A71<=Daten!$B$8,LOOKUP($B71,Daten!$A$322:$A$371,Daten!$AA$322:$AA$371),\"\")","v":"10,7 Inhalt6Einh[10,7]"}]
[null,{"$f":"IF(A71<=Daten!$B$8,\"Zusatzstoffe\",\"\")","v":"Zusatzstoffe"},{"$f":"IF($A71<=Daten!$B$8,LOOKUP($B71,Daten!$A$16:$A$65,Daten!$L$16:$L$65),\"\")","v":10.1},{"$f":"IF($A71<=Daten!$B$8,LOOKUP($B71,Daten!$A$16:$A$65,Daten!$D$16:$D$65),\"\")","v":10.1},{"$f":"IF($A71<=Daten!$B$8,LOOKUP($B71,Daten!$A$67:$A$116,Daten!$L$67:$L$116),\"\")","v":10.199999999999999},{"$f":"IF($A71<=Daten!$B$8,LOOKUP($B71,Daten!$A$16:$A$65,Daten!$D$67:$D$116),\"\")","v":10.199999999999999},{"$f":"IF($A71<=Daten!$B$8,LOOKUP($B71,Daten!$A$118:$A$167,Daten!$L$118:$L$167),\"\")","v":10.3},{"$f":"IF($A71<=Daten!$B$8,LOOKUP($B71,Daten!$A$118:$A$167,Daten!$D$118:$D$167),\"\")","v":10.3},{"$f":"IF($A71<=Daten!$B$8,LOOKUP($B71,Daten!$A$169:$A$218,Daten!$L$169:$L$218),\"\")","v":10.4},{"$f":"IF($A71<=Daten!$B$8,LOOKUP($B71,Daten!$A$169:$A$218,Daten!$D$169:$D$218),\"\")","v":10.4},{"$f":"IF($A71<=Daten!$B$8,LOOKUP($B71,Daten!$A$220:$A$269,Daten!$L$220:$L$269),\"\")","v":10.5},{"$f":"IF($A71<=Daten!$B$8,LOOKUP($B71,Daten!$A$220:$A$269,Daten!$D$220:$D$269),\"\")","v":10.5},{"$f":"IF($A71<=Daten!$B$8,LOOKUP($B71,Daten!$A$271:$A$320,Daten!$L$271:$L$320),\"\")","v":10.6},{"$f":"IF($A71<=Daten!$B$8,LOOKUP($B71,Daten!$A$271:$A$320,Daten!$D$271:$D$320),\"\")","v":10.6},{"$f":"IF($A71<=Daten!$B$8,LOOKUP($B71,Daten!$A$322:$A$371,Daten!$L$322:$L$371),\"\")","v":10.7},{"$f":"IF($A71<=Daten!$B$8,LOOKUP($B71,Daten!$A$322:$A$371,Daten!$D$322:$D$371),\"\")","v":10.7}]
[11,{"$f":"IF(A78<=Daten!$B$8,Daten!L9,\"\")","v":"Menülinie 11"},{"$f":"IF($A78<=Daten!$B$8,LOOKUP($B78,Daten!$A$16:$A$65,Daten!$C$16:$C$65),\"\")","v":"Lang[11,1]"},{"$f":"IF($A78<=Daten!$B$8,LOOKUP($B78,Daten!$A$16:$A$65,Daten!$P$16:$P$65),\"\") & \" \" & IF($A78<=Daten!$B$8,LOOKUP($B78,Daten!$A$16:$A$65,Daten!$Q$16:$Q$65),\"\")","v":"11,1 Inhalt1Einh[11,1]"},{"$f":"IF($A78<=Daten!$B$8,LOOKUP($B78,Daten!$A$67:$A$116,Daten!$C$67:$C$116),\"\")","v":"Lang[11,2]"},{"$f":"IF($A78<=Daten!$B$8,LOOKUP($B78,Daten!$A$67:$A$116,Daten!$P$67:$P$116),\"\") & \" \" & IF($A78<=Daten!$B$8,LOOKUP($B78,Daten!$A$67:$A$116,Daten!$Q$67:$Q$116),\"\")","v":"11,2 Inhalt1Einh[11,2]"},{"$f":"IF($A78<=Daten!$B$8,LOOKUP($B78,Daten!$A$118:$A$167,Daten!$C$118:$C$167),\"\")","v":"Lang[11,3]"},{"$f":"IF($A78<=Daten!$B$8,LOOKUP($B78,Daten!$A$118:$A$167,Daten!$P$118:$P$167),\"\") & \" \" & IF($A78<=Daten!$B$8,LOOKUP($B78,Daten!$A$118:$A$167,Daten!$Q$118:$Q$167),\"\")","v":"11,3 Inhalt1Einh[11,3]"},{"$f":"IF($A78<=Daten!$B$8,LOOKUP($B78,Daten!$A$169:$A$218,Daten!$C$169:$C$218),\"\")","v":"Lang[11,4]"},{"$f":"IF($A78<=Daten!$B$8,LOOKUP($B78,Daten!$A$169:$A$218,Daten!$P$169:$P$218),\"\") & \" \" & IF($A78<=Daten!$B$8,LOOKUP($B78,Daten!$A$169:$A$218,Daten!$Q$169:$Q$218),\"\")","v":"11,4 Inhalt1Einh[11,4]"},{"$f":"IF($A78<=Daten!$B$8,LOOKUP($B78,Daten!$A$220:$A$269,Daten!$C$220:$C$269),\"\")","v":"Lang[11,5]"},{"$f":"IF($A78<=Daten!$B$8,LOOKUP($B78,Daten!$A$220:$A$269,Daten!$P$220:$P$269),\"\") & \" \" & IF($A78<=Daten!$B$8,LOOKUP($B78,Daten!$A$220:$A$269,Daten!$Q$220:$Q$269),\"\")","v":"11,5 Inhalt1Einh[11,5]"},{"$f":"IF($A78<=Daten!$B$8,LOOKUP($B78,Daten!$A$271:$A$320,Daten!$C$271:$C$320),\"\")","v":"Lang[11,6]"},{"$f":"IF($A78<=Daten!$B$8,LOOKUP($B78,Daten!$A$271:$A$320,Daten!$P$271:$P$320),\"\") & \" \" & IF($A78<=Daten!$B$8,LOOKUP($B78,Daten!$A$271:$A$320,Daten!$Q$271:$Q$320),\"\")","v":"11,6 Inhalt1Einh[11,6]"},{"$f":"IF($A78<=Daten!$B$8,LOOKUP($B78,Daten!$A$322:$A$371,Daten!$B$322:$C$371),\"\")","v":{"$error":"#N/A"}},{"$f":"IF($A78<=Daten!$B$8,LOOKUP($B78,Daten!$A$322:$A$371,Daten!$P$322:$P$371),\"\") & \" \" & IF($A78<=Daten!$B$8,LOOKUP($B78,Daten!$A$322:$A$371,Daten!$Q$322:$Q$371),\"\")","v":"11,7 Inhalt1Einh[11,7]"}]
[null,null,null,{"$f":"IF($A78<=Daten!$B$8,LOOKUP($B78,Daten!$A$16:$A$65,Daten!$R$16:$R$65),\"\") & \" \" & IF($A78<=Daten!$B$8,LOOKUP($B78,Daten!$A$16:$A$65,Daten!$S$16:$S$65),\"\")","v":"11,1 Inhalt2Einh[11,1]"},null,{"$f":"IF($A78<=Daten!$B$8,LOOKUP($B78,Daten!$A$67:$A$116,Daten!$R$67:$R$116),\"\") & \" \" & IF($A78<=Daten!$B$8,LOOKUP($B78,Daten!$A$67:$A$116,Daten!$S$67:$S$116),\"\")","v":"11,2 Inhalt2Einh[11,2]"},null,{"$f":"IF($A78<=Daten!$B$8,LOOKUP($B78,Daten!$A$118:$A$167,Daten!$R$118:$R$167),\"\") & \" \" & IF($A78<=Daten!$B$8,LOOKUP($B78,Daten!$A$118:$A$167,Daten!$S$118:$S$167),\"\")","v":"11,3 Inhalt2Einh[11,3]"},null,{"$f":"IF($A78<=Daten!$B$8,LOOKUP($B78,Daten!$A$169:$A$218,Daten!$R$169:$R$218),\"\") & \" \" & IF($A78<=Daten!$B$8,LOOKUP($B78,Daten!$A$169:$A$218,Daten!$S$169:$S$218),\"\")","v":"11,4 Inhalt2Einh[11,4]"},null,{"$f":"IF($A78<=Daten!$B$8,LOOKUP($B78,Daten!$A$220:$A$269,Daten!$R$220:$R$269),\"\") & \" \" & IF($A78<=Daten!$B$8,LOOKUP($B78,Daten!$A$220:$A$269,Daten!$S$220:$S$269),\"\")","v":"11,5 Inhalt2Einh[11,5]"},null,{"$f":"IF($A78<=Daten!$B$8,LOOKUP($B78,Daten!$A$271:$A$320,Daten!$R$271:$R$320),\"\") & \" \" & IF($A78<=Daten!$B$8,LOOKUP($B78,Daten!$A$271:$A$320,Daten!$S$271:$S$320),\"\")","v":"11,6 Inhalt2Einh[11,6]"},null,{"$f":"IF($A78<=Daten!$B$8,LOOKUP($B78,Daten!$A$322:$A$371,Daten!$R$322:$R$371),\"\") & \" \" & IF($A78<=Daten!$B$8,LOOKUP($B78,Daten!$A$322:$A$371,Daten!$S$322:$S$371),\"\")","v":"11,7 Inhalt2Einh[11,7]"}]
[null,null,null,{"$f":"IF($A78<=Daten!$B$8,LOOKUP($B78,Daten!$A$16:$A$65,Daten!$T$16:$T$65),\"\") & \" \" & IF($A78<=Daten!$B$8,LOOKUP($B78,Daten!$A$16:$A$65,Daten!$U$16:$U$65),\"\")","v":"11,1 Inhalt3Einh[11,1]"},null,{"$f":"IF($A78<=Daten!$B$8,LOOKUP($B78,Daten!$A$67:$A$116,Daten!$T$67:$T$116),\"\") & \" \" & IF($A78<=Daten!$B$8,LOOKUP($B78,Daten!$A$67:$A$116,Daten!$U$67:$U$116),\"\")","v":"11,2 Inhalt3Einh[11,2]"},null,{"$f":"IF($A78<=Daten!$B$8,LOOKUP($B78,Daten!$A$118:$A$167,Daten!$T$118:$T$167),\"\") & \" \" & IF($A78<=Daten!$B$8,LOOKUP($B78,Daten!$A$118:$A$167,Daten!$U$118:$U$167),\"\")","v":"11,3 Inhalt3Einh[11,3]"},null,{"$f":"IF($A78<=Daten!$B$8,LOOKUP($B78,Daten!$A$169:$A$218,Daten!$T$169:$T$218),\"\") & \" \" & IF($A78<=Daten!$B$8,LOOKUP($B78,Daten!$A$169:$A$218,Daten!$U$169:$U$218),\"\")","v":"11,4 Inhalt3Einh[11,4]"},null,{"$f":"IF($A78<=Daten!$B$8,LOOKUP($B78,Daten!$A$220:$A$269,Daten!$T$220:$T$269),\"\") & \" \" & IF($A78<=Daten!$B$8,LOOKUP($B78,Daten!$A$220:$A$269,Daten!$U$220:$U$269),\"\")","v":"11,5 Inhalt3Einh[11,5]"},null,{"$f":"IF($A78<=Daten!$B$8,LOOKUP($B78,Daten!$A$271:$A$320,Daten!$T$271:$T$320),\"\") & \" \" & IF($A78<=Daten!$B$8,LOOKUP($B78,Daten!$A$271:$A$320,Daten!$U$271:$U$320),\"\")","v":"11,6 Inhalt3Einh[11,6]"},null,{"$f":"IF($A78<=Daten!$B$8,LOOKUP($B78,Daten!$A$322:$A$371,Daten!$T$322:$T$371),\"\") & \" \" & IF($A78<=Daten!$B$8,LOOKUP($B78,Daten!$A$322:$A$371,Daten!$U$322:$U$371),\"\")","v":"11,7 Inhalt3Einh[11,7]"}]
[null,null,null,{"$f":"IF($A78<=Daten!$B$8,LOOKUP($B78,Daten!$A$16:$A$65,Daten!$V$16:$V$65),\"\") & \" \" & IF($A78<=Daten!$B$8,LOOKUP($B78,Daten!$A$16:$A$65,Daten!$W$16:$W$65),\"\")","v":"11,1 Inhalt4Einh[11,1]"},null,{"$f":"IF($A78<=Daten!$B$8,LOOKUP($B78,Daten!$A$67:$A$116,Daten!$V$67:$V$116),\"\") & \" \" & IF($A78<=Daten!$B$8,LOOKUP($B78,Daten!$A$67:$A$116,Daten!$W$67:$W$116),\"\")","v":"11,2 Inhalt4Einh[11,2]"},null,{"$f":"IF($A78<=Daten!$B$8,LOOKUP($B78,Daten!$A$118:$A$167,Daten!$V$118:$V$167),\"\") & \" \" & IF($A78<=Daten!$B$8,LOOKUP($B78,Daten!$A$118:$A$167,Daten!$W$118:$W$167),\"\")","v":"11,3 Inhalt4Einh[11,3]"},null,{"$f":"IF($A78<=Daten!$B$8,LOOKUP($B78,Daten!$A$169:$A$218,Daten!$V$169:$V$218),\"\") & \" \" & IF($A78<=Daten!$B$8,LOOKUP($B78,Daten!$A$169:$A$218,Daten!$W$169:$W$218),\"\")","v":"11,4 Inhalt4Einh[11,4]"},null,{"$f":"IF($A78<=Daten!$B$8,LOOKUP($B78,Daten!$A$220:$A$269,Daten!$V$220:$V$269),\"\") & \" \" & IF($A78<=Daten!$B$8,LOOKUP($B78,Daten!$A$220:$A$269,Daten!$W$220:$W$269),\"\")","v":"11,5 Inhalt4Einh[11,5]"},null,{"$f":"IF($A78<=Daten!$B$8,LOOKUP($B78,Daten!$A$271:$A$320,Daten!$V$271:$V$320),\"\") & \" \" & IF($A78<=Daten!$B$8,LOOKUP($B78,Daten!$A$271:$A$320,Daten!$W$271:$W$320),\"\")","v":"11,6 Inhalt4Einh[11,6]"},null,{"$f":"IF($A78<=Daten!$B$8,LOOKUP($B78,Daten!$A$322:$A$371,Daten!$V$322:$V$371),\"\") & \" \" & IF($A78<=Daten!$B$8,LOOKUP($B78,Daten!$A$322:$A$371,Daten!$W$322:$W$371),\"\")","v":"11,7 Inhalt4Einh[11,7]"}]
[null,null,null,{"$f":"IF($A78<=Daten!$B$8,LOOKUP($B78,Daten!$A$16:$A$65,Daten!$X$16:$X$65),\"\") & \" \" & IF($A78<=Daten!$B$8,LOOKUP($B78,Daten!$A$16:$A$65,Daten!$Y$16:$Y$65),\"\")","v":"11,1 Inhalt5Einh[11,1]"},null,{"$f":"IF($A78<=Daten!$B$8,LOOKUP($B78,Daten!$A$67:$A$116,Daten!$X$67:$X$116),\"\") & \" \" & IF($A78<=Daten!$B$8,LOOKUP($B78,Daten!$A$67:$A$116,Daten!$Y$67:$Y$116),\"\")","v":"11,2 Inhalt5Einh[11,2]"},null,{"$f":"IF($A78<=Daten!$B$8,LOOKUP($B78,Daten!$A$118:$A$167,Daten!$X$118:$X$167),\"\") & \" \" & IF($A78<=Daten!$B$8,LOOKUP($B78,Daten!$A$118:$A$167,Daten!$Y$118:$Y$167),\"\")","v":"11,3 Inhalt5Einh[11,3]"},null,{"$f":"IF($A78<=Daten!$B$8,LOOKUP($B78,Daten!$A$169:$A$218,Daten!$X$169:$X$218),\"\") & \" \" & IF($A78<=Daten!$B$8,LOOKUP($B78,Daten!$A$169:$A$218,Daten!$Y$169:$Y$218),\"\")","v":"11,4 Inhalt5Einh[11,4]"},null,{"$f":"IF($A78<=Daten!$B$8,LOOKUP($B78,Daten!$A$220:$A$269,Daten!$X$220:$X$269),\"\") & \" \" & IF($A78<=Daten!$B$8,LOOKUP($B78,Daten!$A$220:$A$269,Daten!$Y$220:$Y$269),\"\")","v":"11,5 Inhalt5Einh[11,5]"},null,{"$f":"IF($A78<=Daten!$B$8,LOOKUP($B78,Daten!$A$271:$A$320,Daten!$X$271:$X$320),\"\") & \" \" & IF($A78<=Daten!$B$8,LOOKUP($B78,Daten!$A$271:$A$320,Daten!$Y$271:$Y$320),\"\")","v":"11,6 Inhalt5Einh[11,6]"},null,{"$f":"IF($A78<=Daten!$B$8,LOOKUP($B78,Daten!$A$322:$A$371,Daten!$X$322:$X$371),\"\") & \" \" & IF($A78<=Daten!$B$8,LOOKUP($B78,Daten!$A$322:$A$371,Daten!$Y$322:$Y$371),\"\")","v":"11,7 Inhalt5Einh[11,7]"}]
[null,null,null,{"$f":"IF($A78<=Daten!$B$8,LOOKUP($B78,Daten!$A$16:$A$65,Daten!$Z$16:$Z$65),\"\") & \" \" & IF($A78<=Daten!$B$8,LOOKUP($B78,Daten!$A$16:$A$65,Daten!$AA$16:$AA$65),\"\")","v":"11,1 Inhalt6Einh[11,1]"},null,{"$f":"IF($A78<=Daten!$B$8,LOOKUP($B78,Daten!$A$67:$A$116,Daten!$Z$67:$Z$116),\"\") & \" \" & IF($A78<=Daten!$B$8,LOOKUP($B78,Daten!$A$67:$A$116,Daten!$AA$67:$AA$116),\"\")","v":"11,2 Inhalt6Einh[11,2]"},null,{"$f":"IF($A78<=Daten!$B$8,LOOKUP($B78,Daten!$A$118:$A$167,Daten!$Z$118:$Z$167),\"\") & \" \" & IF($A78<=Daten!$B$8,LOOKUP($B78,Daten!$A$118:$A$167,Daten!$AA$118:$AA$167),\"\")","v":"11,3 Inhalt6Einh[11,3]"},null,{"$f":"IF($A78<=Daten!$B$8,LOOKUP($B78,Daten!$A$169:$A$218,Daten!$Z$169:$Z$218),\"\") & \" \" & IF($A78<=Daten!$B$8,LOOKUP($B78,Daten!$A$169:$A$218,Daten!$AA$169:$AA$218),\"\")","v":"11,4 Inhalt6Einh[11,4]"},null,{"$f":"IF($A78<=Daten!$B$8,LOOKUP($B78,Daten!$A$220:$A$269,Daten!$Z$220:$Z$269),\"\") & \" \" & IF($A78<=Daten!$B$8,LOOKUP($B78,Daten!$A$220:$A$269,Daten!$AA$220:$AA$269),\"\")","v":"11,5 Inhalt6Einh[11,5]"},null,{"$f":"IF($A78<=Daten!$B$8,LOOKUP($B78,Daten!$A$271:$A$320,Daten!$Z$271:$Z$320),\"\") & \" \" & IF($A78<=Daten!$B$8,LOOKUP($B78,Daten!$A$271:$A$320,Daten!$AA$271:$AA$320),\"\")","v":"11,6 Inhalt6Einh[11,6]"},null,{"$f":"IF($A78<=Daten!$B$8,LOOKUP($B78,Daten!$A$322:$A$371,Daten!$Z$322:$Z$371),\"\") & \" \" & IF($A78<=Daten!$B$8,LOOKUP($B78,Daten!$A$322:$A$371,Daten!$AA$322:$AA$371),\"\")","v":"11,7 Inhalt6Einh[11,7]"}]
[null,{"$f":"IF(A78<=Daten!$B$8,\"Zusatzstoffe\",\"\")","v":"Zusatzstoffe"},{"$f":"IF($A78<=Daten!$B$8,LOOKUP($B78,Daten!$A$16:$A$65,Daten!$L$16:$L$65),\"\")","v":11.1},{"$f":"IF($A78<=Daten!$B$8,LOOKUP($B78,Daten!$A$16:$A$65,Daten!$D$16:$D$65),\"\")","v":11.1},{"$f":"IF($A78<=Daten!$B$8,LOOKUP($B78,Daten!$A$67:$A$116,Daten!$L$67:$L$116),\"\")","v":11.2},{"$f":"IF($A78<=Daten!$B$8,LOOKUP($B78,Daten!$A$16:$A$65,Daten!$D$67:$D$116),\"\")","v":11.2},{"$f":"IF($A78<=Daten!$B$8,LOOKUP($B78,Daten!$A$118:$A$167,Daten!$L$118:$L$167),\"\")","v":11.3},{"$f":"IF($A78<=Daten!$B$8,LOOKUP($B78,Daten!$A$118:$A$167,Daten!$D$118:$D$167),\"\")","v":11.3},{"$f":"IF($A78<=Daten!$B$8,LOOKUP($B78,Daten!$A$169:$A$218,Daten!$L$169:$L$218),\"\")","v":11.4},{"$f":"IF($A78<=Daten!$B$8,LOOKUP($B78,Daten!$A$169:$A$218,Daten!$D$169:$D$218),\"\")","v":11.4},{"$f":"IF($A78<=Daten!$B$8,LOOKUP($B78,Daten!$A$220:$A$269,Daten!$L$220:$L$269),\"\")","v":11.5},{"$f":"IF($A78<=Daten!$B$8,LOOKUP($B78,Daten!$A$220:$A$269,Daten!$D$220:$D$269),\"\")","v":11.5},{"$f":"IF($A78<=Daten!$B$8,LOOKUP($B78,Daten!$A$271:$A$320,Daten!$L$271:$L$320),\"\")","v":11.6},{"$f":"IF($A78<=Daten!$B$8,LOOKUP($B78,Daten!$A$271:$A$320,Daten!$D$271:$D$320),\"\")","v":11.6},{"$f":"IF($A78<=Daten!$B$8,LOOKUP($B78,Daten!$A$322:$A$371,Daten!$L$322:$L$371),\"\")","v":11.7},{"$f":"IF($A78<=Daten!$B$8,LOOKUP($B78,Daten!$A$322:$A$371,Daten!$D$322:$D$371),\"\")","v":11.7}]
[12,{"$f":"IF(A85<=Daten!$B$8,Daten!M9,\"\")","v":"Menülinie 12"},{"$f":"IF($A85<=Daten!$B$8,LOOKUP($B85,Daten!$A$16:$A$65,Daten!$C$16:$C$65),\"\")","v":"Lang[12,1]"},{"$f":"IF($A85<=Daten!$B$8,LOOKUP($B85,Daten!$A$16:$A$65,Daten!$P$16:$P$65),\"\") & \" \" & IF($A85<=Daten!$B$8,LOOKUP($B85,Daten!$A$16:$A$65,Daten!$Q$16:$Q$65),\"\")","v":"12,1 Inhalt1Einh[12,1]"},{"$f":"IF($A85<=Daten!$B$8,LOOKUP($B85,Daten!$A$67:$A$116,Daten!$C$67:$C$116),\"\")","v":"Lang[12,2]"},{"$f":"IF($A85<=Daten!$B$8,LOOKUP($B85,Daten!$A$67:$A$116,Daten!$P$67:$P$116),\"\") & \" \" & IF($A85<=Daten!$B$8,LOOKUP($B85,Daten!$A$67:$A$116,Daten!$Q$67:$Q$116),\"\")","v":"12,2 Inhalt1Einh[12,2]"},{"$f":"IF($A85<=Daten!$B$8,LOOKUP($B85,Daten!$A$118:$A$167,Daten!$C$118:$C$167),\"\")","v":"Lang[12,3]"},{"$f":"IF($A85<=Daten!$B$8,LOOKUP($B85,Daten!$A$118:$A$167,Daten!$P$118:$P$167),\"\") & \" \" & IF($A85<=Daten!$B$8,LOOKUP($B85,Daten!$A$118:$A$167,Daten!$Q$118:$Q$167),\"\")","v":"12,3 Inhalt1Einh[12,3]"},{"$f":"IF($A85<=Daten!$B$8,LOOKUP($B85,Daten!$A$169:$A$218,Daten!$C$169:$C$218),\"\")","v":"Lang[12,4]"},{"$f":"IF($A85<=Daten!$B$8,LOOKUP($B85,Daten!$A$169:$A$218,Daten!$P$169:$P$218),\"\") & \" \" & IF($A85<=Daten!$B$8,LOOKUP($B85,Daten!$A$169:$A$218,Daten!$Q$169:$Q$218),\"\")","v":"12,4 Inhalt1Einh[12,4]"},{"$f":"IF($A85<=Daten!$B$8,LOOKUP($B85,Daten!$A$220:$A$269,Daten!$C$220:$C$269),\"\")","v":"Lang[12,5]"},{"$f":"IF($A85<=Daten!$B$8,LOOKUP($B85,Daten!$A$220:$A$269,Daten!$P$220:$P$269),\"\") & \" \" & IF($A85<=Daten!$B$8,LOOKUP($B85,Daten!$A$220:$A$269,Daten!$Q$220:$Q$269),\"\")","v":"12,5 Inhalt1Einh[12,5]"},{"$f":"IF($A85<=Daten!$B$8,LOOKUP($B85,Daten!$A$271:$A$320,Daten!$C$271:$C$320),\"\")","v":"Lang[12,6]"},{"$f":"IF($A85<=Daten!$B$8,LOOKUP($B85,Daten!$A$271:$A$320,Daten!$P$271:$P$320),\"\") & \" \" & IF($A85<=Daten!$B$8,LOOKUP($B85,Daten!$A$271:$A$320,Daten!$Q$271:$Q$320),\"\")","v":"12,6 Inhalt1Einh[12,6]"},{"$f":"IF($A85<=Daten!$B$8,LOOKUP($B85,Daten!$A$322:$A$371,Daten!$B$322:$C$371),\"\")","v":{"$error":"#N/A"}},{"$f":"IF($A85<=Daten!$B$8,LOOKUP($B85,Daten!$A$322:$A$371,Daten!$P$322:$P$371),\"\") & \" \" & IF($A85<=Daten!$B$8,LOOKUP($B85,Daten!$A$322:$A$371,Daten!$Q$322:$Q$371),\"\")","v":"12,7 Inhalt1Einh[12,7]"}]
[null,null,null,{"$f":"IF($A85<=Daten!$B$8,LOOKUP($B85,Daten!$A$16:$A$65,Daten!$R$16:$R$65),\"\") & \" \" & IF($A85<=Daten!$B$8,LOOKUP($B85,Daten!$A$16:$A$65,Daten!$S$16:$S$65),\"\")","v":"12,1 Inhalt2Einh[12,1]"},null,{"$f":"IF($A85<=Daten!$B$8,LOOKUP($B85,Daten!$A$67:$A$116,Daten!$R$67:$R$116),\"\") & \" \" & IF($A85<=Daten!$B$8,LOOKUP($B85,Daten!$A$67:$A$116,Daten!$S$67:$S$116),\"\")","v":"12,2 Inhalt2Einh[12,2]"},null,{"$f":"IF($A85<=Daten!$B$8,LOOKUP($B85,Daten!$A$118:$A$167,Daten!$R$118:$R$167),\"\") & \" \" & IF($A85<=Daten!$B$8,LOOKUP($B85,Daten!$A$118:$A$167,Daten!$S$118:$S$167),\"\")","v":"12,3 Inhalt2Einh[12,3]"},null,{"$f":"IF($A85<=Daten!$B$8,LOOKUP($B85,Daten!$A$169:$A$218,Daten!$R$169:$R$218),\"\") & \" \" & IF($A85<=Daten!$B$8,LOOKUP($B85,Daten!$A$169:$A$218,Daten!$S$169:$S$218),\"\")","v":"12,4 Inhalt2Einh[12,4]"},null,{"$f":"IF($A85<=Daten!$B$8,LOOKUP($B85,Daten!$A$220:$A$269,Daten!$R$220:$R$269),\"\") & \" \" & IF($A85<=Daten!$B$8,LOOKUP($B85,Daten!$A$220:$A$269,Daten!$S$220:$S$269),\"\")","v":"12,5 Inhalt2Einh[12,5]"},null,{"$f":"IF($A85<=Daten!$B$8,LOOKUP($B85,Daten!$A$271:$A$320,Daten!$R$271:$R$320),\"\") & \" \" & IF($A85<=Daten!$B$8,LOOKUP($B85,Daten!$A$271:$A$320,Daten!$S$271:$S$320),\"\")","v":"12,6 Inhalt2Einh[12,6]"},null,{"$f":"IF($A85<=Daten!$B$8,LOOKUP($B85,Daten!$A$322:$A$371,Daten!$R$322:$R$371),\"\") & \" \" & IF($A85<=Daten!$B$8,LOOKUP($B85,Daten!$A$322:$A$371,Daten!$S$322:$S$371),\"\")","v":"12,7 Inhalt2Einh[12,7]"}]
[null,null,null,{"$f":"IF($A85<=Daten!$B$8,LOOKUP($B85,Daten!$A$16:$A$65,Daten!$T$16:$T$65),\"\") & \" \" & IF($A85<=Daten!$B$8,LOOKUP($B85,Daten!$A$16:$A$65,Daten!$U$16:$U$65),\"\")","v":"12,1 Inhalt3Einh[12,1]"},null,{"$f":"IF($A85<=Daten!$B$8,LOOKUP($B85,Daten!$A$67:$A$116,Daten!$T$67:$T$116),\"\") & \" \" & IF($A85<=Daten!$B$8,LOOKUP($B85,Daten!$A$67:$A$116,Daten!$U$67:$U$116),\"\")","v":"12,2 Inhalt3Einh[12,2]"},null,{"$f":"IF($A85<=Daten!$B$8,LOOKUP($B85,Daten!$A$118:$A$167,Daten!$T$118:$T$167),\"\") & \" \" & IF($A85<=Daten!$B$8,LOOKUP($B85,Daten!$A$118:$A$167,Daten!$U$118:$U$167),\"\")","v":"12,3 Inhalt3Einh[12,3]"},null,{"$f":"IF($A85<=Daten!$B$8,LOOKUP($B85,Daten!$A$169:$A$218,Daten!$T$169:$T$218),\"\") & \" \" & IF($A85<=Daten!$B$8,LOOKUP($B85,Daten!$A$169:$A$218,Daten!$U$169:$U$218),\"\")","v":"12,4 Inhalt3Einh[12,4]"},null,{"$f":"IF($A85<=Daten!$B$8,LOOKUP($B85,Daten!$A$220:$A$269,Daten!$T$220:$T$269),\"\") & \" \" & IF($A85<=Daten!$B$8,LOOKUP($B85,Daten!$A$220:$A$269,Daten!$U$220:$U$269),\"\")","v":"12,5 Inhalt3Einh[12,5]"},null,{"$f":"IF($A85<=Daten!$B$8,LOOKUP($B85,Daten!$A$271:$A$320,Daten!$T$271:$T$320),\"\") & \" \" & IF($A85<=Daten!$B$8,LOOKUP($B85,Daten!$A$271:$A$320,Daten!$U$271:$U$320),\"\")","v":"12,6 Inhalt3Einh[12,6]"},null,{"$f":"IF($A85<=Daten!$B$8,LOOKUP($B85,Daten!$A$322:$A$371,Daten!$T$322:$T$371),\"\") & \" \" & IF($A85<=Daten!$B$8,LOOKUP($B85,Daten!$A$322:$A$371,Daten!$U$322:$U$371),\"\")","v":"12,7 Inhalt3Einh[12,7]"}]
[null,null,null,{"$f":"IF($A85<=Daten!$B$8,LOOKUP($B85,Daten!$A$16:$A$65,Daten!$V$16:$V$65),\"\") & \" \" & IF($A85<=Daten!$B$8,LOOKUP($B85,Daten!$A$16:$A$65,Daten!$W$16:$W$65),\"\")","v":"12,1 Inhalt4Einh[12,1]"},null,{"$f":"IF($A85<=Daten!$B$8,LOOKUP($B85,Daten!$A$67:$A$116,Daten!$V$67:$V$116),\"\") & \" \" & IF($A85<=Daten!$B$8,LOOKUP($B85,Daten!$A$67:$A$116,Daten!$W$67:$W$116),\"\")","v":"12,2 Inhalt4Einh[12,2]"},null,{"$f":"IF($A85<=Daten!$B$8,LOOKUP($B85,Daten!$A$118:$A$167,Daten!$V$118:$V$167),\"\") & \" \" & IF($A85<=Daten!$B$8,LOOKUP($B85,Daten!$A$118:$A$167,Daten!$W$118:$W$167),\"\")","v":"12,3 Inhalt4Einh[12,3]"},null,{"$f":"IF($A85<=Daten!$B$8,LOOKUP($B85,Daten!$A$169:$A$218,Daten!$V$169:$V$218),\"\") & \" \" & IF($A85<=Daten!$B$8,LOOKUP($B85,Daten!$A$169:$A$218,Daten!$W$169:$W$218),\"\")","v":"12,4 Inhalt4Einh[12,4]"},null,{"$f":"IF($A85<=Daten!$B$8,LOOKUP($B85,Daten!$A$220:$A$269,Daten!$V$220:$V$269),\"\") & \" \" & IF($A85<=Daten!$B$8,LOOKUP($B85,Daten!$A$220:$A$269,Daten!$W$220:$W$269),\"\")","v":"12,5 Inhalt4Einh[12,5]"},null,{"$f":"IF($A85<=Daten!$B$8,LOOKUP($B85,Daten!$A$271:$A$320,Daten!$V$271:$V$320),\"\") & \" \" & IF($A85<=Daten!$B$8,LOOKUP($B85,Daten!$A$271:$A$320,Daten!$W$271:$W$320),\"\")","v":"12,6 Inhalt4Einh[12,6]"},null,{"$f":"IF($A85<=Daten!$B$8,LOOKUP($B85,Daten!$A$322:$A$371,Daten!$V$322:$V$371),\"\") & \" \" & IF($A85<=Daten!$B$8,LOOKUP($B85,Daten!$A$322:$A$371,Daten!$W$322:$W$371),\"\")","v":"12,7 Inhalt4Einh[12,7]"}]
[null,null,null,{"$f":"IF($A85<=Daten!$B$8,LOOKUP($B85,Daten!$A$16:$A$65,Daten!$X$16:$X$65),\"\") & \" \" & IF($A85<=Daten!$B$8,LOOKUP($B85,Daten!$A$16:$A$65,Daten!$Y$16:$Y$65),\"\")","v":"12,1 Inhalt5Einh[12,1]"},null,{"$f":"IF($A85<=Daten!$B$8,LOOKUP($B85,Daten!$A$67:$A$116,Daten!$X$67:$X$116),\"\") & \" \" & IF($A85<=Daten!$B$8,LOOKUP($B85,Daten!$A$67:$A$116,Daten!$Y$67:$Y$116),\"\")","v":"12,2 Inhalt5Einh[12,2]"},null,{"$f":"IF($A85<=Daten!$B$8,LOOKUP($B85,Daten!$A$118:$A$167,Daten!$X$118:$X$167),\"\") & \" \" & IF($A85<=Daten!$B$8,LOOKUP($B85,Daten!$A$118:$A$167,Daten!$Y$118:$Y$167),\"\")","v":"12,3 Inhalt5Einh[12,3]"},null,{"$f":"IF($A85<=Daten!$B$8,LOOKUP($B85,Daten!$A$169:$A$218,Daten!$X$169:$X$218),\"\") & \" \" & IF($A85<=Daten!$B$8,LOOKUP($B85,Daten!$A$169:$A$218,Daten!$Y$169:$Y$218),\"\")","v":"12,4 Inhalt5Einh[12,4]"},null,{"$f":"IF($A85<=Daten!$B$8,LOOKUP($B85,Daten!$A$220:$A$269,Daten!$X$220:$X$269),\"\") & \" \" & IF($A85<=Daten!$B$8,LOOKUP($B85,Daten!$A$220:$A$269,Daten!$Y$220:$Y$269),\"\")","v":"12,5 Inhalt5Einh[12,5]"},null,{"$f":"IF($A85<=Daten!$B$8,LOOKUP($B85,Daten!$A$271:$A$320,Daten!$X$271:$X$320),\"\") & \" \" & IF($A85<=Daten!$B$8,LOOKUP($B85,Daten!$A$271:$A$320,Daten!$Y$271:$Y$320),\"\")","v":"12,6 Inhalt5Einh[12,6]"},null,{"$f":"IF($A85<=Daten!$B$8,LOOKUP($B85,Daten!$A$322:$A$371,Daten!$X$322:$X$371),\"\") & \" \" & IF($A85<=Daten!$B$8,LOOKUP($B85,Daten!$A$322:$A$371,Daten!$Y$322:$Y$371),\"\")","v":"12,7 Inhalt5Einh[12,7]"}]
[null,null,null,{"$f":"IF($A85<=Daten!$B$8,LOOKUP($B85,Daten!$A$16:$A$65,Daten!$Z$16:$Z$65),\"\") & \" \" & IF($A85<=Daten!$B$8,LOOKUP($B85,Daten!$A$16:$A$65,Daten!$AA$16:$AA$65),\"\")","v":"12,1 Inhalt6Einh[12,1]"},null,{"$f":"IF($A85<=Daten!$B$8,LOOKUP($B85,Daten!$A$67:$A$116,Daten!$Z$67:$Z$116),\"\") & \" \" & IF($A85<=Daten!$B$8,LOOKUP($B85,Daten!$A$67:$A$116,Daten!$AA$67:$AA$116),\"\")","v":"12,2 Inhalt6Einh[12,2]"},null,{"$f":"IF($A85<=Daten!$B$8,LOOKUP($B85,Daten!$A$118:$A$167,Daten!$Z$118:$Z$167),\"\") & \" \" & IF($A85<=Daten!$B$8,LOOKUP($B85,Daten!$A$118:$A$167,Daten!$AA$118:$AA$167),\"\")","v":"12,3 Inhalt6Einh[12,3]"},null,{"$f":"IF($A85<=Daten!$B$8,LOOKUP($B85,Daten!$A$169:$A$218,Daten!$Z$169:$Z$218),\"\") & \" \" & IF($A85<=Daten!$B$8,LOOKUP($B85,Daten!$A$169:$A$218,Daten!$AA$169:$AA$218),\"\")","v":"12,4 Inhalt6Einh[12,4]"},null,{"$f":"IF($A85<=Daten!$B$8,LOOKUP($B85,Daten!$A$220:$A$269,Daten!$Z$220:$Z$269),\"\") & \" \" & IF($A85<=Daten!$B$8,LOOKUP($B85,Daten!$A$220:$A$269,Daten!$AA$220:$AA$269),\"\")","v":"12,5 Inhalt6Einh[12,5]"},null,{"$f":"IF($A85<=Daten!$B$8,LOOKUP($B85,Daten!$A$271:$A$320,Daten!$Z$271:$Z$320),\"\") & \" \" & IF($A85<=Daten!$B$8,LOOKUP($B85,Daten!$A$271:$A$320,Daten!$AA$271:$AA$320),\"\")","v":"12,6 Inhalt6Einh[12,6]"},null,{"$f":"IF($A85<=Daten!$B$8,LOOKUP($B85,Daten!$A$322:$A$371,Daten!$Z$322:$Z$371),\"\") & \" \" & IF($A85<=Daten!$B$8,LOOKUP($B85,Daten!$A$322:$A$371,Daten!$AA$322:$AA$371),\"\")","v":"12,7 Inhalt6Einh[12,7]"}]
[null,{"$f":"IF(A85<=Daten!$B$8,\"Zusatzstoffe\",\"\")","v":"Zusatzstoffe"},{"$f":"IF($A85<=Daten!$B$8,LOOKUP($B85,Daten!$A$16:$A$65,Daten!$L$16:$L$65),\"\")","v":12.1},{"$f":"IF($A85<=Daten!$B$8,LOOKUP($B85,Daten!$A$16:$A$65,Daten!$D$16:$D$65),\"\")","v":12.1},{"$f":"IF($A85<=Daten!$B$8,LOOKUP($B85,Daten!$A$67:$A$116,Daten!$L$67:$L$116),\"\")","v":12.2},{"$f":"IF($A85<=Daten!$B$8,LOOKUP($B85,Daten!$A$16:$A$65,Daten!$D$67:$D$116),\"\")","v":12.2},{"$f":"IF($A85<=Daten!$B$8,LOOKUP($B85,Daten!$A$118:$A$167,Daten!$L$118:$L$167),\"\")","v":12.3},{"$f":"IF($A85<=Daten!$B$8,LOOKUP($B85,Daten!$A$118:$A$167,Daten!$D$118:$D$167),\"\")","v":12.3},{"$f":"IF($A85<=Daten!$B$8,LOOKUP($B85,Daten!$A$169:$A$218,Daten!$L$169:$L$218),\"\")","v":12.4},{"$f":"IF($A85<=Daten!$B$8,LOOKUP($B85,Daten!$A$169:$A$218,Daten!$D$169:$D$218),\"\")","v":12.4},{"$f":"IF($A85<=Daten!$B$8,LOOKUP($B85,Daten!$A$220:$A$269,Daten!$L$220:$L$269),\"\")","v":12.5},{"$f":"IF($A85<=Daten!$B$8,LOOKUP($B85,Daten!$A$220:$A$269,Daten!$D$220:$D$269),\"\")","v":12.5},{"$f":"IF($A85<=Daten!$B$8,LOOKUP($B85,Daten!$A$271:$A$320,Daten!$L$271:$L$320),\"\")","v":12.6},{"$f":"IF($A85<=Daten!$B$8,LOOKUP($B85,Daten!$A$271:$A$320,Daten!$D$271:$D$320),\"\")","v":12.6},{"$f":"IF($A85<=Daten!$B$8,LOOKUP($B85,Daten!$A$322:$A$371,Daten!$L$322:$L$371),\"\")","v":12.7},{"$f":"IF($A85<=Daten!$B$8,LOOKUP($B85,Daten!$A$322:$A$371,Daten!$D$322:$D$371),\"\")","v":12.7}]
[13,{"$f":"IF(A92<=Daten!$B$8,Daten!N9,\"\")","v":"Menülinie 13"},{"$f":"IF(A92<=Daten!$B$8,LOOKUP(B92,Daten!$A$16:$A$65,Daten!$C$16:$C$65),\"\")","v":"Lang[13,1]"},{"$f":"IF($A92<=Daten!$B$8,LOOKUP($B92,Daten!$A$16:$A$65,Daten!$P$16:$P$65),\"\") & \" \" & IF($A92<=Daten!$B$8,LOOKUP($B92,Daten!$A$16:$A$65,Daten!$Q$16:$Q$65),\"\")","v":"13,1 Inhalt1Einh[13,1]"},{"$f":"IF($A92<=Daten!$B$8,LOOKUP($B92,Daten!$A$67:$A$116,Daten!$C$67:$C$116),\"\")","v":"Lang[13,2]"},{"$f":"IF($A92<=Daten!$B$8,LOOKUP($B92,Daten!$A$67:$A$116,Daten!$P$67:$P$116),\"\") & \" \" & IF($A92<=Daten!$B$8,LOOKUP($B92,Daten!$A$67:$A$116,Daten!$Q$67:$Q$116),\"\")","v":"13,2 Inhalt1Einh[13,2]"},{"$f":"IF($A92<=Daten!$B$8,LOOKUP($B92,Daten!$A$118:$A$167,Daten!$C$118:$C$167),\"\")","v":"Lang[13,3]"},{"$f":"IF($A92<=Daten!$B$8,LOOKUP($B92,Daten!$A$118:$A$167,Daten!$P$118:$P$167),\"\") & \" \" & IF($A92<=Daten!$B$8,LOOKUP($B92,Daten!$A$118:$A$167,Daten!$Q$118:$Q$167),\"\")","v":"13,3 Inhalt1Einh[13,3]"},{"$f":"IF($A92<=Daten!$B$8,LOOKUP($B92,Daten!$A$169:$A$218,Daten!$C$169:$C$218),\"\")","v":"Lang[13,4]"},{"$f":"IF($A92<=Daten!$B$8,LOOKUP($B92,Daten!$A$169:$A$218,Daten!$P$169:$P$218),\"\") & \" \" & IF($A92<=Daten!$B$8,LOOKUP($B92,Daten!$A$169:$A$218,Daten!$Q$169:$Q$218),\"\")","v":"13,4 Inhalt1Einh[13,4]"},{"$f":"IF($A92<=Daten!$B$8,LOOKUP($B92,Daten!$A$220:$A$269,Daten!$C$220:$C$269),\"\")","v":"Lang[13,5]"},{"$f":"IF($A92<=Daten!$B$8,LOOKUP($B92,Daten!$A$220:$A$269,Daten!$P$220:$P$269),\"\") & \" \" & IF($A92<=Daten!$B$8,LOOKUP($B92,Daten!$A$220:$A$269,Daten!$Q$220:$Q$269),\"\")","v":"13,5 Inhalt1Einh[13,5]"},{"$f":"IF($A92<=Daten!$B$8,LOOKUP($B92,Daten!$A$271:$A$320,Daten!$C$271:$C$320),\"\")","v":"Lang[13,6]"},{"$f":"IF($A92<=Daten!$B$8,LOOKUP($B92,Daten!$A$271:$A$320,Daten!$P$271:$P$320),\"\") & \" \" & IF($A92<=Daten!$B$8,LOOKUP($B92,Daten!$A$271:$A$320,Daten!$Q$271:$Q$320),\"\")","v":"13,6 Inhalt1Einh[13,6]"},{"$f":"IF($A92<=Daten!$B$8,LOOKUP($B92,Daten!$A$322:$A$371,Daten!$B$322:$C$371),\"\")","v":{"$error":"#N/A"}},{"$f":"IF($A92<=Daten!$B$8,LOOKUP($B92,Daten!$A$322:$A$371,Daten!$P$322:$P$371),\"\") & \" \" & IF($A92<=Daten!$B$8,LOOKUP($B92,Daten!$A$322:$A$371,Daten!$Q$322:$Q$371),\"\")","v":"13,7 Inhalt1Einh[13,7]"}]
[null,null,null,{"$f":"IF($A92<=Daten!$B$8,LOOKUP($B92,Daten!$A$16:$A$65,Daten!$R$16:$R$65),\"\") & \" \" & IF($A92<=Daten!$B$8,LOOKUP($B92,Daten!$A$16:$A$65,Daten!$S$16:$S$65),\"\")","v":"13,1 Inhalt2Einh[13,1]"},null,{"$f":"IF($A92<=Daten!$B$8,LOOKUP($B92,Daten!$A$67:$A$116,Daten!$R$67:$R$116),\"\") & \" \" & IF($A92<=Daten!$B$8,LOOKUP($B92,Daten!$A$67:$A$116,Daten!$S$67:$S$116),\"\")","v":"13,2 Inhalt2Einh[13,2]"},null,{"$f":"IF($A92<=Daten!$B$8,LOOKUP($B92,Daten!$A$118:$A$167,Daten!$R$118:$R$167),\"\") & \" \" & IF($A92<=Daten!$B$8,LOOKUP($B92,Daten!$A$118:$A$167,Daten!$S$118:$S$167),\"\")","v":"13,3 Inhalt2Einh[13,3]"},null,{"$f":"IF($A92<=Daten!$B$8,LOOKUP($B92,Daten!$A$169:$A$218,Daten!$R$169:$R$218),\"\") & \" \" & IF($A92<=Daten!$B$8,LOOKUP($B92,Daten!$A$169:$A$218,Daten!$S$169:$S$218),\"\")","v":"13,4 Inhalt2Einh[13,4]"},null,{"$f":"IF($A92<=Daten!$B$8,LOOKUP($B92,Daten!$A$220:$A$269,Daten!$R$220:$R$269),\"\") & \" \" & IF($A92<=Daten!$B$8,LOOKUP($B92,Daten!$A$220:$A$269,Daten!$S$220:$S$269),\"\")","v":"13,5 Inhalt2Einh[13,5]"},null,{"$f":"IF($A92<=Daten!$B$8,LOOKUP($B92,Daten!$A$271:$A$320,Daten!$R$271:$R$320),\"\") & \" \" & IF($A92<=Daten!$B$8,LOOKUP($B92,Daten!$A$271:$A$320,Daten!$S$271:$S$320),\"\")","v":"13,6 Inhalt2Einh[13,6]"},null,{"$f":"IF($A92<=Daten!$B$8,LOOKUP($B92,Daten!$A$322:$A$371,Daten!$R$322:$R$371),\"\") & \" \" & IF($A92<=Daten!$B$8,LOOKUP($B92,Daten!$A$322:$A$371,Daten!$S$322:$S$371),\"\")","v":"13,7 Inhalt2Einh[13,7]"}]
[null,null,null,{"$f":"IF($A92<=Daten!$B$8,LOOKUP($B92,Daten!$A$16:$A$65,Daten!$T$16:$T$65),\"\") & \" \" & IF($A92<=Daten!$B$8,LOOKUP($B92,Daten!$A$16:$A$65,Daten!$U$16:$U$65),\"\")","v":"13,1 Inhalt3Einh[13,1]"},null,{"$f":"IF($A92<=Daten!$B$8,LOOKUP($B92,Daten!$A$67:$A$116,Daten!$T$67:$T$116),\"\") & \" \" & IF($A92<=Daten!$B$8,LOOKUP($B92,Daten!$A$67:$A$116,Daten!$U$67:$U$116),\"\")","v":"13,2 Inhalt3Einh[13,2]"},null,{"$f":"IF($A92<=Daten!$B$8,LOOKUP($B92,Daten!$A$118:$A$167,Daten!$T$118:$T$167),\"\") & \" \" & IF($A92<=Daten!$B$8,LOOKUP($B92,Daten!$A$118:$A$167,Daten!$U$118:$U$167),\"\")","v":"13,3 Inhalt3Einh[13,3]"},null,{"$f":"IF($A92<=Daten!$B$8,LOOKUP($B92,Daten!$A$169:$A$218,Daten!$T$169:$T$218),\"\") & \" \" & IF($A92<=Daten!$B$8,LOOKUP($B92,Daten!$A$169:$A$218,Daten!$U$169:$U$218),\"\")","v":"13,4 Inhalt3Einh[13,4]"},null,{"$f":"IF($A92<=Daten!$B$8,LOOKUP($B92,Daten!$A$220:$A$269,Daten!$T$220:$T$269),\"\") & \" \" & IF($A92<=Daten!$B$8,LOOKUP($B92,Daten!$A$220:$A$269,Daten!$U$220:$U$269),\"\")","v":"13,5 Inhalt3Einh[13,5]"},null,{"$f":"IF($A92<=Daten!$B$8,LOOKUP($B92,Daten!$A$271:$A$320,Daten!$T$271:$T$320),\"\") & \" \" & IF($A92<=Daten!$B$8,LOOKUP($B92,Daten!$A$271:$A$320,Daten!$U$271:$U$320),\"\")","v":"13,6 Inhalt3Einh[13,6]"},null,{"$f":"IF($A92<=Daten!$B$8,LOOKUP($B92,Daten!$A$322:$A$371,Daten!$T$322:$T$371),\"\") & \" \" & IF($A92<=Daten!$B$8,LOOKUP($B92,Daten!$A$322:$A$371,Daten!$U$322:$U$371),\"\")","v":"13,7 Inhalt3Einh[13,7]"}]
[null,null,null,{"$f":"IF($A92<=Daten!$B$8,LOOKUP($B92,Daten!$A$16:$A$65,Daten!$V$16:$V$65),\"\") & \" \" & IF($A92<=Daten!$B$8,LOOKUP($B92,Daten!$A$16:$A$65,Daten!$W$16:$W$65),\"\")","v":"13,1 Inhalt4Einh[13,1]"},null,{"$f":"IF($A92<=Daten!$B$8,LOOKUP($B92,Daten!$A$67:$A$116,Daten!$V$67:$V$116),\"\") & \" \" & IF($A92<=Daten!$B$8,LOOKUP($B92,Daten!$A$67:$A$116,Daten!$W$67:$W$116),\"\")","v":"13,2 Inhalt4Einh[13,2]"},null,{"$f":"IF($A92<=Daten!$B$8,LOOKUP($B92,Daten!$A$118:$A$167,Daten!$V$118:$V$167),\"\") & \" \" & IF($A92<=Daten!$B$8,LOOKUP($B92,Daten!$A$118:$A$167,Daten!$W$118:$W$167),\"\")","v":"13,3 Inhalt4Einh[13,3]"},null,{"$f":"IF($A92<=Daten!$B$8,LOOKUP($B92,Daten!$A$169:$A$218,Daten!$V$169:$V$218),\"\") & \" \" & IF($A92<=Daten!$B$8,LOOKUP($B92,Daten!$A$169:$A$218,Daten!$W$169:$W$218),\"\")","v":"13,4 Inhalt4Einh[13,4]"},null,{"$f":"IF($A92<=Daten!$B$8,LOOKUP($B92,Daten!$A$220:$A$269,Daten!$V$220:$V$269),\"\") & \" \" & IF($A92<=Daten!$B$8,LOOKUP($B92,Daten!$A$220:$A$269,Daten!$W$220:$W$269),\"\")","v":"13,5 Inhalt4Einh[13,5]"},null,{"$f":"IF($A92<=Daten!$B$8,LOOKUP($B92,Daten!$A$271:$A$320,Daten!$V$271:$V$320),\"\") & \" \" & IF($A92<=Daten!$B$8,LOOKUP($B92,Daten!$A$271:$A$320,Daten!$W$271:$W$320),\"\")","v":"13,6 Inhalt4Einh[13,6]"},null,{"$f":"IF($A92<=Daten!$B$8,LOOKUP($B92,Daten!$A$322:$A$371,Daten!$V$322:$V$371),\"\") & \" \" & IF($A92<=Daten!$B$8,LOOKUP($B92,Daten!$A$322:$A$371,Daten!$W$322:$W$371),\"\")","v":"13,7 Inhalt4Einh[13,7]"}]
[null,null,null,{"$f":"IF($A92<=Daten!$B$8,LOOKUP($B92,Daten!$A$16:$A$65,Daten!$X$16:$X$65),\"\") & \" \" & IF($A92<=Daten!$B$8,LOOKUP($B92,Daten!$A$16:$A$65,Daten!$Y$16:$Y$65),\"\")","v":"13,1 Inhalt5Einh[13,1]"},null,{"$f":"IF($A92<=Daten!$B$8,LOOKUP($B92,Daten!$A$67:$A$116,Daten!$X$67:$X$116),\"\") & \" \" & IF($A92<=Daten!$B$8,LOOKUP($B92,Daten!$A$67:$A$116,Daten!$Y$67:$Y$116),\"\")","v":"13,2 Inhalt5Einh[13,2]"},null,{"$f":"IF($A92<=Daten!$B$8,LOOKUP($B92,Daten!$A$118:$A$167,Daten!$X$118:$X$167),\"\") & \" \" & IF($A92<=Daten!$B$8,LOOKUP($B92,Daten!$A$118:$A$167,Daten!$Y$118:$Y$167),\"\")","v":"13,3 Inhalt5Einh[13,3]"},null,{"$f":"IF($A92<=Daten!$B$8,LOOKUP($B92,Daten!$A$169:$A$218,Daten!$X$169:$X$218),\"\") & \" \" & IF($A92<=Daten!$B$8,LOOKUP($B92,Daten!$A$169:$A$218,Daten!$Y$169:$Y$218),\"\")","v":"13,4 Inhalt5Einh[13,4]"},null,{"$f":"IF($A92<=Daten!$B$8,LOOKUP($B92,Daten!$A$220:$A$269,Daten!$X$220:$X$269),\"\") & \" \" & IF($A92<=Daten!$B$8,LOOKUP($B92,Daten!$A$220:$A$269,Daten!$Y$220:$Y$269),\"\")","v":"13,5 Inhalt5Einh[13,5]"},null,{"$f":"IF($A92<=Daten!$B$8,LOOKUP($B92,Daten!$A$271:$A$320,Daten!$X$271:$X$320),\"\") & \" \" & IF($A92<=Daten!$B$8,LOOKUP($B92,Daten!$A$271:$A$320,Daten!$Y$271:$Y$320),\"\")","v":"13,6 Inhalt5Einh[13,6]"},null,{"$f":"IF($A92<=Daten!$B$8,LOOKUP($B92,Daten!$A$322:$A$371,Daten!$X$322:$X$371),\"\") & \" \" & IF($A92<=Daten!$B$8,LOOKUP($B92,Daten!$A$322:$A$371,Daten!$Y$322:$Y$371),\"\")","v":"13,7 Inhalt5Einh[13,7]"}]
[null,null,null,{"$f":"IF($A92<=Daten!$B$8,LOOKUP($B92,Daten!$A$16:$A$65,Daten!$Z$16:$Z$65),\"\") & \" \" & IF($A92<=Daten!$B$8,LOOKUP($B92,Daten!$A$16:$A$65,Daten!$AA$16:$AA$65),\"\")","v":"13,1 Inhalt6Einh[13,1]"},null,{"$f":"IF($A92<=Daten!$B$8,LOOKUP($B92,Daten!$A$67:$A$116,Daten!$Z$67:$Z$116),\"\") & \" \" & IF($A92<=Daten!$B$8,LOOKUP($B92,Daten!$A$67:$A$116,Daten!$AA$67:$AA$116),\"\")","v":"13,2 Inhalt6Einh[13,2]"},null,{"$f":"IF($A92<=Daten!$B$8,LOOKUP($B92,Daten!$A$118:$A$167,Daten!$Z$118:$Z$167),\"\") & \" \" & IF($A92<=Daten!$B$8,LOOKUP($B92,Daten!$A$118:$A$167,Daten!$AA$118:$AA$167),\"\")","v":"13,3 Inhalt6Einh[13,3]"},null,{"$f":"IF($A92<=Daten!$B$8,LOOKUP($B92,Daten!$A$169:$A$218,Daten!$Z$169:$Z$218),\"\") & \" \" & IF($A92<=Daten!$B$8,LOOKUP($B92,Daten!$A$169:$A$218,Daten!$AA$169:$AA$218),\"\")","v":"13,4 Inhalt6Einh[13,4]"},null,{"$f":"IF($A92<=Daten!$B$8,LOOKUP($B92,Daten!$A$220:$A$269,Daten!$Z$220:$Z$269),\"\") & \" \" & IF($A92<=Daten!$B$8,LOOKUP($B92,Daten!$A$220:$A$269,Daten!$AA$220:$AA$269),\"\")","v":"13,5 Inhalt6Einh[13,5]"},null,{"$f":"IF($A92<=Daten!$B$8,LOOKUP($B92,Daten!$A$271:$A$320,Daten!$Z$271:$Z$320),\"\") & \" \" & IF($A92<=Daten!$B$8,LOOKUP($B92,Daten!$A$271:$A$320,Daten!$AA$271:$AA$320),\"\")","v":"13,6 Inhalt6Einh[13,6]"},null,{"$f":"IF($A92<=Daten!$B$8,LOOKUP($B92,Daten!$A$322:$A$371,Daten!$Z$322:$Z$371),\"\") & \" \" & IF($A92<=Daten!$B$8,LOOKUP($B92,Daten!$A$322:$A$371,Daten!$AA$322:$AA$371),\"\")","v":"13,7 Inhalt6Einh[13,7]"}]
[null,{"$f":"IF(A92<=Daten!$B$8,\"Zusatzstoffe\",\"\")","v":"Zusatzstoffe"},{"$f":"IF($A92<=Daten!$B$8,LOOKUP($B92,Daten!$A$16:$A$65,Daten!$L$16:$L$65),\"\")","v":13.1},{"$f":"IF($A92<=Daten!$B$8,LOOKUP($B92,Daten!$A$16:$A$65,Daten!$D$16:$D$65),\"\")","v":13.1},{"$f":"IF($A92<=Daten!$B$8,LOOKUP($B92,Daten!$A$67:$A$116,Daten!$L$67:$L$116),\"\")","v":13.2},{"$f":"IF($A92<=Daten!$B$8,LOOKUP($B92,Daten!$A$16:$A$65,Daten!$D$67:$D$116),\"\")","v":13.2},{"$f":"IF($A92<=Daten!$B$8,LOOKUP($B92,Daten!$A$118:$A$167,Daten!$L$118:$L$167),\"\")","v":13.3},{"$f":"IF($A92<=Daten!$B$8,LOOKUP($B92,Daten!$A$118:$A$167,Daten!$D$118:$D$167),\"\")","v":13.3},{"$f":"IF($A92<=Daten!$B$8,LOOKUP($B92,Daten!$A$169:$A$218,Daten!$L$169:$L$218),\"\")","v":13.4},{"$f":"IF($A92<=Daten!$B$8,LOOKUP($B92,Daten!$A$169:$A$218,Daten!$D$169:$D$218),\"\")","v":13.4},{"$f":"IF($A92<=Daten!$B$8,LOOKUP($B92,Daten!$A$220:$A$269,Daten!$L$220:$L$269),\"\")","v":13.5},{"$f":"IF($A92<=Daten!$B$8,LOOKUP($B92,Daten!$A$220:$A$269,Daten!$D$220:$D$269),\"\")","v":13.5},{"$f":"IF($A92<=Daten!$B$8,LOOKUP($B92,Daten!$A$271:$A$320,Daten!$L$271:$L$320),\"\")","v":13.6},{"$f":"IF($A92<=Daten!$B$8,LOOKUP($B92,Daten!$A$271:$A$320,Daten!$D$271:$D$320),\"\")","v":13.6},{"$f":"IF($A92<=Daten!$B$8,LOOKUP($B92,Daten!$A$322:$A$371,Daten!$L$322:$L$371),\"\")","v":13.7},{"$f":"IF($A92<=Daten!$B$8,LOOKUP($B92,Daten!$A$322:$A$371,Daten!$D$322:$D$371),\"\")","v":13.7}]
[14,{"$f":"IF(A99<=Daten!$B$8,Daten!O9,\"\")","v":"Menülinie 14"},{"$f":"IF(A99<=Daten!$B$8,LOOKUP(B99,Daten!$A$16:$A$65,Daten!$C$16:$C$65),\"\")","v":"Lang[14,1]"},{"$f":"IF($A99<=Daten!$B$8,LOOKUP($B99,Daten!$A$16:$A$65,Daten!$P$16:$P$65),\"\") & \" \" & IF($A99<=Daten!$B$8,LOOKUP($B99,Daten!$A$16:$A$65,Daten!$Q$16:$Q$65),\"\")","v":"14,1 Inhalt1Einh[14,1]"},{"$f":"IF($A99<=Daten!$B$8,LOOKUP($B99,Daten!$A$67:$A$116,Daten!$C$67:$C$116),\"\")","v":"Lang[14,2]"},{"$f":"IF($A99<=Daten!$B$8,LOOKUP($B99,Daten!$A$67:$A$116,Daten!$P$67:$P$116),\"\") & \" \" & IF($A99<=Daten!$B$8,LOOKUP($B99,Daten!$A$67:$A$116,Daten!$Q$67:$Q$116),\"\")","v":"14,2 Inhalt1Einh[14,2]"},{"$f":"IF($A99<=Daten!$B$8,LOOKUP($B99,Daten!$A$118:$A$167,Daten!$C$118:$C$167),\"\")","v":"Lang[14,3]"},{"$f":"IF($A99<=Daten!$B$8,LOOKUP($B99,Daten!$A$118:$A$167,Daten!$P$118:$P$167),\"\") & \" \" & IF($A99<=Daten!$B$8,LOOKUP($B99,Daten!$A$118:$A$167,Daten!$Q$118:$Q$167),\"\")","v":"14,3 Inhalt1Einh[14,3]"},{"$f":"IF($A99<=Daten!$B$8,LOOKUP($B99,Daten!$A$169:$A$218,Daten!$C$169:$C$218),\"\")","v":"Lang[14,4]"},{"$f":"IF($A99<=Daten!$B$8,LOOKUP($B99,Daten!$A$169:$A$218,Daten!$P$169:$P$218),\"\") & \" \" & IF($A99<=Daten!$B$8,LOOKUP($B99,Daten!$A$169:$A$218,Daten!$Q$169:$Q$218),\"\")","v":"14,4 Inhalt1Einh[14,4]"},{"$f":"IF($A99<=Daten!$B$8,LOOKUP($B99,Daten!$A$220:$A$269,Daten!$C$220:$C$269),\"\")","v":"Lang[14,5]"},{"$f":"IF($A99<=Daten!$B$8,LOOKUP($B99,Daten!$A$220:$A$269,Daten!$P$220:$P$269),\"\") & \" \" & IF($A99<=Daten!$B$8,LOOKUP($B99,Daten!$A$220:$A$269,Daten!$Q$220:$Q$269),\"\")","v":"14,5 Inhalt1Einh[14,5]"},{"$f":"IF($A99<=Daten!$B$8,LOOKUP($B99,Daten!$A$271:$A$320,Daten!$C$271:$C$320),\"\")","v":"Lang[14,6]"},{"$f":"IF($A99<=Daten!$B$8,LOOKUP($B99,Daten!$A$271:$A$320,Daten!$P$271:$P$320),\"\") & \" \" & IF($A99<=Daten!$B$8,LOOKUP($B99,Daten!$A$271:$A$320,Daten!$Q$271:$Q$320),\"\")","v":"14,6 Inhalt1Einh[14,6]"},{"$f":"IF($A99<=Daten!$B$8,LOOKUP($B99,Daten!$A$322:$A$371,Daten!$B$322:$C$371),\"\")","v":{"$error":"#N/A"}},{"$f":"IF($A99<=Daten!$B$8,LOOKUP($B99,Daten!$A$322:$A$371,Daten!$P$322:$P$371),\"\") & \" \" & IF($A99<=Daten!$B$8,LOOKUP($B99,Daten!$A$322:$A$371,Daten!$Q$322:$Q$371),\"\")","v":"14,7 Inhalt1Einh[14,7]"}]
[null,null,null,{"$f":"IF($A99<=Daten!$B$8,LOOKUP($B99,Daten!$A$16:$A$65,Daten!$R$16:$R$65),\"\") & \" \" & IF($A99<=Daten!$B$8,LOOKUP($B99,Daten!$A$16:$A$65,Daten!$S$16:$S$65),\"\")","v":"14,1 Inhalt2Einh[14,1]"},null,{"$f":"IF($A99<=Daten!$B$8,LOOKUP($B99,Daten!$A$67:$A$116,Daten!$R$67:$R$116),\"\") & \" \" & IF($A99<=Daten!$B$8,LOOKUP($B99,Daten!$A$67:$A$116,Daten!$S$67:$S$116),\"\")","v":"14,2 Inhalt2Einh[14,2]"},null,{"$f":"IF($A99<=Daten!$B$8,LOOKUP($B99,Daten!$A$118:$A$167,Daten!$R$118:$R$167),\"\") & \" \" & IF($A99<=Daten!$B$8,LOOKUP($B99,Daten!$A$118:$A$167,Daten!$S$118:$S$167),\"\")","v":"14,3 Inhalt2Einh[14,3]"},null,{"$f":"IF($A99<=Daten!$B$8,LOOKUP($B99,Daten!$A$169:$A$218,Daten!$R$169:$R$218),\"\") & \" \" & IF($A99<=Daten!$B$8,LOOKUP($B99,Daten!$A$169:$A$218,Daten!$S$169:$S$218),\"\")","v":"14,4 Inhalt2Einh[14,4]"},null,{"$f":"IF($A99<=Daten!$B$8,LOOKUP($B99,Daten!$A$220:$A$269,Daten!$R$220:$R$269),\"\") & \" \" & IF($A99<=Daten!$B$8,LOOKUP($B99,Daten!$A$220:$A$269,Daten!$S$220:$S$269),\"\")","v":"14,5 Inhalt2Einh[14,5]"},null,{"$f":"IF($A99<=Daten!$B$8,LOOKUP($B99,Daten!$A$271:$A$320,Daten!$R$271:$R$320),\"\") & \" \" & IF($A99<=Daten!$B$8,LOOKUP($B99,Daten!$A$271:$A$320,Daten!$S$271:$S$320),\"\")","v":"14,6 Inhalt2Einh[14,6]"},null,{"$f":"IF($A99<=Daten!$B$8,LOOKUP($B99,Daten!$A$322:$A$371,Daten!$R$322:$R$371),\"\") & \" \" & IF($A99<=Daten!$B$8,LOOKUP($B99,Daten!$A$322:$A$371,Daten!$S$322:$S$371),\"\")","v":"14,7 Inhalt2Einh[14,7]"}]
[null,null,null,{"$f":"IF($A99<=Daten!$B$8,LOOKUP($B99,Daten!$A$16:$A$65,Daten!$T$16:$T$65),\"\") & \" \" & IF($A99<=Daten!$B$8,LOOKUP($B99,Daten!$A$16:$A$65,Daten!$U$16:$U$65),\"\")","v":"14,1 Inhalt3Einh[14,1]"},null,{"$f":"IF($A99<=Daten!$B$8,LOOKUP($B99,Daten!$A$67:$A$116,Daten!$T$67:$T$116),\"\") & \" \" & IF($A99<=Daten!$B$8,LOOKUP($B99,Daten!$A$67:$A$116,Daten!$U$67:$U$116),\"\")","v":"14,2 Inhalt3Einh[14,2]"},null,{"$f":"IF($A99<=Daten!$B$8,LOOKUP($B99,Daten!$A$118:$A$167,Daten!$T$118:$T$167),\"\") & \" \" & IF($A99<=Daten!$B$8,LOOKUP($B99,Daten!$A$118:$A$167,Daten!$U$118:$U$167),\"\")","v":"14,3 Inhalt3Einh[14,3]"},null,{"$f":"IF($A99<=Daten!$B$8,LOOKUP($B99,Daten!$A$169:$A$218,Daten!$T$169:$T$218),\"\") & \" \" & IF($A99<=Daten!$B$8,LOOKUP($B99,Daten!$A$169:$A$218,Daten!$U$169:$U$218),\"\")","v":"14,4 Inhalt3Einh[14,4]"},null,{"$f":"IF($A99<=Daten!$B$8,LOOKUP($B99,Daten!$A$220:$A$269,Daten!$T$220:$T$269),\"\") & \" \" & IF($A99<=Daten!$B$8,LOOKUP($B99,Daten!$A$220:$A$269,Daten!$U$220:$U$269),\"\")","v":"14,5 Inhalt3Einh[14,5]"},null,{"$f":"IF($A99<=Daten!$B$8,LOOKUP($B99,Daten!$A$271:$A$320,Daten!$T$271:$T$320),\"\") & \" \" & IF($A99<=Daten!$B$8,LOOKUP($B99,Daten!$A$271:$A$320,Daten!$U$271:$U$320),\"\")","v":"14,6 Inhalt3Einh[14,6]"},null,{"$f":"IF($A99<=Daten!$B$8,LOOKUP($B99,Daten!$A$322:$A$371,Daten!$T$322:$T$371),\"\") & \" \" & IF($A99<=Daten!$B$8,LOOKUP($B99,Daten!$A$322:$A$371,Daten!$U$322:$U$371),\"\")","v":"14,7 Inhalt3Einh[14,7]"}]
[null,null,null,{"$f":"IF($A99<=Daten!$B$8,LOOKUP($B99,Daten!$A$16:$A$65,Daten!$V$16:$V$65),\"\") & \" \" & IF($A99<=Daten!$B$8,LOOKUP($B99,Daten!$A$16:$A$65,Daten!$W$16:$W$65),\"\")","v":"14,1 Inhalt4Einh[14,1]"},null,{"$f":"IF($A99<=Daten!$B$8,LOOKUP($B99,Daten!$A$67:$A$116,Daten!$V$67:$V$116),\"\") & \" \" & IF($A99<=Daten!$B$8,LOOKUP($B99,Daten!$A$67:$A$116,Daten!$W$67:$W$116),\"\")","v":"14,2 Inhalt4Einh[14,2]"},null,{"$f":"IF($A99<=Daten!$B$8,LOOKUP($B99,Daten!$A$118:$A$167,Daten!$V$118:$V$167),\"\") & \" \" & IF($A99<=Daten!$B$8,LOOKUP($B99,Daten!$A$118:$A$167,Daten!$W$118:$W$167),\"\")","v":"14,3 Inhalt4Einh[14,3]"},null,{"$f":"IF($A99<=Daten!$B$8,LOOKUP($B99,Daten!$A$169:$A$218,Daten!$V$169:$V$218),\"\") & \" \" & IF($A99<=Daten!$B$8,LOOKUP($B99,Daten!$A$169:$A$218,Daten!$W$169:$W$218),\"\")","v":"14,4 Inhalt4Einh[14,4]"},null,{"$f":"IF($A99<=Daten!$B$8,LOOKUP($B99,Daten!$A$220:$A$269,Daten!$V$220:$V$269),\"\") & \" \" & IF($A99<=Daten!$B$8,LOOKUP($B99,Daten!$A$220:$A$269,Daten!$W$220:$W$269),\"\")","v":"14,5 Inhalt4Einh[14,5]"},null,{"$f":"IF($A99<=Daten!$B$8,LOOKUP($B99,Daten!$A$271:$A$320,Daten!$V$271:$V$320),\"\") & \" \" & IF($A99<=Daten!$B$8,LOOKUP($B99,Daten!$A$271:$A$320,Daten!$W$271:$W$320),\"\")","v":"14,6 Inhalt4Einh[14,6]"},null,{"$f":"IF($A99<=Daten!$B$8,LOOKUP($B99,Daten!$A$322:$A$371,Daten!$V$322:$V$371),\"\") & \" \" & IF($A99<=Daten!$B$8,LOOKUP($B99,Daten!$A$322:$A$371,Daten!$W$322:$W$371),\"\")","v":"14,7 Inhalt4Einh[14,7]"}]
[null,null,null,{"$f":"IF($A99<=Daten!$B$8,LOOKUP($B99,Daten!$A$16:$A$65,Daten!$X$16:$X$65),\"\") & \" \" & IF($A99<=Daten!$B$8,LOOKUP($B99,Daten!$A$16:$A$65,Daten!$Y$16:$Y$65),\"\")","v":"14,1 Inhalt5Einh[14,1]"},null,{"$f":"IF($A99<=Daten!$B$8,LOOKUP($B99,Daten!$A$67:$A$116,Daten!$X$67:$X$116),\"\") & \" \" & IF($A99<=Daten!$B$8,LOOKUP($B99,Daten!$A$67:$A$116,Daten!$Y$67:$Y$116),\"\")","v":"14,2 Inhalt5Einh[14,2]"},null,{"$f":"IF($A99<=Daten!$B$8,LOOKUP($B99,Daten!$A$118:$A$167,Daten!$X$118:$X$167),\"\") & \" \" & IF($A99<=Daten!$B$8,LOOKUP($B99,Daten!$A$118:$A$167,Daten!$Y$118:$Y$167),\"\")","v":"14,3 Inhalt5Einh[14,3]"},null,{"$f":"IF($A99<=Daten!$B$8,LOOKUP($B99,Daten!$A$169:$A$218,Daten!$X$169:$X$218),\"\") & \" \" & IF($A99<=Daten!$B$8,LOOKUP($B99,Daten!$A$169:$A$218,Daten!$Y$169:$Y$218),\"\")","v":"14,4 Inhalt5Einh[14,4]"},null,{"$f":"IF($A99<=Daten!$B$8,LOOKUP($B99,Daten!$A$220:$A$269,Daten!$X$220:$X$269),\"\") & \" \" & IF($A99<=Daten!$B$8,LOOKUP($B99,Daten!$A$220:$A$269,Daten!$Y$220:$Y$269),\"\")","v":"14,5 Inhalt5Einh[14,5]"},null,{"$f":"IF($A99<=Daten!$B$8,LOOKUP($B99,Daten!$A$271:$A$320,Daten!$X$271:$X$320),\"\") & \" \" & IF($A99<=Daten!$B$8,LOOKUP($B99,Daten!$A$271:$A$320,Daten!$Y$271:$Y$320),\"\")","v":"14,6 Inhalt5Einh[14,6]"},null,{"$f":"IF($A99<=Daten!$B$8,LOOKUP($B99,Daten!$A$322:$A$371,Daten!$X$322:$X$371),\"\") & \" \" & IF($A99<=Daten!$B$8,LOOKUP($B99,Daten!$A$322:$A$371,Daten!$Y$322:$Y$371),\"\")","v":"14,7 Inhalt5Einh[14,7]"}]
[null,null,null,{"$f":"IF($A99<=Daten!$B$8,LOOKUP($B99,Daten!$A$16:$A$65,Daten!$Z$16:$Z$65),\"\") & \" \" & IF($A99<=Daten!$B$8,LOOKUP($B99,Daten!$A$16:$A$65,Daten!$AA$16:$AA$65),\"\")","v":"14,1 Inhalt6Einh[14,1]"},null,{"$f":"IF($A99<=Daten!$B$8,LOOKUP($B99,Daten!$A$67:$A$116,Daten!$Z$67:$Z$116),\"\") & \" \" & IF($A99<=Daten!$B$8,LOOKUP($B99,Daten!$A$67:$A$116,Daten!$AA$67:$AA$116),\"\")","v":"14,2 Inhalt6Einh[14,2]"},null,{"$f":"IF($A99<=Daten!$B$8,LOOKUP($B99,Daten!$A$118:$A$167,Daten!$Z$118:$Z$167),\"\") & \" \" & IF($A99<=Daten!$B$8,LOOKUP($B99,Daten!$A$118:$A$167,Daten!$AA$118:$AA$167),\"\")","v":"14,3 Inhalt6Einh[14,3]"},null,{"$f":"IF($A99<=Daten!$B$8,LOOKUP($B99,Daten!$A$169:$A$218,Daten!$Z$169:$Z$218),\"\") & \" \" & IF($A99<=Daten!$B$8,LOOKUP($B99,Daten!$A$169:$A$218,Daten!$AA$169:$AA$218),\"\")","v":"14,4 Inhalt6Einh[14,4]"},null,{"$f":"IF($A99<=Daten!$B$8,LOOKUP($B99,Daten!$A$220:$A$269,Daten!$Z$220:$Z$269),\"\") & \" \" & IF($A99<=Daten!$B$8,LOOKUP($B99,Daten!$A$220:$A$269,Daten!$AA$220:$AA$269),\"\")","v":"14,5 Inhalt6Einh[14,5]"},null,{"$f":"IF($A99<=Daten!$B$8,LOOKUP($B99,Daten!$A$271:$A$320,Daten!$Z$271:$Z$320),\"\") & \" \" & IF($A99<=Daten!$B$8,LOOKUP($B99,Daten!$A$271:$A$320,Daten!$AA$271:$AA$320),\"\")","v":"14,6 Inhalt6Einh[14,6]"},null,{"$f":"IF($A99<=Daten!$B$8,LOOKUP($B99,Daten!$A$322:$A$371,Daten!$Z$322:$Z$371),\"\") & \" \" & IF($A99<=Daten!$B$8,LOOKUP($B99,Daten!$A$322:$A$371,Daten!$AA$322:$AA$371),\"\")","v":"14,7 Inhalt6Einh[14,7]"}]
[null,{"$f":"IF(A99<=Daten!$B$8,\"Zusatzstoffe\",\"\")","v":"Zusatzstoffe"},{"$f":"IF($A99<=Daten!$B$8,LOOKUP($B99,Daten!$A$16:$A$65,Daten!$L$16:$L$65),\"\")","v":14.1},{"$f":"IF($A99<=Daten!$B$8,LOOKUP($B99,Daten!$A$16:$A$65,Daten!$D$16:$D$65),\"\")","v":14.1},{"$f":"IF($A99<=Daten!$B$8,LOOKUP($B99,Daten!$A$67:$A$116,Daten!$L$67:$L$116),\"\")","v":14.2},{"$f":"IF($A99<=Daten!$B$8,LOOKUP($B99,Daten!$A$16:$A$65,Daten!$D$67:$D$116),\"\")","v":14.2},{"$f":"IF($A99<=Daten!$B$8,LOOKUP($B99,Daten!$A$118:$A$167,Daten!$L$118:$L$167),\"\")","v":14.3},{"$f":"IF($A99<=Daten!$B$8,LOOKUP($B99,Daten!$A$118:$A$167,Daten!$D$118:$D$167),\"\")","v":14.3},{"$f":"IF($A99<=Daten!$B$8,LOOKUP($B99,Daten!$A$169:$A$218,Daten!$L$169:$L$218),\"\")","v":14.4},{"$f":"IF($A99<=Daten!$B$8,LOOKUP($B99,Daten!$A$169:$A$218,Daten!$D$169:$D$218),\"\")","v":14.4},{"$f":"IF($A99<=Daten!$B$8,LOOKUP($B99,Daten!$A$220:$A$269,Daten!$L$220:$L$269),\"\")","v":14.5},{"$f":"IF($A99<=Daten!$B$8,LOOKUP($B99,Daten!$A$220:$A$269,Daten!$D$220:$D$269),\"\")","v":14.5},{"$f":"IF($A99<=Daten!$B$8,LOOKUP($B99,Daten!$A$271:$A$320,Daten!$L$271:$L$320),\"\")","v":14.6},{"$f":"IF($A99<=Daten!$B$8,LOOKUP($B99,Daten!$A$271:$A$320,Daten!$D$271:$D$320),\"\")","v":14.6},{"$f":"IF($A99<=Daten!$B$8,LOOKUP($B99,Daten!$A$322:$A$371,Daten!$L$322:$L$371),\"\")","v":14.7},{"$f":"IF($A99<=Daten!$B$8,LOOKUP($B99,Daten!$A$322:$A$371,Daten!$D$322:$D$371),\"\")","v":14.7}]
[15,{"$f":"IF(A106<=Daten!$B$8,Daten!P9,\"\")","v":"Menülinie 15"},{"$f":"IF(A106<=Daten!$B$8,LOOKUP(B106,Daten!$A$16:$A$65,Daten!$C$16:$C$65),\"\")","v":"Lang[15,1]"},{"$f":"IF($A106<=Daten!$B$8,LOOKUP($B106,Daten!$A$16:$A$65,Daten!$P$16:$P$65),\"\") & \" \" & IF($A106<=Daten!$B$8,LOOKUP($B106,Daten!$A$16:$A$65,Daten!$Q$16:$Q$65),\"\")","v":"15,1 Inhalt1Einh[15,1]"},{"$f":"IF($A106<=Daten!$B$8,LOOKUP($B106,Daten!$A$67:$A$116,Daten!$C$67:$C$116),\"\")","v":"Lang[15,2]"},{"$f":"IF($A106<=Daten!$B$8,LOOKUP($B106,Daten!$A$67:$A$116,Daten!$P$67:$P$116),\"\") & \" \" & IF($A106<=Daten!$B$8,LOOKUP($B106,Daten!$A$67:$A$116,Daten!$Q$67:$Q$116),\"\")","v":"15,2 Inhalt1Einh[15,2]"},{"$f":"IF($A106<=Daten!$B$8,LOOKUP($B106,Daten!$A$118:$A$167,Daten!$C$118:$C$167),\"\")","v":"Lang[15,3]"},{"$f":"IF($A106<=Daten!$B$8,LOOKUP($B106,Daten!$A$118:$A$167,Daten!$P$118:$P$167),\"\") & \" \" & IF($A106<=Daten!$B$8,LOOKUP($B106,Daten!$A$118:$A$167,Daten!$Q$118:$Q$167),\"\")","v":"15,3 Inhalt1Einh[15,3]"},{"$f":"IF($A106<=Daten!$B$8,LOOKUP($B106,Daten!$A$169:$A$218,Daten!$C$169:$C$218),\"\")","v":"Lang[15,4]"},{"$f":"IF($A106<=Daten!$B$8,LOOKUP($B106,Daten!$A$169:$A$218,Daten!$P$169:$P$218),\"\") & \" \" & IF($A106<=Daten!$B$8,LOOKUP($B106,Daten!$A$169:$A$218,Daten!$Q$169:$Q$218),\"\")","v":"15,4 Inhalt1Einh[15,4]"},{"$f":"IF($A106<=Daten!$B$8,LOOKUP($B106,Daten!$A$220:$A$269,Daten!$C$220:$C$269),\"\")","v":"Lang[15,5]"},{"$f":"IF($A106<=Daten!$B$8,LOOKUP($B106,Daten!$A$220:$A$269,Daten!$P$220:$P$269),\"\") & \" \" & IF($A106<=Daten!$B$8,LOOKUP($B106,Daten!$A$220:$A$269,Daten!$Q$220:$Q$269),\"\")","v":"15,5 Inhalt1Einh[15,5]"},{"$f":"IF($A106<=Daten!$B$8,LOOKUP($B106,Daten!$A$271:$A$320,Daten!$C$271:$C$320),\"\")","v":"Lang[15,6]"},{"$f":"IF($A106<=Daten!$B$8,LOOKUP($B106,Daten!$A$271:$A$320,Daten!$P$271:$P$320),\"\") & \" \" & IF($A106<=Daten!$B$8,LOOKUP($B106,Daten!$A$271:$A$320,Daten!$Q$271:$Q$320),\"\")","v":"15,6 Inhalt1Einh[15,6]"},{"$f":"IF($A106<=Daten!$B$8,LOOKUP($B106,Daten!$A$322:$A$371,Daten!$B$322:$C$371),\"\")","v":{"$error":"#N/A"}},{"$f":"IF($A106<=Daten!$B$8,LOOKUP($B106,Daten!$A$322:$A$371,Daten!$P$322:$P$371),\"\") & \" \" & IF($A106<=Daten!$B$8,LOOKUP($B106,Daten!$A$322:$A$371,Daten!$Q$322:$Q$371),\"\")","v":"15,7 Inhalt1Einh[15,7]"}]
[null,null,null,{"$f":"IF($A106<=Daten!$B$8,LOOKUP($B106,Daten!$A$16:$A$65,Daten!$R$16:$R$65),\"\") & \" \" & IF($A106<=Daten!$B$8,LOOKUP($B106,Daten!$A$16:$A$65,Daten!$S$16:$S$65),\"\")","v":"15,1 Inhalt2Einh[15,1]"},null,{"$f":"IF($A106<=Daten!$B$8,LOOKUP($B106,Daten!$A$67:$A$116,Daten!$R$67:$R$116),\"\") & \" \" & IF($A106<=Daten!$B$8,LOOKUP($B106,Daten!$A$67:$A$116,Daten!$S$67:$S$116),\"\")","v":"15,2 Inhalt2Einh[15,2]"},null,{"$f":"IF($A106<=Daten!$B$8,LOOKUP($B106,Daten!$A$118:$A$167,Daten!$R$118:$R$167),\"\") & \" \" & IF($A106<=Daten!$B$8,LOOKUP($B106,Daten!$A$118:$A$167,Daten!$S$118:$S$167),\"\")","v":"15,3 Inhalt2Einh[15,3]"},null,{"$f":"IF($A106<=Daten!$B$8,LOOKUP($B106,Daten!$A$169:$A$218,Daten!$R$169:$R$218),\"\") & \" \" & IF($A106<=Daten!$B$8,LOOKUP($B106,Daten!$A$169:$A$218,Daten!$S$169:$S$218),\"\")","v":"15,4 Inhalt2Einh[15,4]"},null,{"$f":"IF($A106<=Daten!$B$8,LOOKUP($B106,Daten!$A$220:$A$269,Daten!$R$220:$R$269),\"\") & \" \" & IF($A106<=Daten!$B$8,LOOKUP($B106,Daten!$A$220:$A$269,Daten!$S$220:$S$269),\"\")","v":"15,5 Inhalt2Einh[15,5]"},null,{"$f":"IF($A106<=Daten!$B$8,LOOKUP($B106,Daten!$A$271:$A$320,Daten!$R$271:$R$320),\"\") & \" \" & IF($A106<=Daten!$B$8,LOOKUP($B106,Daten!$A$271:$A$320,Daten!$S$271:$S$320),\"\")","v":"15,6 Inhalt2Einh[15,6]"},null,{"$f":"IF($A106<=Daten!$B$8,LOOKUP($B106,Daten!$A$322:$A$371,Daten!$R$322:$R$371),\"\") & \" \" & IF($A106<=Daten!$B$8,LOOKUP($B106,Daten!$A$322:$A$371,Daten!$S$322:$S$371),\"\")","v":"15,7 Inhalt2Einh[15,7]"}]
[null,null,null,{"$f":"IF($A106<=Daten!$B$8,LOOKUP($B106,Daten!$A$16:$A$65,Daten!$T$16:$T$65),\"\") & \" \" & IF($A106<=Daten!$B$8,LOOKUP($B106,Daten!$A$16:$A$65,Daten!$U$16:$U$65),\"\")","v":"15,1 Inhalt3Einh[15,1]"},null,{"$f":"IF($A106<=Daten!$B$8,LOOKUP($B106,Daten!$A$67:$A$116,Daten!$T$67:$T$116),\"\") & \" \" & IF($A106<=Daten!$B$8,LOOKUP($B106,Daten!$A$67:$A$116,Daten!$U$67:$U$116),\"\")","v":"15,2 Inhalt3Einh[15,2]"},null,{"$f":"IF($A106<=Daten!$B$8,LOOKUP($B106,Daten!$A$118:$A$167,Daten!$T$118:$T$167),\"\") & \" \" & IF($A106<=Daten!$B$8,LOOKUP($B106,Daten!$A$118:$A$167,Daten!$U$118:$U$167),\"\")","v":"15,3 Inhalt3Einh[15,3]"},null,{"$f":"IF($A106<=Daten!$B$8,LOOKUP($B106,Daten!$A$169:$A$218,Daten!$T$169:$T$218),\"\") & \" \" & IF($A106<=Daten!$B$8,LOOKUP($B106,Daten!$A$169:$A$218,Daten!$U$169:$U$218),\"\")","v":"15,4 Inhalt3Einh[15,4]"},null,{"$f":"IF($A106<=Daten!$B$8,LOOKUP($B106,Daten!$A$220:$A$269,Daten!$T$220:$T$269),\"\") & \" \" & IF($A106<=Daten!$B$8,LOOKUP($B106,Daten!$A$220:$A$269,Daten!$U$220:$U$269),\"\")","v":"15,5 Inhalt3Einh[15,5]"},null,{"$f":"IF($A106<=Daten!$B$8,LOOKUP($B106,Daten!$A$271:$A$320,Daten!$T$271:$T$320),\"\") & \" \" & IF($A106<=Daten!$B$8,LOOKUP($B106,Daten!$A$271:$A$320,Daten!$U$271:$U$320),\"\")","v":"15,6 Inhalt3Einh[15,6]"},null,{"$f":"IF($A106<=Daten!$B$8,LOOKUP($B106,Daten!$A$322:$A$371,Daten!$T$322:$T$371),\"\") & \" \" & IF($A106<=Daten!$B$8,LOOKUP($B106,Daten!$A$322:$A$371,Daten!$U$322:$U$371),\"\")","v":"15,7 Inhalt3Einh[15,7]"}]
[null,null,null,{"$f":"IF($A106<=Daten!$B$8,LOOKUP($B106,Daten!$A$16:$A$65,Daten!$V$16:$V$65),\"\") & \" \" & IF($A106<=Daten!$B$8,LOOKUP($B106,Daten!$A$16:$A$65,Daten!$W$16:$W$65),\"\")","v":"15,1 Inhalt4Einh[15,1]"},null,{"$f":"IF($A106<=Daten!$B$8,LOOKUP($B106,Daten!$A$67:$A$116,Daten!$V$67:$V$116),\"\") & \" \" & IF($A106<=Daten!$B$8,LOOKUP($B106,Daten!$A$67:$A$116,Daten!$W$67:$W$116),\"\")","v":"15,2 Inhalt4Einh[15,2]"},null,{"$f":"IF($A106<=Daten!$B$8,LOOKUP($B106,Daten!$A$118:$A$167,Daten!$V$118:$V$167),\"\") & \" \" & IF($A106<=Daten!$B$8,LOOKUP($B106,Daten!$A$118:$A$167,Daten!$W$118:$W$167),\"\")","v":"15,3 Inhalt4Einh[15,3]"},null,{"$f":"IF($A106<=Daten!$B$8,LOOKUP($B106,Daten!$A$169:$A$218,Daten!$V$169:$V$218),\"\") & \" \" & IF($A106<=Daten!$B$8,LOOKUP($B106,Daten!$A$169:$A$218,Daten!$W$169:$W$218),\"\")","v":"15,4 Inhalt4Einh[15,4]"},null,{"$f":"IF($A106<=Daten!$B$8,LOOKUP($B106,Daten!$A$220:$A$269,Daten!$V$220:$V$269),\"\") & \" \" & IF($A106<=Daten!$B$8,LOOKUP($B106,Daten!$A$220:$A$269,Daten!$W$220:$W$269),\"\")","v":"15,5 Inhalt4Einh[15,5]"},null,{"$f":"IF($A106<=Daten!$B$8,LOOKUP($B106,Daten!$A$271:$A$320,Daten!$V$271:$V$320),\"\") & \" \" & IF($A106<=Daten!$B$8,LOOKUP($B106,Daten!$A$271:$A$320,Daten!$W$271:$W$320),\"\")","v":"15,6 Inhalt4Einh[15,6]"},null,{"$f":"IF($A106<=Daten!$B$8,LOOKUP($B106,Daten!$A$322:$A$371,Daten!$V$322:$V$371),\"\") & \" \" & IF($A106<=Daten!$B$8,LOOKUP($B106,Daten!$A$322:$A$371,Daten!$W$322:$W$371),\"\")","v":"15,7 Inhalt4Einh[15,7]"}]
[null,null,null,{"$f":"IF($A106<=Daten!$B$8,LOOKUP($B106,Daten!$A$16:$A$65,Daten!$X$16:$X$65),\"\") & \" \" & IF($A106<=Daten!$B$8,LOOKUP($B106,Daten!$A$16:$A$65,Daten!$Y$16:$Y$65),\"\")","v":"15,1 Inhalt5Einh[15,1]"},null,{"$f":"IF($A106<=Daten!$B$8,LOOKUP($B106,Daten!$A$67:$A$116,Daten!$X$67:$X$116),\"\") & \" \" & IF($A106<=Daten!$B$8,LOOKUP($B106,Daten!$A$67:$A$116,Daten!$Y$67:$Y$116),\"\")","v":"15,2 Inhalt5Einh[15,2]"},null,{"$f":"IF($A106<=Daten!$B$8,LOOKUP($B106,Daten!$A$118:$A$167,Daten!$X$118:$X$167),\"\") & \" \" & IF($A106<=Daten!$B$8,LOOKUP($B106,Daten!$A$118:$A$167,Daten!$Y$118:$Y$167),\"\")","v":"15,3 Inhalt5Einh[15,3]"},null,{"$f":"IF($A106<=Daten!$B$8,LOOKUP($B106,Daten!$A$169:$A$218,Daten!$X$169:$X$218),\"\") & \" \" & IF($A106<=Daten!$B$8,LOOKUP($B106,Daten!$A$169:$A$218,Daten!$Y$169:$Y$218),\"\")","v":"15,4 Inhalt5Einh[15,4]"},null,{"$f":"IF($A106<=Daten!$B$8,LOOKUP($B106,Daten!$A$220:$A$269,Daten!$X$220:$X$269),\"\") & \" \" & IF($A106<=Daten!$B$8,LOOKUP($B106,Daten!$A$220:$A$269,Daten!$Y$220:$Y$269),\"\")","v":"15,5 Inhalt5Einh[15,5]"},null,{"$f":"IF($A106<=Daten!$B$8,LOOKUP($B106,Daten!$A$271:$A$320,Daten!$X$271:$X$320),\"\") & \" \" & IF($A106<=Daten!$B$8,LOOKUP($B106,Daten!$A$271:$A$320,Daten!$Y$271:$Y$320),\"\")","v":"15,6 Inhalt5Einh[15,6]"},null,{"$f":"IF($A106<=Daten!$B$8,LOOKUP($B106,Daten!$A$322:$A$371,Daten!$X$322:$X$371),\"\") & \" \" & IF($A106<=Daten!$B$8,LOOKUP($B106,Daten!$A$322:$A$371,Daten!$Y$322:$Y$371),\"\")","v":"15,7 Inhalt5Einh[15,7]"}]
[null,null,null,{"$f":"IF($A106<=Daten!$B$8,LOOKUP($B106,Daten!$A$16:$A$65,Daten!$Z$16:$Z$65),\"\") & \" \" & IF($A106<=Daten!$B$8,LOOKUP($B106,Daten!$A$16:$A$65,Daten!$AA$16:$AA$65),\"\")","v":"15,1 Inhalt6Einh[15,1]"},null,{"$f":"IF($A106<=Daten!$B$8,LOOKUP($B106,Daten!$A$67:$A$116,Daten!$Z$67:$Z$116),\"\") & \" \" & IF($A106<=Daten!$B$8,LOOKUP($B106,Daten!$A$67:$A$116,Daten!$AA$67:$AA$116),\"\")","v":"15,2 Inhalt6Einh[15,2]"},null,{"$f":"IF($A106<=Daten!$B$8,LOOKUP($B106,Daten!$A$118:$A$167,Daten!$Z$118:$Z$167),\"\") & \" \" & IF($A106<=Daten!$B$8,LOOKUP($B106,Daten!$A$118:$A$167,Daten!$AA$118:$AA$167),\"\")","v":"15,3 Inhalt6Einh[15,3]"},null,{"$f":"IF($A106<=Daten!$B$8,LOOKUP($B106,Daten!$A$169:$A$218,Daten!$Z$169:$Z$218),\"\") & \" \" & IF($A106<=Daten!$B$8,LOOKUP($B106,Daten!$A$169:$A$218,Daten!$AA$169:$AA$218),\"\")","v":"15,4 Inhalt6Einh[15,4]"},null,{"$f":"IF($A106<=Daten!$B$8,LOOKUP($B106,Daten!$A$220:$A$269,Daten!$Z$220:$Z$269),\"\") & \" \" & IF($A106<=Daten!$B$8,LOOKUP($B106,Daten!$A$220:$A$269,Daten!$AA$220:$AA$269),\"\")","v":"15,5 Inhalt6Einh[15,5]"},null,{"$f":"IF($A106<=Daten!$B$8,LOOKUP($B106,Daten!$A$271:$A$320,Daten!$Z$271:$Z$320),\"\") & \" \" & IF($A106<=Daten!$B$8,LOOKUP($B106,Daten!$A$271:$A$320,Daten!$AA$271:$AA$320),\"\")","v":"15,6 Inhalt6Einh[15,6]"},null,{"$f":"IF($A106<=Daten!$B$8,LOOKUP($B106,Daten!$A$322:$A$371,Daten!$Z$322:$Z$371),\"\") & \" \" & IF($A106<=Daten!$B$8,LOOKUP($B106,Daten!$A$322:$A$371,Daten!$AA$322:$AA$371),\"\")","v":"15,7 Inhalt6Einh[15,7]"}]
[null,{"$f":"IF(A106<=Daten!$B$8,\"Zusatzstoffe\",\"\")","v":"Zusatzstoffe"},{"$f":"IF($A106<=Daten!$B$8,LOOKUP($B106,Daten!$A$16:$A$65,Daten!$L$16:$L$65),\"\")","v":15.1},{"$f":"IF($A106<=Daten!$B$8,LOOKUP($B106,Daten!$A$16:$A$65,Daten!$D$16:$D$65),\"\")","v":15.1},{"$f":"IF($A106<=Daten!$B$8,LOOKUP($B106,Daten!$A$67:$A$116,Daten!$L$67:$L$116),\"\")","v":15.2},{"$f":"IF($A106<=Daten!$B$8,LOOKUP($B106,Daten!$A$16:$A$65,Daten!$D$67:$D$116),\"\")","v":15.2},{"$f":"IF($A106<=Daten!$B$8,LOOKUP($B106,Daten!$A$118:$A$167,Daten!$L$118:$L$167),\"\")","v":15.3},{"$f":"IF($A106<=Daten!$B$8,LOOKUP($B106,Daten!$A$118:$A$167,Daten!$D$118:$D$167),\"\")","v":15.3},{"$f":"IF($A106<=Daten!$B$8,LOOKUP($B106,Daten!$A$169:$A$218,Daten!$L$169:$L$218),\"\")","v":15.4},{"$f":"IF($A106<=Daten!$B$8,LOOKUP($B106,Daten!$A$169:$A$218,Daten!$D$169:$D$218),\"\")","v":15.4},{"$f":"IF($A106<=Daten!$B$8,LOOKUP($B106,Daten!$A$220:$A$269,Daten!$L$220:$L$269),\"\")","v":15.5},{"$f":"IF($A106<=Daten!$B$8,LOOKUP($B106,Daten!$A$220:$A$269,Daten!$D$220:$D$269),\"\")","v":15.5},{"$f":"IF($A106<=Daten!$B$8,LOOKUP($B106,Daten!$A$271:$A$320,Daten!$L$271:$L$320),\"\")","v":15.6},{"$f":"IF($A106<=Daten!$B$8,LOOKUP($B106,Daten!$A$271:$A$320,Daten!$D$271:$D$320),\"\")","v":15.6},{"$f":"IF($A106<=Daten!$B$8,LOOKUP($B106,Daten!$A$322:$A$371,Daten!$L$322:$L$371),\"\")","v":15.7},{"$f":"IF($A106<=Daten!$B$8,LOOKUP($B106,Daten!$A$322:$A$371,Daten!$D$322:$D$371),\"\")","v":15.7}]
[16,{"$f":"IF(A113<=Daten!$B$8,Daten!Q9,\"\")","v":"Menülinie 16"},{"$f":"IF(A113<=Daten!$B$8,LOOKUP(B113,Daten!$A$16:$A$65,Daten!$C$16:$C$65),\"\")","v":"Lang[16,1]"},{"$f":"IF($A113<=Daten!$B$8,LOOKUP($B113,Daten!$A$16:$A$65,Daten!$P$16:$P$65),\"\") & \" \" & IF($A113<=Daten!$B$8,LOOKUP($B113,Daten!$A$16:$A$65,Daten!$Q$16:$Q$65),\"\")","v":"16,1 Inhalt1Einh[16,1]"},{"$f":"IF($A113<=Daten!$B$8,LOOKUP($B113,Daten!$A$67:$A$116,Daten!$C$67:$C$116),\"\")","v":"Lang[16,2]"},{"$f":"IF($A113<=Daten!$B$8,LOOKUP($B113,Daten!$A$67:$A$116,Daten!$P$67:$P$116),\"\") & \" \" & IF($A113<=Daten!$B$8,LOOKUP($B113,Daten!$A$67:$A$116,Daten!$Q$67:$Q$116),\"\")","v":"16,2 Inhalt1Einh[16,2]"},{"$f":"IF($A113<=Daten!$B$8,LOOKUP($B113,Daten!$A$118:$A$167,Daten!$C$118:$C$167),\"\")","v":"Lang[16,3]"},{"$f":"IF($A113<=Daten!$B$8,LOOKUP($B113,Daten!$A$118:$A$167,Daten!$P$118:$P$167),\"\") & \" \" & IF($A113<=Daten!$B$8,LOOKUP($B113,Daten!$A$118:$A$167,Daten!$Q$118:$Q$167),\"\")","v":"16,3 Inhalt1Einh[16,3]"},{"$f":"IF($A113<=Daten!$B$8,LOOKUP($B113,Daten!$A$169:$A$218,Daten!$C$169:$C$218),\"\")","v":"Lang[16,4]"},{"$f":"IF($A113<=Daten!$B$8,LOOKUP($B113,Daten!$A$169:$A$218,Daten!$P$169:$P$218),\"\") & \" \" & IF($A113<=Daten!$B$8,LOOKUP($B113,Daten!$A$169:$A$218,Daten!$Q$169:$Q$218),\"\")","v":"16,4 Inhalt1Einh[16,4]"},{"$f":"IF($A113<=Daten!$B$8,LOOKUP($B113,Daten!$A$220:$A$269,Daten!$C$220:$C$269),\"\")","v":"Lang[16,5]"},{"$f":"IF($A113<=Daten!$B$8,LOOKUP($B113,Daten!$A$220:$A$269,Daten!$P$220:$P$269),\"\") & \" \" & IF($A113<=Daten!$B$8,LOOKUP($B113,Daten!$A$220:$A$269,Daten!$Q$220:$Q$269),\"\")","v":"16,5 Inhalt1Einh[16,5]"},{"$f":"IF($A113<=Daten!$B$8,LOOKUP($B113,Daten!$A$271:$A$320,Daten!$C$271:$C$320),\"\")","v":"Lang[16,6]"},{"$f":"IF($A113<=Daten!$B$8,LOOKUP($B113,Daten!$A$271:$A$320,Daten!$P$271:$P$320),\"\") & \" \" & IF($A113<=Daten!$B$8,LOOKUP($B113,Daten!$A$271:$A$320,Daten!$Q$271:$Q$320),\"\")","v":"16,6 Inhalt1Einh[16,6]"},{"$f":"IF($A113<=Daten!$B$8,LOOKUP($B113,Daten!$A$322:$A$371,Daten!$B$322:$C$371),\"\")","v":{"$error":"#N/A"}},{"$f":"IF($A113<=Daten!$B$8,LOOKUP($B113,Daten!$A$322:$A$371,Daten!$P$322:$P$371),\"\") & \" \" & IF($A113<=Daten!$B$8,LOOKUP($B113,Daten!$A$322:$A$371,Daten!$Q$322:$Q$371),\"\")","v":"16,7 Inhalt1Einh[16,7]"}]
[null,null,null,{"$f":"IF($A113<=Daten!$B$8,LOOKUP($B113,Daten!$A$16:$A$65,Daten!$R$16:$R$65),\"\") & \" \" & IF($A113<=Daten!$B$8,LOOKUP($B113,Daten!$A$16:$A$65,Daten!$S$16:$S$65),\"\")","v":"16,1 Inhalt2Einh[16,1]"},null,{"$f":"IF($A113<=Daten!$B$8,LOOKUP($B113,Daten!$A$67:$A$116,Daten!$R$67:$R$116),\"\") & \" \" & IF($A113<=Daten!$B$8,LOOKUP($B113,Daten!$A$67:$A$116,Daten!$S$67:$S$116),\"\")","v":"16,2 Inhalt2Einh[16,2]"},null,{"$f":"IF($A113<=Daten!$B$8,LOOKUP($B113,Daten!$A$118:$A$167,Daten!$R$118:$R$167),\"\") & \" \" & IF($A113<=Daten!$B$8,LOOKUP($B113,Daten!$A$118:$A$167,Daten!$S$118:$S$167),\"\")","v":"16,3 Inhalt2Einh[16,3]"},null,{"$f":"IF($A113<=Daten!$B$8,LOOKUP($B113,Daten!$A$169:$A$218,Daten!$R$169:$R$218),\"\") & \" \" & IF($A113<=Daten!$B$8,LOOKUP($B113,Daten!$A$169:$A$218,Daten!$S$169:$S$218),\"\")","v":"16,4 Inhalt2Einh[16,4]"},null,{"$f":"IF($A113<=Daten!$B$8,LOOKUP($B113,Daten!$A$220:$A$269,Daten!$R$220:$R$269),\"\") & \" \" & IF($A113<=Daten!$B$8,LOOKUP($B113,Daten!$A$220:$A$269,Daten!$S$220:$S$269),\"\")","v":"16,5 Inhalt2Einh[16,5]"},null,{"$f":"IF($A113<=Daten!$B$8,LOOKUP($B113,Daten!$A$271:$A$320,Daten!$R$271:$R$320),\"\") & \" \" & IF($A113<=Daten!$B$8,LOOKUP($B113,Daten!$A$271:$A$320,Daten!$S$271:$S$320),\"\")","v":"16,6 Inhalt2Einh[16,6]"},null,{"$f":"IF($A113<=Daten!$B$8,LOOKUP($B113,Daten!$A$322:$A$371,Daten!$R$322:$R$371),\"\") & \" \" & IF($A113<=Daten!$B$8,LOOKUP($B113,Daten!$A$322:$A$371,Daten!$S$322:$S$371),\"\")","v":"16,7 Inhalt2Einh[16,7]"}]
[null,null,null,{"$f":"IF($A113<=Daten!$B$8,LOOKUP($B113,Daten!$A$16:$A$65,Daten!$T$16:$T$65),\"\") & \" \" & IF($A113<=Daten!$B$8,LOOKUP($B113,Daten!$A$16:$A$65,Daten!$U$16:$U$65),\"\")","v":"16,1 Inhalt3Einh[16,1]"},null,{"$f":"IF($A113<=Daten!$B$8,LOOKUP($B113,Daten!$A$67:$A$116,Daten!$T$67:$T$116),\"\") & \" \" & IF($A113<=Daten!$B$8,LOOKUP($B113,Daten!$A$67:$A$116,Daten!$U$67:$U$116),\"\")","v":"16,2 Inhalt3Einh[16,2]"},null,{"$f":"IF($A113<=Daten!$B$8,LOOKUP($B113,Daten!$A$118:$A$167,Daten!$T$118:$T$167),\"\") & \" \" & IF($A113<=Daten!$B$8,LOOKUP($B113,Daten!$A$118:$A$167,Daten!$U$118:$U$167),\"\")","v":"16,3 Inhalt3Einh[16,3]"},null,{"$f":"IF($A113<=Daten!$B$8,LOOKUP($B113,Daten!$A$169:$A$218,Daten!$T$169:$T$218),\"\") & \" \" & IF($A113<=Daten!$B$8,LOOKUP($B113,Daten!$A$169:$A$218,Daten!$U$169:$U$218),\"\")","v":"16,4 Inhalt3Einh[16,4]"},null,{"$f":"IF($A113<=Daten!$B$8,LOOKUP($B113,Daten!$A$220:$A$269,Daten!$T$220:$T$269),\"\") & \" \" & IF($A113<=Daten!$B$8,LOOKUP($B113,Daten!$A$220:$A$269,Daten!$U$220:$U$269),\"\")","v":"16,5 Inhalt3Einh[16,5]"},null,{"$f":"IF($A113<=Daten!$B$8,LOOKUP($B113,Daten!$A$271:$A$320,Daten!$T$271:$T$320),\"\") & \" \" & IF($A113<=Daten!$B$8,LOOKUP($B113,Daten!$A$271:$A$320,Daten!$U$271:$U$320),\"\")","v":"16,6 Inhalt3Einh[16,6]"},null,{"$f":"IF($A113<=Daten!$B$8,LOOKUP($B113,Daten!$A$322:$A$371,Daten!$T$322:$T$371),\"\") & \" \" & IF($A113<=Daten!$B$8,LOOKUP($B113,Daten!$A$322:$A$371,Daten!$U$322:$U$371),\"\")","v":"16,7 Inhalt3Einh[16,7]"}]
[null,null,null,{"$f":"IF($A113<=Daten!$B$8,LOOKUP($B113,Daten!$A$16:$A$65,Daten!$V$16:$V$65),\"\") & \" \" & IF($A113<=Daten!$B$8,LOOKUP($B113,Daten!$A$16:$A$65,Daten!$W$16:$W$65),\"\")","v":"16,1 Inhalt4Einh[16,1]"},null,{"$f":"IF($A113<=Daten!$B$8,LOOKUP($B113,Daten!$A$67:$A$116,Daten!$V$67:$V$116),\"\") & \" \" & IF($A113<=Daten!$B$8,LOOKUP($B113,Daten!$A$67:$A$116,Daten!$W$67:$W$116),\"\")","v":"16,2 Inhalt4Einh[16,2]"},null,{"$f":"IF($A113<=Daten!$B$8,LOOKUP($B113,Daten!$A$118:$A$167,Daten!$V$118:$V$167),\"\") & \" \" & IF($A113<=Daten!$B$8,LOOKUP($B113,Daten!$A$118:$A$167,Daten!$W$118:$W$167),\"\")","v":"16,3 Inhalt4Einh[16,3]"},null,{"$f":"IF($A113<=Daten!$B$8,LOOKUP($B113,Daten!$A$169:$A$218,Daten!$V$169:$V$218),\"\") & \" \" & IF($A113<=Daten!$B$8,LOOKUP($B113,Daten!$A$169:$A$218,Daten!$W$169:$W$218),\"\")","v":"16,4 Inhalt4Einh[16,4]"},null,{"$f":"IF($A113<=Daten!$B$8,LOOKUP($B113,Daten!$A$220:$A$269,Daten!$V$220:$V$269),\"\") & \" \" & IF($A113<=Daten!$B$8,LOOKUP($B113,Daten!$A$220:$A$269,Daten!$W$220:$W$269),\"\")","v":"16,5 Inhalt4Einh[16,5]"},null,{"$f":"IF($A113<=Daten!$B$8,LOOKUP($B113,Daten!$A$271:$A$320,Daten!$V$271:$V$320),\"\") & \" \" & IF($A113<=Daten!$B$8,LOOKUP($B113,Daten!$A$271:$A$320,Daten!$W$271:$W$320),\"\")","v":"16,6 Inhalt4Einh[16,6]"},null,{"$f":"IF($A113<=Daten!$B$8,LOOKUP($B113,Daten!$A$322:$A$371,Daten!$V$322:$V$371),\"\") & \" \" & IF($A113<=Daten!$B$8,LOOKUP($B113,Daten!$A$322:$A$371,Daten!$W$322:$W$371),\"\")","v":"16,7 Inhalt4Einh[16,7]"}]
[null,null,null,{"$f":"IF($A113<=Daten!$B$8,LOOKUP($B113,Daten!$A$16:$A$65,Daten!$X$16:$X$65),\"\") & \" \" & IF($A113<=Daten!$B$8,LOOKUP($B113,Daten!$A$16:$A$65,Daten!$Y$16:$Y$65),\"\")","v":"16,1 Inhalt5Einh[16,1]"},null,{"$f":"IF($A113<=Daten!$B$8,LOOKUP($B113,Daten!$A$67:$A$116,Daten!$X$67:$X$116),\"\") & \" \" & IF($A113<=Daten!$B$8,LOOKUP($B113,Daten!$A$67:$A$116,Daten!$Y$67:$Y$116),\"\")","v":"16,2 Inhalt5Einh[16,2]"},null,{"$f":"IF($A113<=Daten!$B$8,LOOKUP($B113,Daten!$A$118:$A$167,Daten!$X$118:$X$167),\"\") & \" \" & IF($A113<=Daten!$B$8,LOOKUP($B113,Daten!$A$118:$A$167,Daten!$Y$118:$Y$167),\"\")","v":"16,3 Inhalt5Einh[16,3]"},null,{"$f":"IF($A113<=Daten!$B$8,LOOKUP($B113,Daten!$A$169:$A$218,Daten!$X$169:$X$218),\"\") & \" \" & IF($A113<=Daten!$B$8,LOOKUP($B113,Daten!$A$169:$A$218,Daten!$Y$169:$Y$218),\"\")","v":"16,4 Inhalt5Einh[16,4]"},null,{"$f":"IF($A113<=Daten!$B$8,LOOKUP($B113,Daten!$A$220:$A$269,Daten!$X$220:$X$269),\"\") & \" \" & IF($A113<=Daten!$B$8,LOOKUP($B113,Daten!$A$220:$A$269,Daten!$Y$220:$Y$269),\"\")","v":"16,5 Inhalt5Einh[16,5]"},null,{"$f":"IF($A113<=Daten!$B$8,LOOKUP($B113,Daten!$A$271:$A$320,Daten!$X$271:$X$320),\"\") & \" \" & IF($A113<=Daten!$B$8,LOOKUP($B113,Daten!$A$271:$A$320,Daten!$Y$271:$Y$320),\"\")","v":"16,6 Inhalt5Einh[16,6]"},null,{"$f":"IF($A113<=Daten!$B$8,LOOKUP($B113,Daten!$A$322:$A$371,Daten!$X$322:$X$371),\"\") & \" \" & IF($A113<=Daten!$B$8,LOOKUP($B113,Daten!$A$322:$A$371,Daten!$Y$322:$Y$371),\"\")","v":"16,7 Inhalt5Einh[16,7]"}]
[null,null,null,{"$f":"IF($A113<=Daten!$B$8,LOOKUP($B113,Daten!$A$16:$A$65,Daten!$Z$16:$Z$65),\"\") & \" \" & IF($A113<=Daten!$B$8,LOOKUP($B113,Daten!$A$16:$A$65,Daten!$AA$16:$AA$65),\"\")","v":"16,1 Inhalt6Einh[16,1]"},null,{"$f":"IF($A113<=Daten!$B$8,LOOKUP($B113,Daten!$A$67:$A$116,Daten!$Z$67:$Z$116),\"\") & \" \" & IF($A113<=Daten!$B$8,LOOKUP($B113,Daten!$A$67:$A$116,Daten!$AA$67:$AA$116),\"\")","v":"16,2 Inhalt6Einh[16,2]"},null,{"$f":"IF($A113<=Daten!$B$8,LOOKUP($B113,Daten!$A$118:$A$167,Daten!$Z$118:$Z$167),\"\") & \" \" & IF($A113<=Daten!$B$8,LOOKUP($B113,Daten!$A$118:$A$167,Daten!$AA$118:$AA$167),\"\")","v":"16,3 Inhalt6Einh[16,3]"},null,{"$f":"IF($A113<=Daten!$B$8,LOOKUP($B113,Daten!$A$169:$A$218,Daten!$Z$169:$Z$218),\"\") & \" \" & IF($A113<=Daten!$B$8,LOOKUP($B113,Daten!$A$169:$A$218,Daten!$AA$169:$AA$218),\"\")","v":"16,4 Inhalt6Einh[16,4]"},null,{"$f":"IF($A113<=Daten!$B$8,LOOKUP($B113,Daten!$A$220:$A$269,Daten!$Z$220:$Z$269),\"\") & \" \" & IF($A113<=Daten!$B$8,LOOKUP($B113,Daten!$A$220:$A$269,Daten!$AA$220:$AA$269),\"\")","v":"16,5 Inhalt6Einh[16,5]"},null,{"$f":"IF($A113<=Daten!$B$8,LOOKUP($B113,Daten!$A$271:$A$320,Daten!$Z$271:$Z$320),\"\") & \" \" & IF($A113<=Daten!$B$8,LOOKUP($B113,Daten!$A$271:$A$320,Daten!$AA$271:$AA$320),\"\")","v":"16,6 Inhalt6Einh[16,6]"},null,{"$f":"IF($A113<=Daten!$B$8,LOOKUP($B113,Daten!$A$322:$A$371,Daten!$Z$322:$Z$371),\"\") & \" \" & IF($A113<=Daten!$B$8,LOOKUP($B113,Daten!$A$322:$A$371,Daten!$AA$322:$AA$371),\"\")","v":"16,7 Inhalt6Einh[16,7]"}]
[null,{"$f":"IF(A113<=Daten!$B$8,\"Zusatzstoffe\",\"\")","v":"Zusatzstoffe"},{"$f":"IF($A113<=Daten!$B$8,LOOKUP($B113,Daten!$A$16:$A$65,Daten!$L$16:$L$65),\"\")","v":16.100000000000001},{"$f":"IF($A113<=Daten!$B$8,LOOKUP($B113,Daten!$A$16:$A$65,Daten!$D$16:$D$65),\"\")","v":16.100000000000001},{"$f":"IF($A113<=Daten!$B$8,LOOKUP($B113,Daten!$A$67:$A$116,Daten!$L$67:$L$116),\"\")","v":16.2},{"$f":"IF($A113<=Daten!$B$8,LOOKUP($B113,Daten!$A$16:$A$65,Daten!$D$67:$D$116),\"\")","v":16.2},{"$f":"IF($A113<=Daten!$B$8,LOOKUP($B113,Daten!$A$118:$A$167,Daten!$L$118:$L$167),\"\")","v":16.3},{"$f":"IF($A113<=Daten!$B$8,LOOKUP($B113,Daten!$A$118:$A$167,Daten!$D$118:$D$167),\"\")","v":16.3},{"$f":"IF($A113<=Daten!$B$8,LOOKUP($B113,Daten!$A$169:$A$218,Daten!$L$169:$L$218),\"\")","v":16.399999999999999},{"$f":"IF($A113<=Daten!$B$8,LOOKUP($B113,Daten!$A$169:$A$218,Daten!$D$169:$D$218),\"\")","v":16.399999999999999},{"$f":"IF($A113<=Daten!$B$8,LOOKUP($B113,Daten!$A$220:$A$269,Daten!$L$220:$L$269),\"\")","v":16.5},{"$f":"IF($A113<=Daten!$B$8,LOOKUP($B113,Daten!$A$220:$A$269,Daten!$D$220:$D$269),\"\")","v":16.5},{"$f":"IF($A113<=Daten!$B$8,LOOKUP($B113,Daten!$A$271:$A$320,Daten!$L$271:$L$320),\"\")","v":16.600000000000001},{"$f":"IF($A113<=Daten!$B$8,LOOKUP($B113,Daten!$A$271:$A$320,Daten!$D$271:$D$320),\"\")","v":16.600000000000001},{"$f":"IF($A113<=Daten!$B$8,LOOKUP($B113,Daten!$A$322:$A$371,Daten!$L$322:$L$371),\"\")","v":16.7},{"$f":"IF($A113<=Daten!$B$8,LOOKUP($B113,Daten!$A$322:$A$371,Daten!$D$322:$D$371),\"\")","v":16.7}]
[17,{"$f":"IF(A120<=Daten!$B$8,Daten!R9,\"\")","v":"Menülinie 17"},{"$f":"IF(A120<=Daten!$B$8,LOOKUP(B120,Daten!$A$16:$A$65,Daten!$C$16:$C$65),\"\")","v":"Lang[17,1]"},{"$f":"IF($A120<=Daten!$B$8,LOOKUP($B120,Daten!$A$16:$A$65,Daten!$P$16:$P$65),\"\") & \" \" & IF($A120<=Daten!$B$8,LOOKUP($B120,Daten!$A$16:$A$65,Daten!$Q$16:$Q$65),\"\")","v":"17,1 Inhalt1Einh[17,1]"},{"$f":"IF($A120<=Daten!$B$8,LOOKUP($B120,Daten!$A$67:$A$116,Daten!$C$67:$C$116),\"\")","v":"Lang[17,2]"},{"$f":"IF($A120<=Daten!$B$8,LOOKUP($B120,Daten!$A$67:$A$116,Daten!$P$67:$P$116),\"\") & \" \" & IF($A120<=Daten!$B$8,LOOKUP($B120,Daten!$A$67:$A$116,Daten!$Q$67:$Q$116),\"\")","v":"17,2 Inhalt1Einh[17,2]"},{"$f":"IF($A120<=Daten!$B$8,LOOKUP($B120,Daten!$A$118:$A$167,Daten!$C$118:$C$167),\"\")","v":"Lang[17,3]"},{"$f":"IF($A120<=Daten!$B$8,LOOKUP($B120,Daten!$A$118:$A$167,Daten!$P$118:$P$167),\"\") & \" \" & IF($A120<=Daten!$B$8,LOOKUP($B120,Daten!$A$118:$A$167,Daten!$Q$118:$Q$167),\"\")","v":"17,3 Inhalt1Einh[17,3]"},{"$f":"IF($A120<=Daten!$B$8,LOOKUP($B120,Daten!$A$169:$A$218,Daten!$C$169:$C$218),\"\")","v":"Lang[17,4]"},{"$f":"IF($A120<=Daten!$B$8,LOOKUP($B120,Daten!$A$169:$A$218,Daten!$P$169:$P$218),\"\") & \" \" & IF($A120<=Daten!$B$8,LOOKUP($B120,Daten!$A$169:$A$218,Daten!$Q$169:$Q$218),\"\")","v":"17,4 Inhalt1Einh[17,4]"},{"$f":"IF($A120<=Daten!$B$8,LOOKUP($B120,Daten!$A$220:$A$269,Daten!$C$220:$C$269),\"\")","v":"Lang[17,5]"},{"$f":"IF($A120<=Daten!$B$8,LOOKUP($B120,Daten!$A$220:$A$269,Daten!$P$220:$P$269),\"\") & \" \" & IF($A120<=Daten!$B$8,LOOKUP($B120,Daten!$A$220:$A$269,Daten!$Q$220:$Q$269),\"\")","v":"17,5 Inhalt1Einh[17,5]"},{"$f":"IF($A120<=Daten!$B$8,LOOKUP($B120,Daten!$A$271:$A$320,Daten!$C$271:$C$320),\"\")","v":"Lang[17,6]"},{"$f":"IF($A120<=Daten!$B$8,LOOKUP($B120,Daten!$A$271:$A$320,Daten!$P$271:$P$320),\"\") & \" \" & IF($A120<=Daten!$B$8,LOOKUP($B120,Daten!$A$271:$A$320,Daten!$Q$271:$Q$320),\"\")","v":"17,6 Inhalt1Einh[17,6]"},{"$f":"IF($A120<=Daten!$B$8,LOOKUP($B120,Daten!$A$322:$A$371,Daten!$B$322:$C$371),\"\")","v":{"$error":"#N/A"}},{"$f":"IF($A120<=Daten!$B$8,LOOKUP($B120,Daten!$A$322:$A$371,Daten!$P$322:$P$371),\"\") & \" \" & IF($A120<=Daten!$B$8,LOOKUP($B120,Daten!$A$322:$A$371,Daten!$Q$322:$Q$371),\"\")","v":"17,7 Inhalt1Einh[17,7]"}]
[null,null,null,{"$f":"IF($A120<=Daten!$B$8,LOOKUP($B120,Daten!$A$16:$A$65,Daten!$R$16:$R$65),\"\") & \" \" & IF($A120<=Daten!$B$8,LOOKUP($B120,Daten!$A$16:$A$65,Daten!$S$16:$S$65),\"\")","v":"17,1 Inhalt2Einh[17,1]"},null,{"$f":"IF($A120<=Daten!$B$8,LOOKUP($B120,Daten!$A$67:$A$116,Daten!$R$67:$R$116),\"\") & \" \" & IF($A120<=Daten!$B$8,LOOKUP($B120,Daten!$A$67:$A$116,Daten!$S$67:$S$116),\"\")","v":"17,2 Inhalt2Einh[17,2]"},null,{"$f":"IF($A120<=Daten!$B$8,LOOKUP($B120,Daten!$A$118:$A$167,Daten!$R$118:$R$167),\"\") & \" \" & IF($A120<=Daten!$B$8,LOOKUP($B120,Daten!$A$118:$A$167,Daten!$S$118:$S$167),\"\")","v":"17,3 Inhalt2Einh[17,3]"},null,{"$f":"IF($A120<=Daten!$B$8,LOOKUP($B120,Daten!$A$169:$A$218,Daten!$R$169:$R$218),\"\") & \" \" & IF($A120<=Daten!$B$8,LOOKUP($B120,Daten!$A$169:$A$218,Daten!$S$169:$S$218),\"\")","v":"17,4 Inhalt2Einh[17,4]"},null,{"$f":"IF($A120<=Daten!$B$8,LOOKUP($B120,Daten!$A$220:$A$269,Daten!$R$220:$R$269),\"\") & \" \" & IF($A120<=Daten!$B$8,LOOKUP($B120,Daten!$A$220:$A$269,Daten!$S$220:$S$269),\"\")","v":"17,5 Inhalt2Einh[17,5]"},null,{"$f":"IF($A120<=Daten!$B$8,LOOKUP($B120,Daten!$A$271:$A$320,Daten!$R$271:$R$320),\"\") & \" \" & IF($A120<=Daten!$B$8,LOOKUP($B120,Daten!$A$271:$A$320,Daten!$S$271:$S$320),\"\")","v":"17,6 Inhalt2Einh[17,6]"},null,{"$f":"IF($A120<=Daten!$B$8,LOOKUP($B120,Daten!$A$322:$A$371,Daten!$R$322:$R$371),\"\") & \" \" & IF($A120<=Daten!$B$8,LOOKUP($B120,Daten!$A$322:$A$371,Daten!$S$322:$S$371),\"\")","v":"17,7 Inhalt2Einh[17,7]"}]
[null,null,null,{"$f":"IF($A120<=Daten!$B$8,LOOKUP($B120,Daten!$A$16:$A$65,Daten!$T$16:$T$65),\"\") & \" \" & IF($A120<=Daten!$B$8,LOOKUP($B120,Daten!$A$16:$A$65,Daten!$U$16:$U$65),\"\")","v":"17,1 Inhalt3Einh[17,1]"},null,{"$f":"IF($A120<=Daten!$B$8,LOOKUP($B120,Daten!$A$67:$A$116,Daten!$T$67:$T$116),\"\") & \" \" & IF($A120<=Daten!$B$8,LOOKUP($B120,Daten!$A$67:$A$116,Daten!$U$67:$U$116),\"\")","v":"17,2 Inhalt3Einh[17,2]"},null,{"$f":"IF($A120<=Daten!$B$8,LOOKUP($B120,Daten!$A$118:$A$167,Daten!$T$118:$T$167),\"\") & \" \" & IF($A120<=Daten!$B$8,LOOKUP($B120,Daten!$A$118:$A$167,Daten!$U$118:$U$167),\"\")","v":"17,3 Inhalt3Einh[17,3]"},null,{"$f":"IF($A120<=Daten!$B$8,LOOKUP($B120,Daten!$A$169:$A$218,Daten!$T$169:$T$218),\"\") & \" \" & IF($A120<=Daten!$B$8,LOOKUP($B120,Daten!$A$169:$A$218,Daten!$U$169:$U$218),\"\")","v":"17,4 Inhalt3Einh[17,4]"},null,{"$f":"IF($A120<=Daten!$B$8,LOOKUP($B120,Daten!$A$220:$A$269,Daten!$T$220:$T$269),\"\") & \" \" & IF($A120<=Daten!$B$8,LOOKUP($B120,Daten!$A$220:$A$269,Daten!$U$220:$U$269),\"\")","v":"17,5 Inhalt3Einh[17,5]"},null,{"$f":"IF($A120<=Daten!$B$8,LOOKUP($B120,Daten!$A$271:$A$320,Daten!$T$271:$T$320),\"\") & \" \" & IF($A120<=Daten!$B$8,LOOKUP($B120,Daten!$A$271:$A$320,Daten!$U$271:$U$320),\"\")","v":"17,6 Inhalt3Einh[17,6]"},null,{"$f":"IF($A120<=Daten!$B$8,LOOKUP($B120,Daten!$A$322:$A$371,Daten!$T$322:$T$371),\"\") & \" \" & IF($A120<=Daten!$B$8,LOOKUP($B120,Daten!$A$322:$A$371,Daten!$U$322:$U$371),\"\")","v":"17,7 Inhalt3Einh[17,7]"}]
[null,null,null,{"$f":"IF($A120<=Daten!$B$8,LOOKUP($B120,Daten!$A$16:$A$65,Daten!$V$16:$V$65),\"\") & \" \" & IF($A120<=Daten!$B$8,LOOKUP($B120,Daten!$A$16:$A$65,Daten!$W$16:$W$65),\"\")","v":"17,1 Inhalt4Einh[17,1]"},null,{"$f":"IF($A120<=Daten!$B$8,LOOKUP($B120,Daten!$A$67:$A$116,Daten!$V$67:$V$116),\"\") & \" \" & IF($A120<=Daten!$B$8,LOOKUP($B120,Daten!$A$67:$A$116,Daten!$W$67:$W$116),\"\")","v":"17,2 Inhalt4Einh[17,2]"},null,{"$f":"IF($A120<=Daten!$B$8,LOOKUP($B120,Daten!$A$118:$A$167,Daten!$V$118:$V$167),\"\") & \" \" & IF($A120<=Daten!$B$8,LOOKUP($B120,Daten!$A$118:$A$167,Daten!$W$118:$W$167),\"\")","v":"17,3 Inhalt4Einh[17,3]"},null,{"$f":"IF($A120<=Daten!$B$8,LOOKUP($B120,Daten!$A$169:$A$218,Daten!$V$169:$V$218),\"\") & \" \" & IF($A120<=Daten!$B$8,LOOKUP($B120,Daten!$A$169:$A$218,Daten!$W$169:$W$218),\"\")","v":"17,4 Inhalt4Einh[17,4]"},null,{"$f":"IF($A120<=Daten!$B$8,LOOKUP($B120,Daten!$A$220:$A$269,Daten!$V$220:$V$269),\"\") & \" \" & IF($A120<=Daten!$B$8,LOOKUP($B120,Daten!$A$220:$A$269,Daten!$W$220:$W$269),\"\")","v":"17,5 Inhalt4Einh[17,5]"},null,{"$f":"IF($A120<=Daten!$B$8,LOOKUP($B120,Daten!$A$271:$A$320,Daten!$V$271:$V$320),\"\") & \" \" & IF($A120<=Daten!$B$8,LOOKUP($B120,Daten!$A$271:$A$320,Daten!$W$271:$W$320),\"\")","v":"17,6 Inhalt4Einh[17,6]"},null,{"$f":"IF($A120<=Daten!$B$8,LOOKUP($B120,Daten!$A$322:$A$371,Daten!$V$322:$V$371),\"\") & \" \" & IF($A120<=Daten!$B$8,LOOKUP($B120,Daten!$A$322:$A$371,Daten!$W$322:$W$371),\"\")","v":"17,7 Inhalt4Einh[17,7]"}]
[null,null,null,{"$f":"IF($A120<=Daten!$B$8,LOOKUP($B120,Daten!$A$16:$A$65,Daten!$X$16:$X$65),\"\") & \" \" & IF($A120<=Daten!$B$8,LOOKUP($B120,Daten!$A$16:$A$65,Daten!$Y$16:$Y$65),\"\")","v":"17,1 Inhalt5Einh[17,1]"},null,{"$f":"IF($A120<=Daten!$B$8,LOOKUP($B120,Daten!$A$67:$A$116,Daten!$X$67:$X$116),\"\") & \" \" & IF($A120<=Daten!$B$8,LOOKUP($B120,Daten!$A$67:$A$116,Daten!$Y$67:$Y$116),\"\")","v":"17,2 Inhalt5Einh[17,2]"},null,{"$f":"IF($A120<=Daten!$B$8,LOOKUP($B120,Daten!$A$118:$A$167,Daten!$X$118:$X$167),\"\") & \" \" & IF($A120<=Daten!$B$8,LOOKUP($B120,Daten!$A$118:$A$167,Daten!$Y$118:$Y$167),\"\")","v":"17,3 Inhalt5Einh[17,3]"},null,{"$f":"IF($A120<=Daten!$B$8,LOOKUP($B120,Daten!$A$169:$A$218,Daten!$X$169:$X$218),\"\") & \" \" & IF($A120<=Daten!$B$8,LOOKUP($B120,Daten!$A$169:$A$218,Daten!$Y$169:$Y$218),\"\")","v":"17,4 Inhalt5Einh[17,4]"},null,{"$f":"IF($A120<=Daten!$B$8,LOOKUP($B120,Daten!$A$220:$A$269,Daten!$X$220:$X$269),\"\") & \" \" & IF($A120<=Daten!$B$8,LOOKUP($B120,Daten!$A$220:$A$269,Daten!$Y$220:$Y$269),\"\")","v":"17,5 Inhalt5Einh[17,5]"},null,{"$f":"IF($A120<=Daten!$B$8,LOOKUP($B120,Daten!$A$271:$A$320,Daten!$X$271:$X$320),\"\") & \" \" & IF($A120<=Daten!$B$8,LOOKUP($B120,Daten!$A$271:$A$320,Daten!$Y$271:$Y$320),\"\")","v":"17,6 Inhalt5Einh[17,6]"},null,{"$f":"IF($A120<=Daten!$B$8,LOOKUP($B120,Daten!$A$322:$A$371,Daten!$X$322:$X$371),\"\") & \" \" & IF($A120<=Daten!$B$8,LOOKUP($B120,Daten!$A$322:$A$371,Daten!$Y$322:$Y$371),\"\")","v":"17,7 Inhalt5Einh[17,7]"}]
[null,null,null,{"$f":"IF($A120<=Daten!$B$8,LOOKUP($B120,Daten!$A$16:$A$65,Daten!$Z$16:$Z$65),\"\") & \" \" & IF($A120<=Daten!$B$8,LOOKUP($B120,Daten!$A$16:$A$65,Daten!$AA$16:$AA$65),\"\")","v":"17,1 Inhalt6Einh[17,1]"},null,{"$f":"IF($A120<=Daten!$B$8,LOOKUP($B120,Daten!$A$67:$A$116,Daten!$Z$67:$Z$116),\"\") & \" \" & IF($A120<=Daten!$B$8,LOOKUP($B120,Daten!$A$67:$A$116,Daten!$AA$67:$AA$116),\"\")","v":"17,2 Inhalt6Einh[17,2]"},null,{"$f":"IF($A120<=Daten!$B$8,LOOKUP($B120,Daten!$A$118:$A$167,Daten!$Z$118:$Z$167),\"\") & \" \" & IF($A120<=Daten!$B$8,LOOKUP($B120,Daten!$A$118:$A$167,Daten!$AA$118:$AA$167),\"\")","v":"17,3 Inhalt6Einh[17,3]"},null,{"$f":"IF($A120<=Daten!$B$8,LOOKUP($B120,Daten!$A$169:$A$218,Daten!$Z$169:$Z$218),\"\") & \" \" & IF($A120<=Daten!$B$8,LOOKUP($B120,Daten!$A$169:$A$218,Daten!$AA$169:$AA$218),\"\")","v":"17,4 Inhalt6Einh[17,4]"},null,{"$f":"IF($A120<=Daten!$B$8,LOOKUP($B120,Daten!$A$220:$A$269,Daten!$Z$220:$Z$269),\"\") & \" \" & IF($A120<=Daten!$B$8,LOOKUP($B120,Daten!$A$220:$A$269,Daten!$AA$220:$AA$269),\"\")","v":"17,5 Inhalt6Einh[17,5]"},null,{"$f":"IF($A120<=Daten!$B$8,LOOKUP($B120,Daten!$A$271:$A$320,Daten!$Z$271:$Z$320),\"\") & \" \" & IF($A120<=Daten!$B$8,LOOKUP($B120,Daten!$A$271:$A$320,Daten!$AA$271:$AA$320),\"\")","v":"17,6 Inhalt6Einh[17,6]"},null,{"$f":"IF($A120<=Daten!$B$8,LOOKUP($B120,Daten!$A$322:$A$371,Daten!$Z$322:$Z$371),\"\") & \" \" & IF($A120<=Daten!$B$8,LOOKUP($B120,Daten!$A$322:$A$371,Daten!$AA$322:$AA$371),\"\")","v":"17,7 Inhalt6Einh[17,7]"}]
[null,{"$f":"IF(A120<=Daten!$B$8,\"Zusatzstoffe\",\"\")","v":"Zusatzstoffe"},{"$f":"IF($A120<=Daten!$B$8,LOOKUP($B120,Daten!$A$16:$A$65,Daten!$L$16:$L$65),\"\")","v":17.100000000000001},{"$f":"IF($A120<=Daten!$B$8,LOOKUP($B120,Daten!$A$16:$A$65,Daten!$D$16:$D$65),\"\")","v":17.100000000000001},{"$f":"IF($A120<=Daten!$B$8,LOOKUP($B120,Daten!$A$67:$A$116,Daten!$L$67:$L$116),\"\")","v":17.2},{"$f":"IF($A120<=Daten!$B$8,LOOKUP($B120,Daten!$A$16:$A$65,Daten!$D$67:$D$116),\"\")","v":17.2},{"$f":"IF($A120<=Daten!$B$8,LOOKUP($B120,Daten!$A$118:$A$167,Daten!$L$118:$L$167),\"\")","v":17.3},{"$f":"IF($A120<=Daten!$B$8,LOOKUP($B120,Daten!$A$118:$A$167,Daten!$D$118:$D$167),\"\")","v":17.3},{"$f":"IF($A120<=Daten!$B$8,LOOKUP($B120,Daten!$A$169:$A$218,Daten!$L$169:$L$218),\"\")","v":17.399999999999999},{"$f":"IF($A120<=Daten!$B$8,LOOKUP($B120,Daten!$A$169:$A$218,Daten!$D$169:$D$218),\"\")","v":17.399999999999999},{"$f":"IF($A120<=Daten!$B$8,LOOKUP($B120,Daten!$A$220:$A$269,Daten!$L$220:$L$269),\"\")","v":17.5},{"$f":"IF($A120<=Daten!$B$8,LOOKUP($B120,Daten!$A$220:$A$269,Daten!$D$220:$D$269),\"\")","v":17.5},{"$f":"IF($A120<=Daten!$B$8,LOOKUP($B120,Daten!$A$271:$A$320,Daten!$L$271:$L$320),\"\")","v":17.600000000000001},{"$f":"IF($A120<=Daten!$B$8,LOOKUP($B120,Daten!$A$271:$A$320,Daten!$D$271:$D$320),\"\")","v":17.600000000000001},{"$f":"IF($A120<=Daten!$B$8,LOOKUP($B120,Daten!$A$322:$A$371,Daten!$L$322:$L$371),\"\")","v":17.7},{"$f":"IF($A120<=Daten!$B$8,LOOKUP($B120,Daten!$A$322:$A$371,Daten!$D$322:$D$371),\"\")","v":17.7}]
[18,{"$f":"IF(A127<=Daten!$B$8,Daten!S9,\"\")","v":"Menülinie 18"},{"$f":"IF(A127<=Daten!$B$8,LOOKUP(B127,Daten!$A$16:$A$65,Daten!$C$16:$C$65),\"\")","v":"Lang[18,1]"},{"$f":"IF($A127<=Daten!$B$8,LOOKUP($B127,Daten!$A$16:$A$65,Daten!$P$16:$P$65),\"\") & \" \" & IF($A127<=Daten!$B$8,LOOKUP($B127,Daten!$A$16:$A$65,Daten!$Q$16:$Q$65),\"\")","v":"18,1 Inhalt1Einh[18,1]"},{"$f":"IF($A127<=Daten!$B$8,LOOKUP($B127,Daten!$A$57:$A$116,Daten!$C$57:$C$116),\"\")","v":"Lang[18,2]"},{"$f":"IF($A127<=Daten!$B$8,LOOKUP($B127,Daten!$A$57:$A$116,Daten!$P$57:$P$116),\"\") & \" \" & IF($A127<=Daten!$B$8,LOOKUP($B127,Daten!$A$57:$A$116,Daten!$Q$57:$Q$116),\"\")","v":"18,2 Inhalt1Einh[18,2]"},{"$f":"IF($A127<=Daten!$B$8,LOOKUP($B127,Daten!$A$118:$A$167,Daten!$C$118:$C$167),\"\")","v":"Lang[18,3]"},{"$f":"IF($A127<=Daten!$B$8,LOOKUP($B127,Daten!$A$118:$A$167,Daten!$P$118:$P$167),\"\") & \" \" & IF($A127<=Daten!$B$8,LOOKUP($B127,Daten!$A$118:$A$167,Daten!$Q$118:$Q$167),\"\")","v":"18,3 Inhalt1Einh[18,3]"},{"$f":"IF($A127<=Daten!$B$8,LOOKUP($B127,Daten!$A$169:$A$218,Daten!$C$169:$C$218),\"\")","v":"Lang[18,4]"},{"$f":"IF($A127<=Daten!$B$8,LOOKUP($B127,Daten!$A$169:$A$218,Daten!$P$169:$P$218),\"\") & \" \" & IF($A127<=Daten!$B$8,LOOKUP($B127,Daten!$A$169:$A$218,Daten!$Q$169:$Q$218),\"\")","v":"18,4 Inhalt1Einh[18,4]"},{"$f":"IF($A127<=Daten!$B$8,LOOKUP($B127,Daten!$A$220:$A$269,Daten!$C$220:$C$269),\"\")","v":"Lang[18,5]"},{"$f":"IF($A127<=Daten!$B$8,LOOKUP($B127,Daten!$A$220:$A$269,Daten!$P$220:$P$269),\"\") & \" \" & IF($A127<=Daten!$B$8,LOOKUP($B127,Daten!$A$220:$A$269,Daten!$Q$220:$Q$269),\"\")","v":"18,5 Inhalt1Einh[18,5]"},{"$f":"IF($A127<=Daten!$B$8,LOOKUP($B127,Daten!$A$271:$A$320,Daten!$C$271:$C$320),\"\")","v":"Lang[18,6]"},{"$f":"IF($A127<=Daten!$B$8,LOOKUP($B127,Daten!$A$271:$A$320,Daten!$P$271:$P$320),\"\") & \" \" & IF($A127<=Daten!$B$8,LOOKUP($B127,Daten!$A$271:$A$320,Daten!$Q$271:$Q$320),\"\")","v":"18,6 Inhalt1Einh[18,6]"},{"$f":"IF($A127<=Daten!$B$8,LOOKUP($B127,Daten!$A$322:$A$371,Daten!$B$322:$C$371),\"\")","v":{"$error":"#N/A"}},{"$f":"IF($A127<=Daten!$B$8,LOOKUP($B127,Daten!$A$322:$A$371,Daten!$P$322:$P$371),\"\") & \" \" & IF($A127<=Daten!$B$8,LOOKUP($B127,Daten!$A$322:$A$371,Daten!$Q$322:$Q$371),\"\")","v":"18,7 Inhalt1Einh[18,7]"}]
[null,null,null,{"$f":"IF($A127<=Daten!$B$8,LOOKUP($B127,Daten!$A$16:$A$65,Daten!$R$16:$R$65),\"\") & \" \" & IF($A127<=Daten!$B$8,LOOKUP($B127,Daten!$A$16:$A$65,Daten!$S$16:$S$65),\"\")","v":"18,1 Inhalt2Einh[18,1]"},null,{"$f":"IF($A127<=Daten!$B$8,LOOKUP($B127,Daten!$A$57:$A$116,Daten!$R$57:$R$116),\"\") & \" \" & IF($A127<=Daten!$B$8,LOOKUP($B127,Daten!$A$57:$A$116,Daten!$S$57:$S$116),\"\")","v":"18,2 Inhalt2Einh[18,2]"},null,{"$f":"IF($A127<=Daten!$B$8,LOOKUP($B127,Daten!$A$118:$A$167,Daten!$R$118:$R$167),\"\") & \" \" & IF($A127<=Daten!$B$8,LOOKUP($B127,Daten!$A$118:$A$167,Daten!$S$118:$S$167),\"\")","v":"18,3 Inhalt2Einh[18,3]"},null,{"$f":"IF($A127<=Daten!$B$8,LOOKUP($B127,Daten!$A$169:$A$218,Daten!$R$169:$R$218),\"\") & \" \" & IF($A127<=Daten!$B$8,LOOKUP($B127,Daten!$A$169:$A$218,Daten!$S$169:$S$218),\"\")","v":"18,4 Inhalt2Einh[18,4]"},null,{"$f":"IF($A127<=Daten!$B$8,LOOKUP($B127,Daten!$A$220:$A$269,Daten!$R$220:$R$269),\"\") & \" \" & IF($A127<=Daten!$B$8,LOOKUP($B127,Daten!$A$220:$A$269,Daten!$S$220:$S$269),\"\")","v":"18,5 Inhalt2Einh[18,5]"},null,{"$f":"IF($A127<=Daten!$B$8,LOOKUP($B127,Daten!$A$271:$A$320,Daten!$R$271:$R$320),\"\") & \" \" & IF($A127<=Daten!$B$8,LOOKUP($B127,Daten!$A$271:$A$320,Daten!$S$271:$S$320),\"\")","v":"18,6 Inhalt2Einh[18,6]"},null,{"$f":"IF($A127<=Daten!$B$8,LOOKUP($B127,Daten!$A$322:$A$371,Daten!$R$322:$R$371),\"\") & \" \" & IF($A127<=Daten!$B$8,LOOKUP($B127,Daten!$A$322:$A$371,Daten!$S$322:$S$371),\"\")","v":"18,7 Inhalt2Einh[18,7]"}]
[null,null,null,{"$f":"IF($A127<=Daten!$B$8,LOOKUP($B127,Daten!$A$16:$A$65,Daten!$T$16:$T$65),\"\") & \" \" & IF($A127<=Daten!$B$8,LOOKUP($B127,Daten!$A$16:$A$65,Daten!$U$16:$U$65),\"\")","v":"18,1 Inhalt3Einh[18,1]"},null,{"$f":"IF($A127<=Daten!$B$8,LOOKUP($B127,Daten!$A$57:$A$116,Daten!$T$57:$T$116),\"\") & \" \" & IF($A127<=Daten!$B$8,LOOKUP($B127,Daten!$A$57:$A$116,Daten!$U$57:$U$116),\"\")","v":"18,2 Inhalt3Einh[18,2]"},null,{"$f":"IF($A127<=Daten!$B$8,LOOKUP($B127,Daten!$A$118:$A$167,Daten!$T$118:$T$167),\"\") & \" \" & IF($A127<=Daten!$B$8,LOOKUP($B127,Daten!$A$118:$A$167,Daten!$U$118:$U$167),\"\")","v":"18,3 Inhalt3Einh[18,3]"},null,{"$f":"IF($A127<=Daten!$B$8,LOOKUP($B127,Daten!$A$169:$A$218,Daten!$T$169:$T$218),\"\") & \" \" & IF($A127<=Daten!$B$8,LOOKUP($B127,Daten!$A$169:$A$218,Daten!$U$169:$U$218),\"\")","v":"18,4 Inhalt3Einh[18,4]"},null,{"$f":"IF($A127<=Daten!$B$8,LOOKUP($B127,Daten!$A$220:$A$269,Daten!$T$220:$T$269),\"\") & \" \" & IF($A127<=Daten!$B$8,LOOKUP($B127,Daten!$A$220:$A$269,Daten!$U$220:$U$269),\"\")","v":"18,5 Inhalt3Einh[18,5]"},null,{"$f":"IF($A127<=Daten!$B$8,LOOKUP($B127,Daten!$A$271:$A$320,Daten!$T$271:$T$320),\"\") & \" \" & IF($A127<=Daten!$B$8,LOOKUP($B127,Daten!$A$271:$A$320,Daten!$U$271:$U$320),\"\")","v":"18,6 Inhalt3Einh[18,6]"},null,{"$f":"IF($A127<=Daten!$B$8,LOOKUP($B127,Daten!$A$322:$A$371,Daten!$T$322:$T$371),\"\") & \" \" & IF($A127<=Daten!$B$8,LOOKUP($B127,Daten!$A$322:$A$371,Daten!$U$322:$U$371),\"\")","v":"18,7 Inhalt3Einh[18,7]"}]
[null,null,null,{"$f":"IF($A127<=Daten!$B$8,LOOKUP($B127,Daten!$A$16:$A$65,Daten!$V$16:$V$65),\"\") & \" \" & IF($A127<=Daten!$B$8,LOOKUP($B127,Daten!$A$16:$A$65,Daten!$W$16:$W$65),\"\")","v":"18,1 Inhalt4Einh[18,1]"},null,{"$f":"IF($A127<=Daten!$B$8,LOOKUP($B127,Daten!$A$57:$A$116,Daten!$V$57:$V$116),\"\") & \" \" & IF($A127<=Daten!$B$8,LOOKUP($B127,Daten!$A$57:$A$116,Daten!$W$57:$W$116),\"\")","v":"18,2 Inhalt4Einh[18,2]"},null,{"$f":"IF($A127<=Daten!$B$8,LOOKUP($B127,Daten!$A$118:$A$167,Daten!$V$118:$V$167),\"\") & \" \" & IF($A127<=Daten!$B$8,LOOKUP($B127,Daten!$A$118:$A$167,Daten!$W$118:$W$167),\"\")","v":"18,3 Inhalt4Einh[18,3]"},null,{"$f":"IF($A127<=Daten!$B$8,LOOKUP($B127,Daten!$A$169:$A$218,Daten!$V$169:$V$218),\"\") & \" \" & IF($A127<=Daten!$B$8,LOOKUP($B127,Daten!$A$169:$A$218,Daten!$W$169:$W$218),\"\")","v":"18,4 Inhalt4Einh[18,4]"},null,{"$f":"IF($A127<=Daten!$B$8,LOOKUP($B127,Daten!$A$220:$A$269,Daten!$V$220:$V$269),\"\") & \" \" & IF($A127<=Daten!$B$8,LOOKUP($B127,Daten!$A$220:$A$269,Daten!$W$220:$W$269),\"\")","v":"18,5 Inhalt4Einh[18,5]"},null,{"$f":"IF($A127<=Daten!$B$8,LOOKUP($B127,Daten!$A$271:$A$320,Daten!$V$271:$V$320),\"\") & \" \" & IF($A127<=Daten!$B$8,LOOKUP($B127,Daten!$A$271:$A$320,Daten!$W$271:$W$320),\"\")","v":"18,6 Inhalt4Einh[18,6]"},null,{"$f":"IF($A127<=Daten!$B$8,LOOKUP($B127,Daten!$A$322:$A$371,Daten!$V$322:$V$371),\"\") & \" \" & IF($A127<=Daten!$B$8,LOOKUP($B127,Daten!$A$322:$A$371,Daten!$W$322:$W$371),\"\")","v":"18,7 Inhalt4Einh[18,7]"}]
[null,null,null,{"$f":"IF($A127<=Daten!$B$8,LOOKUP($B127,Daten!$A$16:$A$65,Daten!$X$16:$X$65),\"\") & \" \" & IF($A127<=Daten!$B$8,LOOKUP($B127,Daten!$A$16:$A$65,Daten!$Y$16:$Y$65),\"\")","v":"18,1 Inhalt5Einh[18,1]"},null,{"$f":"IF($A127<=Daten!$B$8,LOOKUP($B127,Daten!$A$57:$A$116,Daten!$X$57:$X$116),\"\") & \" \" & IF($A127<=Daten!$B$8,LOOKUP($B127,Daten!$A$57:$A$116,Daten!$Y$57:$Y$116),\"\")","v":"18,2 Inhalt5Einh[18,2]"},null,{"$f":"IF($A127<=Daten!$B$8,LOOKUP($B127,Daten!$A$118:$A$167,Daten!$X$118:$X$167),\"\") & \" \" & IF($A127<=Daten!$B$8,LOOKUP($B127,Daten!$A$118:$A$167,Daten!$Y$118:$Y$167),\"\")","v":"18,3 Inhalt5Einh[18,3]"},null,{"$f":"IF($A127<=Daten!$B$8,LOOKUP($B127,Daten!$A$169:$A$218,Daten!$X$169:$X$218),\"\") & \" \" & IF($A127<=Daten!$B$8,LOOKUP($B127,Daten!$A$169:$A$218,Daten!$Y$169:$Y$218),\"\")","v":"18,4 Inhalt5Einh[18,4]"},null,{"$f":"IF($A127<=Daten!$B$8,LOOKUP($B127,Daten!$A$220:$A$269,Daten!$X$220:$X$269),\"\") & \" \" & IF($A127<=Daten!$B$8,LOOKUP($B127,Daten!$A$220:$A$269,Daten!$Y$220:$Y$269),\"\")","v":"18,5 Inhalt5Einh[18,5]"},null,{"$f":"IF($A127<=Daten!$B$8,LOOKUP($B127,Daten!$A$271:$A$320,Daten!$X$271:$X$320),\"\") & \" \" & IF($A127<=Daten!$B$8,LOOKUP($B127,Daten!$A$271:$A$320,Daten!$Y$271:$Y$320),\"\")","v":"18,6 Inhalt5Einh[18,6]"},null,{"$f":"IF($A127<=Daten!$B$8,LOOKUP($B127,Daten!$A$322:$A$371,Daten!$X$322:$X$371),\"\") & \" \" & IF($A127<=Daten!$B$8,LOOKUP($B127,Daten!$A$322:$A$371,Daten!$Y$322:$Y$371),\"\")","v":"18,7 Inhalt5Einh[18,7]"}]
[null,null,null,{"$f":"IF($A127<=Daten!$B$8,LOOKUP($B127,Daten!$A$16:$A$65,Daten!$Z$16:$Z$65),\"\") & \" \" & IF($A127<=Daten!$B$8,LOOKUP($B127,Daten!$A$16:$A$65,Daten!$AA$16:$AA$65),\"\")","v":"18,1 Inhalt6Einh[18,1]"},null,{"$f":"IF($A127<=Daten!$B$8,LOOKUP($B127,Daten!$A$57:$A$116,Daten!$Z$57:$Z$116),\"\") & \" \" & IF($A127<=Daten!$B$8,LOOKUP($B127,Daten!$A$57:$A$116,Daten!$AA$57:$AA$116),\"\")","v":"18,2 Inhalt6Einh[18,2]"},null,{"$f":"IF($A127<=Daten!$B$8,LOOKUP($B127,Daten!$A$118:$A$167,Daten!$Z$118:$Z$167),\"\") & \" \" & IF($A127<=Daten!$B$8,LOOKUP($B127,Daten!$A$118:$A$167,Daten!$AA$118:$AA$167),\"\")","v":"18,3 Inhalt6Einh[18,3]"},null,{"$f":"IF($A127<=Daten!$B$8,LOOKUP($B127,Daten!$A$169:$A$218,Daten!$Z$169:$Z$218),\"\") & \" \" & IF($A127<=Daten!$B$8,LOOKUP($B127,Daten!$A$169:$A$218,Daten!$AA$169:$AA$218),\"\")","v":"18,4 Inhalt6Einh[18,4]"},null,{"$f":"IF($A127<=Daten!$B$8,LOOKUP($B127,Daten!$A$220:$A$269,Daten!$Z$220:$Z$269),\"\") & \" \" & IF($A127<=Daten!$B$8,LOOKUP($B127,Daten!$A$220:$A$269,Daten!$AA$220:$AA$269),\"\")","v":"18,5 Inhalt6Einh[18,5]"},null,{"$f":"IF($A127<=Daten!$B$8,LOOKUP($B127,Daten!$A$271:$A$320,Daten!$Z$271:$Z$320),\"\") & \" \" & IF($A127<=Daten!$B$8,LOOKUP($B127,Daten!$A$271:$A$320,Daten!$AA$271:$AA$320),\"\")","v":"18,6 Inhalt6Einh[18,6]"},null,{"$f":"IF($A127<=Daten!$B$8,LOOKUP($B127,Daten!$A$322:$A$371,Daten!$Z$322:$Z$371),\"\") & \" \" & IF($A127<=Daten!$B$8,LOOKUP($B127,Daten!$A$322:$A$371,Daten!$AA$322:$AA$371),\"\")","v":"18,7 Inhalt6Einh[18,7]"}]
[null,{"$f":"IF(A127<=Daten!$B$8,\"Zusatzstoffe\",\"\")","v":"Zusatzstoffe"},{"$f":"IF($A127<=Daten!$B$8,LOOKUP($B127,Daten!$A$16:$A$65,Daten!$L$16:$L$65),\"\")","v":18.100000000000001},{"$f":"IF($A127<=Daten!$B$8,LOOKUP($B127,Daten!$A$16:$A$65,Daten!$D$16:$D$65),\"\")","v":18.100000000000001},{"$f":"IF($A127<=Daten!$B$8,LOOKUP($B127,Daten!$A$67:$A$116,Daten!$L$67:$L$116),\"\")","v":18.2},{"$f":"IF($A127<=Daten!$B$8,LOOKUP($B127,Daten!$A$16:$A$65,Daten!$D$67:$D$116),\"\")","v":18.2},{"$f":"IF($A127<=Daten!$B$8,LOOKUP($B127,Daten!$A$118:$A$167,Daten!$L$118:$L$167),\"\")","v":18.3},{"$f":"IF($A127<=Daten!$B$8,LOOKUP($B127,Daten!$A$118:$A$167,Daten!$D$118:$D$167),\"\")","v":18.3},{"$f":"IF($A127<=Daten!$B$8,LOOKUP($B127,Daten!$A$169:$A$218,Daten!$L$169:$L$218),\"\")","v":18.399999999999999},{"$f":"IF($A127<=Daten!$B$8,LOOKUP($B127,Daten!$A$169:$A$218,Daten!$D$169:$D$218),\"\")","v":18.399999999999999},{"$f":"IF($A127<=Daten!$B$8,LOOKUP($B127,Daten!$A$220:$A$269,Daten!$L$220:$L$269),\"\")","v":18.5},{"$f":"IF($A127<=Daten!$B$8,LOOKUP($B127,Daten!$A$220:$A$269,Daten!$D$220:$D$269),\"\")","v":18.5},{"$f":"IF($A127<=Daten!$B$8,LOOKUP($B127,Daten!$A$271:$A$320,Daten!$L$271:$L$320),\"\")","v":18.600000000000001},{"$f":"IF($A127<=Daten!$B$8,LOOKUP($B127,Daten!$A$271:$A$320,Daten!$D$271:$D$320),\"\")","v":18.600000000000001},{"$f":"IF($A127<=Daten!$B$8,LOOKUP($B127,Daten!$A$322:$A$371,Daten!$L$322:$L$371),\"\")","v":18.7},{"$f":"IF($A127<=Daten!$B$8,LOOKUP($B127,Daten!$A$322:$A$371,Daten!$D$322:$D$371),\"\")","v":18.7}]
[19,{"$f":"IF(A134<=Daten!$B$8,Daten!T9,\"\")","v":"Menülinie 19"},{"$f":"IF(A134<=Daten!$B$8,LOOKUP(B134,Daten!$A$16:$A$65,Daten!$C$16:$C$65),\"\")","v":"Lang[19,1]"},{"$f":"IF($A134<=Daten!$B$8,LOOKUP($B134,Daten!$A$16:$A$65,Daten!$P$16:$P$65),\"\") & \" \" & IF($A134<=Daten!$B$8,LOOKUP($B134,Daten!$A$16:$A$65,Daten!$Q$16:$Q$65),\"\")","v":"19,1 Inhalt1Einh[19,1]"},{"$f":"IF($A134<=Daten!$B$8,LOOKUP($B134,Daten!$A$67:$A$116,Daten!$C$67:$C$116),\"\")","v":"Lang[19,2]"},{"$f":"IF($A134<=Daten!$B$8,LOOKUP($B134,Daten!$A$67:$A$116,Daten!$P$67:$P$116),\"\") & \" \" & IF($A134<=Daten!$B$8,LOOKUP($B134,Daten!$A$67:$A$116,Daten!$Q$67:$Q$116),\"\")","v":"19,2 Inhalt1Einh[19,2]"},{"$f":"IF($A134<=Daten!$B$8,LOOKUP($B134,Daten!$A$118:$A$167,Daten!$C$118:$C$167),\"\")","v":"Lang[19,3]"},{"$f":"IF($A134<=Daten!$B$8,LOOKUP($B134,Daten!$A$118:$A$167,Daten!$P$118:$P$167),\"\") & \" \" & IF($A134<=Daten!$B$8,LOOKUP($B134,Daten!$A$118:$A$167,Daten!$Q$118:$Q$167),\"\")","v":"19,3 Inhalt1Einh[19,3]"},{"$f":"IF($A134<=Daten!$B$8,LOOKUP($B134,Daten!$A$169:$A$218,Daten!$C$169:$C$218),\"\")","v":"Lang[19,4]"},{"$f":"IF($A134<=Daten!$B$8,LOOKUP($B134,Daten!$A$169:$A$218,Daten!$P$169:$P$218),\"\") & \" \" & IF($A134<=Daten!$B$8,LOOKUP($B134,Daten!$A$169:$A$218,Daten!$Q$169:$Q$218),\"\")","v":"19,4 Inhalt1Einh[19,4]"},{"$f":"IF($A134<=Daten!$B$8,LOOKUP($B134,Daten!$A$220:$A$269,Daten!$C$220:$C$269),\"\")","v":"Lang[19,5]"},{"$f":"IF($A134<=Daten!$B$8,LOOKUP($B134,Daten!$A$220:$A$269,Daten!$P$220:$P$269),\"\") & \" \" & IF($A134<=Daten!$B$8,LOOKUP($B134,Daten!$A$220:$A$269,Daten!$Q$220:$Q$269),\"\")","v":"19,5 Inhalt1Einh[19,5]"},{"$f":"IF($A134<=Daten!$B$8,LOOKUP($B134,Daten!$A$271:$A$320,Daten!$C$271:$C$320),\"\")","v":"Lang[19,6]"},{"$f":"IF($A134<=Daten!$B$8,LOOKUP($B134,Daten!$A$271:$A$320,Daten!$P$271:$P$320),\"\") & \" \" & IF($A134<=Daten!$B$8,LOOKUP($B134,Daten!$A$271:$A$320,Daten!$Q$271:$Q$320),\"\")","v":"19,6 Inhalt1Einh[19,6]"},{"$f":"IF($A134<=Daten!$B$8,LOOKUP($B134,Daten!$A$322:$A$371,Daten!$B$322:$C$371),\"\")","v":{"$error":"#N/A"}},{"$f":"IF($A134<=Daten!$B$8,LOOKUP($B134,Daten!$A$322:$A$371,Daten!$P$322:$P$371),\"\") & \" \" & IF($A134<=Daten!$B$8,LOOKUP($B134,Daten!$A$322:$A$371,Daten!$Q$322:$Q$371),\"\")","v":"19,7 Inhalt1Einh[19,7]"}]
[null,null,null,{"$f":"IF($A134<=Daten!$B$8,LOOKUP($B134,Daten!$A$16:$A$65,Daten!$R$16:$R$65),\"\") & \" \" & IF($A134<=Daten!$B$8,LOOKUP($B134,Daten!$A$16:$A$65,Daten!$S$16:$S$65),\"\")","v":"19,1 Inhalt2Einh[19,1]"},null,{"$f":"IF($A134<=Daten!$B$8,LOOKUP($B134,Daten!$A$67:$A$116,Daten!$R$67:$R$116),\"\") & \" \" & IF($A134<=Daten!$B$8,LOOKUP($B134,Daten!$A$67:$A$116,Daten!$S$67:$S$116),\"\")","v":"19,2 Inhalt2Einh[19,2]"},null,{"$f":"IF($A134<=Daten!$B$8,LOOKUP($B134,Daten!$A$118:$A$167,Daten!$R$118:$R$167),\"\") & \" \" & IF($A134<=Daten!$B$8,LOOKUP($B134,Daten!$A$118:$A$167,Daten!$S$118:$S$167),\"\")","v":"19,3 Inhalt2Einh[19,3]"},null,{"$f":"IF($A134<=Daten!$B$8,LOOKUP($B134,Daten!$A$169:$A$218,Daten!$R$169:$R$218),\"\") & \" \" & IF($A134<=Daten!$B$8,LOOKUP($B134,Daten!$A$169:$A$218,Daten!$S$169:$S$218),\"\")","v":"19,4 Inhalt2Einh[19,4]"},null,{"$f":"IF($A134<=Daten!$B$8,LOOKUP($B134,Daten!$A$220:$A$269,Daten!$R$220:$R$269),\"\") & \" \" & IF($A134<=Daten!$B$8,LOOKUP($B134,Daten!$A$220:$A$269,Daten!$S$220:$S$269),\"\")","v":"19,5 Inhalt2Einh[19,5]"},null,{"$f":"IF($A134<=Daten!$B$8,LOOKUP($B134,Daten!$A$271:$A$320,Daten!$R$271:$R$320),\"\") & \" \" & IF($A134<=Daten!$B$8,LOOKUP($B134,Daten!$A$271:$A$320,Daten!$S$271:$S$320),\"\")","v":"19,6 Inhalt2Einh[19,6]"},null,{"$f":"IF($A134<=Daten!$B$8,LOOKUP($B134,Daten!$A$322:$A$371,Daten!$R$322:$R$371),\"\") & \" \" & IF($A134<=Daten!$B$8,LOOKUP($B134,Daten!$A$322:$A$371,Daten!$S$322:$S$371),\"\")","v":"19,7 Inhalt2Einh[19,7]"}]
[null,null,null,{"$f":"IF($A134<=Daten!$B$8,LOOKUP($B134,Daten!$A$16:$A$65,Daten!$T$16:$T$65),\"\") & \" \" & IF($A134<=Daten!$B$8,LOOKUP($B134,Daten!$A$16:$A$65,Daten!$U$16:$U$65),\"\")","v":"19,1 Inhalt3Einh[19,1]"},null,{"$f":"IF($A134<=Daten!$B$8,LOOKUP($B134,Daten!$A$67:$A$116,Daten!$T$67:$T$116),\"\") & \" \" & IF($A134<=Daten!$B$8,LOOKUP($B134,Daten!$A$67:$A$116,Daten!$U$67:$U$116),\"\")","v":"19,2 Inhalt3Einh[19,2]"},null,{"$f":"IF($A134<=Daten!$B$8,LOOKUP($B134,Daten!$A$118:$A$167,Daten!$T$118:$T$167),\"\") & \" \" & IF($A134<=Daten!$B$8,LOOKUP($B134,Daten!$A$118:$A$167,Daten!$U$118:$U$167),\"\")","v":"19,3 Inhalt3Einh[19,3]"},null,{"$f":"IF($A134<=Daten!$B$8,LOOKUP($B134,Daten!$A$169:$A$218,Daten!$T$169:$T$218),\"\") & \" \" & IF($A134<=Daten!$B$8,LOOKUP($B134,Daten!$A$169:$A$218,Daten!$U$169:$U$218),\"\")","v":"19,4 Inhalt3Einh[19,4]"},null,{"$f":"IF($A134<=Daten!$B$8,LOOKUP($B134,Daten!$A$220:$A$269,Daten!$T$220:$T$269),\"\") & \" \" & IF($A134<=Daten!$B$8,LOOKUP($B134,Daten!$A$220:$A$269,Daten!$U$220:$U$269),\"\")","v":"19,5 Inhalt3Einh[19,5]"},null,{"$f":"IF($A134<=Daten!$B$8,LOOKUP($B134,Daten!$A$271:$A$320,Daten!$T$271:$T$320),\"\") & \" \" & IF($A134<=Daten!$B$8,LOOKUP($B134,Daten!$A$271:$A$320,Daten!$U$271:$U$320),\"\")","v":"19,6 Inhalt3Einh[19,6]"},null,{"$f":"IF($A134<=Daten!$B$8,LOOKUP($B134,Daten!$A$322:$A$371,Daten!$T$322:$T$371),\"\") & \" \" & IF($A134<=Daten!$B$8,LOOKUP($B134,Daten!$A$322:$A$371,Daten!$U$322:$U$371),\"\")","v":"19,7 Inhalt3Einh[19,7]"}]
[null,null,null,{"$f":"IF($A134<=Daten!$B$8,LOOKUP($B134,Daten!$A$16:$A$65,Daten!$V$16:$V$65),\"\") & \" \" & IF($A134<=Daten!$B$8,LOOKUP($B134,Daten!$A$16:$A$65,Daten!$W$16:$W$65),\"\")","v":"19,1 Inhalt4Einh[19,1]"},null,{"$f":"IF($A134<=Daten!$B$8,LOOKUP($B134,Daten!$A$67:$A$116,Daten!$V$67:$V$116),\"\") & \" \" & IF($A134<=Daten!$B$8,LOOKUP($B134,Daten!$A$67:$A$116,Daten!$W$67:$W$116),\"\")","v":"19,2 Inhalt4Einh[19,2]"},null,{"$f":"IF($A134<=Daten!$B$8,LOOKUP($B134,Daten!$A$118:$A$167,Daten!$V$118:$V$167),\"\") & \" \" & IF($A134<=Daten!$B$8,LOOKUP($B134,Daten!$A$118:$A$167,Daten!$W$118:$W$167),\"\")","v":"19,3 Inhalt4Einh[19,3]"},null,{"$f":"IF($A134<=Daten!$B$8,LOOKUP($B134,Daten!$A$169:$A$218,Daten!$V$169:$V$218),\"\") & \" \" & IF($A134<=Daten!$B$8,LOOKUP($B134,Daten!$A$169:$A$218,Daten!$W$169:$W$218),\"\")","v":"19,4 Inhalt4Einh[19,4]"},null,{"$f":"IF($A134<=Daten!$B$8,LOOKUP($B134,Daten!$A$220:$A$269,Daten!$V$220:$V$269),\"\") & \" \" & IF($A134<=Daten!$B$8,LOOKUP($B134,Daten!$A$220:$A$269,Daten!$W$220:$W$269),\"\")","v":"19,5 Inhalt4Einh[19,5]"},null,{"$f":"IF($A134<=Daten!$B$8,LOOKUP($B134,Daten!$A$271:$A$320,Daten!$V$271:$V$320),\"\") & \" \" & IF($A134<=Daten!$B$8,LOOKUP($B134,Daten!$A$271:$A$320,Daten!$W$271:$W$320),\"\")","v":"19,6 Inhalt4Einh[19,6]"},null,{"$f":"IF($A134<=Daten!$B$8,LOOKUP($B134,Daten!$A$322:$A$371,Daten!$V$322:$V$371),\"\") & \" \" & IF($A134<=Daten!$B$8,LOOKUP($B134,Daten!$A$322:$A$371,Daten!$W$322:$W$371),\"\")","v":"19,7 Inhalt4Einh[19,7]"}]
[null,null,null,{"$f":"IF($A134<=Daten!$B$8,LOOKUP($B134,Daten!$A$16:$A$65,Daten!$X$16:$X$65),\"\") & \" \" & IF($A134<=Daten!$B$8,LOOKUP($B134,Daten!$A$16:$A$65,Daten!$Y$16:$Y$65),\"\")","v":"19,1 Inhalt5Einh[19,1]"},null,{"$f":"IF($A134<=Daten!$B$8,LOOKUP($B134,Daten!$A$67:$A$116,Daten!$X$67:$X$116),\"\") & \" \" & IF($A134<=Daten!$B$8,LOOKUP($B134,Daten!$A$67:$A$116,Daten!$Y$67:$Y$116),\"\")","v":"19,2 Inhalt5Einh[19,2]"},null,{"$f":"IF($A134<=Daten!$B$8,LOOKUP($B134,Daten!$A$118:$A$167,Daten!$X$118:$X$167),\"\") & \" \" & IF($A134<=Daten!$B$8,LOOKUP($B134,Daten!$A$118:$A$167,Daten!$Y$118:$Y$167),\"\")","v":"19,3 Inhalt5Einh[19,3]"},null,{"$f":"IF($A134<=Daten!$B$8,LOOKUP($B134,Daten!$A$169:$A$218,Daten!$X$169:$X$218),\"\") & \" \" & IF($A134<=Daten!$B$8,LOOKUP($B134,Daten!$A$169:$A$218,Daten!$Y$169:$Y$218),\"\")","v":"19,4 Inhalt5Einh[19,4]"},null,{"$f":"IF($A134<=Daten!$B$8,LOOKUP($B134,Daten!$A$220:$A$269,Daten!$X$220:$X$269),\"\") & \" \" & IF($A134<=Daten!$B$8,LOOKUP($B134,Daten!$A$220:$A$269,Daten!$Y$220:$Y$269),\"\")","v":"19,5 Inhalt5Einh[19,5]"},null,{"$f":"IF($A134<=Daten!$B$8,LOOKUP($B134,Daten!$A$271:$A$320,Daten!$X$271:$X$320),\"\") & \" \" & IF($A134<=Daten!$B$8,LOOKUP($B134,Daten!$A$271:$A$320,Daten!$Y$271:$Y$320),\"\")","v":"19,6 Inhalt5Einh[19,6]"},null,{"$f":"IF($A134<=Daten!$B$8,LOOKUP($B134,Daten!$A$322:$A$371,Daten!$X$322:$X$371),\"\") & \" \" & IF($A134<=Daten!$B$8,LOOKUP($B134,Daten!$A$322:$A$371,Daten!$Y$322:$Y$371),\"\")","v":"19,7 Inhalt5Einh[19,7]"}]
[null,null,null,{"$f":"IF($A134<=Daten!$B$8,LOOKUP($B134,Daten!$A$16:$A$65,Daten!$Z$16:$Z$65),\"\") & \" \" & IF($A134<=Daten!$B$8,LOOKUP($B134,Daten!$A$16:$A$65,Daten!$AA$16:$AA$65),\"\")","v":"19,1 Inhalt6Einh[19,1]"},null,{"$f":"IF($A134<=Daten!$B$8,LOOKUP($B134,Daten!$A$67:$A$116,Daten!$Z$67:$Z$116),\"\") & \" \" & IF($A134<=Daten!$B$8,LOOKUP($B134,Daten!$A$67:$A$116,Daten!$AA$67:$AA$116),\"\")","v":"19,2 Inhalt6Einh[19,2]"},null,{"$f":"IF($A134<=Daten!$B$8,LOOKUP($B134,Daten!$A$118:$A$167,Daten!$Z$118:$Z$167),\"\") & \" \" & IF($A134<=Daten!$B$8,LOOKUP($B134,Daten!$A$118:$A$167,Daten!$AA$118:$AA$167),\"\")","v":"19,3 Inhalt6Einh[19,3]"},null,{"$f":"IF($A134<=Daten!$B$8,LOOKUP($B134,Daten!$A$169:$A$218,Daten!$Z$169:$Z$218),\"\") & \" \" & IF($A134<=Daten!$B$8,LOOKUP($B134,Daten!$A$169:$A$218,Daten!$AA$169:$AA$218),\"\")","v":"19,4 Inhalt6Einh[19,4]"},null,{"$f":"IF($A134<=Daten!$B$8,LOOKUP($B134,Daten!$A$220:$A$269,Daten!$Z$220:$Z$269),\"\") & \" \" & IF($A134<=Daten!$B$8,LOOKUP($B134,Daten!$A$220:$A$269,Daten!$AA$220:$AA$269),\"\")","v":"19,5 Inhalt6Einh[19,5]"},null,{"$f":"IF($A134<=Daten!$B$8,LOOKUP($B134,Daten!$A$271:$A$320,Daten!$Z$271:$Z$320),\"\") & \" \" & IF($A134<=Daten!$B$8,LOOKUP($B134,Daten!$A$271:$A$320,Daten!$AA$271:$AA$320),\"\")","v":"19,6 Inhalt6Einh[19,6]"},null,{"$f":"IF($A134<=Daten!$B$8,LOOKUP($B134,Daten!$A$322:$A$371,Daten!$Z$322:$Z$371),\"\") & \" \" & IF($A134<=Daten!$B$8,LOOKUP($B134,Daten!$A$322:$A$371,Daten!$AA$322:$AA$371),\"\")","v":"19,7 Inhalt6Einh[19,7]"}]
[null,{"$f":"IF(A134<=Daten!$B$8,\"Zusatzstoffe\",\"\")","v":"Zusatzstoffe"},{"$f":"IF($A134<=Daten!$B$8,LOOKUP($B134,Daten!$A$16:$A$65,Daten!$L$16:$L$65),\"\")","v":19.100000000000001},{"$f":"IF($A134<=Daten!$B$8,LOOKUP($B134,Daten!$A$16:$A$65,Daten!$D$16:$D$65),\"\")","v":19.100000000000001},{"$f":"IF($A134<=Daten!$B$8,LOOKUP($B134,Daten!$A$67:$A$116,Daten!$L$67:$L$116),\"\")","v":19.2},{"$f":"IF($A134<=Daten!$B$8,LOOKUP($B134,Daten!$A$16:$A$65,Daten!$D$67:$D$116),\"\")","v":19.2},{"$f":"IF($A134<=Daten!$B$8,LOOKUP($B134,Daten!$A$118:$A$167,Daten!$L$118:$L$167),\"\")","v":19.3},{"$f":"IF($A134<=Daten!$B$8,LOOKUP($B134,Daten!$A$118:$A$167,Daten!$D$118:$D$167),\"\")","v":19.3},{"$f":"IF($A134<=Daten!$B$8,LOOKUP($B134,Daten!$A$169:$A$218,Daten!$L$169:$L$218),\"\")","v":19.399999999999999},{"$f":"IF($A134<=Daten!$B$8,LOOKUP($B134,Daten!$A$169:$A$218,Daten!$D$169:$D$218),\"\")","v":19.399999999999999},{"$f":"IF($A134<=Daten!$B$8,LOOKUP($B134,Daten!$A$220:$A$269,Daten!$L$220:$L$269),\"\")","v":19.5},{"$f":"IF($A134<=Daten!$B$8,LOOKUP($B134,Daten!$A$220:$A$269,Daten!$D$220:$D$269),\"\")","v":19.5},{"$f":"IF($A134<=Daten!$B$8,LOOKUP($B134,Daten!$A$271:$A$320,Daten!$L$271:$L$320),\"\")","v":19.600000000000001},{"$f":"IF($A134<=Daten!$B$8,LOOKUP($B134,Daten!$A$271:$A$320,Daten!$D$271:$D$320),\"\")","v":19.600000000000001},{"$f":"IF($A134<=Daten!$B$8,LOOKUP($B134,Daten!$A$322:$A$371,Daten!$L$322:$L$371),\"\")","v":19.7},{"$f":"IF($A134<=Daten!$B$8,LOOKUP($B134,Daten!$A$322:$A$371,Daten!$D$322:$D$371),\"\")","v":19.7}]
[20,{"$f":"IF(A141<=Daten!$B$8,Daten!U9,\"\")","v":"Menülinie 20"},{"$f":"IF(A141<=Daten!$B$8,LOOKUP(B141,Daten!$A$16:$A$65,Daten!$C$16:$C$65),\"\")","v":"Lang[20,1]"},{"$f":"IF($A141<=Daten!$B$8,LOOKUP($B141,Daten!$A$16:$A$65,Daten!$P$16:$P$65),\"\") & \" \" & IF($A141<=Daten!$B$8,LOOKUP($B141,Daten!$A$16:$A$65,Daten!$Q$16:$Q$65),\"\")","v":"20,1 Inhalt1Einh[20,1]"},{"$f":"IF($A141<=Daten!$B$8,LOOKUP($B141,Daten!$A$67:$A$116,Daten!$C$67:$C$116),\"\")","v":"Lang[20,2]"},{"$f":"IF($A141<=Daten!$B$8,LOOKUP($B141,Daten!$A$67:$A$116,Daten!$P$67:$P$116),\"\") & \" \" & IF($A141<=Daten!$B$8,LOOKUP($B141,Daten!$A$67:$A$116,Daten!$Q$67:$Q$116),\"\")","v":"20,2 Inhalt1Einh[20,2]"},{"$f":"IF($A141<=Daten!$B$8,LOOKUP($B141,Daten!$A$118:$A$167,Daten!$C$118:$C$167),\"\")","v":"Lang[20,3]"},{"$f":"IF($A141<=Daten!$B$8,LOOKUP($B141,Daten!$A$118:$A$167,Daten!$P$118:$P$167),\"\") & \" \" & IF($A141<=Daten!$B$8,LOOKUP($B141,Daten!$A$118:$A$167,Daten!$Q$118:$Q$167),\"\")","v":"20,3 Inhalt1Einh[20,3]"},{"$f":"IF($A141<=Daten!$B$8,LOOKUP($B141,Daten!$A$169:$A$218,Daten!$C$169:$C$218),\"\")","v":"Lang[20,4]"},{"$f":"IF($A141<=Daten!$B$8,LOOKUP($B141,Daten!$A$169:$A$218,Daten!$P$169:$P$218),\"\") & \" \" & IF($A141<=Daten!$B$8,LOOKUP($B141,Daten!$A$169:$A$218,Daten!$Q$169:$Q$218),\"\")","v":"20,4 Inhalt1Einh[20,4]"},{"$f":"IF($A141<=Daten!$B$8,LOOKUP($B141,Daten!$A$220:$A$269,Daten!$C$220:$C$269),\"\")","v":"Lang[20,5]"},{"$f":"IF($A141<=Daten!$B$8,LOOKUP($B141,Daten!$A$220:$A$269,Daten!$P$220:$P$269),\"\") & \" \" & IF($A141<=Daten!$B$8,LOOKUP($B141,Daten!$A$220:$A$269,Daten!$Q$220:$Q$269),\"\")","v":"20,5 Inhalt1Einh[20,5]"},{"$f":"IF($A141<=Daten!$B$8,LOOKUP($B141,Daten!$A$271:$A$320,Daten!$C$271:$C$320),\"\")","v":"Lang[20,6]"},{"$f":"IF($A141<=Daten!$B$8,LOOKUP($B141,Daten!$A$271:$A$320,Daten!$P$271:$P$320),\"\") & \" \" & IF($A141<=Daten!$B$8,LOOKUP($B141,Daten!$A$271:$A$320,Daten!$Q$271:$Q$320),\"\")","v":"20,6 Inhalt1Einh[20,6]"},{"$f":"IF($A141<=Daten!$B$8,LOOKUP($B141,Daten!$A$322:$A$371,Daten!$B$322:$C$371),\"\")","v":{"$error":"#N/A"}},{"$f":"IF($A141<=Daten!$B$8,LOOKUP($B141,Daten!$A$322:$A$371,Daten!$P$322:$P$371),\"\") & \" \" & IF($A141<=Daten!$B$8,LOOKUP($B141,Daten!$A$322:$A$371,Daten!$Q$322:$Q$371),\"\")","v":"20,7 Inhalt1Einh[20,7]"}]
[null,null,null,{"$f":"IF($A141<=Daten!$B$8,LOOKUP($B141,Daten!$A$16:$A$65,Daten!$R$16:$R$65),\"\") & \" \" & IF($A141<=Daten!$B$8,LOOKUP($B141,Daten!$A$16:$A$65,Daten!$S$16:$S$65),\"\")","v":"20,1 Inhalt2Einh[20,1]"},null,{"$f":"IF($A141<=Daten!$B$8,LOOKUP($B141,Daten!$A$67:$A$116,Daten!$R$67:$R$116),\"\") & \" \" & IF($A141<=Daten!$B$8,LOOKUP($B141,Daten!$A$67:$A$116,Daten!$S$67:$S$116),\"\")","v":"20,2 Inhalt2Einh[20,2]"},null,{"$f":"IF($A141<=Daten!$B$8,LOOKUP($B141,Daten!$A$118:$A$167,Daten!$R$118:$R$167),\"\") & \" \" & IF($A141<=Daten!$B$8,LOOKUP($B141,Daten!$A$118:$A$167,Daten!$S$118:$S$167),\"\")","v":"20,3 Inhalt2Einh[20,3]"},null,{"$f":"IF($A141<=Daten!$B$8,LOOKUP($B141,Daten!$A$169:$A$218,Daten!$R$169:$R$218),\"\") & \" \" & IF($A141<=Daten!$B$8,LOOKUP($B141,Daten!$A$169:$A$218,Daten!$S$169:$S$218),\"\")","v":"20,4 Inhalt2Einh[20,4]"},null,{"$f":"IF($A141<=Daten!$B$8,LOOKUP($B141,Daten!$A$220:$A$269,Daten!$R$220:$R$269),\"\") & \" \" & IF($A141<=Daten!$B$8,LOOKUP($B141,Daten!$A$220:$A$269,Daten!$S$220:$S$269),\"\")","v":"20,5 Inhalt2Einh[20,5]"},null,{"$f":"IF($A141<=Daten!$B$8,LOOKUP($B141,Daten!$A$271:$A$320,Daten!$R$271:$R$320),\"\") & \" \" & IF($A141<=Daten!$B$8,LOOKUP($B141,Daten!$A$271:$A$320,Daten!$S$271:$S$320),\"\")","v":"20,6 Inhalt2Einh[20,6]"},null,{"$f":"IF($A141<=Daten!$B$8,LOOKUP($B141,Daten!$A$322:$A$371,Daten!$R$322:$R$371),\"\") & \" \" & IF($A141<=Daten!$B$8,LOOKUP($B141,Daten!$A$322:$A$371,Daten!$S$322:$S$371),\"\")","v":"20,7 Inhalt2Einh[20,7]"}]
[null,null,null,{"$f":"IF($A141<=Daten!$B$8,LOOKUP($B141,Daten!$A$16:$A$65,Daten!$T$16:$T$65),\"\") & \" \" & IF($A141<=Daten!$B$8,LOOKUP($B141,Daten!$A$16:$A$65,Daten!$U$16:$U$65),\"\")","v":"20,1 Inhalt3Einh[20,1]"},null,{"$f":"IF($A141<=Daten!$B$8,LOOKUP($B141,Daten!$A$67:$A$116,Daten!$T$67:$T$116),\"\") & \" \" & IF($A141<=Daten!$B$8,LOOKUP($B141,Daten!$A$67:$A$116,Daten!$U$67:$U$116),\"\")","v":"20,2 Inhalt3Einh[20,2]"},null,{"$f":"IF($A141<=Daten!$B$8,LOOKUP($B141,Daten!$A$118:$A$167,Daten!$T$118:$T$167),\"\") & \" \" & IF($A141<=Daten!$B$8,LOOKUP($B141,Daten!$A$118:$A$167,Daten!$U$118:$U$167),\"\")","v":"20,3 Inhalt3Einh[20,3]"},null,{"$f":"IF($A141<=Daten!$B$8,LOOKUP($B141,Daten!$A$169:$A$218,Daten!$T$169:$T$218),\"\") & \" \" & IF($A141<=Daten!$B$8,LOOKUP($B141,Daten!$A$169:$A$218,Daten!$U$169:$U$218),\"\")","v":"20,4 Inhalt3Einh[20,4]"},null,{"$f":"IF($A141<=Daten!$B$8,LOOKUP($B141,Daten!$A$220:$A$269,Daten!$T$220:$T$269),\"\") & \" \" & IF($A141<=Daten!$B$8,LOOKUP($B141,Daten!$A$220:$A$269,Daten!$U$220:$U$269),\"\")","v":"20,5 Inhalt3Einh[20,5]"},null,{"$f":"IF($A141<=Daten!$B$8,LOOKUP($B141,Daten!$A$271:$A$320,Daten!$T$271:$T$320),\"\") & \" \" & IF($A141<=Daten!$B$8,LOOKUP($B141,Daten!$A$271:$A$320,Daten!$U$271:$U$320),\"\")","v":"20,6 Inhalt3Einh[20,6]"},null,{"$f":"IF($A141<=Daten!$B$8,LOOKUP($B141,Daten!$A$322:$A$371,Daten!$T$322:$T$371),\"\") & \" \" & IF($A141<=Daten!$B$8,LOOKUP($B141,Daten!$A$322:$A$371,Daten!$U$322:$U$371),\"\")","v":"20,7 Inhalt3Einh[20,7]"}]
[null,null,null,{"$f":"IF($A141<=Daten!$B$8,LOOKUP($B141,Daten!$A$16:$A$65,Daten!$V$16:$V$65),\"\") & \" \" & IF($A141<=Daten!$B$8,LOOKUP($B141,Daten!$A$16:$A$65,Daten!$W$16:$W$65),\"\")","v":"20,1 Inhalt4Einh[20,1]"},null,{"$f":"IF($A141<=Daten!$B$8,LOOKUP($B141,Daten!$A$67:$A$116,Daten!$V$67:$V$116),\"\") & \" \" & IF($A141<=Daten!$B$8,LOOKUP($B141,Daten!$A$67:$A$116,Daten!$W$67:$W$116),\"\")","v":"20,2 Inhalt4Einh[20,2]"},null,{"$f":"IF($A141<=Daten!$B$8,LOOKUP($B141,Daten!$A$118:$A$167,Daten!$V$118:$V$167),\"\") & \" \" & IF($A141<=Daten!$B$8,LOOKUP($B141,Daten!$A$118:$A$167,Daten!$W$118:$W$167),\"\")","v":"20,3 Inhalt4Einh[20,3]"},null,{"$f":"IF($A141<=Daten!$B$8,LOOKUP($B141,Daten!$A$169:$A$218,Daten!$V$169:$V$218),\"\") & \" \" & IF($A141<=Daten!$B$8,LOOKUP($B141,Daten!$A$169:$A$218,Daten!$W$169:$W$218),\"\")","v":"20,4 Inhalt4Einh[20,4]"},null,{"$f":"IF($A141<=Daten!$B$8,LOOKUP($B141,Daten!$A$220:$A$269,Daten!$V$220:$V$269),\"\") & \" \" & IF($A141<=Daten!$B$8,LOOKUP($B141,Daten!$A$220:$A$269,Daten!$W$220:$W$269),\"\")","v":"20,5 Inhalt4Einh[20,5]"},null,{"$f":"IF($A141<=Daten!$B$8,LOOKUP($B141,Daten!$A$271:$A$320,Daten!$V$271:$V$320),\"\") & \" \" & IF($A141<=Daten!$B$8,LOOKUP($B141,Daten!$A$271:$A$320,Daten!$W$271:$W$320),\"\")","v":"20,6 Inhalt4Einh[20,6]"},null,{"$f":"IF($A141<=Daten!$B$8,LOOKUP($B141,Daten!$A$322:$A$371,Daten!$V$322:$V$371),\"\") & \" \" & IF($A141<=Daten!$B$8,LOOKUP($B141,Daten!$A$322:$A$371,Daten!$W$322:$W$371),\"\")","v":"20,7 Inhalt4Einh[20,7]"}]
[null,null,null,{"$f":"IF($A141<=Daten!$B$8,LOOKUP($B141,Daten!$A$16:$A$65,Daten!$X$16:$X$65),\"\") & \" \" & IF($A141<=Daten!$B$8,LOOKUP($B141,Daten!$A$16:$A$65,Daten!$Y$16:$Y$65),\"\")","v":"20,1 Inhalt5Einh[20,1]"},null,{"$f":"IF($A141<=Daten!$B$8,LOOKUP($B141,Daten!$A$67:$A$116,Daten!$X$67:$X$116),\"\") & \" \" & IF($A141<=Daten!$B$8,LOOKUP($B141,Daten!$A$67:$A$116,Daten!$Y$67:$Y$116),\"\")","v":"20,2 Inhalt5Einh[20,2]"},null,{"$f":"IF($A141<=Daten!$B$8,LOOKUP($B141,Daten!$A$118:$A$167,Daten!$X$118:$X$167),\"\") & \" \" & IF($A141<=Daten!$B$8,LOOKUP($B141,Daten!$A$118:$A$167,Daten!$Y$118:$Y$167),\"\")","v":"20,3 Inhalt5Einh[20,3]"},null,{"$f":"IF($A141<=Daten!$B$8,LOOKUP($B141,Daten!$A$169:$A$218,Daten!$X$169:$X$218),\"\") & \" \" & IF($A141<=Daten!$B$8,LOOKUP($B141,Daten!$A$169:$A$218,Daten!$Y$169:$Y$218),\"\")","v":"20,4 Inhalt5Einh[20,4]"},null,{"$f":"IF($A141<=Daten!$B$8,LOOKUP($B141,Daten!$A$220:$A$269,Daten!$X$220:$X$269),\"\") & \" \" & IF($A141<=Daten!$B$8,LOOKUP($B141,Daten!$A$220:$A$269,Daten!$Y$220:$Y$269),\"\")","v":"20,5 Inhalt5Einh[20,5]"},null,{"$f":"IF($A141<=Daten!$B$8,LOOKUP($B141,Daten!$A$271:$A$320,Daten!$X$271:$X$320),\"\") & \" \" & IF($A141<=Daten!$B$8,LOOKUP($B141,Daten!$A$271:$A$320,Daten!$Y$271:$Y$320),\"\")","v":"20,6 Inhalt5Einh[20,6]"},null,{"$f":"IF($A141<=Daten!$B$8,LOOKUP($B141,Daten!$A$322:$A$371,Daten!$X$322:$X$371),\"\") & \" \" & IF($A141<=Daten!$B$8,LOOKUP($B141,Daten!$A$322:$A$371,Daten!$Y$322:$Y$371),\"\")","v":"20,7 Inhalt5Einh[20,7]"}]
[null,null,null,{"$f":"IF($A141<=Daten!$B$8,LOOKUP($B141,Daten!$A$16:$A$65,Daten!$Z$16:$Z$65),\"\") & \" \" & IF($A141<=Daten!$B$8,LOOKUP($B141,Daten!$A$16:$A$65,Daten!$AA$16:$AA$65),\"\")","v":"20,1 Inhalt6Einh[20,1]"},null,{"$f":"IF($A141<=Daten!$B$8,LOOKUP($B141,Daten!$A$67:$A$116,Daten!$Z$67:$Z$116),\"\") & \" \" & IF($A141<=Daten!$B$8,LOOKUP($B141,Daten!$A$67:$A$116,Daten!$AA$67:$AA$116),\"\")","v":"20,2 Inhalt6Einh[20,2]"},null,{"$f":"IF($A141<=Daten!$B$8,LOOKUP($B141,Daten!$A$118:$A$167,Daten!$Z$118:$Z$167),\"\") & \" \" & IF($A141<=Daten!$B$8,LOOKUP($B141,Daten!$A$118:$A$167,Daten!$AA$118:$AA$167),\"\")","v":"20,3 Inhalt6Einh[20,3]"},null,{"$f":"IF($A141<=Daten!$B$8,LOOKUP($B141,Daten!$A$169:$A$218,Daten!$Z$169:$Z$218),\"\") & \" \" & IF($A141<=Daten!$B$8,LOOKUP($B141,Daten!$A$169:$A$218,Daten!$AA$169:$AA$218),\"\")","v":"20,4 Inhalt6Einh[20,4]"},null,{"$f":"IF($A141<=Daten!$B$8,LOOKUP($B141,Daten!$A$220:$A$269,Daten!$Z$220:$Z$269),\"\") & \" \" & IF($A141<=Daten!$B$8,LOOKUP($B141,Daten!$A$220:$A$269,Daten!$AA$220:$AA$269),\"\")","v":"20,5 Inhalt6Einh[20,5]"},null,{"$f":"IF($A141<=Daten!$B$8,LOOKUP($B141,Daten!$A$271:$A$320,Daten!$Z$271:$Z$320),\"\") & \" \" & IF($A141<=Daten!$B$8,LOOKUP($B141,Daten!$A$271:$A$320,Daten!$AA$271:$AA$320),\"\")","v":"20,6 Inhalt6Einh[20,6]"},null,{"$f":"IF($A141<=Daten!$B$8,LOOKUP($B141,Daten!$A$322:$A$371,Daten!$Z$322:$Z$371),\"\") & \" \" & IF($A141<=Daten!$B$8,LOOKUP($B141,Daten!$A$322:$A$371,Daten!$AA$322:$AA$371),\"\")","v":"20,7 Inhalt6Einh[20,7]"}]
[null,{"$f":"IF(A141<=Daten!$B$8,\"Zusatzstoffe\",\"\")","v":"Zusatzstoffe"},{"$f":"IF($A141<=Daten!$B$8,LOOKUP($B141,Daten!$A$16:$A$65,Daten!$L$16:$L$65),\"\")","v":20.100000000000001},{"$f":"IF($A141<=Daten!$B$8,LOOKUP($B141,Daten!$A$16:$A$65,Daten!$D$16:$D$65),\"\")","v":20.100000000000001},{"$f":"IF($A141<=Daten!$B$8,LOOKUP($B141,Daten!$A$67:$A$116,Daten!$L$67:$L$116),\"\")","v":20.2},{"$f":"IF($A141<=Daten!$B$8,LOOKUP($B141,Daten!$A$16:$A$65,Daten!$D$67:$D$116),\"\")","v":20.2},{"$f":"IF($A141<=Daten!$B$8,LOOKUP($B141,Daten!$A$118:$A$167,Daten!$L$118:$L$167),\"\")","v":20.3},{"$f":"IF($A141<=Daten!$B$8,LOOKUP($B141,Daten!$A$118:$A$167,Daten!$D$118:$D$167),\"\")","v":20.3},{"$f":"IF($A141<=Daten!$B$8,LOOKUP($B141,Daten!$A$169:$A$218,Daten!$L$169:$L$218),\"\")","v":20.399999999999999},{"$f":"IF($A141<=Daten!$B$8,LOOKUP($B141,Daten!$A$169:$A$218,Daten!$D$169:$D$218),\"\")","v":20.399999999999999},{"$f":"IF($A141<=Daten!$B$8,LOOKUP($B141,Daten!$A$220:$A$269,Daten!$L$220:$L$269),\"\")","v":20.5},{"$f":"IF($A141<=Daten!$B$8,LOOKUP($B141,Daten!$A$220:$A$269,Daten!$D$220:$D$269),\"\")","v":20.5},{"$f":"IF($A141<=Daten!$B$8,LOOKUP($B141,Daten!$A$271:$A$320,Daten!$L$271:$L$320),\"\")","v":20.6},{"$f":"IF($A141<=Daten!$B$8,LOOKUP($B141,Daten!$A$271:$A$320,Daten!$D$271:$D$320),\"\")","v":20.6},{"$f":"IF($A141<=Daten!$B$8,LOOKUP($B141,Daten!$A$322:$A$371,Daten!$L$322:$L$371),\"\")","v":20.7},{"$f":"IF($A141<=Daten!$B$8,LOOKUP($B141,Daten!$A$322:$A$371,Daten!$D$322:$D$371),\"\")","v":20.7}]
[21,{"$f":"IF(A148<=Daten!$B$8,Daten!V9,\"\")","v":"Menülinie 21"},{"$f":"IF($A148<=Daten!$B$8,LOOKUP($B148,Daten!$A$16:$A$65,Daten!$C$16:$C$65),\"\")","v":"Lang[21,1]"},{"$f":"IF($A148<=Daten!$B$8,LOOKUP($B148,Daten!$A$16:$A$65,Daten!$P$16:$P$65),\"\") & \" \" & IF($A148<=Daten!$B$8,LOOKUP($B148,Daten!$A$16:$A$65,Daten!$Q$16:$Q$65),\"\")","v":"21,1 Inhalt1Einh[21,1]"},{"$f":"IF($A148<=Daten!$B$8,LOOKUP($B148,Daten!$A$67:$A$116,Daten!$C$67:$C$116),\"\")","v":"Lang[21,2]"},{"$f":"IF($A148<=Daten!$B$8,LOOKUP($B148,Daten!$A$67:$A$116,Daten!$P$67:$P$116),\"\") & \" \" & IF($A148<=Daten!$B$8,LOOKUP($B148,Daten!$A$67:$A$116,Daten!$Q$67:$Q$116),\"\")","v":"21,2 Inhalt1Einh[21,2]"},{"$f":"IF($A148<=Daten!$B$8,LOOKUP($B148,Daten!$A$118:$A$167,Daten!$C$118:$C$167),\"\")","v":"Lang[21,3]"},{"$f":"IF($A148<=Daten!$B$8,LOOKUP($B148,Daten!$A$118:$A$167,Daten!$P$118:$P$167),\"\") & \" \" & IF($A148<=Daten!$B$8,LOOKUP($B148,Daten!$A$118:$A$167,Daten!$Q$118:$Q$167),\"\")","v":"21,3 Inhalt1Einh[21,3]"},{"$f":"IF($A148<=Daten!$B$8,LOOKUP($B148,Daten!$A$169:$A$218,Daten!$C$169:$C$218),\"\")","v":"Lang[21,4]"},{"$f":"IF($A148<=Daten!$B$8,LOOKUP($B148,Daten!$A$169:$A$218,Daten!$P$169:$P$218),\"\") & \" \" & IF($A148<=Daten!$B$8,LOOKUP($B148,Daten!$A$169:$A$218,Daten!$Q$169:$Q$218),\"\")","v":"21,4 Inhalt1Einh[21,4]"},{"$f":"IF($A148<=Daten!$B$8,LOOKUP($B148,Daten!$A$220:$A$269,Daten!$C$220:$C$269),\"\")","v":"Lang[21,5]"},{"$f":"IF($A148<=Daten!$B$8,LOOKUP($B148,Daten!$A$220:$A$269,Daten!$P$220:$P$269),\"\") & \" \" & IF($A148<=Daten!$B$8,LOOKUP($B148,Daten!$A$220:$A$269,Daten!$Q$220:$Q$269),\"\")","v":"21,5 Inhalt1Einh[21,5]"},{"$f":"IF($A148<=Daten!$B$8,LOOKUP($B148,Daten!$A$271:$A$320,Daten!$C$271:$C$320),\"\")","v":"Lang[21,6]"},{"$f":"IF($A148<=Daten!$B$8,LOOKUP($B148,Daten!$A$271:$A$320,Daten!$P$271:$P$320),\"\") & \" \" & IF($A148<=Daten!$B$8,LOOKUP($B148,Daten!$A$271:$A$320,Daten!$Q$271:$Q$320),\"\")","v":"21,6 Inhalt1Einh[21,6]"},{"$f":"IF($A148<=Daten!$B$8,LOOKUP($B148,Daten!$A$322:$A$371,Daten!$B$322:$C$371),\"\")","v":{"$error":"#N/A"}},{"$f":"IF($A148<=Daten!$B$8,LOOKUP($B148,Daten!$A$322:$A$371,Daten!$P$322:$P$371),\"\") & \" \" & IF($A148<=Daten!$B$8,LOOKUP($B148,Daten!$A$322:$A$371,Daten!$Q$322:$Q$371),\"\")","v":"21,7 Inhalt1Einh[21,7]"}]
[null,null,null,{"$f":"IF($A148<=Daten!$B$8,LOOKUP($B148,Daten!$A$16:$A$65,Daten!$R$16:$R$65),\"\") & \" \" & IF($A148<=Daten!$B$8,LOOKUP($B148,Daten!$A$16:$A$65,Daten!$S$16:$S$65),\"\")","v":"21,1 Inhalt2Einh[21,1]"},null,{"$f":"IF($A148<=Daten!$B$8,LOOKUP($B148,Daten!$A$67:$A$116,Daten!$R$67:$R$116),\"\") & \" \" & IF($A148<=Daten!$B$8,LOOKUP($B148,Daten!$A$67:$A$116,Daten!$S$67:$S$116),\"\")","v":"21,2 Inhalt2Einh[21,2]"},null,{"$f":"IF($A148<=Daten!$B$8,LOOKUP($B148,Daten!$A$118:$A$167,Daten!$R$118:$R$167),\"\") & \" \" & IF($A148<=Daten!$B$8,LOOKUP($B148,Daten!$A$118:$A$167,Daten!$S$118:$S$167),\"\")","v":"21,3 Inhalt2Einh[21,3]"},null,{"$f":"IF($A148<=Daten!$B$8,LOOKUP($B148,Daten!$A$169:$A$218,Daten!$R$169:$R$218),\"\") & \" \" & IF($A148<=Daten!$B$8,LOOKUP($B148,Daten!$A$169:$A$218,Daten!$S$169:$S$218),\"\")","v":"21,4 Inhalt2Einh[21,4]"},null,{"$f":"IF($A148<=Daten!$B$8,LOOKUP($B148,Daten!$A$220:$A$269,Daten!$R$220:$R$269),\"\") & \" \" & IF($A148<=Daten!$B$8,LOOKUP($B148,Daten!$A$220:$A$269,Daten!$S$220:$S$269),\"\")","v":"21,5 Inhalt2Einh[21,5]"},null,{"$f":"IF($A148<=Daten!$B$8,LOOKUP($B148,Daten!$A$271:$A$320,Daten!$R$271:$R$320),\"\") & \" \" & IF($A148<=Daten!$B$8,LOOKUP($B148,Daten!$A$271:$A$320,Daten!$S$271:$S$320),\"\")","v":"21,6 Inhalt2Einh[21,6]"},null,{"$f":"IF($A148<=Daten!$B$8,LOOKUP($B148,Daten!$A$322:$A$371,Daten!$R$322:$R$371),\"\") & \" \" & IF($A148<=Daten!$B$8,LOOKUP($B148,Daten!$A$322:$A$371,Daten!$S$322:$S$371),\"\")","v":"21,7 Inhalt2Einh[21,7]"}]
[null,null,null,{"$f":"IF($A148<=Daten!$B$8,LOOKUP($B148,Daten!$A$16:$A$65,Daten!$T$16:$T$65),\"\") & \" \" & IF($A148<=Daten!$B$8,LOOKUP($B148,Daten!$A$16:$A$65,Daten!$U$16:$U$65),\"\")","v":"21,1 Inhalt3Einh[21,1]"},null,{"$f":"IF($A148<=Daten!$B$8,LOOKUP($B148,Daten!$A$67:$A$116,Daten!$T$67:$T$116),\"\") & \" \" & IF($A148<=Daten!$B$8,LOOKUP($B148,Daten!$A$67:$A$116,Daten!$U$67:$U$116),\"\")","v":"21,2 Inhalt3Einh[21,2]"},null,{"$f":"IF($A148<=Daten!$B$8,LOOKUP($B148,Daten!$A$118:$A$167,Daten!$T$118:$T$167),\"\") & \" \" & IF($A148<=Daten!$B$8,LOOKUP($B148,Daten!$A$118:$A$167,Daten!$U$118:$U$167),\"\")","v":"21,3 Inhalt3Einh[21,3]"},null,{"$f":"IF($A148<=Daten!$B$8,LOOKUP($B148,Daten!$A$169:$A$218,Daten!$T$169:$T$218),\"\") & \" \" & IF($A148<=Daten!$B$8,LOOKUP($B148,Daten!$A$169:$A$218,Daten!$U$169:$U$218),\"\")","v":"21,4 Inhalt3Einh[21,4]"},null,{"$f":"IF($A148<=Daten!$B$8,LOOKUP($B148,Daten!$A$220:$A$269,Daten!$T$220:$T$269),\"\") & \" \" & IF($A148<=Daten!$B$8,LOOKUP($B148,Daten!$A$220:$A$269,Daten!$U$220:$U$269),\"\")","v":"21,5 Inhalt3Einh[21,5]"},null,{"$f":"IF($A148<=Daten!$B$8,LOOKUP($B148,Daten!$A$271:$A$320,Daten!$T$271:$T$320),\"\") & \" \" & IF($A148<=Daten!$B$8,LOOKUP($B148,Daten!$A$271:$A$320,Daten!$U$271:$U$320),\"\")","v":"21,6 Inhalt3Einh[21,6]"},null,{"$f":"IF($A148<=Daten!$B$8,LOOKUP($B148,Daten!$A$322:$A$371,Daten!$T$322:$T$371),\"\") & \" \" & IF($A148<=Daten!$B$8,LOOKUP($B148,Daten!$A$322:$A$371,Daten!$U$322:$U$371),\"\")","v":"21,7 Inhalt3Einh[21,7]"}]
[null,null,null,{"$f":"IF($A148<=Daten!$B$8,LOOKUP($B148,Daten!$A$16:$A$65,Daten!$V$16:$V$65),\"\") & \" \" & IF($A148<=Daten!$B$8,LOOKUP($B148,Daten!$A$16:$A$65,Daten!$W$16:$W$65),\"\")","v":"21,1 Inhalt4Einh[21,1]"},null,{"$f":"IF($A148<=Daten!$B$8,LOOKUP($B148,Daten!$A$67:$A$116,Daten!$V$67:$V$116),\"\") & \" \" & IF($A148<=Daten!$B$8,LOOKUP($B148,Daten!$A$67:$A$116,Daten!$W$67:$W$116),\"\")","v":"21,2 Inhalt4Einh[21,2]"},null,{"$f":"IF($A148<=Daten!$B$8,LOOKUP($B148,Daten!$A$118:$A$167,Daten!$V$118:$V$167),\"\") & \" \" & IF($A148<=Daten!$B$8,LOOKUP($B148,Daten!$A$118:$A$167,Daten!$W$118:$W$167),\"\")","v":"21,3 Inhalt4Einh[21,3]"},null,{"$f":"IF($A148<=Daten!$B$8,LOOKUP($B148,Daten!$A$169:$A$218,Daten!$V$169:$V$218),\"\") & \" \" & IF($A148<=Daten!$B$8,LOOKUP($B148,Daten!$A$169:$A$218,Daten!$W$169:$W$218),\"\")","v":"21,4 Inhalt4Einh[21,4]"},null,{"$f":"IF($A148<=Daten!$B$8,LOOKUP($B148,Daten!$A$220:$A$269,Daten!$V$220:$V$269),\"\") & \" \" & IF($A148<=Daten!$B$8,LOOKUP($B148,Daten!$A$220:$A$269,Daten!$W$220:$W$269),\"\")","v":"21,5 Inhalt4Einh[21,5]"},null,{"$f":"IF($A148<=Daten!$B$8,LOOKUP($B148,Daten!$A$271:$A$320,Daten!$V$271:$V$320),\"\") & \" \" & IF($A148<=Daten!$B$8,LOOKUP($B148,Daten!$A$271:$A$320,Daten!$W$271:$W$320),\"\")","v":"21,6 Inhalt4Einh[21,6]"},null,{"$f":"IF($A148<=Daten!$B$8,LOOKUP($B148,Daten!$A$322:$A$371,Daten!$V$322:$V$371),\"\") & \" \" & IF($A148<=Daten!$B$8,LOOKUP($B148,Daten!$A$322:$A$371,Daten!$W$322:$W$371),\"\")","v":"21,7 Inhalt4Einh[21,7]"}]
[null,null,null,{"$f":"IF($A148<=Daten!$B$8,LOOKUP($B148,Daten!$A$16:$A$65,Daten!$X$16:$X$65),\"\") & \" \" & IF($A148<=Daten!$B$8,LOOKUP($B148,Daten!$A$16:$A$65,Daten!$Y$16:$Y$65),\"\")","v":"21,1 Inhalt5Einh[21,1]"},null,{"$f":"IF($A148<=Daten!$B$8,LOOKUP($B148,Daten!$A$67:$A$116,Daten!$X$67:$X$116),\"\") & \" \" & IF($A148<=Daten!$B$8,LOOKUP($B148,Daten!$A$67:$A$116,Daten!$Y$67:$Y$116),\"\")","v":"21,2 Inhalt5Einh[21,2]"},null,{"$f":"IF($A148<=Daten!$B$8,LOOKUP($B148,Daten!$A$118:$A$167,Daten!$X$118:$X$167),\"\") & \" \" & IF($A148<=Daten!$B$8,LOOKUP($B148,Daten!$A$118:$A$167,Daten!$Y$118:$Y$167),\"\")","v":"21,3 Inhalt5Einh[21,3]"},null,{"$f":"IF($A148<=Daten!$B$8,LOOKUP($B148,Daten!$A$169:$A$218,Daten!$X$169:$X$218),\"\") & \" \" & IF($A148<=Daten!$B$8,LOOKUP($B148,Daten!$A$169:$A$218,Daten!$Y$169:$Y$218),\"\")","v":"21,4 Inhalt5Einh[21,4]"},null,{"$f":"IF($A148<=Daten!$B$8,LOOKUP($B148,Daten!$A$220:$A$269,Daten!$X$220:$X$269),\"\") & \" \" & IF($A148<=Daten!$B$8,LOOKUP($B148,Daten!$A$220:$A$269,Daten!$Y$220:$Y$269),\"\")","v":"21,5 Inhalt5Einh[21,5]"},null,{"$f":"IF($A148<=Daten!$B$8,LOOKUP($B148,Daten!$A$271:$A$320,Daten!$X$271:$X$320),\"\") & \" \" & IF($A148<=Daten!$B$8,LOOKUP($B148,Daten!$A$271:$A$320,Daten!$Y$271:$Y$320),\"\")","v":"21,6 Inhalt5Einh[21,6]"},null,{"$f":"IF($A148<=Daten!$B$8,LOOKUP($B148,Daten!$A$322:$A$371,Daten!$X$322:$X$371),\"\") & \" \" & IF($A148<=Daten!$B$8,LOOKUP($B148,Daten!$A$322:$A$371,Daten!$Y$322:$Y$371),\"\")","v":"21,7 Inhalt5Einh[21,7]"}]
[null,null,null,{"$f":"IF($A148<=Daten!$B$8,LOOKUP($B148,Daten!$A$16:$A$65,Daten!$Z$16:$Z$65),\"\") & \" \" & IF($A148<=Daten!$B$8,LOOKUP($B148,Daten!$A$16:$A$65,Daten!$AA$16:$AA$65),\"\")","v":"21,1 Inhalt6Einh[21,1]"},null,{"$f":"IF($A148<=Daten!$B$8,LOOKUP($B148,Daten!$A$67:$A$116,Daten!$Z$67:$Z$116),\"\") & \" \" & IF($A148<=Daten!$B$8,LOOKUP($B148,Daten!$A$67:$A$116,Daten!$AA$67:$AA$116),\"\")","v":"21,2 Inhalt6Einh[21,2]"},null,{"$f":"IF($A148<=Daten!$B$8,LOOKUP($B148,Daten!$A$118:$A$167,Daten!$Z$118:$Z$167),\"\") & \" \" & IF($A148<=Daten!$B$8,LOOKUP($B148,Daten!$A$118:$A$167,Daten!$AA$118:$AA$167),\"\")","v":"21,3 Inhalt6Einh[21,3]"},null,{"$f":"IF($A148<=Daten!$B$8,LOOKUP($B148,Daten!$A$169:$A$218,Daten!$Z$169:$Z$218),\"\") & \" \" & IF($A148<=Daten!$B$8,LOOKUP($B148,Daten!$A$169:$A$218,Daten!$AA$169:$AA$218),\"\")","v":"21,4 Inhalt6Einh[21,4]"},null,{"$f":"IF($A148<=Daten!$B$8,LOOKUP($B148,Daten!$A$220:$A$269,Daten!$Z$220:$Z$269),\"\") & \" \" & IF($A148<=Daten!$B$8,LOOKUP($B148,Daten!$A$220:$A$269,Daten!$AA$220:$AA$269),\"\")","v":"21,5 Inhalt6Einh[21,5]"},null,{"$f":"IF($A148<=Daten!$B$8,LOOKUP($B148,Daten!$A$271:$A$320,Daten!$Z$271:$Z$320),\"\") & \" \" & IF($A148<=Daten!$B$8,LOOKUP($B148,Daten!$A$271:$A$320,Daten!$AA$271:$AA$320),\"\")","v":"21,6 Inhalt6Einh[21,6]"},null,{"$f":"IF($A148<=Daten!$B$8,LOOKUP($B148,Daten!$A$322:$A$371,Daten!$Z$322:$Z$371),\"\") & \" \" & IF($A148<=Daten!$B$8,LOOKUP($B148,Daten!$A$322:$A$371,Daten!$AA$322:$AA$371),\"\")","v":"21,7 Inhalt6Einh[21,7]"}]
[null,{"$f":"IF(A148<=Daten!$B$8,\"Zusatzstoffe\",\"\")","v":"Zusatzstoffe"},{"$f":"IF($A148<=Daten!$B$8,LOOKUP($B148,Daten!$A$16:$A$65,Daten!$L$16:$L$65),\"\")","v":21.1},{"$f":"IF($A148<=Daten!$B$8,LOOKUP($B148,Daten!$A$16:$A$65,Daten!$D$16:$D$65),\"\")","v":21.1},{"$f":"IF($A148<=Daten!$B$8,LOOKUP($B148,Daten!$A$67:$A$116,Daten!$L$67:$L$116),\"\")","v":21.2},{"$f":"IF($A148<=Daten!$B$8,LOOKUP($B148,Daten!$A$16:$A$65,Daten!$D$67:$D$116),\"\")","v":21.2},{"$f":"IF($A148<=Daten!$B$8,LOOKUP($B148,Daten!$A$118:$A$167,Daten!$L$118:$L$167),\"\")","v":21.3},{"$f":"IF($A148<=Daten!$B$8,LOOKUP($B148,Daten!$A$118:$A$167,Daten!$D$118:$D$167),\"\")","v":21.3},{"$f":"IF($A148<=Daten!$B$8,LOOKUP($B148,Daten!$A$169:$A$218,Daten!$L$169:$L$218),\"\")","v":21.4},{"$f":"IF($A148<=Daten!$B$8,LOOKUP($B148,Daten!$A$169:$A$218,Daten!$D$169:$D$218),\"\")","v":21.4},{"$f":"IF($A148<=Daten!$B$8,LOOKUP($B148,Daten!$A$220:$A$269,Daten!$L$220:$L$269),\"\")","v":21.5},{"$f":"IF($A148<=Daten!$B$8,LOOKUP($B148,Daten!$A$220:$A$269,Daten!$D$220:$D$269),\"\")","v":21.5},{"$f":"IF($A148<=Daten!$B$8,LOOKUP($B148,Daten!$A$271:$A$320,Daten!$L$271:$L$320),\"\")","v":21.6},{"$f":"IF($A148<=Daten!$B$8,LOOKUP($B148,Daten!$A$271:$A$320,Daten!$D$271:$D$320),\"\")","v":21.6},{"$f":"IF($A148<=Daten!$B$8,LOOKUP($B148,Daten!$A$322:$A$371,Daten!$L$322:$L$371),\"\")","v":21.7},{"$f":"IF($A148<=Daten!$B$8,LOOKUP($B148,Daten!$A$322:$A$371,Daten!$D$322:$D$371),\"\")","v":21.7}]
[22,{"$f":"IF(A155<=Daten!$B$8,Daten!W9,\"\")","v":"Menülinie 22"},{"$f":"IF($A155<=Daten!$B$8,LOOKUP($B155,Daten!$A$16:$A$65,Daten!$C$16:$C$65),\"\")","v":"Lang[22,1]"},{"$f":"IF($A155<=Daten!$B$8,LOOKUP($B155,Daten!$A$16:$A$65,Daten!$P$16:$P$65),\"\") & \" \" & IF($A155<=Daten!$B$8,LOOKUP($B155,Daten!$A$16:$A$65,Daten!$Q$16:$Q$65),\"\")","v":"22,1 Inhalt1Einh[22,1]"},{"$f":"IF($A155<=Daten!$B$8,LOOKUP($B155,Daten!$A$67:$A$116,Daten!$C$67:$C$116),\"\")","v":"Lang[22,2]"},{"$f":"IF($A155<=Daten!$B$8,LOOKUP($B155,Daten!$A$67:$A$116,Daten!$P$67:$P$116),\"\") & \" \" & IF($A155<=Daten!$B$8,LOOKUP($B155,Daten!$A$67:$A$116,Daten!$Q$67:$Q$116),\"\")","v":"22,2 Inhalt1Einh[22,2]"},{"$f":"IF($A155<=Daten!$B$8,LOOKUP($B155,Daten!$A$118:$A$167,Daten!$C$118:$C$167),\"\")","v":"Lang[22,3]"},{"$f":"IF($A155<=Daten!$B$8,LOOKUP($B155,Daten!$A$118:$A$167,Daten!$P$118:$P$167),\"\") & \" \" & IF($A155<=Daten!$B$8,LOOKUP($B155,Daten!$A$118:$A$167,Daten!$Q$118:$Q$167),\"\")","v":"22,3 Inhalt1Einh[22,3]"},{"$f":"IF($A155<=Daten!$B$8,LOOKUP($B155,Daten!$A$169:$A$218,Daten!$C$169:$C$218),\"\")","v":"Lang[22,4]"},{"$f":"IF($A155<=Daten!$B$8,LOOKUP($B155,Daten!$A$169:$A$218,Daten!$P$169:$P$218),\"\") & \" \" & IF($A155<=Daten!$B$8,LOOKUP($B155,Daten!$A$169:$A$218,Daten!$Q$169:$Q$218),\"\")","v":"22,4 Inhalt1Einh[22,4]"},{"$f":"IF($A155<=Daten!$B$8,LOOKUP($B155,Daten!$A$220:$A$269,Daten!$C$220:$C$269),\"\")","v":"Lang[22,5]"},{"$f":"IF($A155<=Daten!$B$8,LOOKUP($B155,Daten!$A$220:$A$269,Daten!$P$220:$P$269),\"\") & \" \" & IF($A155<=Daten!$B$8,LOOKUP($B155,Daten!$A$220:$A$269,Daten!$Q$220:$Q$269),\"\")","v":"22,5 Inhalt1Einh[22,5]"},{"$f":"IF($A155<=Daten!$B$8,LOOKUP($B155,Daten!$A$271:$A$320,Daten!$C$271:$C$320),\"\")","v":"Lang[22,6]"},{"$f":"IF($A155<=Daten!$B$8,LOOKUP($B155,Daten!$A$271:$A$320,Daten!$P$271:$P$320),\"\") & \" \" & IF($A155<=Daten!$B$8,LOOKUP($B155,Daten!$A$271:$A$320,Daten!$Q$271:$Q$320),\"\")","v":"22,6 Inhalt1Einh[22,6]"},{"$f":"IF($A155<=Daten!$B$8,LOOKUP($B155,Daten!$A$322:$A$371,Daten!$B$322:$C$371),\"\")","v":{"$error":"#N/A"}},{"$f":"IF($A155<=Daten!$B$8,LOOKUP($B155,Daten!$A$322:$A$371,Daten!$P$322:$P$371),\"\") & \" \" & IF($A155<=Daten!$B$8,LOOKUP($B155,Daten!$A$322:$A$371,Daten!$Q$322:$Q$371),\"\")","v":"22,7 Inhalt1Einh[22,7]"}]
[null,null,null,{"$f":"IF($A155<=Daten!$B$8,LOOKUP($B155,Daten!$A$16:$A$65,Daten!$R$16:$R$65),\"\") & \" \" & IF($A155<=Daten!$B$8,LOOKUP($B155,Daten!$A$16:$A$65,Daten!$S$16:$S$65),\"\")","v":"22,1 Inhalt2Einh[22,1]"},null,{"$f":"IF($A155<=Daten!$B$8,LOOKUP($B155,Daten!$A$67:$A$116,Daten!$R$67:$R$116),\"\") & \" \" & IF($A155<=Daten!$B$8,LOOKUP($B155,Daten!$A$67:$A$116,Daten!$S$67:$S$116),\"\")","v":"22,2 Inhalt2Einh[22,2]"},null,{"$f":"IF($A155<=Daten!$B$8,LOOKUP($B155,Daten!$A$118:$A$167,Daten!$R$118:$R$167),\"\") & \" \" & IF($A155<=Daten!$B$8,LOOKUP($B155,Daten!$A$118:$A$167,Daten!$S$118:$S$167),\"\")","v":"22,3 Inhalt2Einh[22,3]"},null,{"$f":"IF($A155<=Daten!$B$8,LOOKUP($B155,Daten!$A$169:$A$218,Daten!$R$169:$R$218),\"\") & \" \" & IF($A155<=Daten!$B$8,LOOKUP($B155,Daten!$A$169:$A$218,Daten!$S$169:$S$218),\"\")","v":"22,4 Inhalt2Einh[22,4]"},null,{"$f":"IF($A155<=Daten!$B$8,LOOKUP($B155,Daten!$A$220:$A$269,Daten!$R$220:$R$269),\"\") & \" \" & IF($A155<=Daten!$B$8,LOOKUP($B155,Daten!$A$220:$A$269,Daten!$S$220:$S$269),\"\")","v":"22,5 Inhalt2Einh[22,5]"},null,{"$f":"IF($A155<=Daten!$B$8,LOOKUP($B155,Daten!$A$271:$A$320,Daten!$R$271:$R$320),\"\") & \" \" & IF($A155<=Daten!$B$8,LOOKUP($B155,Daten!$A$271:$A$320,Daten!$S$271:$S$320),\"\")","v":"22,6 Inhalt2Einh[22,6]"},null,{"$f":"IF($A155<=Daten!$B$8,LOOKUP($B155,Daten!$A$322:$A$371,Daten!$R$322:$R$371),\"\") & \" \" & IF($A155<=Daten!$B$8,LOOKUP($B155,Daten!$A$322:$A$371,Daten!$S$322:$S$371),\"\")","v":"22,7 Inhalt2Einh[22,7]"}]
[null,null,null,{"$f":"IF($A155<=Daten!$B$8,LOOKUP($B155,Daten!$A$16:$A$65,Daten!$T$16:$T$65),\"\") & \" \" & IF($A155<=Daten!$B$8,LOOKUP($B155,Daten!$A$16:$A$65,Daten!$U$16:$U$65),\"\")","v":"22,1 Inhalt3Einh[22,1]"},null,{"$f":"IF($A155<=Daten!$B$8,LOOKUP($B155,Daten!$A$67:$A$116,Daten!$T$67:$T$116),\"\") & \" \" & IF($A155<=Daten!$B$8,LOOKUP($B155,Daten!$A$67:$A$116,Daten!$U$67:$U$116),\"\")","v":"22,2 Inhalt3Einh[22,2]"},null,{"$f":"IF($A155<=Daten!$B$8,LOOKUP($B155,Daten!$A$118:$A$167,Daten!$T$118:$T$167),\"\") & \" \" & IF($A155<=Daten!$B$8,LOOKUP($B155,Daten!$A$118:$A$167,Daten!$U$118:$U$167),\"\")","v":"22,3 Inhalt3Einh[22,3]"},null,{"$f":"IF($A155<=Daten!$B$8,LOOKUP($B155,Daten!$A$169:$A$218,Daten!$T$169:$T$218),\"\") & \" \" & IF($A155<=Daten!$B$8,LOOKUP($B155,Daten!$A$169:$A$218,Daten!$U$169:$U$218),\"\")","v":"22,4 Inhalt3Einh[22,4]"},null,{"$f":"IF($A155<=Daten!$B$8,LOOKUP($B155,Daten!$A$220:$A$269,Daten!$T$220:$T$269),\"\") & \" \" & IF($A155<=Daten!$B$8,LOOKUP($B155,Daten!$A$220:$A$269,Daten!$U$220:$U$269),\"\")","v":"22,5 Inhalt3Einh[22,5]"},null,{"$f":"IF($A155<=Daten!$B$8,LOOKUP($B155,Daten!$A$271:$A$320,Daten!$T$271:$T$320),\"\") & \" \" & IF($A155<=Daten!$B$8,LOOKUP($B155,Daten!$A$271:$A$320,Daten!$U$271:$U$320),\"\")","v":"22,6 Inhalt3Einh[22,6]"},null,{"$f":"IF($A155<=Daten!$B$8,LOOKUP($B155,Daten!$A$322:$A$371,Daten!$T$322:$T$371),\"\") & \" \" & IF($A155<=Daten!$B$8,LOOKUP($B155,Daten!$A$322:$A$371,Daten!$U$322:$U$371),\"\")","v":"22,7 Inhalt3Einh[22,7]"}]
[null,null,null,{"$f":"IF($A155<=Daten!$B$8,LOOKUP($B155,Daten!$A$16:$A$65,Daten!$V$16:$V$65),\"\") & \" \" & IF($A155<=Daten!$B$8,LOOKUP($B155,Daten!$A$16:$A$65,Daten!$W$16:$W$65),\"\")","v":"22,1 Inhalt4Einh[22,1]"},null,{"$f":"IF($A155<=Daten!$B$8,LOOKUP($B155,Daten!$A$67:$A$116,Daten!$V$67:$V$116),\"\") & \" \" & IF($A155<=Daten!$B$8,LOOKUP($B155,Daten!$A$67:$A$116,Daten!$W$67:$W$116),\"\")","v":"22,2 Inhalt4Einh[22,2]"},null,{"$f":"IF($A155<=Daten!$B$8,LOOKUP($B155,Daten!$A$118:$A$167,Daten!$V$118:$V$167),\"\") & \" \" & IF($A155<=Daten!$B$8,LOOKUP($B155,Daten!$A$118:$A$167,Daten!$W$118:$W$167),\"\")","v":"22,3 Inhalt4Einh[22,3]"},null,{"$f":"IF($A155<=Daten!$B$8,LOOKUP($B155,Daten!$A$169:$A$218,Daten!$V$169:$V$218),\"\") & \" \" & IF($A155<=Daten!$B$8,LOOKUP($B155,Daten!$A$169:$A$218,Daten!$W$169:$W$218),\"\")","v":"22,4 Inhalt4Einh[22,4]"},null,{"$f":"IF($A155<=Daten!$B$8,LOOKUP($B155,Daten!$A$220:$A$269,Daten!$V$220:$V$269),\"\") & \" \" & IF($A155<=Daten!$B$8,LOOKUP($B155,Daten!$A$220:$A$269,Daten!$W$220:$W$269),\"\")","v":"22,5 Inhalt4Einh[22,5]"},null,{"$f":"IF($A155<=Daten!$B$8,LOOKUP($B155,Daten!$A$271:$A$320,Daten!$V$271:$V$320),\"\") & \" \" & IF($A155<=Daten!$B$8,LOOKUP($B155,Daten!$A$271:$A$320,Daten!$W$271:$W$320),\"\")","v":"22,6 Inhalt4Einh[22,6]"},null,{"$f":"IF($A155<=Daten!$B$8,LOOKUP($B155,Daten!$A$322:$A$371,Daten!$V$322:$V$371),\"\") & \" \" & IF($A155<=Daten!$B$8,LOOKUP($B155,Daten!$A$322:$A$371,Daten!$W$322:$W$371),\"\")","v":"22,7 Inhalt4Einh[22,7]"}]
[null,null,null,{"$f":"IF($A155<=Daten!$B$8,LOOKUP($B155,Daten!$A$16:$A$65,Daten!$X$16:$X$65),\"\") & \" \" & IF($A155<=Daten!$B$8,LOOKUP($B155,Daten!$A$16:$A$65,Daten!$Y$16:$Y$65),\"\")","v":"22,1 Inhalt5Einh[22,1]"},null,{"$f":"IF($A155<=Daten!$B$8,LOOKUP($B155,Daten!$A$67:$A$116,Daten!$X$67:$X$116),\"\") & \" \" & IF($A155<=Daten!$B$8,LOOKUP($B155,Daten!$A$67:$A$116,Daten!$Y$67:$Y$116),\"\")","v":"22,2 Inhalt5Einh[22,2]"},null,{"$f":"IF($A155<=Daten!$B$8,LOOKUP($B155,Daten!$A$118:$A$167,Daten!$X$118:$X$167),\"\") & \" \" & IF($A155<=Daten!$B$8,LOOKUP($B155,Daten!$A$118:$A$167,Daten!$Y$118:$Y$167),\"\")","v":"22,3 Inhalt5Einh[22,3]"},null,{"$f":"IF($A155<=Daten!$B$8,LOOKUP($B155,Daten!$A$169:$A$218,Daten!$X$169:$X$218),\"\") & \" \" & IF($A155<=Daten!$B$8,LOOKUP($B155,Daten!$A$169:$A$218,Daten!$Y$169:$Y$218),\"\")","v":"22,4 Inhalt5Einh[22,4]"},null,{"$f":"IF($A155<=Daten!$B$8,LOOKUP($B155,Daten!$A$220:$A$269,Daten!$X$220:$X$269),\"\") & \" \" & IF($A155<=Daten!$B$8,LOOKUP($B155,Daten!$A$220:$A$269,Daten!$Y$220:$Y$269),\"\")","v":"22,5 Inhalt5Einh[22,5]"},null,{"$f":"IF($A155<=Daten!$B$8,LOOKUP($B155,Daten!$A$271:$A$320,Daten!$X$271:$X$320),\"\") & \" \" & IF($A155<=Daten!$B$8,LOOKUP($B155,Daten!$A$271:$A$320,Daten!$Y$271:$Y$320),\"\")","v":"22,6 Inhalt5Einh[22,6]"},null,{"$f":"IF($A155<=Daten!$B$8,LOOKUP($B155,Daten!$A$322:$A$371,Daten!$X$322:$X$371),\"\") & \" \" & IF($A155<=Daten!$B$8,LOOKUP($B155,Daten!$A$322:$A$371,Daten!$Y$322:$Y$371),\"\")","v":"22,7 Inhalt5Einh[22,7]"}]
[null,null,null,{"$f":"IF($A155<=Daten!$B$8,LOOKUP($B155,Daten!$A$16:$A$65,Daten!$Z$16:$Z$65),\"\") & \" \" & IF($A155<=Daten!$B$8,LOOKUP($B155,Daten!$A$16:$A$65,Daten!$AA$16:$AA$65),\"\")","v":"22,1 Inhalt6Einh[22,1]"},null,{"$f":"IF($A155<=Daten!$B$8,LOOKUP($B155,Daten!$A$67:$A$116,Daten!$Z$67:$Z$116),\"\") & \" \" & IF($A155<=Daten!$B$8,LOOKUP($B155,Daten!$A$67:$A$116,Daten!$AA$67:$AA$116),\"\")","v":"22,2 Inhalt6Einh[22,2]"},null,{"$f":"IF($A155<=Daten!$B$8,LOOKUP($B155,Daten!$A$118:$A$167,Daten!$Z$118:$Z$167),\"\") & \" \" & IF($A155<=Daten!$B$8,LOOKUP($B155,Daten!$A$118:$A$167,Daten!$AA$118:$AA$167),\"\")","v":"22,3 Inhalt6Einh[22,3]"},null,{"$f":"IF($A155<=Daten!$B$8,LOOKUP($B155,Daten!$A$169:$A$218,Daten!$Z$169:$Z$218),\"\") & \" \" & IF($A155<=Daten!$B$8,LOOKUP($B155,Daten!$A$169:$A$218,Daten!$AA$169:$AA$218),\"\")","v":"22,4 Inhalt6Einh[22,4]"},null,{"$f":"IF($A155<=Daten!$B$8,LOOKUP($B155,Daten!$A$220:$A$269,Daten!$Z$220:$Z$269),\"\") & \" \" & IF($A155<=Daten!$B$8,LOOKUP($B155,Daten!$A$220:$A$269,Daten!$AA$220:$AA$269),\"\")","v":"22,5 Inhalt6Einh[22,5]"},null,{"$f":"IF($A155<=Daten!$B$8,LOOKUP($B155,Daten!$A$271:$A$320,Daten!$Z$271:$Z$320),\"\") & \" \" & IF($A155<=Daten!$B$8,LOOKUP($B155,Daten!$A$271:$A$320,Daten!$AA$271:$AA$320),\"\")","v":"22,6 Inhalt6Einh[22,6]"},null,{"$f":"IF($A155<=Daten!$B$8,LOOKUP($B155,Daten!$A$322:$A$371,Daten!$Z$322:$Z$371),\"\") & \" \" & IF($A155<=Daten!$B$8,LOOKUP($B155,Daten!$A$322:$A$371,Daten!$AA$322:$AA$371),\"\")","v":"22,7 Inhalt6Einh[22,7]"}]
[null,{"$f":"IF(A155<=Daten!$B$8,\"Zusatzstoffe\",\"\")","v":"Zusatzstoffe"},{"$f":"IF($A155<=Daten!$B$8,LOOKUP($B155,Daten!$A$16:$A$65,Daten!$L$16:$L$65),\"\")","v":22.1},{"$f":"IF($A155<=Daten!$B$8,LOOKUP($B155,Daten!$A$16:$A$65,Daten!$D$16:$D$65),\"\")","v":22.1},{"$f":"IF($A155<=Daten!$B$8,LOOKUP($B155,Daten!$A$67:$A$116,Daten!$L$67:$L$116),\"\")","v":22.2},{"$f":"IF($A155<=Daten!$B$8,LOOKUP($B155,Daten!$A$16:$A$65,Daten!$D$67:$D$116),\"\")","v":22.2},{"$f":"IF($A155<=Daten!$B$8,LOOKUP($B155,Daten!$A$118:$A$167,Daten!$L$118:$L$167),\"\")","v":22.3},{"$f":"IF($A155<=Daten!$B$8,LOOKUP($B155,Daten!$A$118:$A$167,Daten!$D$118:$D$167),\"\")","v":22.3},{"$f":"IF($A155<=Daten!$B$8,LOOKUP($B155,Daten!$A$169:$A$218,Daten!$L$169:$L$218),\"\")","v":22.4},{"$f":"IF($A155<=Daten!$B$8,LOOKUP($B155,Daten!$A$169:$A$218,Daten!$D$169:$D$218),\"\")","v":22.4},{"$f":"IF($A155<=Daten!$B$8,LOOKUP($B155,Daten!$A$220:$A$269,Daten!$L$220:$L$269),\"\")","v":22.5},{"$f":"IF($A155<=Daten!$B$8,LOOKUP($B155,Daten!$A$220:$A$269,Daten!$D$220:$D$269),\"\")","v":22.5},{"$f":"IF($A155<=Daten!$B$8,LOOKUP($B155,Daten!$A$271:$A$320,Daten!$L$271:$L$320),\"\")","v":22.6},{"$f":"IF($A155<=Daten!$B$8,LOOKUP($B155,Daten!$A$271:$A$320,Daten!$D$271:$D$320),\"\")","v":22.6},{"$f":"IF($A155<=Daten!$B$8,LOOKUP($B155,Daten!$A$322:$A$371,Daten!$L$322:$L$371),\"\")","v":22.7},{"$f":"IF($A155<=Daten!$B$8,LOOKUP($B155,Daten!$A$322:$A$371,Daten!$D$322:$D$371),\"\")","v":22.7}]
[23,{"$f":"IF(A162<=Daten!$B$8,Daten!X9,\"\")","v":"Menülinie 23"},{"$f":"IF(A162<=Daten!$B$8,LOOKUP(B162,Daten!$A$16:$A$65,Daten!$C$16:$C$65),\"\")","v":"Lang[23,1]"},{"$f":"IF($A162<=Daten!$B$8,LOOKUP($B162,Daten!$A$16:$A$65,Daten!$P$16:$P$65),\"\") & \" \" & IF($A162<=Daten!$B$8,LOOKUP($B162,Daten!$A$16:$A$65,Daten!$Q$16:$Q$65),\"\")","v":"23,1 Inhalt1Einh[23,1]"},{"$f":"IF($A162<=Daten!$B$8,LOOKUP($B162,Daten!$A$67:$A$116,Daten!$C$67:$C$116),\"\")","v":"Lang[23,2]"},{"$f":"IF($A162<=Daten!$B$8,LOOKUP($B162,Daten!$A$67:$A$116,Daten!$P$67:$P$116),\"\") & \" \" & IF($A162<=Daten!$B$8,LOOKUP($B162,Daten!$A$67:$A$116,Daten!$Q$67:$Q$116),\"\")","v":"23,2 Inhalt1Einh[23,2]"},{"$f":"IF($A162<=Daten!$B$8,LOOKUP($B162,Daten!$A$118:$A$167,Daten!$C$118:$C$167),\"\")","v":"Lang[23,3]"},{"$f":"IF($A162<=Daten!$B$8,LOOKUP($B162,Daten!$A$118:$A$167,Daten!$P$118:$P$167),\"\") & \" \" & IF($A162<=Daten!$B$8,LOOKUP($B162,Daten!$A$118:$A$167,Daten!$Q$118:$Q$167),\"\")","v":"23,3 Inhalt1Einh[23,3]"},{"$f":"IF($A162<=Daten!$B$8,LOOKUP($B162,Daten!$A$169:$A$218,Daten!$C$169:$C$218),\"\")","v":"Lang[23,4]"},{"$f":"IF($A162<=Daten!$B$8,LOOKUP($B162,Daten!$A$169:$A$218,Daten!$P$169:$P$218),\"\") & \" \" & IF($A162<=Daten!$B$8,LOOKUP($B162,Daten!$A$169:$A$218,Daten!$Q$169:$Q$218),\"\")","v":"23,4 Inhalt1Einh[23,4]"},{"$f":"IF($A162<=Daten!$B$8,LOOKUP($B162,Daten!$A$220:$A$269,Daten!$C$220:$C$269),\"\")","v":"Lang[23,5]"},{"$f":"IF($A162<=Daten!$B$8,LOOKUP($B162,Daten!$A$220:$A$269,Daten!$P$220:$P$269),\"\") & \" \" & IF($A162<=Daten!$B$8,LOOKUP($B162,Daten!$A$220:$A$269,Daten!$Q$220:$Q$269),\"\")","v":"23,5 Inhalt1Einh[23,5]"},{"$f":"IF($A162<=Daten!$B$8,LOOKUP($B162,Daten!$A$271:$A$320,Daten!$C$271:$C$320),\"\")","v":"Lang[23,6]"},{"$f":"IF($A162<=Daten!$B$8,LOOKUP($B162,Daten!$A$271:$A$320,Daten!$P$271:$P$320),\"\") & \" \" & IF($A162<=Daten!$B$8,LOOKUP($B162,Daten!$A$271:$A$320,Daten!$Q$271:$Q$320),\"\")","v":"23,6 Inhalt1Einh[23,6]"},{"$f":"IF($A162<=Daten!$B$8,LOOKUP($B162,Daten!$A$322:$A$371,Daten!$B$322:$C$371),\"\")","v":{"$error":"#N/A"}},{"$f":"IF($A162<=Daten!$B$8,LOOKUP($B162,Daten!$A$322:$A$371,Daten!$P$322:$P$371),\"\") & \" \" & IF($A162<=Daten!$B$8,LOOKUP($B162,Daten!$A$322:$A$371,Daten!$Q$322:$Q$371),\"\")","v":"23,7 Inhalt1Einh[23,7]"}]
[null,null,null,{"$f":"IF($A162<=Daten!$B$8,LOOKUP($B162,Daten!$A$16:$A$65,Daten!$R$16:$R$65),\"\") & \" \" & IF($A162<=Daten!$B$8,LOOKUP($B162,Daten!$A$16:$A$65,Daten!$S$16:$S$65),\"\")","v":"23,1 Inhalt2Einh[23,1]"},null,{"$f":"IF($A162<=Daten!$B$8,LOOKUP($B162,Daten!$A$67:$A$116,Daten!$R$67:$R$116),\"\") & \" \" & IF($A162<=Daten!$B$8,LOOKUP($B162,Daten!$A$67:$A$116,Daten!$S$67:$S$116),\"\")","v":"23,2 Inhalt2Einh[23,2]"},null,{"$f":"IF($A162<=Daten!$B$8,LOOKUP($B162,Daten!$A$118:$A$167,Daten!$R$118:$R$167),\"\") & \" \" & IF($A162<=Daten!$B$8,LOOKUP($B162,Daten!$A$118:$A$167,Daten!$S$118:$S$167),\"\")","v":"23,3 Inhalt2Einh[23,3]"},null,{"$f":"IF($A162<=Daten!$B$8,LOOKUP($B162,Daten!$A$169:$A$218,Daten!$R$169:$R$218),\"\") & \" \" & IF($A162<=Daten!$B$8,LOOKUP($B162,Daten!$A$169:$A$218,Daten!$S$169:$S$218),\"\")","v":"23,4 Inhalt2Einh[23,4]"},null,{"$f":"IF($A162<=Daten!$B$8,LOOKUP($B162,Daten!$A$220:$A$269,Daten!$R$220:$R$269),\"\") & \" \" & IF($A162<=Daten!$B$8,LOOKUP($B162,Daten!$A$220:$A$269,Daten!$S$220:$S$269),\"\")","v":"23,5 Inhalt2Einh[23,5]"},null,{"$f":"IF($A162<=Daten!$B$8,LOOKUP($B162,Daten!$A$271:$A$320,Daten!$R$271:$R$320),\"\") & \" \" & IF($A162<=Daten!$B$8,LOOKUP($B162,Daten!$A$271:$A$320,Daten!$S$271:$S$320),\"\")","v":"23,6 Inhalt2Einh[23,6]"},null,{"$f":"IF($A162<=Daten!$B$8,LOOKUP($B162,Daten!$A$322:$A$371,Daten!$R$322:$R$371),\"\") & \" \" & IF($A162<=Daten!$B$8,LOOKUP($B162,Daten!$A$322:$A$371,Daten!$S$322:$S$371),\"\")","v":"23,7 Inhalt2Einh[23,7]"}]
[null,null,null,{"$f":"IF($A162<=Daten!$B$8,LOOKUP($B162,Daten!$A$16:$A$65,Daten!$T$16:$T$65),\"\") & \" \" & IF($A162<=Daten!$B$8,LOOKUP($B162,Daten!$A$16:$A$65,Daten!$U$16:$U$65),\"\")","v":"23,1 Inhalt3Einh[23,1]"},null,{"$f":"IF($A162<=Daten!$B$8,LOOKUP($B162,Daten!$A$67:$A$116,Daten!$T$67:$T$116),\"\") & \" \" & IF($A162<=Daten!$B$8,LOOKUP($B162,Daten!$A$67:$A$116,Daten!$U$67:$U$116),\"\")","v":"23,2 Inhalt3Einh[23,2]"},null,{"$f":"IF($A162<=Daten!$B$8,LOOKUP($B162,Daten!$A$118:$A$167,Daten!$T$118:$T$167),\"\") & \" \" & IF($A162<=Daten!$B$8,LOOKUP($B162,Daten!$A$118:$A$167,Daten!$U$118:$U$167),\"\")","v":"23,3 Inhalt3Einh[23,3]"},null,{"$f":"IF($A162<=Daten!$B$8,LOOKUP($B162,Daten!$A$169:$A$218,Daten!$T$169:$T$218),\"\") & \" \" & IF($A162<=Daten!$B$8,LOOKUP($B162,Daten!$A$169:$A$218,Daten!$U$169:$U$218),\"\")","v":"23,4 Inhalt3Einh[23,4]"},null,{"$f":"IF($A162<=Daten!$B$8,LOOKUP($B162,Daten!$A$220:$A$269,Daten!$T$220:$T$269),\"\") & \" \" & IF($A162<=Daten!$B$8,LOOKUP($B162,Daten!$A$220:$A$269,Daten!$U$220:$U$269),\"\")","v":"23,5 Inhalt3Einh[23,5]"},null,{"$f":"IF($A162<=Daten!$B$8,LOOKUP($B162,Daten!$A$271:$A$320,Daten!$T$271:$T$320),\"\") & \" \" & IF($A162<=Daten!$B$8,LOOKUP($B162,Daten!$A$271:$A$320,Daten!$U$271:$U$320),\"\")","v":"23,6 Inhalt3Einh[23,6]"},null,{"$f":"IF($A162<=Daten!$B$8,LOOKUP($B162,Daten!$A$322:$A$371,Daten!$T$322:$T$371),\"\") & \" \" & IF($A162<=Daten!$B$8,LOOKUP($B162,Daten!$A$322:$A$371,Daten!$U$322:$U$371),\"\")","v":"23,7 Inhalt3Einh[23,7]"}]
[null,null,null,{"$f":"IF($A162<=Daten!$B$8,LOOKUP($B162,Daten!$A$16:$A$65,Daten!$V$16:$V$65),\"\") & \" \" & IF($A162<=Daten!$B$8,LOOKUP($B162,Daten!$A$16:$A$65,Daten!$W$16:$W$65),\"\")","v":"23,1 Inhalt4Einh[23,1]"},null,{"$f":"IF($A162<=Daten!$B$8,LOOKUP($B162,Daten!$A$67:$A$116,Daten!$V$67:$V$116),\"\") & \" \" & IF($A162<=Daten!$B$8,LOOKUP($B162,Daten!$A$67:$A$116,Daten!$W$67:$W$116),\"\")","v":"23,2 Inhalt4Einh[23,2]"},null,{"$f":"IF($A162<=Daten!$B$8,LOOKUP($B162,Daten!$A$118:$A$167,Daten!$V$118:$V$167),\"\") & \" \" & IF($A162<=Daten!$B$8,LOOKUP($B162,Daten!$A$118:$A$167,Daten!$W$118:$W$167),\"\")","v":"23,3 Inhalt4Einh[23,3]"},null,{"$f":"IF($A162<=Daten!$B$8,LOOKUP($B162,Daten!$A$169:$A$218,Daten!$V$169:$V$218),\"\") & \" \" & IF($A162<=Daten!$B$8,LOOKUP($B162,Daten!$A$169:$A$218,Daten!$W$169:$W$218),\"\")","v":"23,4 Inhalt4Einh[23,4]"},null,{"$f":"IF($A162<=Daten!$B$8,LOOKUP($B162,Daten!$A$220:$A$269,Daten!$V$220:$V$269),\"\") & \" \" & IF($A162<=Daten!$B$8,LOOKUP($B162,Daten!$A$220:$A$269,Daten!$W$220:$W$269),\"\")","v":"23,5 Inhalt4Einh[23,5]"},null,{"$f":"IF($A162<=Daten!$B$8,LOOKUP($B162,Daten!$A$271:$A$320,Daten!$V$271:$V$320),\"\") & \" \" & IF($A162<=Daten!$B$8,LOOKUP($B162,Daten!$A$271:$A$320,Daten!$W$271:$W$320),\"\")","v":"23,6 Inhalt4Einh[23,6]"},null,{"$f":"IF($A162<=Daten!$B$8,LOOKUP($B162,Daten!$A$322:$A$371,Daten!$V$322:$V$371),\"\") & \" \" & IF($A162<=Daten!$B$8,LOOKUP($B162,Daten!$A$322:$A$371,Daten!$W$322:$W$371),\"\")","v":"23,7 Inhalt4Einh[23,7]"}]
[null,null,null,{"$f":"IF($A162<=Daten!$B$8,LOOKUP($B162,Daten!$A$16:$A$65,Daten!$X$16:$X$65),\"\") & \" \" & IF($A162<=Daten!$B$8,LOOKUP($B162,Daten!$A$16:$A$65,Daten!$Y$16:$Y$65),\"\")","v":"23,1 Inhalt5Einh[23,1]"},null,{"$f":"IF($A162<=Daten!$B$8,LOOKUP($B162,Daten!$A$67:$A$116,Daten!$X$67:$X$116),\"\") & \" \" & IF($A162<=Daten!$B$8,LOOKUP($B162,Daten!$A$67:$A$116,Daten!$Y$67:$Y$116),\"\")","v":"23,2 Inhalt5Einh[23,2]"},null,{"$f":"IF($A162<=Daten!$B$8,LOOKUP($B162,Daten!$A$118:$A$167,Daten!$X$118:$X$167),\"\") & \" \" & IF($A162<=Daten!$B$8,LOOKUP($B162,Daten!$A$118:$A$167,Daten!$Y$118:$Y$167),\"\")","v":"23,3 Inhalt5Einh[23,3]"},null,{"$f":"IF($A162<=Daten!$B$8,LOOKUP($B162,Daten!$A$169:$A$218,Daten!$X$169:$X$218),\"\") & \" \" & IF($A162<=Daten!$B$8,LOOKUP($B162,Daten!$A$169:$A$218,Daten!$Y$169:$Y$218),\"\")","v":"23,4 Inhalt5Einh[23,4]"},null,{"$f":"IF($A162<=Daten!$B$8,LOOKUP($B162,Daten!$A$220:$A$269,Daten!$X$220:$X$269),\"\") & \" \" & IF($A162<=Daten!$B$8,LOOKUP($B162,Daten!$A$220:$A$269,Daten!$Y$220:$Y$269),\"\")","v":"23,5 Inhalt5Einh[23,5]"},null,{"$f":"IF($A162<=Daten!$B$8,LOOKUP($B162,Daten!$A$271:$A$320,Daten!$X$271:$X$320),\"\") & \" \" & IF($A162<=Daten!$B$8,LOOKUP($B162,Daten!$A$271:$A$320,Daten!$Y$271:$Y$320),\"\")","v":"23,6 Inhalt5Einh[23,6]"},null,{"$f":"IF($A162<=Daten!$B$8,LOOKUP($B162,Daten!$A$322:$A$371,Daten!$X$322:$X$371),\"\") & \" \" & IF($A162<=Daten!$B$8,LOOKUP($B162,Daten!$A$322:$A$371,Daten!$Y$322:$Y$371),\"\")","v":"23,7 Inhalt5Einh[23,7]"}]
[null,null,null,{"$f":"IF($A162<=Daten!$B$8,LOOKUP($B162,Daten!$A$16:$A$65,Daten!$Z$16:$Z$65),\"\") & \" \" & IF($A162<=Daten!$B$8,LOOKUP($B162,Daten!$A$16:$A$65,Daten!$AA$16:$AA$65),\"\")","v":"23,1 Inhalt6Einh[23,1]"},null,{"$f":"IF($A162<=Daten!$B$8,LOOKUP($B162,Daten!$A$67:$A$116,Daten!$Z$67:$Z$116),\"\") & \" \" & IF($A162<=Daten!$B$8,LOOKUP($B162,Daten!$A$67:$A$116,Daten!$AA$67:$AA$116),\"\")","v":"23,2 Inhalt6Einh[23,2]"},null,{"$f":"IF($A162<=Daten!$B$8,LOOKUP($B162,Daten!$A$118:$A$167,Daten!$Z$118:$Z$167),\"\") & \" \" & IF($A162<=Daten!$B$8,LOOKUP($B162,Daten!$A$118:$A$167,Daten!$AA$118:$AA$167),\"\")","v":"23,3 Inhalt6Einh[23,3]"},null,{"$f":"IF($A162<=Daten!$B$8,LOOKUP($B162,Daten!$A$169:$A$218,Daten!$Z$169:$Z$218),\"\") & \" \" & IF($A162<=Daten!$B$8,LOOKUP($B162,Daten!$A$169:$A$218,Daten!$AA$169:$AA$218),\"\")","v":"23,4 Inhalt6Einh[23,4]"},null,{"$f":"IF($A162<=Daten!$B$8,LOOKUP($B162,Daten!$A$220:$A$269,Daten!$Z$220:$Z$269),\"\") & \" \" & IF($A162<=Daten!$B$8,LOOKUP($B162,Daten!$A$220:$A$269,Daten!$AA$220:$AA$269),\"\")","v":"23,5 Inhalt6Einh[23,5]"},null,{"$f":"IF($A162<=Daten!$B$8,LOOKUP($B162,Daten!$A$271:$A$320,Daten!$Z$271:$Z$320),\"\") & \" \" & IF($A162<=Daten!$B$8,LOOKUP($B162,Daten!$A$271:$A$320,Daten!$AA$271:$AA$320),\"\")","v":"23,6 Inhalt6Einh[23,6]"},null,{"$f":"IF($A162<=Daten!$B$8,LOOKUP($B162,Daten!$A$322:$A$371,Daten!$Z$322:$Z$371),\"\") & \" \" & IF($A162<=Daten!$B$8,LOOKUP($B162,Daten!$A$322:$A$371,Daten!$AA$322:$AA$371),\"\")","v":"23,7 Inhalt6Einh[23,7]"}]
[null,{"$f":"IF(A162<=Daten!$B$8,\"Zusatzstoffe\",\"\")","v":"Zusatzstoffe"},{"$f":"IF($A162<=Daten!$B$8,LOOKUP($B162,Daten!$A$16:$A$65,Daten!$L$16:$L$65),\"\")","v":23.1},{"$f":"IF($A162<=Daten!$B$8,LOOKUP($B162,Daten!$A$16:$A$65,Daten!$D$16:$D$65),\"\")","v":23.1},{"$f":"IF($A162<=Daten!$B$8,LOOKUP($B162,Daten!$A$67:$A$116,Daten!$L$67:$L$116),\"\")","v":23.2},{"$f":"IF($A162<=Daten!$B$8,LOOKUP($B162,Daten!$A$16:$A$65,Daten!$D$67:$D$116),\"\")","v":23.2},{"$f":"IF($A162<=Daten!$B$8,LOOKUP($B162,Daten!$A$118:$A$167,Daten!$L$118:$L$167),\"\")","v":23.3},{"$f":"IF($A162<=Daten!$B$8,LOOKUP($B162,Daten!$A$118:$A$167,Daten!$D$118:$D$167),\"\")","v":23.3},{"$f":"IF($A162<=Daten!$B$8,LOOKUP($B162,Daten!$A$169:$A$218,Daten!$L$169:$L$218),\"\")","v":23.4},{"$f":"IF($A162<=Daten!$B$8,LOOKUP($B162,Daten!$A$169:$A$218,Daten!$D$169:$D$218),\"\")","v":23.4},{"$f":"IF($A162<=Daten!$B$8,LOOKUP($B162,Daten!$A$220:$A$269,Daten!$L$220:$L$269),\"\")","v":23.5},{"$f":"IF($A162<=Daten!$B$8,LOOKUP($B162,Daten!$A$220:$A$269,Daten!$D$220:$D$269),\"\")","v":23.5},{"$f":"IF($A162<=Daten!$B$8,LOOKUP($B162,Daten!$A$271:$A$320,Daten!$L$271:$L$320),\"\")","v":23.6},{"$f":"IF($A162<=Daten!$B$8,LOOKUP($B162,Daten!$A$271:$A$320,Daten!$D$271:$D$320),\"\")","v":23.6},{"$f":"IF($A162<=Daten!$B$8,LOOKUP($B162,Daten!$A$322:$A$371,Daten!$L$322:$L$371),\"\")","v":23.7},{"$f":"IF($A162<=Daten!$B$8,LOOKUP($B162,Daten!$A$322:$A$371,Daten!$D$322:$D$371),\"\")","v":23.7}]
[24,{"$f":"IF(A169<=Daten!$B$8,Daten!Y9,\"\")","v":"Menülinie 24"},{"$f":"IF(A169<=Daten!$B$8,LOOKUP(B169,Daten!$A$16:$A$65,Daten!$C$16:$C$65),\"\")","v":"Lang[24,1]"},{"$f":"IF($A169<=Daten!$B$8,LOOKUP($B169,Daten!$A$16:$A$65,Daten!$P$16:$P$65),\"\") & \" \" & IF($A169<=Daten!$B$8,LOOKUP($B169,Daten!$A$16:$A$65,Daten!$Q$16:$Q$65),\"\")","v":"24,1 Inhalt1Einh[24,1]"},{"$f":"IF($A169<=Daten!$B$8,LOOKUP($B169,Daten!$A$67:$A$116,Daten!$C$67:$C$116),\"\")","v":"Lang[24,2]"},{"$f":"IF($A169<=Daten!$B$8,LOOKUP($B169,Daten!$A$67:$A$116,Daten!$P$67:$P$116),\"\") & \" \" & IF($A169<=Daten!$B$8,LOOKUP($B169,Daten!$A$67:$A$116,Daten!$Q$67:$Q$116),\"\")","v":"24,2 Inhalt1Einh[24,2]"},{"$f":"IF($A169<=Daten!$B$8,LOOKUP($B169,Daten!$A$118:$A$167,Daten!$C$118:$C$167),\"\")","v":"Lang[24,3]"},{"$f":"IF($A169<=Daten!$B$8,LOOKUP($B169,Daten!$A$118:$A$167,Daten!$P$118:$P$167),\"\") & \" \" & IF($A169<=Daten!$B$8,LOOKUP($B169,Daten!$A$118:$A$167,Daten!$Q$118:$Q$167),\"\")","v":"24,3 Inhalt1Einh[24,3]"},{"$f":"IF($A169<=Daten!$B$8,LOOKUP($B169,Daten!$A$169:$A$218,Daten!$C$169:$C$218),\"\")","v":"Lang[24,4]"},{"$f":"IF($A169<=Daten!$B$8,LOOKUP($B169,Daten!$A$169:$A$218,Daten!$P$169:$P$218),\"\") & \" \" & IF($A169<=Daten!$B$8,LOOKUP($B169,Daten!$A$169:$A$218,Daten!$Q$169:$Q$218),\"\")","v":"24,4 Inhalt1Einh[24,4]"},{"$f":"IF($A169<=Daten!$B$8,LOOKUP($B169,Daten!$A$220:$A$269,Daten!$C$220:$C$269),\"\")","v":"Lang[24,5]"},{"$f":"IF($A169<=Daten!$B$8,LOOKUP($B169,Daten!$A$220:$A$269,Daten!$P$220:$P$269),\"\") & \" \" & IF($A169<=Daten!$B$8,LOOKUP($B169,Daten!$A$220:$A$269,Daten!$Q$220:$Q$269),\"\")","v":"24,5 Inhalt1Einh[24,5]"},{"$f":"IF($A169<=Daten!$B$8,LOOKUP($B169,Daten!$A$271:$A$320,Daten!$C$271:$C$320),\"\")","v":"Lang[24,6]"},{"$f":"IF($A169<=Daten!$B$8,LOOKUP($B169,Daten!$A$271:$A$320,Daten!$P$271:$P$320),\"\") & \" \" & IF($A169<=Daten!$B$8,LOOKUP($B169,Daten!$A$271:$A$320,Daten!$Q$271:$Q$320),\"\")","v":"24,6 Inhalt1Einh[24,6]"},{"$f":"IF($A169<=Daten!$B$8,LOOKUP($B169,Daten!$A$322:$A$371,Daten!$B$322:$C$371),\"\")","v":{"$error":"#N/A"}},{"$f":"IF($A169<=Daten!$B$8,LOOKUP($B169,Daten!$A$322:$A$371,Daten!$P$322:$P$371),\"\") & \" \" & IF($A169<=Daten!$B$8,LOOKUP($B169,Daten!$A$322:$A$371,Daten!$Q$322:$Q$371),\"\")","v":"24,7 Inhalt1Einh[24,7]"}]
[null,null,null,{"$f":"IF($A169<=Daten!$B$8,LOOKUP($B169,Daten!$A$16:$A$65,Daten!$R$16:$R$65),\"\") & \" \" & IF($A169<=Daten!$B$8,LOOKUP($B169,Daten!$A$16:$A$65,Daten!$S$16:$S$65),\"\")","v":"24,1 Inhalt2Einh[24,1]"},null,{"$f":"IF($A169<=Daten!$B$8,LOOKUP($B169,Daten!$A$67:$A$116,Daten!$R$67:$R$116),\"\") & \" \" & IF($A169<=Daten!$B$8,LOOKUP($B169,Daten!$A$67:$A$116,Daten!$S$67:$S$116),\"\")","v":"24,2 Inhalt2Einh[24,2]"},null,{"$f":"IF($A169<=Daten!$B$8,LOOKUP($B169,Daten!$A$118:$A$167,Daten!$R$118:$R$167),\"\") & \" \" & IF($A169<=Daten!$B$8,LOOKUP($B169,Daten!$A$118:$A$167,Daten!$S$118:$S$167),\"\")","v":"24,3 Inhalt2Einh[24,3]"},null,{"$f":"IF($A169<=Daten!$B$8,LOOKUP($B169,Daten!$A$169:$A$218,Daten!$R$169:$R$218),\"\") & \" \" & IF($A169<=Daten!$B$8,LOOKUP($B169,Daten!$A$169:$A$218,Daten!$S$169:$S$218),\"\")","v":"24,4 Inhalt2Einh[24,4]"},null,{"$f":"IF($A169<=Daten!$B$8,LOOKUP($B169,Daten!$A$220:$A$269,Daten!$R$220:$R$269),\"\") & \" \" & IF($A169<=Daten!$B$8,LOOKUP($B169,Daten!$A$220:$A$269,Daten!$S$220:$S$269),\"\")","v":"24,5 Inhalt2Einh[24,5]"},null,{"$f":"IF($A169<=Daten!$B$8,LOOKUP($B169,Daten!$A$271:$A$320,Daten!$R$271:$R$320),\"\") & \" \" & IF($A169<=Daten!$B$8,LOOKUP($B169,Daten!$A$271:$A$320,Daten!$S$271:$S$320),\"\")","v":"24,6 Inhalt2Einh[24,6]"},null,{"$f":"IF($A169<=Daten!$B$8,LOOKUP($B169,Daten!$A$322:$A$371,Daten!$R$322:$R$371),\"\") & \" \" & IF($A169<=Daten!$B$8,LOOKUP($B169,Daten!$A$322:$A$371,Daten!$S$322:$S$371),\"\")","v":"24,7 Inhalt2Einh[24,7]"}]
[null,null,null,{"$f":"IF($A169<=Daten!$B$8,LOOKUP($B169,Daten!$A$16:$A$65,Daten!$T$16:$T$65),\"\") & \" \" & IF($A169<=Daten!$B$8,LOOKUP($B169,Daten!$A$16:$A$65,Daten!$U$16:$U$65),\"\")","v":"24,1 Inhalt3Einh[24,1]"},null,{"$f":"IF($A169<=Daten!$B$8,LOOKUP($B169,Daten!$A$67:$A$116,Daten!$T$67:$T$116),\"\") & \" \" & IF($A169<=Daten!$B$8,LOOKUP($B169,Daten!$A$67:$A$116,Daten!$U$67:$U$116),\"\")","v":"24,2 Inhalt3Einh[24,2]"},null,{"$f":"IF($A169<=Daten!$B$8,LOOKUP($B169,Daten!$A$118:$A$167,Daten!$T$118:$T$167),\"\") & \" \" & IF($A169<=Daten!$B$8,LOOKUP($B169,Daten!$A$118:$A$167,Daten!$U$118:$U$167),\"\")","v":"24,3 Inhalt3Einh[24,3]"},null,{"$f":"IF($A169<=Daten!$B$8,LOOKUP($B169,Daten!$A$169:$A$218,Daten!$T$169:$T$218),\"\") & \" \" & IF($A169<=Daten!$B$8,LOOKUP($B169,Daten!$A$169:$A$218,Daten!$U$169:$U$218),\"\")","v":"24,4 Inhalt3Einh[24,4]"},null,{"$f":"IF($A169<=Daten!$B$8,LOOKUP($B169,Daten!$A$220:$A$269,Daten!$T$220:$T$269),\"\") & \" \" & IF($A169<=Daten!$B$8,LOOKUP($B169,Daten!$A$220:$A$269,Daten!$U$220:$U$269),\"\")","v":"24,5 Inhalt3Einh[24,5]"},null,{"$f":"IF($A169<=Daten!$B$8,LOOKUP($B169,Daten!$A$271:$A$320,Daten!$T$271:$T$320),\"\") & \" \" & IF($A169<=Daten!$B$8,LOOKUP($B169,Daten!$A$271:$A$320,Daten!$U$271:$U$320),\"\")","v":"24,6 Inhalt3Einh[24,6]"},null,{"$f":"IF($A169<=Daten!$B$8,LOOKUP($B169,Daten!$A$322:$A$371,Daten!$T$322:$T$371),\"\") & \" \" & IF($A169<=Daten!$B$8,LOOKUP($B169,Daten!$A$322:$A$371,Daten!$U$322:$U$371),\"\")","v":"24,7 Inhalt3Einh[24,7]"}]
[null,null,null,{"$f":"IF($A169<=Daten!$B$8,LOOKUP($B169,Daten!$A$16:$A$65,Daten!$V$16:$V$65),\"\") & \" \" & IF($A169<=Daten!$B$8,LOOKUP($B169,Daten!$A$16:$A$65,Daten!$W$16:$W$65),\"\")","v":"24,1 Inhalt4Einh[24,1]"},null,{"$f":"IF($A169<=Daten!$B$8,LOOKUP($B169,Daten!$A$67:$A$116,Daten!$V$67:$V$116),\"\") & \" \" & IF($A169<=Daten!$B$8,LOOKUP($B169,Daten!$A$67:$A$116,Daten!$W$67:$W$116),\"\")","v":"24,2 Inhalt4Einh[24,2]"},null,{"$f":"IF($A169<=Daten!$B$8,LOOKUP($B169,Daten!$A$118:$A$167,Daten!$V$118:$V$167),\"\") & \" \" & IF($A169<=Daten!$B$8,LOOKUP($B169,Daten!$A$118:$A$167,Daten!$W$118:$W$167),\"\")","v":"24,3 Inhalt4Einh[24,3]"},null,{"$f":"IF($A169<=Daten!$B$8,LOOKUP($B169,Daten!$A$169:$A$218,Daten!$V$169:$V$218),\"\") & \" \" & IF($A169<=Daten!$B$8,LOOKUP($B169,Daten!$A$169:$A$218,Daten!$W$169:$W$218),\"\")","v":"24,4 Inhalt4Einh[24,4]"},null,{"$f":"IF($A169<=Daten!$B$8,LOOKUP($B169,Daten!$A$220:$A$269,Daten!$V$220:$V$269),\"\") & \" \" & IF($A169<=Daten!$B$8,LOOKUP($B169,Daten!$A$220:$A$269,Daten!$W$220:$W$269),\"\")","v":"24,5 Inhalt4Einh[24,5]"},null,{"$f":"IF($A169<=Daten!$B$8,LOOKUP($B169,Daten!$A$271:$A$320,Daten!$V$271:$V$320),\"\") & \" \" & IF($A169<=Daten!$B$8,LOOKUP($B169,Daten!$A$271:$A$320,Daten!$W$271:$W$320),\"\")","v":"24,6 Inhalt4Einh[24,6]"},null,{"$f":"IF($A169<=Daten!$B$8,LOOKUP($B169,Daten!$A$322:$A$371,Daten!$V$322:$V$371),\"\") & \" \" & IF($A169<=Daten!$B$8,LOOKUP($B169,Daten!$A$322:$A$371,Daten!$W$322:$W$371),\"\")","v":"24,7 Inhalt4Einh[24,7]"}]
[null,null,null,{"$f":"IF($A169<=Daten!$B$8,LOOKUP($B169,Daten!$A$16:$A$65,Daten!$X$16:$X$65),\"\") & \" \" & IF($A169<=Daten!$B$8,LOOKUP($B169,Daten!$A$16:$A$65,Daten!$Y$16:$Y$65),\"\")","v":"24,1 Inhalt5Einh[24,1]"},null,{"$f":"IF($A169<=Daten!$B$8,LOOKUP($B169,Daten!$A$67:$A$116,Daten!$X$67:$X$116),\"\") & \" \" & IF($A169<=Daten!$B$8,LOOKUP($B169,Daten!$A$67:$A$116,Daten!$Y$67:$Y$116),\"\")","v":"24,2 Inhalt5Einh[24,2]"},null,{"$f":"IF($A169<=Daten!$B$8,LOOKUP($B169,Daten!$A$118:$A$167,Daten!$X$118:$X$167),\"\") & \" \" & IF($A169<=Daten!$B$8,LOOKUP($B169,Daten!$A$118:$A$167,Daten!$Y$118:$Y$167),\"\")","v":"24,3 Inhalt5Einh[24,3]"},null,{"$f":"IF($A169<=Daten!$B$8,LOOKUP($B169,Daten!$A$169:$A$218,Daten!$X$169:$X$218),\"\") & \" \" & IF($A169<=Daten!$B$8,LOOKUP($B169,Daten!$A$169:$A$218,Daten!$Y$169:$Y$218),\"\")","v":"24,4 Inhalt5Einh[24,4]"},null,{"$f":"IF($A169<=Daten!$B$8,LOOKUP($B169,Daten!$A$220:$A$269,Daten!$X$220:$X$269),\"\") & \" \" & IF($A169<=Daten!$B$8,LOOKUP($B169,Daten!$A$220:$A$269,Daten!$Y$220:$Y$269),\"\")","v":"24,5 Inhalt5Einh[24,5]"},null,{"$f":"IF($A169<=Daten!$B$8,LOOKUP($B169,Daten!$A$271:$A$320,Daten!$X$271:$X$320),\"\") & \" \" & IF($A169<=Daten!$B$8,LOOKUP($B169,Daten!$A$271:$A$320,Daten!$Y$271:$Y$320),\"\")","v":"24,6 Inhalt5Einh[24,6]"},null,{"$f":"IF($A169<=Daten!$B$8,LOOKUP($B169,Daten!$A$322:$A$371,Daten!$X$322:$X$371),\"\") & \" \" & IF($A169<=Daten!$B$8,LOOKUP($B169,Daten!$A$322:$A$371,Daten!$Y$322:$Y$371),\"\")","v":"24,7 Inhalt5Einh[24,7]"}]
[null,null,null,{"$f":"IF($A169<=Daten!$B$8,LOOKUP($B169,Daten!$A$16:$A$65,Daten!$Z$16:$Z$65),\"\") & \" \" & IF($A169<=Daten!$B$8,LOOKUP($B169,Daten!$A$16:$A$65,Daten!$AA$16:$AA$65),\"\")","v":"24,1 Inhalt6Einh[24,1]"},null,{"$f":"IF($A169<=Daten!$B$8,LOOKUP($B169,Daten!$A$67:$A$116,Daten!$Z$67:$Z$116),\"\") & \" \" & IF($A169<=Daten!$B$8,LOOKUP($B169,Daten!$A$67:$A$116,Daten!$AA$67:$AA$116),\"\")","v":"24,2 Inhalt6Einh[24,2]"},null,{"$f":"IF($A169<=Daten!$B$8,LOOKUP($B169,Daten!$A$118:$A$167,Daten!$Z$118:$Z$167),\"\") & \" \" & IF($A169<=Daten!$B$8,LOOKUP($B169,Daten!$A$118:$A$167,Daten!$AA$118:$AA$167),\"\")","v":"24,3 Inhalt6Einh[24,3]"},null,{"$f":"IF($A169<=Daten!$B$8,LOOKUP($B169,Daten!$A$169:$A$218,Daten!$Z$169:$Z$218),\"\") & \" \" & IF($A169<=Daten!$B$8,LOOKUP($B169,Daten!$A$169:$A$218,Daten!$AA$169:$AA$218),\"\")","v":"24,4 Inhalt6Einh[24,4]"},null,{"$f":"IF($A169<=Daten!$B$8,LOOKUP($B169,Daten!$A$220:$A$269,Daten!$Z$220:$Z$269),\"\") & \" \" & IF($A169<=Daten!$B$8,LOOKUP($B169,Daten!$A$220:$A$269,Daten!$AA$220:$AA$269),\"\")","v":"24,5 Inhalt6Einh[24,5]"},null,{"$f":"IF($A169<=Daten!$B$8,LOOKUP($B169,Daten!$A$271:$A$320,Daten!$Z$271:$Z$320),\"\") & \" \" & IF($A169<=Daten!$B$8,LOOKUP($B169,Daten!$A$271:$A$320,Daten!$AA$271:$AA$320),\"\")","v":"24,6 Inhalt6Einh[24,6]"},null,{"$f":"IF($A169<=Daten!$B$8,LOOKUP($B169,Daten!$A$322:$A$371,Daten!$Z$322:$Z$371),\"\") & \" \" & IF($A169<=Daten!$B$8,LOOKUP($B169,Daten!$A$322:$A$371,Daten!$AA$322:$AA$371),\"\")","v":"24,7 Inhalt6Einh[24,7]"}]
[null,{"$f":"IF(A169<=Daten!$B$8,\"Zusatzstoffe\",\"\")","v":"Zusatzstoffe"},{"$f":"IF($A169<=Daten!$B$8,LOOKUP($B169,Daten!$A$16:$A$65,Daten!$L$16:$L$65),\"\")","v":24.1},{"$f":"IF($A169<=Daten!$B$8,LOOKUP($B169,Daten!$A$16:$A$65,Daten!$D$16:$D$65),\"\")","v":24.1},{"$f":"IF($A169<=Daten!$B$8,LOOKUP($B169,Daten!$A$67:$A$116,Daten!$L$67:$L$116),\"\")","v":24.2},{"$f":"IF($A169<=Daten!$B$8,LOOKUP($B169,Daten!$A$16:$A$65,Daten!$D$67:$D$116),\"\")","v":24.2},{"$f":"IF($A169<=Daten!$B$8,LOOKUP($B169,Daten!$A$118:$A$167,Daten!$L$118:$L$167),\"\")","v":24.3},{"$f":"IF($A169<=Daten!$B$8,LOOKUP($B169,Daten!$A$118:$A$167,Daten!$D$118:$D$167),\"\")","v":24.3},{"$f":"IF($A169<=Daten!$B$8,LOOKUP($B169,Daten!$A$169:$A$218,Daten!$L$169:$L$218),\"\")","v":24.4},{"$f":"IF($A169<=Daten!$B$8,LOOKUP($B169,Daten!$A$169:$A$218,Daten!$D$169:$D$218),\"\")","v":24.4},{"$f":"IF($A169<=Daten!$B$8,LOOKUP($B169,Daten!$A$220:$A$269,Daten!$L$220:$L$269),\"\")","v":24.5},{"$f":"IF($A169<=Daten!$B$8,LOOKUP($B169,Daten!$A$220:$A$269,Daten!$D$220:$D$269),\"\")","v":24.5},{"$f":"IF($A169<=Daten!$B$8,LOOKUP($B169,Daten!$A$271:$A$320,Daten!$L$271:$L$320),\"\")","v":24.6},{"$f":"IF($A169<=Daten!$B$8,LOOKUP($B169,Daten!$A$271:$A$320,Daten!$D$271:$D$320),\"\")","v":24.6},{"$f":"IF($A169<=Daten!$B$8,LOOKUP($B169,Daten!$A$322:$A$371,Daten!$L$322:$L$371),\"\")","v":24.7},{"$f":"IF($A169<=Daten!$B$8,LOOKUP($B169,Daten!$A$322:$A$371,Daten!$D$322:$D$371),\"\")","v":24.7}]
[25,{"$f":"IF(A176<=Daten!$B$8,Daten!Z9,\"\")","v":"Menülinie 25"},{"$f":"IF(A176<=Daten!$B$8,LOOKUP(B176,Daten!$A$16:$A$65,Daten!$C$16:$C$65),\"\")","v":"Lang[25,1]"},{"$f":"IF($A176<=Daten!$B$8,LOOKUP($B176,Daten!$A$16:$A$65,Daten!$P$16:$P$65),\"\") & \" \" & IF($A176<=Daten!$B$8,LOOKUP($B176,Daten!$A$16:$A$65,Daten!$Q$16:$Q$65),\"\")","v":"25,1 Inhalt1Einh[25,1]"},{"$f":"IF($A176<=Daten!$B$8,LOOKUP($B176,Daten!$A$67:$A$116,Daten!$C$67:$C$116),\"\")","v":"Lang[25,2]"},{"$f":"IF($A176<=Daten!$B$8,LOOKUP($B176,Daten!$A$67:$A$116,Daten!$P$67:$P$116),\"\") & \" \" & IF($A176<=Daten!$B$8,LOOKUP($B176,Daten!$A$67:$A$116,Daten!$Q$67:$Q$116),\"\")","v":"25,2 Inhalt1Einh[25,2]"},{"$f":"IF($A176<=Daten!$B$8,LOOKUP($B176,Daten!$A$118:$A$167,Daten!$C$118:$C$167),\"\")","v":"Lang[25,3]"},{"$f":"IF($A176<=Daten!$B$8,LOOKUP($B176,Daten!$A$118:$A$167,Daten!$P$118:$P$167),\"\") & \" \" & IF($A176<=Daten!$B$8,LOOKUP($B176,Daten!$A$118:$A$167,Daten!$Q$118:$Q$167),\"\")","v":"25,3 Inhalt1Einh[25,3]"},{"$f":"IF($A176<=Daten!$B$8,LOOKUP($B176,Daten!$A$169:$A$218,Daten!$C$169:$C$218),\"\")","v":"Lang[25,4]"},{"$f":"IF($A176<=Daten!$B$8,LOOKUP($B176,Daten!$A$169:$A$218,Daten!$P$169:$P$218),\"\") & \" \" & IF($A176<=Daten!$B$8,LOOKUP($B176,Daten!$A$169:$A$218,Daten!$Q$169:$Q$218),\"\")","v":"25,4 Inhalt1Einh[25,4]"},{"$f":"IF($A176<=Daten!$B$8,LOOKUP($B176,Daten!$A$220:$A$269,Daten!$C$220:$C$269),\"\")","v":"Lang[25,5]"},{"$f":"IF($A176<=Daten!$B$8,LOOKUP($B176,Daten!$A$220:$A$269,Daten!$P$220:$P$269),\"\") & \" \" & IF($A176<=Daten!$B$8,LOOKUP($B176,Daten!$A$220:$A$269,Daten!$Q$220:$Q$269),\"\")","v":"25,5 Inhalt1Einh[25,5]"},{"$f":"IF($A176<=Daten!$B$8,LOOKUP($B176,Daten!$A$271:$A$320,Daten!$C$271:$C$320),\"\")","v":"Lang[25,6]"},{"$f":"IF($A176<=Daten!$B$8,LOOKUP($B176,Daten!$A$271:$A$320,Daten!$P$271:$P$320),\"\") & \" \" & IF($A176<=Daten!$B$8,LOOKUP($B176,Daten!$A$271:$A$320,Daten!$Q$271:$Q$320),\"\")","v":"25,6 Inhalt1Einh[25,6]"},{"$f":"IF($A176<=Daten!$B$8,LOOKUP($B176,Daten!$A$322:$A$371,Daten!$B$322:$C$371),\"\")","v":{"$error":"#N/A"}},{"$f":"IF($A176<=Daten!$B$8,LOOKUP($B176,Daten!$A$322:$A$371,Daten!$P$322:$P$371),\"\") & \" \" & IF($A176<=Daten!$B$8,LOOKUP($B176,Daten!$A$322:$A$371,Daten!$Q$322:$Q$371),\"\")","v":"25,7 Inhalt1Einh[25,7]"}]
[null,null,null,{"$f":"IF($A176<=Daten!$B$8,LOOKUP($B176,Daten!$A$16:$A$65,Daten!$R$16:$R$65),\"\") & \" \" & IF($A176<=Daten!$B$8,LOOKUP($B176,Daten!$A$16:$A$65,Daten!$S$16:$S$65),\"\")","v":"25,1 Inhalt2Einh[25,1]"},null,{"$f":"IF($A176<=Daten!$B$8,LOOKUP($B176,Daten!$A$67:$A$116,Daten!$R$67:$R$116),\"\") & \" \" & IF($A176<=Daten!$B$8,LOOKUP($B176,Daten!$A$67:$A$116,Daten!$S$67:$S$116),\"\")","v":"25,2 Inhalt2Einh[25,2]"},null,{"$f":"IF($A176<=Daten!$B$8,LOOKUP($B176,Daten!$A$118:$A$167,Daten!$R$118:$R$167),\"\") & \" \" & IF($A176<=Daten!$B$8,LOOKUP($B176,Daten!$A$118:$A$167,Daten!$S$118:$S$167),\"\")","v":"25,3 Inhalt2Einh[25,3]"},null,{"$f":"IF($A176<=Daten!$B$8,LOOKUP($B176,Daten!$A$169:$A$218,Daten!$R$169:$R$218),\"\") & \" \" & IF($A176<=Daten!$B$8,LOOKUP($B176,Daten!$A$169:$A$218,Daten!$S$169:$S$218),\"\")","v":"25,4 Inhalt2Einh[25,4]"},null,{"$f":"IF($A176<=Daten!$B$8,LOOKUP($B176,Daten!$A$220:$A$269,Daten!$R$220:$R$269),\"\") & \" \" & IF($A176<=Daten!$B$8,LOOKUP($B176,Daten!$A$220:$A$269,Daten!$S$220:$S$269),\"\")","v":"25,5 Inhalt2Einh[25,5]"},null,{"$f":"IF($A176<=Daten!$B$8,LOOKUP($B176,Daten!$A$271:$A$320,Daten!$R$271:$R$320),\"\") & \" \" & IF($A176<=Daten!$B$8,LOOKUP($B176,Daten!$A$271:$A$320,Daten!$S$271:$S$320),\"\")","v":"25,6 Inhalt2Einh[25,6]"},null,{"$f":"IF($A176<=Daten!$B$8,LOOKUP($B176,Daten!$A$322:$A$371,Daten!$R$322:$R$371),\"\") & \" \" & IF($A176<=Daten!$B$8,LOOKUP($B176,Daten!$A$322:$A$371,Daten!$S$322:$S$371),\"\")","v":"25,7 Inhalt2Einh[25,7]"}]
[null,null,null,{"$f":"IF($A176<=Daten!$B$8,LOOKUP($B176,Daten!$A$16:$A$65,Daten!$T$16:$T$65),\"\") & \" \" & IF($A176<=Daten!$B$8,LOOKUP($B176,Daten!$A$16:$A$65,Daten!$U$16:$U$65),\"\")","v":"25,1 Inhalt3Einh[25,1]"},null,{"$f":"IF($A176<=Daten!$B$8,LOOKUP($B176,Daten!$A$67:$A$116,Daten!$T$67:$T$116),\"\") & \" \" & IF($A176<=Daten!$B$8,LOOKUP($B176,Daten!$A$67:$A$116,Daten!$U$67:$U$116),\"\")","v":"25,2 Inhalt3Einh[25,2]"},null,{"$f":"IF($A176<=Daten!$B$8,LOOKUP($B176,Daten!$A$118:$A$167,Daten!$T$118:$T$167),\"\") & \" \" & IF($A176<=Daten!$B$8,LOOKUP($B176,Daten!$A$118:$A$167,Daten!$U$118:$U$167),\"\")","v":"25,3 Inhalt3Einh[25,3]"},null,{"$f":"IF($A176<=Daten!$B$8,LOOKUP($B176,Daten!$A$169:$A$218,Daten!$T$169:$T$218),\"\") & \" \" & IF($A176<=Daten!$B$8,LOOKUP($B176,Daten!$A$169:$A$218,Daten!$U$169:$U$218),\"\")","v":"25,4 Inhalt3Einh[25,4]"},null,{"$f":"IF($A176<=Daten!$B$8,LOOKUP($B176,Daten!$A$220:$A$269,Daten!$T$220:$T$269),\"\") & \" \" & IF($A176<=Daten!$B$8,LOOKUP($B176,Daten!$A$220:$A$269,Daten!$U$220:$U$269),\"\")","v":"25,5 Inhalt3Einh[25,5]"},null,{"$f":"IF($A176<=Daten!$B$8,LOOKUP($B176,Daten!$A$271:$A$320,Daten!$T$271:$T$320),\"\") & \" \" & IF($A176<=Daten!$B$8,LOOKUP($B176,Daten!$A$271:$A$320,Daten!$U$271:$U$320),\"\")","v":"25,6 Inhalt3Einh[25,6]"},null,{"$f":"IF($A176<=Daten!$B$8,LOOKUP($B176,Daten!$A$322:$A$371,Daten!$T$322:$T$371),\"\") & \" \" & IF($A176<=Daten!$B$8,LOOKUP($B176,Daten!$A$322:$A$371,Daten!$U$322:$U$371),\"\")","v":"25,7 Inhalt3Einh[25,7]"}]
[null,null,null,{"$f":"IF($A176<=Daten!$B$8,LOOKUP($B176,Daten!$A$16:$A$65,Daten!$V$16:$V$65),\"\") & \" \" & IF($A176<=Daten!$B$8,LOOKUP($B176,Daten!$A$16:$A$65,Daten!$W$16:$W$65),\"\")","v":"25,1 Inhalt4Einh[25,1]"},null,{"$f":"IF($A176<=Daten!$B$8,LOOKUP($B176,Daten!$A$67:$A$116,Daten!$V$67:$V$116),\"\") & \" \" & IF($A176<=Daten!$B$8,LOOKUP($B176,Daten!$A$67:$A$116,Daten!$W$67:$W$116),\"\")","v":"25,2 Inhalt4Einh[25,2]"},null,{"$f":"IF($A176<=Daten!$B$8,LOOKUP($B176,Daten!$A$118:$A$167,Daten!$V$118:$V$167),\"\") & \" \" & IF($A176<=Daten!$B$8,LOOKUP($B176,Daten!$A$118:$A$167,Daten!$W$118:$W$167),\"\")","v":"25,3 Inhalt4Einh[25,3]"},null,{"$f":"IF($A176<=Daten!$B$8,LOOKUP($B176,Daten!$A$169:$A$218,Daten!$V$169:$V$218),\"\") & \" \" & IF($A176<=Daten!$B$8,LOOKUP($B176,Daten!$A$169:$A$218,Daten!$W$169:$W$218),\"\")","v":"25,4 Inhalt4Einh[25,4]"},null,{"$f":"IF($A176<=Daten!$B$8,LOOKUP($B176,Daten!$A$220:$A$269,Daten!$V$220:$V$269),\"\") & \" \" & IF($A176<=Daten!$B$8,LOOKUP($B176,Daten!$A$220:$A$269,Daten!$W$220:$W$269),\"\")","v":"25,5 Inhalt4Einh[25,5]"},null,{"$f":"IF($A176<=Daten!$B$8,LOOKUP($B176,Daten!$A$271:$A$320,Daten!$V$271:$V$320),\"\") & \" \" & IF($A176<=Daten!$B$8,LOOKUP($B176,Daten!$A$271:$A$320,Daten!$W$271:$W$320),\"\")","v":"25,6 Inhalt4Einh[25,6]"},null,{"$f":"IF($A176<=Daten!$B$8,LOOKUP($B176,Daten!$A$322:$A$371,Daten!$V$322:$V$371),\"\") & \" \" & IF($A176<=Daten!$B$8,LOOKUP($B176,Daten!$A$322:$A$371,Daten!$W$322:$W$371),\"\")","v":"25,7 Inhalt4Einh[25,7]"}]
[null,null,null,{"$f":"IF($A176<=Daten!$B$8,LOOKUP($B176,Daten!$A$16:$A$65,Daten!$X$16:$X$65),\"\") & \" \" & IF($A176<=Daten!$B$8,LOOKUP($B176,Daten!$A$16:$A$65,Daten!$Y$16:$Y$65),\"\")","v":"25,1 Inhalt5Einh[25,1]"},null,{"$f":"IF($A176<=Daten!$B$8,LOOKUP($B176,Daten!$A$67:$A$116,Daten!$X$67:$X$116),\"\") & \" \" & IF($A176<=Daten!$B$8,LOOKUP($B176,Daten!$A$67:$A$116,Daten!$Y$67:$Y$116),\"\")","v":"25,2 Inhalt5Einh[25,2]"},null,{"$f":"IF($A176<=Daten!$B$8,LOOKUP($B176,Daten!$A$118:$A$167,Daten!$X$118:$X$167),\"\") & \" \" & IF($A176<=Daten!$B$8,LOOKUP($B176,Daten!$A$118:$A$167,Daten!$Y$118:$Y$167),\"\")","v":"25,3 Inhalt5Einh[25,3]"},null,{"$f":"IF($A176<=Daten!$B$8,LOOKUP($B176,Daten!$A$169:$A$218,Daten!$X$169:$X$218),\"\") & \" \" & IF($A176<=Daten!$B$8,LOOKUP($B176,Daten!$A$169:$A$218,Daten!$Y$169:$Y$218),\"\")","v":"25,4 Inhalt5Einh[25,4]"},null,{"$f":"IF($A176<=Daten!$B$8,LOOKUP($B176,Daten!$A$220:$A$269,Daten!$X$220:$X$269),\"\") & \" \" & IF($A176<=Daten!$B$8,LOOKUP($B176,Daten!$A$220:$A$269,Daten!$Y$220:$Y$269),\"\")","v":"25,5 Inhalt5Einh[25,5]"},null,{"$f":"IF($A176<=Daten!$B$8,LOOKUP($B176,Daten!$A$271:$A$320,Daten!$X$271:$X$320),\"\") & \" \" & IF($A176<=Daten!$B$8,LOOKUP($B176,Daten!$A$271:$A$320,Daten!$Y$271:$Y$320),\"\")","v":"25,6 Inhalt5Einh[25,6]"},null,{"$f":"IF($A176<=Daten!$B$8,LOOKUP($B176,Daten!$A$322:$A$371,Daten!$X$322:$X$371),\"\") & \" \" & IF($A176<=Daten!$B$8,LOOKUP($B176,Daten!$A$322:$A$371,Daten!$Y$322:$Y$371),\"\")","v":"25,7 Inhalt5Einh[25,7]"}]
[null,null,null,{"$f":"IF($A176<=Daten!$B$8,LOOKUP($B176,Daten!$A$16:$A$65,Daten!$Z$16:$Z$65),\"\") & \" \" & IF($A176<=Daten!$B$8,LOOKUP($B176,Daten!$A$16:$A$65,Daten!$AA$16:$AA$65),\"\")","v":"25,1 Inhalt6Einh[25,1]"},null,{"$f":"IF($A176<=Daten!$B$8,LOOKUP($B176,Daten!$A$67:$A$116,Daten!$Z$67:$Z$116),\"\") & \" \" & IF($A176<=Daten!$B$8,LOOKUP($B176,Daten!$A$67:$A$116,Daten!$AA$67:$AA$116),\"\")","v":"25,2 Inhalt6Einh[25,2]"},null,{"$f":"IF($A176<=Daten!$B$8,LOOKUP($B176,Daten!$A$118:$A$167,Daten!$Z$118:$Z$167),\"\") & \" \" & IF($A176<=Daten!$B$8,LOOKUP($B176,Daten!$A$118:$A$167,Daten!$AA$118:$AA$167),\"\")","v":"25,3 Inhalt6Einh[25,3]"},null,{"$f":"IF($A176<=Daten!$B$8,LOOKUP($B176,Daten!$A$169:$A$218,Daten!$Z$169:$Z$218),\"\") & \" \" & IF($A176<=Daten!$B$8,LOOKUP($B176,Daten!$A$169:$A$218,Daten!$AA$169:$AA$218),\"\")","v":"25,4 Inhalt6Einh[25,4]"},null,{"$f":"IF($A176<=Daten!$B$8,LOOKUP($B176,Daten!$A$220:$A$269,Daten!$Z$220:$Z$269),\"\") & \" \" & IF($A176<=Daten!$B$8,LOOKUP($B176,Daten!$A$220:$A$269,Daten!$AA$220:$AA$269),\"\")","v":"25,5 Inhalt6Einh[25,5]"},null,{"$f":"IF($A176<=Daten!$B$8,LOOKUP($B176,Daten!$A$271:$A$320,Daten!$Z$271:$Z$320),\"\") & \" \" & IF($A176<=Daten!$B$8,LOOKUP($B176,Daten!$A$271:$A$320,Daten!$AA$271:$AA$320),\"\")","v":"25,6 Inhalt6Einh[25,6]"},null,{"$f":"IF($A176<=Daten!$B$8,LOOKUP($B176,Daten!$A$322:$A$371,Daten!$Z$322:$Z$371),\"\") & \" \" & IF($A176<=Daten!$B$8,LOOKUP($B176,Daten!$A$322:$A$371,Daten!$AA$322:$AA$371),\"\")","v":"25,7 Inhalt6Einh[25,7]"}]
[null,{"$f":"IF(A176<=Daten!$B$8,\"Zusatzstoffe\",\"\")","v":"Zusatzstoffe"},{"$f":"IF($A176<=Daten!$B$8,LOOKUP($B176,Daten!$A$16:$A$65,Daten!$L$16:$L$65),\"\")","v":25.1},{"$f":"IF($A176<=Daten!$B$8,LOOKUP($B176,Daten!$A$16:$A$65,Daten!$D$16:$D$65),\"\")","v":25.1},{"$f":"IF($A176<=Daten!$B$8,LOOKUP($B176,Daten!$A$67:$A$116,Daten!$L$67:$L$116),\"\")","v":25.2},{"$f":"IF($A176<=Daten!$B$8,LOOKUP($B176,Daten!$A$16:$A$65,Daten!$D$67:$D$116),\"\")","v":25.2},{"$f":"IF($A176<=Daten!$B$8,LOOKUP($B176,Daten!$A$118:$A$167,Daten!$L$118:$L$167),\"\")","v":25.3},{"$f":"IF($A176<=Daten!$B$8,LOOKUP($B176,Daten!$A$118:$A$167,Daten!$D$118:$D$167),\"\")","v":25.3},{"$f":"IF($A176<=Daten!$B$8,LOOKUP($B176,Daten!$A$169:$A$218,Daten!$L$169:$L$218),\"\")","v":25.4},{"$f":"IF($A176<=Daten!$B$8,LOOKUP($B176,Daten!$A$169:$A$218,Daten!$D$169:$D$218),\"\")","v":25.4},{"$f":"IF($A176<=Daten!$B$8,LOOKUP($B176,Daten!$A$220:$A$269,Daten!$L$220:$L$269),\"\")","v":25.5},{"$f":"IF($A176<=Daten!$B$8,LOOKUP($B176,Daten!$A$220:$A$269,Daten!$D$220:$D$269),\"\")","v":25.5},{"$f":"IF($A176<=Daten!$B$8,LOOKUP($B176,Daten!$A$271:$A$320,Daten!$L$271:$L$320),\"\")","v":25.6},{"$f":"IF($A176<=Daten!$B$8,LOOKUP($B176,Daten!$A$271:$A$320,Daten!$D$271:$D$320),\"\")","v":25.6},{"$f":"IF($A176<=Daten!$B$8,LOOKUP($B176,Daten!$A$322:$A$371,Daten!$L$322:$L$371),\"\")","v":25.7},{"$f":"IF($A176<=Daten!$B$8,LOOKUP($B176,Daten!$A$322:$A$371,Daten!$D$322:$D$371),\"\")","v":25.7}]
[26,{"$f":"IF(A183<=Daten!$B$8,Daten!AA9,\"\")","v":"Menülinie 26"},{"$f":"IF(A183<=Daten!$B$8,LOOKUP(B183,Daten!$A$16:$A$65,Daten!$C$16:$C$65),\"\")","v":"Lang[26,1]"},{"$f":"IF($A183<=Daten!$B$8,LOOKUP($B183,Daten!$A$16:$A$65,Daten!$P$16:$P$65),\"\") & \" \" & IF($A183<=Daten!$B$8,LOOKUP($B183,Daten!$A$16:$A$65,Daten!$Q$16:$Q$65),\"\")","v":"26,1 Inhalt1Einh[26,1]"},{"$f":"IF($A183<=Daten!$B$8,LOOKUP($B183,Daten!$A$67:$A$116,Daten!$C$67:$C$116),\"\")","v":"Lang[26,2]"},{"$f":"IF($A183<=Daten!$B$8,LOOKUP($B183,Daten!$A$67:$A$116,Daten!$P$67:$P$116),\"\") & \" \" & IF($A183<=Daten!$B$8,LOOKUP($B183,Daten!$A$67:$A$116,Daten!$Q$67:$Q$116),\"\")","v":"26,2 Inhalt1Einh[26,2]"},{"$f":"IF($A183<=Daten!$B$8,LOOKUP($B183,Daten!$A$118:$A$167,Daten!$C$118:$C$167),\"\")","v":"Lang[26,3]"},{"$f":"IF($A183<=Daten!$B$8,LOOKUP($B183,Daten!$A$118:$A$167,Daten!$P$118:$P$167),\"\") & \" \" & IF($A183<=Daten!$B$8,LOOKUP($B183,Daten!$A$118:$A$167,Daten!$Q$118:$Q$167),\"\")","v":"26,3 Inhalt1Einh[26,3]"},{"$f":"IF($A183<=Daten!$B$8,LOOKUP($B183,Daten!$A$169:$A$218,Daten!$C$169:$C$218),\"\")","v":"Lang[26,4]"},{"$f":"IF($A183<=Daten!$B$8,LOOKUP($B183,Daten!$A$169:$A$218,Daten!$P$169:$P$218),\"\") & \" \" & IF($A183<=Daten!$B$8,LOOKUP($B183,Daten!$A$169:$A$218,Daten!$Q$169:$Q$218),\"\")","v":"26,4 Inhalt1Einh[26,4]"},{"$f":"IF($A183<=Daten!$B$8,LOOKUP($B183,Daten!$A$220:$A$269,Daten!$C$220:$C$269),\"\")","v":"Lang[26,5]"},{"$f":"IF($A183<=Daten!$B$8,LOOKUP($B183,Daten!$A$220:$A$269,Daten!$P$220:$P$269),\"\") & \" \" & IF($A183<=Daten!$B$8,LOOKUP($B183,Daten!$A$220:$A$269,Daten!$Q$220:$Q$269),\"\")","v":"26,5 Inhalt1Einh[26,5]"},{"$f":"IF($A183<=Daten!$B$8,LOOKUP($B183,Daten!$A$271:$A$320,Daten!$C$271:$C$320),\"\")","v":"Lang[26,6]"},{"$f":"IF($A183<=Daten!$B$8,LOOKUP($B183,Daten!$A$271:$A$320,Daten!$P$271:$P$320),\"\") & \" \" & IF($A183<=Daten!$B$8,LOOKUP($B183,Daten!$A$271:$A$320,Daten!$Q$271:$Q$320),\"\")","v":"26,6 Inhalt1Einh[26,6]"},{"$f":"IF($A183<=Daten!$B$8,LOOKUP($B183,Daten!$A$322:$A$371,Daten!$B$322:$C$371),\"\")","v":{"$error":"#N/A"}},{"$f":"IF($A183<=Daten!$B$8,LOOKUP($B183,Daten!$A$322:$A$371,Daten!$P$322:$P$371),\"\") & \" \" & IF($A183<=Daten!$B$8,LOOKUP($B183,Daten!$A$322:$A$371,Daten!$Q$322:$Q$371),\"\")","v":"26,7 Inhalt1Einh[26,7]"}]
[null,null,null,{"$f":"IF($A183<=Daten!$B$8,LOOKUP($B183,Daten!$A$16:$A$65,Daten!$R$16:$R$65),\"\") & \" \" & IF($A183<=Daten!$B$8,LOOKUP($B183,Daten!$A$16:$A$65,Daten!$S$16:$S$65),\"\")","v":"26,1 Inhalt2Einh[26,1]"},null,{"$f":"IF($A183<=Daten!$B$8,LOOKUP($B183,Daten!$A$67:$A$116,Daten!$R$67:$R$116),\"\") & \" \" & IF($A183<=Daten!$B$8,LOOKUP($B183,Daten!$A$67:$A$116,Daten!$S$67:$S$116),\"\")","v":"26,2 Inhalt2Einh[26,2]"},null,{"$f":"IF($A183<=Daten!$B$8,LOOKUP($B183,Daten!$A$118:$A$167,Daten!$R$118:$R$167),\"\") & \" \" & IF($A183<=Daten!$B$8,LOOKUP($B183,Daten!$A$118:$A$167,Daten!$S$118:$S$167),\"\")","v":"26,3 Inhalt2Einh[26,3]"},null,{"$f":"IF($A183<=Daten!$B$8,LOOKUP($B183,Daten!$A$169:$A$218,Daten!$R$169:$R$218),\"\") & \" \" & IF($A183<=Daten!$B$8,LOOKUP($B183,Daten!$A$169:$A$218,Daten!$S$169:$S$218),\"\")","v":"26,4 Inhalt2Einh[26,4]"},null,{"$f":"IF($A183<=Daten!$B$8,LOOKUP($B183,Daten!$A$220:$A$269,Daten!$R$220:$R$269),\"\") & \" \" & IF($A183<=Daten!$B$8,LOOKUP($B183,Daten!$A$220:$A$269,Daten!$S$220:$S$269),\"\")","v":"26,5 Inhalt2Einh[26,5]"},null,{"$f":"IF($A183<=Daten!$B$8,LOOKUP($B183,Daten!$A$271:$A$320,Daten!$R$271:$R$320),\"\") & \" \" & IF($A183<=Daten!$B$8,LOOKUP($B183,Daten!$A$271:$A$320,Daten!$S$271:$S$320),\"\")","v":"26,6 Inhalt2Einh[26,6]"},null,{"$f":"IF($A183<=Daten!$B$8,LOOKUP($B183,Daten!$A$322:$A$371,Daten!$R$322:$R$371),\"\") & \" \" & IF($A183<=Daten!$B$8,LOOKUP($B183,Daten!$A$322:$A$371,Daten!$S$322:$S$371),\"\")","v":"26,7 Inhalt2Einh[26,7]"}]
[null,null,null,{"$f":"IF($A183<=Daten!$B$8,LOOKUP($B183,Daten!$A$16:$A$65,Daten!$T$16:$T$65),\"\") & \" \" & IF($A183<=Daten!$B$8,LOOKUP($B183,Daten!$A$16:$A$65,Daten!$U$16:$U$65),\"\")","v":"26,1 Inhalt3Einh[26,1]"},null,{"$f":"IF($A183<=Daten!$B$8,LOOKUP($B183,Daten!$A$67:$A$116,Daten!$T$67:$T$116),\"\") & \" \" & IF($A183<=Daten!$B$8,LOOKUP($B183,Daten!$A$67:$A$116,Daten!$U$67:$U$116),\"\")","v":"26,2 Inhalt3Einh[26,2]"},null,{"$f":"IF($A183<=Daten!$B$8,LOOKUP($B183,Daten!$A$118:$A$167,Daten!$T$118:$T$167),\"\") & \" \" & IF($A183<=Daten!$B$8,LOOKUP($B183,Daten!$A$118:$A$167,Daten!$U$118:$U$167),\"\")","v":"26,3 Inhalt3Einh[26,3]"},null,{"$f":"IF($A183<=Daten!$B$8,LOOKUP($B183,Daten!$A$169:$A$218,Daten!$T$169:$T$218),\"\") & \" \" & IF($A183<=Daten!$B$8,LOOKUP($B183,Daten!$A$169:$A$218,Daten!$U$169:$U$218),\"\")","v":"26,4 Inhalt3Einh[26,4]"},null,{"$f":"IF($A183<=Daten!$B$8,LOOKUP($B183,Daten!$A$220:$A$269,Daten!$T$220:$T$269),\"\") & \" \" & IF($A183<=Daten!$B$8,LOOKUP($B183,Daten!$A$220:$A$269,Daten!$U$220:$U$269),\"\")","v":"26,5 Inhalt3Einh[26,5]"},null,{"$f":"IF($A183<=Daten!$B$8,LOOKUP($B183,Daten!$A$271:$A$320,Daten!$T$271:$T$320),\"\") & \" \" & IF($A183<=Daten!$B$8,LOOKUP($B183,Daten!$A$271:$A$320,Daten!$U$271:$U$320),\"\")","v":"26,6 Inhalt3Einh[26,6]"},null,{"$f":"IF($A183<=Daten!$B$8,LOOKUP($B183,Daten!$A$322:$A$371,Daten!$T$322:$T$371),\"\") & \" \" & IF($A183<=Daten!$B$8,LOOKUP($B183,Daten!$A$322:$A$371,Daten!$U$322:$U$371),\"\")","v":"26,7 Inhalt3Einh[26,7]"}]
[null,null,null,{"$f":"IF($A183<=Daten!$B$8,LOOKUP($B183,Daten!$A$16:$A$65,Daten!$V$16:$V$65),\"\") & \" \" & IF($A183<=Daten!$B$8,LOOKUP($B183,Daten!$A$16:$A$65,Daten!$W$16:$W$65),\"\")","v":"26,1 Inhalt4Einh[26,1]"},null,{"$f":"IF($A183<=Daten!$B$8,LOOKUP($B183,Daten!$A$67:$A$116,Daten!$V$67:$V$116),\"\") & \" \" & IF($A183<=Daten!$B$8,LOOKUP($B183,Daten!$A$67:$A$116,Daten!$W$67:$W$116),\"\")","v":"26,2 Inhalt4Einh[26,2]"},null,{"$f":"IF($A183<=Daten!$B$8,LOOKUP($B183,Daten!$A$118:$A$167,Daten!$V$118:$V$167),\"\") & \" \" & IF($A183<=Daten!$B$8,LOOKUP($B183,Daten!$A$118:$A$167,Daten!$W$118:$W$167),\"\")","v":"26,3 Inhalt4Einh[26,3]"},null,{"$f":"IF($A183<=Daten!$B$8,LOOKUP($B183,Daten!$A$169:$A$218,Daten!$V$169:$V$218),\"\") & \" \" & IF($A183<=Daten!$B$8,LOOKUP($B183,Daten!$A$169:$A$218,Daten!$W$169:$W$218),\"\")","v":"26,4 Inhalt4Einh[26,4]"},null,{"$f":"IF($A183<=Daten!$B$8,LOOKUP($B183,Daten!$A$220:$A$269,Daten!$V$220:$V$269),\"\") & \" \" & IF($A183<=Daten!$B$8,LOOKUP($B183,Daten!$A$220:$A$269,Daten!$W$220:$W$269),\"\")","v":"26,5 Inhalt4Einh[26,5]"},null,{"$f":"IF($A183<=Daten!$B$8,LOOKUP($B183,Daten!$A$271:$A$320,Daten!$V$271:$V$320),\"\") & \" \" & IF($A183<=Daten!$B$8,LOOKUP($B183,Daten!$A$271:$A$320,Daten!$W$271:$W$320),\"\")","v":"26,6 Inhalt4Einh[26,6]"},null,{"$f":"IF($A183<=Daten!$B$8,LOOKUP($B183,Daten!$A$322:$A$371,Daten!$V$322:$V$371),\"\") & \" \" & IF($A183<=Daten!$B$8,LOOKUP($B183,Daten!$A$322:$A$371,Daten!$W$322:$W$371),\"\")","v":"26,7 Inhalt4Einh[26,7]"}]
[null,null,null,{"$f":"IF($A183<=Daten!$B$8,LOOKUP($B183,Daten!$A$16:$A$65,Daten!$X$16:$X$65),\"\") & \" \" & IF($A183<=Daten!$B$8,LOOKUP($B183,Daten!$A$16:$A$65,Daten!$Y$16:$Y$65),\"\")","v":"26,1 Inhalt5Einh[26,1]"},null,{"$f":"IF($A183<=Daten!$B$8,LOOKUP($B183,Daten!$A$67:$A$116,Daten!$X$67:$X$116),\"\") & \" \" & IF($A183<=Daten!$B$8,LOOKUP($B183,Daten!$A$67:$A$116,Daten!$Y$67:$Y$116),\"\")","v":"26,2 Inhalt5Einh[26,2]"},null,{"$f":"IF($A183<=Daten!$B$8,LOOKUP($B183,Daten!$A$118:$A$167,Daten!$X$118:$X$167),\"\") & \" \" & IF($A183<=Daten!$B$8,LOOKUP($B183,Daten!$A$118:$A$167,Daten!$Y$118:$Y$167),\"\")","v":"26,3 Inhalt5Einh[26,3]"},null,{"$f":"IF($A183<=Daten!$B$8,LOOKUP($B183,Daten!$A$169:$A$218,Daten!$X$169:$X$218),\"\") & \" \" & IF($A183<=Daten!$B$8,LOOKUP($B183,Daten!$A$169:$A$218,Daten!$Y$169:$Y$218),\"\")","v":"26,4 Inhalt5Einh[26,4]"},null,{"$f":"IF($A183<=Daten!$B$8,LOOKUP($B183,Daten!$A$220:$A$269,Daten!$X$220:$X$269),\"\") & \" \" & IF($A183<=Daten!$B$8,LOOKUP($B183,Daten!$A$220:$A$269,Daten!$Y$220:$Y$269),\"\")","v":"26,5 Inhalt5Einh[26,5]"},null,{"$f":"IF($A183<=Daten!$B$8,LOOKUP($B183,Daten!$A$271:$A$320,Daten!$X$271:$X$320),\"\") & \" \" & IF($A183<=Daten!$B$8,LOOKUP($B183,Daten!$A$271:$A$320,Daten!$Y$271:$Y$320),\"\")","v":"26,6 Inhalt5Einh[26,6]"},null,{"$f":"IF($A183<=Daten!$B$8,LOOKUP($B183,Daten!$A$322:$A$371,Daten!$X$322:$X$371),\"\") & \" \" & IF($A183<=Daten!$B$8,LOOKUP($B183,Daten!$A$322:$A$371,Daten!$Y$322:$Y$371),\"\")","v":"26,7 Inhalt5Einh[26,7]"}]
[null,null,null,{"$f":"IF($A183<=Daten!$B$8,LOOKUP($B183,Daten!$A$16:$A$65,Daten!$Z$16:$Z$65),\"\") & \" \" & IF($A183<=Daten!$B$8,LOOKUP($B183,Daten!$A$16:$A$65,Daten!$AA$16:$AA$65),\"\")","v":"26,1 Inhalt6Einh[26,1]"},null,{"$f":"IF($A183<=Daten!$B$8,LOOKUP($B183,Daten!$A$67:$A$116,Daten!$Z$67:$Z$116),\"\") & \" \" & IF($A183<=Daten!$B$8,LOOKUP($B183,Daten!$A$67:$A$116,Daten!$AA$67:$AA$116),\"\")","v":"26,2 Inhalt6Einh[26,2]"},null,{"$f":"IF($A183<=Daten!$B$8,LOOKUP($B183,Daten!$A$118:$A$167,Daten!$Z$118:$Z$167),\"\") & \" \" & IF($A183<=Daten!$B$8,LOOKUP($B183,Daten!$A$118:$A$167,Daten!$AA$118:$AA$167),\"\")","v":"26,3 Inhalt6Einh[26,3]"},null,{"$f":"IF($A183<=Daten!$B$8,LOOKUP($B183,Daten!$A$169:$A$218,Daten!$Z$169:$Z$218),\"\") & \" \" & IF($A183<=Daten!$B$8,LOOKUP($B183,Daten!$A$169:$A$218,Daten!$AA$169:$AA$218),\"\")","v":"26,4 Inhalt6Einh[26,4]"},null,{"$f":"IF($A183<=Daten!$B$8,LOOKUP($B183,Daten!$A$220:$A$269,Daten!$Z$220:$Z$269),\"\") & \" \" & IF($A183<=Daten!$B$8,LOOKUP($B183,Daten!$A$220:$A$269,Daten!$AA$220:$AA$269),\"\")","v":"26,5 Inhalt6Einh[26,5]"},null,{"$f":"IF($A183<=Daten!$B$8,LOOKUP($B183,Daten!$A$271:$A$320,Daten!$Z$271:$Z$320),\"\") & \" \" & IF($A183<=Daten!$B$8,LOOKUP($B183,Daten!$A$271:$A$320,Daten!$AA$271:$AA$320),\"\")","v":"26,6 Inhalt6Einh[26,6]"},null,{"$f":"IF($A183<=Daten!$B$8,LOOKUP($B183,Daten!$A$322:$A$371,Daten!$Z$322:$Z$371),\"\") & \" \" & IF($A183<=Daten!$B$8,LOOKUP($B183,Daten!$A$322:$A$371,Daten!$AA$322:$AA$371),\"\")","v":"26,7 Inhalt6Einh[26,7]"}]
[null,{"$f":"IF(A183<=Daten!$B$8,\"Zusatzstoffe\",\"\")","v":"Zusatzstoffe"},{"$f":"IF($A183<=Daten!$B$8,LOOKUP($B183,Daten!$A$16:$A$65,Daten!$L$16:$L$65),\"\")","v":26.1},{"$f":"IF($A183<=Daten!$B$8,LOOKUP($B183,Daten!$A$16:$A$65,Daten!$D$16:$D$65),\"\")","v":26.1},{"$f":"IF($A183<=Daten!$B$8,LOOKUP($B183,Daten!$A$67:$A$116,Daten!$L$67:$L$116),\"\")","v":26.2},{"$f":"IF($A183<=Daten!$B$8,LOOKUP($B183,Daten!$A$16:$A$65,Daten!$D$67:$D$116),\"\")","v":26.2},{"$f":"IF($A183<=Daten!$B$8,LOOKUP($B183,Daten!$A$118:$A$167,Daten!$L$118:$L$167),\"\")","v":26.3},{"$f":"IF($A183<=Daten!$B$8,LOOKUP($B183,Daten!$A$118:$A$167,Daten!$D$118:$D$167),\"\")","v":26.3},{"$f":"IF($A183<=Daten!$B$8,LOOKUP($B183,Daten!$A$169:$A$218,Daten!$L$169:$L$218),\"\")","v":26.4},{"$f":"IF($A183<=Daten!$B$8,LOOKUP($B183,Daten!$A$169:$A$218,Daten!$D$169:$D$218),\"\")","v":26.4},{"$f":"IF($A183<=Daten!$B$8,LOOKUP($B183,Daten!$A$220:$A$269,Daten!$L$220:$L$269),\"\")","v":26.5},{"$f":"IF($A183<=Daten!$B$8,LOOKUP($B183,Daten!$A$220:$A$269,Daten!$D$220:$D$269),\"\")","v":26.5},{"$f":"IF($A183<=Daten!$B$8,LOOKUP($B183,Daten!$A$271:$A$320,Daten!$L$271:$L$320),\"\")","v":26.6},{"$f":"IF($A183<=Daten!$B$8,LOOKUP($B183,Daten!$A$271:$A$320,Daten!$D$271:$D$320),\"\")","v":26.6},{"$f":"IF($A183<=Daten!$B$8,LOOKUP($B183,Daten!$A$322:$A$371,Daten!$L$322:$L$371),\"\")","v":26.7},{"$f":"IF($A183<=Daten!$B$8,LOOKUP($B183,Daten!$A$322:$A$371,Daten!$D$322:$D$371),\"\")","v":26.7}]
[27,{"$f":"IF(A190<=Daten!$B$8,Daten!AB9,\"\")","v":"Menülinie 27"},{"$f":"IF(A190<=Daten!$B$8,LOOKUP(B190,Daten!$A$16:$A$65,Daten!$C$16:$C$65),\"\")","v":"Lang[27,1]"},{"$f":"IF($A190<=Daten!$B$8,LOOKUP($B190,Daten!$A$16:$A$65,Daten!$P$16:$P$65),\"\") & \" \" & IF($A190<=Daten!$B$8,LOOKUP($B190,Daten!$A$16:$A$65,Daten!$Q$16:$Q$65),\"\")","v":"27,1 Inhalt1Einh[27,1]"},{"$f":"IF($A190<=Daten!$B$8,LOOKUP($B190,Daten!$A$67:$A$116,Daten!$C$67:$C$116),\"\")","v":"Lang[27,2]"},{"$f":"IF($A190<=Daten!$B$8,LOOKUP($B190,Daten!$A$67:$A$116,Daten!$P$67:$P$116),\"\") & \" \" & IF($A190<=Daten!$B$8,LOOKUP($B190,Daten!$A$67:$A$116,Daten!$Q$67:$Q$116),\"\")","v":"27,2 Inhalt1Einh[27,2]"},{"$f":"IF($A190<=Daten!$B$8,LOOKUP($B190,Daten!$A$118:$A$167,Daten!$C$118:$C$167),\"\")","v":"Lang[27,3]"},{"$f":"IF($A190<=Daten!$B$8,LOOKUP($B190,Daten!$A$118:$A$167,Daten!$P$118:$P$167),\"\") & \" \" & IF($A190<=Daten!$B$8,LOOKUP($B190,Daten!$A$118:$A$167,Daten!$Q$118:$Q$167),\"\")","v":"27,3 Inhalt1Einh[27,3]"},{"$f":"IF($A190<=Daten!$B$8,LOOKUP($B190,Daten!$A$169:$A$218,Daten!$C$169:$C$218),\"\")","v":"Lang[27,4]"},{"$f":"IF($A190<=Daten!$B$8,LOOKUP($B190,Daten!$A$169:$A$218,Daten!$P$169:$P$218),\"\") & \" \" & IF($A190<=Daten!$B$8,LOOKUP($B190,Daten!$A$169:$A$218,Daten!$Q$169:$Q$218),\"\")","v":"27,4 Inhalt1Einh[27,4]"},{"$f":"IF($A190<=Daten!$B$8,LOOKUP($B190,Daten!$A$220:$A$269,Daten!$C$220:$C$269),\"\")","v":"Lang[27,5]"},{"$f":"IF($A190<=Daten!$B$8,LOOKUP($B190,Daten!$A$220:$A$269,Daten!$P$220:$P$269),\"\") & \" \" & IF($A190<=Daten!$B$8,LOOKUP($B190,Daten!$A$220:$A$269,Daten!$Q$220:$Q$269),\"\")","v":"27,5 Inhalt1Einh[27,5]"},{"$f":"IF($A190<=Daten!$B$8,LOOKUP($B190,Daten!$A$271:$A$320,Daten!$C$271:$C$320),\"\")","v":"Lang[27,6]"},{"$f":"IF($A190<=Daten!$B$8,LOOKUP($B190,Daten!$A$271:$A$320,Daten!$P$271:$P$320),\"\") & \" \" & IF($A190<=Daten!$B$8,LOOKUP($B190,Daten!$A$271:$A$320,Daten!$Q$271:$Q$320),\"\")","v":"27,6 Inhalt1Einh[27,6]"},{"$f":"IF($A190<=Daten!$B$8,LOOKUP($B190,Daten!$A$322:$A$371,Daten!$B$322:$C$371),\"\")","v":{"$error":"#N/A"}},{"$f":"IF($A190<=Daten!$B$8,LOOKUP($B190,Daten!$A$322:$A$371,Daten!$P$322:$P$371),\"\") & \" \" & IF($A190<=Daten!$B$8,LOOKUP($B190,Daten!$A$322:$A$371,Daten!$Q$322:$Q$371),\"\")","v":"27,7 Inhalt1Einh[27,7]"}]
[null,null,null,{"$f":"IF($A190<=Daten!$B$8,LOOKUP($B190,Daten!$A$16:$A$65,Daten!$R$16:$R$65),\"\") & \" \" & IF($A190<=Daten!$B$8,LOOKUP($B190,Daten!$A$16:$A$65,Daten!$S$16:$S$65),\"\")","v":"27,1 Inhalt2Einh[27,1]"},null,{"$f":"IF($A190<=Daten!$B$8,LOOKUP($B190,Daten!$A$67:$A$116,Daten!$R$67:$R$116),\"\") & \" \" & IF($A190<=Daten!$B$8,LOOKUP($B190,Daten!$A$67:$A$116,Daten!$S$67:$S$116),\"\")","v":"27,2 Inhalt2Einh[27,2]"},null,{"$f":"IF($A190<=Daten!$B$8,LOOKUP($B190,Daten!$A$118:$A$167,Daten!$R$118:$R$167),\"\") & \" \" & IF($A190<=Daten!$B$8,LOOKUP($B190,Daten!$A$118:$A$167,Daten!$S$118:$S$167),\"\")","v":"27,3 Inhalt2Einh[27,3]"},null,{"$f":"IF($A190<=Daten!$B$8,LOOKUP($B190,Daten!$A$169:$A$218,Daten!$R$169:$R$218),\"\") & \" \" & IF($A190<=Daten!$B$8,LOOKUP($B190,Daten!$A$169:$A$218,Daten!$S$169:$S$218),\"\")","v":"27,4 Inhalt2Einh[27,4]"},null,{"$f":"IF($A190<=Daten!$B$8,LOOKUP($B190,Daten!$A$220:$A$269,Daten!$R$220:$R$269),\"\") & \" \" & IF($A190<=Daten!$B$8,LOOKUP($B190,Daten!$A$220:$A$269,Daten!$S$220:$S$269),\"\")","v":"27,5 Inhalt2Einh[27,5]"},null,{"$f":"IF($A190<=Daten!$B$8,LOOKUP($B190,Daten!$A$271:$A$320,Daten!$R$271:$R$320),\"\") & \" \" & IF($A190<=Daten!$B$8,LOOKUP($B190,Daten!$A$271:$A$320,Daten!$S$271:$S$320),\"\")","v":"27,6 Inhalt2Einh[27,6]"},null,{"$f":"IF($A190<=Daten!$B$8,LOOKUP($B190,Daten!$A$322:$A$371,Daten!$R$322:$R$371),\"\") & \" \" & IF($A190<=Daten!$B$8,LOOKUP($B190,Daten!$A$322:$A$371,Daten!$S$322:$S$371),\"\")","v":"27,7 Inhalt2Einh[27,7]"}]
[null,null,null,{"$f":"IF($A190<=Daten!$B$8,LOOKUP($B190,Daten!$A$16:$A$65,Daten!$T$16:$T$65),\"\") & \" \" & IF($A190<=Daten!$B$8,LOOKUP($B190,Daten!$A$16:$A$65,Daten!$U$16:$U$65),\"\")","v":"27,1 Inhalt3Einh[27,1]"},null,{"$f":"IF($A190<=Daten!$B$8,LOOKUP($B190,Daten!$A$67:$A$116,Daten!$T$67:$T$116),\"\") & \" \" & IF($A190<=Daten!$B$8,LOOKUP($B190,Daten!$A$67:$A$116,Daten!$U$67:$U$116),\"\")","v":"27,2 Inhalt3Einh[27,2]"},null,{"$f":"IF($A190<=Daten!$B$8,LOOKUP($B190,Daten!$A$118:$A$167,Daten!$T$118:$T$167),\"\") & \" \" & IF($A190<=Daten!$B$8,LOOKUP($B190,Daten!$A$118:$A$167,Daten!$U$118:$U$167),\"\")","v":"27,3 Inhalt3Einh[27,3]"},null,{"$f":"IF($A190<=Daten!$B$8,LOOKUP($B190,Daten!$A$169:$A$218,Daten!$T$169:$T$218),\"\") & \" \" & IF($A190<=Daten!$B$8,LOOKUP($B190,Daten!$A$169:$A$218,Daten!$U$169:$U$218),\"\")","v":"27,4 Inhalt3Einh[27,4]"},null,{"$f":"IF($A190<=Daten!$B$8,LOOKUP($B190,Daten!$A$220:$A$269,Daten!$T$220:$T$269),\"\") & \" \" & IF($A190<=Daten!$B$8,LOOKUP($B190,Daten!$A$220:$A$269,Daten!$U$220:$U$269),\"\")","v":"27,5 Inhalt3Einh[27,5]"},null,{"$f":"IF($A190<=Daten!$B$8,LOOKUP($B190,Daten!$A$271:$A$320,Daten!$T$271:$T$320),\"\") & \" \" & IF($A190<=Daten!$B$8,LOOKUP($B190,Daten!$A$271:$A$320,Daten!$U$271:$U$320),\"\")","v":"27,6 Inhalt3Einh[27,6]"},null,{"$f":"IF($A190<=Daten!$B$8,LOOKUP($B190,Daten!$A$322:$A$371,Daten!$T$322:$T$371),\"\") & \" \" & IF($A190<=Daten!$B$8,LOOKUP($B190,Daten!$A$322:$A$371,Daten!$U$322:$U$371),\"\")","v":"27,7 Inhalt3Einh[27,7]"}]
[null,null,null,{"$f":"IF($A190<=Daten!$B$8,LOOKUP($B190,Daten!$A$16:$A$65,Daten!$V$16:$V$65),\"\") & \" \" & IF($A190<=Daten!$B$8,LOOKUP($B190,Daten!$A$16:$A$65,Daten!$W$16:$W$65),\"\")","v":"27,1 Inhalt4Einh[27,1]"},null,{"$f":"IF($A190<=Daten!$B$8,LOOKUP($B190,Daten!$A$67:$A$116,Daten!$V$67:$V$116),\"\") & \" \" & IF($A190<=Daten!$B$8,LOOKUP($B190,Daten!$A$67:$A$116,Daten!$W$67:$W$116),\"\")","v":"27,2 Inhalt4Einh[27,2]"},null,{"$f":"IF($A190<=Daten!$B$8,LOOKUP($B190,Daten!$A$118:$A$167,Daten!$V$118:$V$167),\"\") & \" \" & IF($A190<=Daten!$B$8,LOOKUP($B190,Daten!$A$118:$A$167,Daten!$W$118:$W$167),\"\")","v":"27,3 Inhalt4Einh[27,3]"},null,{"$f":"IF($A190<=Daten!$B$8,LOOKUP($B190,Daten!$A$169:$A$218,Daten!$V$169:$V$218),\"\") & \" \" & IF($A190<=Daten!$B$8,LOOKUP($B190,Daten!$A$169:$A$218,Daten!$W$169:$W$218),\"\")","v":"27,4 Inhalt4Einh[27,4]"},null,{"$f":"IF($A190<=Daten!$B$8,LOOKUP($B190,Daten!$A$220:$A$269,Daten!$V$220:$V$269),\"\") & \" \" & IF($A190<=Daten!$B$8,LOOKUP($B190,Daten!$A$220:$A$269,Daten!$W$220:$W$269),\"\")","v":"27,5 Inhalt4Einh[27,5]"},null,{"$f":"IF($A190<=Daten!$B$8,LOOKUP($B190,Daten!$A$271:$A$320,Daten!$V$271:$V$320),\"\") & \" \" & IF($A190<=Daten!$B$8,LOOKUP($B190,Daten!$A$271:$A$320,Daten!$W$271:$W$320),\"\")","v":"27,6 Inhalt4Einh[27,6]"},null,{"$f":"IF($A190<=Daten!$B$8,LOOKUP($B190,Daten!$A$322:$A$371,Daten!$V$322:$V$371),\"\") & \" \" & IF($A190<=Daten!$B$8,LOOKUP($B190,Daten!$A$322:$A$371,Daten!$W$322:$W$371),\"\")","v":"27,7 Inhalt4Einh[27,7]"}]
[null,null,null,{"$f":"IF($A190<=Daten!$B$8,LOOKUP($B190,Daten!$A$16:$A$65,Daten!$X$16:$X$65),\"\") & \" \" & IF($A190<=Daten!$B$8,LOOKUP($B190,Daten!$A$16:$A$65,Daten!$Y$16:$Y$65),\"\")","v":"27,1 Inhalt5Einh[27,1]"},null,{"$f":"IF($A190<=Daten!$B$8,LOOKUP($B190,Daten!$A$67:$A$116,Daten!$X$67:$X$116),\"\") & \" \" & IF($A190<=Daten!$B$8,LOOKUP($B190,Daten!$A$67:$A$116,Daten!$Y$67:$Y$116),\"\")","v":"27,2 Inhalt5Einh[27,2]"},null,{"$f":"IF($A190<=Daten!$B$8,LOOKUP($B190,Daten!$A$118:$A$167,Daten!$X$118:$X$167),\"\") & \" \" & IF($A190<=Daten!$B$8,LOOKUP($B190,Daten!$A$118:$A$167,Daten!$Y$118:$Y$167),\"\")","v":"27,3 Inhalt5Einh[27,3]"},null,{"$f":"IF($A190<=Daten!$B$8,LOOKUP($B190,Daten!$A$169:$A$218,Daten!$X$169:$X$218),\"\") & \" \" & IF($A190<=Daten!$B$8,LOOKUP($B190,Daten!$A$169:$A$218,Daten!$Y$169:$Y$218),\"\")","v":"27,4 Inhalt5Einh[27,4]"},null,{"$f":"IF($A190<=Daten!$B$8,LOOKUP($B190,Daten!$A$220:$A$269,Daten!$X$220:$X$269),\"\") & \" \" & IF($A190<=Daten!$B$8,LOOKUP($B190,Daten!$A$220:$A$269,Daten!$Y$220:$Y$269),\"\")","v":"27,5 Inhalt5Einh[27,5]"},null,{"$f":"IF($A190<=Daten!$B$8,LOOKUP($B190,Daten!$A$271:$A$320,Daten!$X$271:$X$320),\"\") & \" \" & IF($A190<=Daten!$B$8,LOOKUP($B190,Daten!$A$271:$A$320,Daten!$Y$271:$Y$320),\"\")","v":"27,6 Inhalt5Einh[27,6]"},null,{"$f":"IF($A190<=Daten!$B$8,LOOKUP($B190,Daten!$A$322:$A$371,Daten!$X$322:$X$371),\"\") & \" \" & IF($A190<=Daten!$B$8,LOOKUP($B190,Daten!$A$322:$A$371,Daten!$Y$322:$Y$371),\"\")","v":"27,7 Inhalt5Einh[27,7]"}]
[null,null,null,{"$f":"IF($A190<=Daten!$B$8,LOOKUP($B190,Daten!$A$16:$A$65,Daten!$Z$16:$Z$65),\"\") & \" \" & IF($A190<=Daten!$B$8,LOOKUP($B190,Daten!$A$16:$A$65,Daten!$AA$16:$AA$65),\"\")","v":"27,1 Inhalt6Einh[27,1]"},null,{"$f":"IF($A190<=Daten!$B$8,LOOKUP($B190,Daten!$A$67:$A$116,Daten!$Z$67:$Z$116),\"\") & \" \" & IF($A190<=Daten!$B$8,LOOKUP($B190,Daten!$A$67:$A$116,Daten!$AA$67:$AA$116),\"\")","v":"27,2 Inhalt6Einh[27,2]"},null,{"$f":"IF($A190<=Daten!$B$8,LOOKUP($B190,Daten!$A$118:$A$167,Daten!$Z$118:$Z$167),\"\") & \" \" & IF($A190<=Daten!$B$8,LOOKUP($B190,Daten!$A$118:$A$167,Daten!$AA$118:$AA$167),\"\")","v":"27,3 Inhalt6Einh[27,3]"},null,{"$f":"IF($A190<=Daten!$B$8,LOOKUP($B190,Daten!$A$169:$A$218,Daten!$Z$169:$Z$218),\"\") & \" \" & IF($A190<=Daten!$B$8,LOOKUP($B190,Daten!$A$169:$A$218,Daten!$AA$169:$AA$218),\"\")","v":"27,4 Inhalt6Einh[27,4]"},null,{"$f":"IF($A190<=Daten!$B$8,LOOKUP($B190,Daten!$A$220:$A$269,Daten!$Z$220:$Z$269),\"\") & \" \" & IF($A190<=Daten!$B$8,LOOKUP($B190,Daten!$A$220:$A$269,Daten!$AA$220:$AA$269),\"\")","v":"27,5 Inhalt6Einh[27,5]"},null,{"$f":"IF($A190<=Daten!$B$8,LOOKUP($B190,Daten!$A$271:$A$320,Daten!$Z$271:$Z$320),\"\") & \" \" & IF($A190<=Daten!$B$8,LOOKUP($B190,Daten!$A$271:$A$320,Daten!$AA$271:$AA$320),\"\")","v":"27,6 Inhalt6Einh[27,6]"},null,{"$f":"IF($A190<=Daten!$B$8,LOOKUP($B190,Daten!$A$322:$A$371,Daten!$Z$322:$Z$371),\"\") & \" \" & IF($A190<=Daten!$B$8,LOOKUP($B190,Daten!$A$322:$A$371,Daten!$AA$322:$AA$371),\"\")","v":"27,7 Inhalt6Einh[27,7]"}]
[null,{"$f":"IF(A190<=Daten!$B$8,\"Zusatzstoffe\",\"\")","v":"Zusatzstoffe"},{"$f":"IF($A190<=Daten!$B$8,LOOKUP($B190,Daten!$A$16:$A$65,Daten!$L$16:$L$65),\"\")","v":27.1},{"$f":"IF($A190<=Daten!$B$8,LOOKUP($B190,Daten!$A$16:$A$65,Daten!$D$16:$D$65),\"\")","v":27.1},{"$f":"IF($A190<=Daten!$B$8,LOOKUP($B190,Daten!$A$67:$A$116,Daten!$L$67:$L$116),\"\")","v":27.2},{"$f":"IF($A190<=Daten!$B$8,LOOKUP($B190,Daten!$A$16:$A$65,Daten!$D$67:$D$116),\"\")","v":27.2},{"$f":"IF($A190<=Daten!$B$8,LOOKUP($B190,Daten!$A$118:$A$167,Daten!$L$118:$L$167),\"\")","v":27.3},{"$f":"IF($A190<=Daten!$B$8,LOOKUP($B190,Daten!$A$118:$A$167,Daten!$D$118:$D$167),\"\")","v":27.3},{"$f":"IF($A190<=Daten!$B$8,LOOKUP($B190,Daten!$A$169:$A$218,Daten!$L$169:$L$218),\"\")","v":27.4},{"$f":"IF($A190<=Daten!$B$8,LOOKUP($B190,Daten!$A$169:$A$218,Daten!$D$169:$D$218),\"\")","v":27.4},{"$f":"IF($A190<=Daten!$B$8,LOOKUP($B190,Daten!$A$220:$A$269,Daten!$L$220:$L$269),\"\")","v":27.5},{"$f":"IF($A190<=Daten!$B$8,LOOKUP($B190,Daten!$A$220:$A$269,Daten!$D$220:$D$269),\"\")","v":27.5},{"$f":"IF($A190<=Daten!$B$8,LOOKUP($B190,Daten!$A$271:$A$320,Daten!$L$271:$L$320),\"\")","v":27.6},{"$f":"IF($A190<=Daten!$B$8,LOOKUP($B190,Daten!$A$271:$A$320,Daten!$D$271:$D$320),\"\")","v":27.6},{"$f":"IF($A190<=Daten!$B$8,LOOKUP($B190,Daten!$A$322:$A$371,Daten!$L$322:$L$371),\"\")","v":27.7},{"$f":"IF($A190<=Daten!$B$8,LOOKUP($B190,Daten!$A$322:$A$371,Daten!$D$322:$D$371),\"\")","v":27.7}]
[28,{"$f":"IF(A197<=Daten!$B$8,Daten!AC9,\"\")","v":"Menülinie 28"},{"$f":"IF(A197<=Daten!$B$8,LOOKUP(B197,Daten!$A$16:$A$65,Daten!$C$16:$C$65),\"\")","v":"Lang[28,1]"},{"$f":"IF($A197<=Daten!$B$8,LOOKUP($B197,Daten!$A$16:$A$65,Daten!$P$16:$P$65),\"\") & \" \" & IF($A197<=Daten!$B$8,LOOKUP($B197,Daten!$A$16:$A$65,Daten!$Q$16:$Q$65),\"\")","v":"28,1 Inhalt1Einh[28,1]"},{"$f":"IF($A197<=Daten!$B$8,LOOKUP($B197,Daten!$A$57:$A$116,Daten!$C$57:$C$116),\"\")","v":"Lang[28,2]"},{"$f":"IF($A197<=Daten!$B$8,LOOKUP($B197,Daten!$A$57:$A$116,Daten!$P$57:$P$116),\"\") & \" \" & IF($A197<=Daten!$B$8,LOOKUP($B197,Daten!$A$57:$A$116,Daten!$Q$57:$Q$116),\"\")","v":"28,2 Inhalt1Einh[28,2]"},{"$f":"IF($A197<=Daten!$B$8,LOOKUP($B197,Daten!$A$118:$A$167,Daten!$C$118:$C$167),\"\")","v":"Lang[28,3]"},{"$f":"IF($A197<=Daten!$B$8,LOOKUP($B197,Daten!$A$118:$A$167,Daten!$P$118:$P$167),\"\") & \" \" & IF($A197<=Daten!$B$8,LOOKUP($B197,Daten!$A$118:$A$167,Daten!$Q$118:$Q$167),\"\")","v":"28,3 Inhalt1Einh[28,3]"},{"$f":"IF($A197<=Daten!$B$8,LOOKUP($B197,Daten!$A$169:$A$218,Daten!$C$169:$C$218),\"\")","v":"Lang[28,4]"},{"$f":"IF($A197<=Daten!$B$8,LOOKUP($B197,Daten!$A$169:$A$218,Daten!$P$169:$P$218),\"\") & \" \" & IF($A197<=Daten!$B$8,LOOKUP($B197,Daten!$A$169:$A$218,Daten!$Q$169:$Q$218),\"\")","v":"28,4 Inhalt1Einh[28,4]"},{"$f":"IF($A197<=Daten!$B$8,LOOKUP($B197,Daten!$A$220:$A$269,Daten!$C$220:$C$269),\"\")","v":"Lang[28,5]"},{"$f":"IF($A197<=Daten!$B$8,LOOKUP($B197,Daten!$A$220:$A$269,Daten!$P$220:$P$269),\"\") & \" \" & IF($A197<=Daten!$B$8,LOOKUP($B197,Daten!$A$220:$A$269,Daten!$Q$220:$Q$269),\"\")","v":"28,5 Inhalt1Einh[28,5]"},{"$f":"IF($A197<=Daten!$B$8,LOOKUP($B197,Daten!$A$271:$A$320,Daten!$C$271:$C$320),\"\")","v":"Lang[28,6]"},{"$f":"IF($A197<=Daten!$B$8,LOOKUP($B197,Daten!$A$271:$A$320,Daten!$P$271:$P$320),\"\") & \" \" & IF($A197<=Daten!$B$8,LOOKUP($B197,Daten!$A$271:$A$320,Daten!$Q$271:$Q$320),\"\")","v":"28,6 Inhalt1Einh[28,6]"},{"$f":"IF($A197<=Daten!$B$8,LOOKUP($B197,Daten!$A$322:$A$371,Daten!$B$322:$C$371),\"\")","v":{"$error":"#N/A"}},{"$f":"IF($A197<=Daten!$B$8,LOOKUP($B197,Daten!$A$322:$A$371,Daten!$P$322:$P$371),\"\") & \" \" & IF($A197<=Daten!$B$8,LOOKUP($B197,Daten!$A$322:$A$371,Daten!$Q$322:$Q$371),\"\")","v":"28,7 Inhalt1Einh[28,7]"}]
[null,null,null,{"$f":"IF($A197<=Daten!$B$8,LOOKUP($B197,Daten!$A$16:$A$65,Daten!$R$16:$R$65),\"\") & \" \" & IF($A197<=Daten!$B$8,LOOKUP($B197,Daten!$A$16:$A$65,Daten!$S$16:$S$65),\"\")","v":"28,1 Inhalt2Einh[28,1]"},null,{"$f":"IF($A197<=Daten!$B$8,LOOKUP($B197,Daten!$A$57:$A$116,Daten!$R$57:$R$116),\"\") & \" \" & IF($A197<=Daten!$B$8,LOOKUP($B197,Daten!$A$57:$A$116,Daten!$S$57:$S$116),\"\")","v":"28,2 Inhalt2Einh[28,2]"},null,{"$f":"IF($A197<=Daten!$B$8,LOOKUP($B197,Daten!$A$118:$A$167,Daten!$R$118:$R$167),\"\") & \" \" & IF($A197<=Daten!$B$8,LOOKUP($B197,Daten!$A$118:$A$167,Daten!$S$118:$S$167),\"\")","v":"28,3 Inhalt2Einh[28,3]"},null,{"$f":"IF($A197<=Daten!$B$8,LOOKUP($B197,Daten!$A$169:$A$218,Daten!$R$169:$R$218),\"\") & \" \" & IF($A197<=Daten!$B$8,LOOKUP($B197,Daten!$A$169:$A$218,Daten!$S$169:$S$218),\"\")","v":"28,4 Inhalt2Einh[28,4]"},null,{"$f":"IF($A197<=Daten!$B$8,LOOKUP($B197,Daten!$A$220:$A$269,Daten!$R$220:$R$269),\"\") & \" \" & IF($A197<=Daten!$B$8,LOOKUP($B197,Daten!$A$220:$A$269,Daten!$S$220:$S$269),\"\")","v":"28,5 Inhalt2Einh[28,5]"},null,{"$f":"IF($A197<=Daten!$B$8,LOOKUP($B197,Daten!$A$271:$A$320,Daten!$R$271:$R$320),\"\") & \" \" & IF($A197<=Daten!$B$8,LOOKUP($B197,Daten!$A$271:$A$320,Daten!$S$271:$S$320),\"\")","v":"28,6 Inhalt2Einh[28,6]"},null,{"$f":"IF($A197<=Daten!$B$8,LOOKUP($B197,Daten!$A$322:$A$371,Daten!$R$322:$R$371),\"\") & \" \" & IF($A197<=Daten!$B$8,LOOKUP($B197,Daten!$A$322:$A$371,Daten!$S$322:$S$371),\"\")","v":"28,7 Inhalt2Einh[28,7]"}]
[null,null,null,{"$f":"IF($A197<=Daten!$B$8,LOOKUP($B197,Daten!$A$16:$A$65,Daten!$T$16:$T$65),\"\") & \" \" & IF($A197<=Daten!$B$8,LOOKUP($B197,Daten!$A$16:$A$65,Daten!$U$16:$U$65),\"\")","v":"28,1 Inhalt3Einh[28,1]"},null,{"$f":"IF($A197<=Daten!$B$8,LOOKUP($B197,Daten!$A$57:$A$116,Daten!$T$57:$T$116),\"\") & \" \" & IF($A197<=Daten!$B$8,LOOKUP($B197,Daten!$A$57:$A$116,Daten!$U$57:$U$116),\"\")","v":"28,2 Inhalt3Einh[28,2]"},null,{"$f":"IF($A197<=Daten!$B$8,LOOKUP($B197,Daten!$A$118:$A$167,Daten!$T$118:$T$167),\"\") & \" \" & IF($A197<=Daten!$B$8,LOOKUP($B197,Daten!$A$118:$A$167,Daten!$U$118:$U$167),\"\")","v":"28,3 Inhalt3Einh[28,3]"},null,{"$f":"IF($A197<=Daten!$B$8,LOOKUP($B197,Daten!$A$169:$A$218,Daten!$T$169:$T$218),\"\") & \" \" & IF($A197<=Daten!$B$8,LOOKUP($B197,Daten!$A$169:$A$218,Daten!$U$169:$U$218),\"\")","v":"28,4 Inhalt3Einh[28,4]"},null,{"$f":"IF($A197<=Daten!$B$8,LOOKUP($B197,Daten!$A$220:$A$269,Daten!$T$220:$T$269),\"\") & \" \" & IF($A197<=Daten!$B$8,LOOKUP($B197,Daten!$A$220:$A$269,Daten!$U$220:$U$269),\"\")","v":"28,5 Inhalt3Einh[28,5]"},null,{"$f":"IF($A197<=Daten!$B$8,LOOKUP($B197,Daten!$A$271:$A$320,Daten!$T$271:$T$320),\"\") & \" \" & IF($A197<=Daten!$B$8,LOOKUP($B197,Daten!$A$271:$A$320,Daten!$U$271:$U$320),\"\")","v":"28,6 Inhalt3Einh[28,6]"},null,{"$f":"IF($A197<=Daten!$B$8,LOOKUP($B197,Daten!$A$322:$A$371,Daten!$T$322:$T$371),\"\") & \" \" & IF($A197<=Daten!$B$8,LOOKUP($B197,Daten!$A$322:$A$371,Daten!$U$322:$U$371),\"\")","v":"28,7 Inhalt3Einh[28,7]"}]
[null,null,null,{"$f":"IF($A197<=Daten!$B$8,LOOKUP($B197,Daten!$A$16:$A$65,Daten!$V$16:$V$65),\"\") & \" \" & IF($A197<=Daten!$B$8,LOOKUP($B197,Daten!$A$16:$A$65,Daten!$W$16:$W$65),\"\")","v":"28,1 Inhalt4Einh[28,1]"},null,{"$f":"IF($A197<=Daten!$B$8,LOOKUP($B197,Daten!$A$57:$A$116,Daten!$V$57:$V$116),\"\") & \" \" & IF($A197<=Daten!$B$8,LOOKUP($B197,Daten!$A$57:$A$116,Daten!$W$57:$W$116),\"\")","v":"28,2 Inhalt4Einh[28,2]"},null,{"$f":"IF($A197<=Daten!$B$8,LOOKUP($B197,Daten!$A$118:$A$167,Daten!$V$118:$V$167),\"\") & \" \" & IF($A197<=Daten!$B$8,LOOKUP($B197,Daten!$A$118:$A$167,Daten!$W$118:$W$167),\"\")","v":"28,3 Inhalt4Einh[28,3]"},null,{"$f":"IF($A197<=Daten!$B$8,LOOKUP($B197,Daten!$A$169:$A$218,Daten!$V$169:$V$218),\"\") & \" \" & IF($A197<=Daten!$B$8,LOOKUP($B197,Daten!$A$169:$A$218,Daten!$W$169:$W$218),\"\")","v":"28,4 Inhalt4Einh[28,4]"},null,{"$f":"IF($A197<=Daten!$B$8,LOOKUP($B197,Daten!$A$220:$A$269,Daten!$V$220:$V$269),\"\") & \" \" & IF($A197<=Daten!$B$8,LOOKUP($B197,Daten!$A$220:$A$269,Daten!$W$220:$W$269),\"\")","v":"28,5 Inhalt4Einh[28,5]"},null,{"$f":"IF($A197<=Daten!$B$8,LOOKUP($B197,Daten!$A$271:$A$320,Daten!$V$271:$V$320),\"\") & \" \" & IF($A197<=Daten!$B$8,LOOKUP($B197,Daten!$A$271:$A$320,Daten!$W$271:$W$320),\"\")","v":"28,6 Inhalt4Einh[28,6]"},null,{"$f":"IF($A197<=Daten!$B$8,LOOKUP($B197,Daten!$A$322:$A$371,Daten!$V$322:$V$371),\"\") & \" \" & IF($A197<=Daten!$B$8,LOOKUP($B197,Daten!$A$322:$A$371,Daten!$W$322:$W$371),\"\")","v":"28,7 Inhalt4Einh[28,7]"}]
[null,null,null,{"$f":"IF($A197<=Daten!$B$8,LOOKUP($B197,Daten!$A$16:$A$65,Daten!$X$16:$X$65),\"\") & \" \" & IF($A197<=Daten!$B$8,LOOKUP($B197,Daten!$A$16:$A$65,Daten!$Y$16:$Y$65),\"\")","v":"28,1 Inhalt5Einh[28,1]"},null,{"$f":"IF($A197<=Daten!$B$8,LOOKUP($B197,Daten!$A$57:$A$116,Daten!$X$57:$X$116),\"\") & \" \" & IF($A197<=Daten!$B$8,LOOKUP($B197,Daten!$A$57:$A$116,Daten!$Y$57:$Y$116),\"\")","v":"28,2 Inhalt5Einh[28,2]"},null,{"$f":"IF($A197<=Daten!$B$8,LOOKUP($B197,Daten!$A$118:$A$167,Daten!$X$118:$X$167),\"\") & \" \" & IF($A197<=Daten!$B$8,LOOKUP($B197,Daten!$A$118:$A$167,Daten!$Y$118:$Y$167),\"\")","v":"28,3 Inhalt5Einh[28,3]"},null,{"$f":"IF($A197<=Daten!$B$8,LOOKUP($B197,Daten!$A$169:$A$218,Daten!$X$169:$X$218),\"\") & \" \" & IF($A197<=Daten!$B$8,LOOKUP($B197,Daten!$A$169:$A$218,Daten!$Y$169:$Y$218),\"\")","v":"28,4 Inhalt5Einh[28,4]"},null,{"$f":"IF($A197<=Daten!$B$8,LOOKUP($B197,Daten!$A$220:$A$269,Daten!$X$220:$X$269),\"\") & \" \" & IF($A197<=Daten!$B$8,LOOKUP($B197,Daten!$A$220:$A$269,Daten!$Y$220:$Y$269),\"\")","v":"28,5 Inhalt5Einh[28,5]"},null,{"$f":"IF($A197<=Daten!$B$8,LOOKUP($B197,Daten!$A$271:$A$320,Daten!$X$271:$X$320),\"\") & \" \" & IF($A197<=Daten!$B$8,LOOKUP($B197,Daten!$A$271:$A$320,Daten!$Y$271:$Y$320),\"\")","v":"28,6 Inhalt5Einh[28,6]"},null,{"$f":"IF($A197<=Daten!$B$8,LOOKUP($B197,Daten!$A$322:$A$371,Daten!$X$322:$X$371),\"\") & \" \" & IF($A197<=Daten!$B$8,LOOKUP($B197,Daten!$A$322:$A$371,Daten!$Y$322:$Y$371),\"\")","v":"28,7 Inhalt5Einh[28,7]"}]
[null,null,null,{"$f":"IF($A197<=Daten!$B$8,LOOKUP($B197,Daten!$A$16:$A$65,Daten!$Z$16:$Z$65),\"\") & \" \" & IF($A197<=Daten!$B$8,LOOKUP($B197,Daten!$A$16:$A$65,Daten!$AA$16:$AA$65),\"\")","v":"28,1 Inhalt6Einh[28,1]"},null,{"$f":"IF($A197<=Daten!$B$8,LOOKUP($B197,Daten!$A$57:$A$116,Daten!$Z$57:$Z$116),\"\") & \" \" & IF($A197<=Daten!$B$8,LOOKUP($B197,Daten!$A$57:$A$116,Daten!$AA$57:$AA$116),\"\")","v":"28,2 Inhalt6Einh[28,2]"},null,{"$f":"IF($A197<=Daten!$B$8,LOOKUP($B197,Daten!$A$118:$A$167,Daten!$Z$118:$Z$167),\"\") & \" \" & IF($A197<=Daten!$B$8,LOOKUP($B197,Daten!$A$118:$A$167,Daten!$AA$118:$AA$167),\"\")","v":"28,3 Inhalt6Einh[28,3]"},null,{"$f":"IF($A197<=Daten!$B$8,LOOKUP($B197,Daten!$A$169:$A$218,Daten!$Z$169:$Z$218),\"\") & \" \" & IF($A197<=Daten!$B$8,LOOKUP($B197,Daten!$A$169:$A$218,Daten!$AA$169:$AA$218),\"\")","v":"28,4 Inhalt6Einh[28,4]"},null,{"$f":"IF($A197<=Daten!$B$8,LOOKUP($B197,Daten!$A$220:$A$269,Daten!$Z$220:$Z$269),\"\") & \" \" & IF($A197<=Daten!$B$8,LOOKUP($B197,Daten!$A$220:$A$269,Daten!$AA$220:$AA$269),\"\")","v":"28,5 Inhalt6Einh[28,5]"},null,{"$f":"IF($A197<=Daten!$B$8,LOOKUP($B197,Daten!$A$271:$A$320,Daten!$Z$271:$Z$320),\"\") & \" \" & IF($A197<=Daten!$B$8,LOOKUP($B197,Daten!$A$271:$A$320,Daten!$AA$271:$AA$320),\"\")","v":"28,6 Inhalt6Einh[28,6]"},null,{"$f":"IF($A197<=Daten!$B$8,LOOKUP($B197,Daten!$A$322:$A$371,Daten!$Z$322:$Z$371),\"\") & \" \" & IF($A197<=Daten!$B$8,LOOKUP($B197,Daten!$A$322:$A$371,Daten!$AA$322:$AA$371),\"\")","v":"28,7 Inhalt6Einh[28,7]"}]
[null,{"$f":"IF(A197<=Daten!$B$8,\"Zusatzstoffe\",\"\")","v":"Zusatzstoffe"},{"$f":"IF($A197<=Daten!$B$8,LOOKUP($B197,Daten!$A$16:$A$65,Daten!$L$16:$L$65),\"\")","v":28.1},{"$f":"IF($A197<=Daten!$B$8,LOOKUP($B197,Daten!$A$16:$A$65,Daten!$D$16:$D$65),\"\")","v":28.1},{"$f":"IF($A197<=Daten!$B$8,LOOKUP($B197,Daten!$A$67:$A$116,Daten!$L$67:$L$116),\"\")","v":28.2},{"$f":"IF($A197<=Daten!$B$8,LOOKUP($B197,Daten!$A$16:$A$65,Daten!$D$67:$D$116),\"\")","v":28.2},{"$f":"IF($A197<=Daten!$B$8,LOOKUP($B197,Daten!$A$118:$A$167,Daten!$L$118:$L$167),\"\")","v":28.3},{"$f":"IF($A197<=Daten!$B$8,LOOKUP($B197,Daten!$A$118:$A$167,Daten!$D$118:$D$167),\"\")","v":28.3},{"$f":"IF($A197<=Daten!$B$8,LOOKUP($B197,Daten!$A$169:$A$218,Daten!$L$169:$L$218),\"\")","v":28.4},{"$f":"IF($A197<=Daten!$B$8,LOOKUP($B197,Daten!$A$169:$A$218,Daten!$D$169:$D$218),\"\")","v":28.4},{"$f":"IF($A197<=Daten!$B$8,LOOKUP($B197,Daten!$A$220:$A$269,Daten!$L$220:$L$269),\"\")","v":28.5},{"$f":"IF($A197<=Daten!$B$8,LOOKUP($B197,Daten!$A$220:$A$269,Daten!$D$220:$D$269),\"\")","v":28.5},{"$f":"IF($A197<=Daten!$B$8,LOOKUP($B197,Daten!$A$271:$A$320,Daten!$L$271:$L$320),\"\")","v":28.6},{"$f":"IF($A197<=Daten!$B$8,LOOKUP($B197,Daten!$A$271:$A$320,Daten!$D$271:$D$320),\"\")","v":28.6},{"$f":"IF($A197<=Daten!$B$8,LOOKUP($B197,Daten!$A$322:$A$371,Daten!$L$322:$L$371),\"\")","v":28.7},{"$f":"IF($A197<=Daten!$B$8,LOOKUP($B197,Daten!$A$322:$A$371,Daten!$D$322:$D$371),\"\")","v":28.7}]
[29,{"$f":"IF(A204<=Daten!$B$8,Daten!AD9,\"\")","v":"Menülinie 29"},{"$f":"IF(A204<=Daten!$B$8,LOOKUP(B204,Daten!$A$16:$A$65,Daten!$C$16:$C$65),\"\")","v":"Lang[29,1]"},{"$f":"IF($A204<=Daten!$B$8,LOOKUP($B204,Daten!$A$16:$A$65,Daten!$P$16:$P$65),\"\") & \" \" & IF($A204<=Daten!$B$8,LOOKUP($B204,Daten!$A$16:$A$65,Daten!$Q$16:$Q$65),\"\")","v":"29,1 Inhalt1Einh[29,1]"},{"$f":"IF($A204<=Daten!$B$8,LOOKUP($B204,Daten!$A$67:$A$116,Daten!$C$67:$C$116),\"\")","v":"Lang[29,2]"},{"$f":"IF($A204<=Daten!$B$8,LOOKUP($B204,Daten!$A$67:$A$116,Daten!$P$67:$P$116),\"\") & \" \" & IF($A204<=Daten!$B$8,LOOKUP($B204,Daten!$A$67:$A$116,Daten!$Q$67:$Q$116),\"\")","v":"29,2 Inhalt1Einh[29,2]"},{"$f":"IF($A204<=Daten!$B$8,LOOKUP($B204,Daten!$A$118:$A$167,Daten!$C$118:$C$167),\"\")","v":"Lang[29,3]"},{"$f":"IF($A204<=Daten!$B$8,LOOKUP($B204,Daten!$A$118:$A$167,Daten!$P$118:$P$167),\"\") & \" \" & IF($A204<=Daten!$B$8,LOOKUP($B204,Daten!$A$118:$A$167,Daten!$Q$118:$Q$167),\"\")","v":"29,3 Inhalt1Einh[29,3]"},{"$f":"IF($A204<=Daten!$B$8,LOOKUP($B204,Daten!$A$169:$A$218,Daten!$C$169:$C$218),\"\")","v":"Lang[29,4]"},{"$f":"IF($A204<=Daten!$B$8,LOOKUP($B204,Daten!$A$169:$A$218,Daten!$P$169:$P$218),\"\") & \" \" & IF($A204<=Daten!$B$8,LOOKUP($B204,Daten!$A$169:$A$218,Daten!$Q$169:$Q$218),\"\")","v":"29,4 Inhalt1Einh[29,4]"},{"$f":"IF($A204<=Daten!$B$8,LOOKUP($B204,Daten!$A$220:$A$269,Daten!$C$220:$C$269),\"\")","v":"Lang[29,5]"},{"$f":"IF($A204<=Daten!$B$8,LOOKUP($B204,Daten!$A$220:$A$269,Daten!$P$220:$P$269),\"\") & \" \" & IF($A204<=Daten!$B$8,LOOKUP($B204,Daten!$A$220:$A$269,Daten!$Q$220:$Q$269),\"\")","v":"29,5 Inhalt1Einh[29,5]"},{"$f":"IF($A204<=Daten!$B$8,LOOKUP($B204,Daten!$A$271:$A$320,Daten!$C$271:$C$320),\"\")","v":"Lang[29,6]"},{"$f":"IF($A204<=Daten!$B$8,LOOKUP($B204,Daten!$A$271:$A$320,Daten!$P$271:$P$320),\"\") & \" \" & IF($A204<=Daten!$B$8,LOOKUP($B204,Daten!$A$271:$A$320,Daten!$Q$271:$Q$320),\"\")","v":"29,6 Inhalt1Einh[29,6]"},{"$f":"IF($A204<=Daten!$B$8,LOOKUP($B204,Daten!$A$322:$A$371,Daten!$B$322:$C$371),\"\")","v":{"$error":"#N/A"}},{"$f":"IF($A204<=Daten!$B$8,LOOKUP($B204,Daten!$A$322:$A$371,Daten!$P$322:$P$371),\"\") & \" \" & IF($A204<=Daten!$B$8,LOOKUP($B204,Daten!$A$322:$A$371,Daten!$Q$322:$Q$371),\"\")","v":"29,7 Inhalt1Einh[29,7]"}]
[null,null,null,{"$f":"IF($A204<=Daten!$B$8,LOOKUP($B204,Daten!$A$16:$A$65,Daten!$R$16:$R$65),\"\") & \" \" & IF($A204<=Daten!$B$8,LOOKUP($B204,Daten!$A$16:$A$65,Daten!$S$16:$S$65),\"\")","v":"29,1 Inhalt2Einh[29,1]"},null,{"$f":"IF($A204<=Daten!$B$8,LOOKUP($B204,Daten!$A$67:$A$116,Daten!$R$67:$R$116),\"\") & \" \" & IF($A204<=Daten!$B$8,LOOKUP($B204,Daten!$A$67:$A$116,Daten!$S$67:$S$116),\"\")","v":"29,2 Inhalt2Einh[29,2]"},null,{"$f":"IF($A204<=Daten!$B$8,LOOKUP($B204,Daten!$A$118:$A$167,Daten!$R$118:$R$167),\"\") & \" \" & IF($A204<=Daten!$B$8,LOOKUP($B204,Daten!$A$118:$A$167,Daten!$S$118:$S$167),\"\")","v":"29,3 Inhalt2Einh[29,3]"},null,{"$f":"IF($A204<=Daten!$B$8,LOOKUP($B204,Daten!$A$169:$A$218,Daten!$R$169:$R$218),\"\") & \" \" & IF($A204<=Daten!$B$8,LOOKUP($B204,Daten!$A$169:$A$218,Daten!$S$169:$S$218),\"\")","v":"29,4 Inhalt2Einh[29,4]"},null,{"$f":"IF($A204<=Daten!$B$8,LOOKUP($B204,Daten!$A$220:$A$269,Daten!$R$220:$R$269),\"\") & \" \" & IF($A204<=Daten!$B$8,LOOKUP($B204,Daten!$A$220:$A$269,Daten!$S$220:$S$269),\"\")","v":"29,5 Inhalt2Einh[29,5]"},null,{"$f":"IF($A204<=Daten!$B$8,LOOKUP($B204,Daten!$A$271:$A$320,Daten!$R$271:$R$320),\"\") & \" \" & IF($A204<=Daten!$B$8,LOOKUP($B204,Daten!$A$271:$A$320,Daten!$S$271:$S$320),\"\")","v":"29,6 Inhalt2Einh[29,6]"},null,{"$f":"IF($A204<=Daten!$B$8,LOOKUP($B204,Daten!$A$322:$A$371,Daten!$R$322:$R$371),\"\") & \" \" & IF($A204<=Daten!$B$8,LOOKUP($B204,Daten!$A$322:$A$371,Daten!$S$322:$S$371),\"\")","v":"29,7 Inhalt2Einh[29,7]"}]
[null,null,null,{"$f":"IF($A204<=Daten!$B$8,LOOKUP($B204,Daten!$A$16:$A$65,Daten!$T$16:$T$65),\"\") & \" \" & IF($A204<=Daten!$B$8,LOOKUP($B204,Daten!$A$16:$A$65,Daten!$U$16:$U$65),\"\")","v":"29,1 Inhalt3Einh[29,1]"},null,{"$f":"IF($A204<=Daten!$B$8,LOOKUP($B204,Daten!$A$67:$A$116,Daten!$T$67:$T$116),\"\") & \" \" & IF($A204<=Daten!$B$8,LOOKUP($B204,Daten!$A$67:$A$116,Daten!$U$67:$U$116),\"\")","v":"29,2 Inhalt3Einh[29,2]"},null,{"$f":"IF($A204<=Daten!$B$8,LOOKUP($B204,Daten!$A$118:$A$167,Daten!$T$118:$T$167),\"\") & \" \" & IF($A204<=Daten!$B$8,LOOKUP($B204,Daten!$A$118:$A$167,Daten!$U$118:$U$167),\"\")","v":"29,3 Inhalt3Einh[29,3]"},null,{"$f":"IF($A204<=Daten!$B$8,LOOKUP($B204,Daten!$A$169:$A$218,Daten!$T$169:$T$218),\"\") & \" \" & IF($A204<=Daten!$B$8,LOOKUP($B204,Daten!$A$169:$A$218,Daten!$U$169:$U$218),\"\")","v":"29,4 Inhalt3Einh[29,4]"},null,{"$f":"IF($A204<=Daten!$B$8,LOOKUP($B204,Daten!$A$220:$A$269,Daten!$T$220:$T$269),\"\") & \" \" & IF($A204<=Daten!$B$8,LOOKUP($B204,Daten!$A$220:$A$269,Daten!$U$220:$U$269),\"\")","v":"29,5 Inhalt3Einh[29,5]"},null,{"$f":"IF($A204<=Daten!$B$8,LOOKUP($B204,Daten!$A$271:$A$320,Daten!$T$271:$T$320),\"\") & \" \" & IF($A204<=Daten!$B$8,LOOKUP($B204,Daten!$A$271:$A$320,Daten!$U$271:$U$320),\"\")","v":"29,6 Inhalt3Einh[29,6]"},null,{"$f":"IF($A204<=Daten!$B$8,LOOKUP($B204,Daten!$A$322:$A$371,Daten!$T$322:$T$371),\"\") & \" \" & IF($A204<=Daten!$B$8,LOOKUP($B204,Daten!$A$322:$A$371,Daten!$U$322:$U$371),\"\")","v":"29,7 Inhalt3Einh[29,7]"}]
[null,null,null,{"$f":"IF($A204<=Daten!$B$8,LOOKUP($B204,Daten!$A$16:$A$65,Daten!$V$16:$V$65),\"\") & \" \" & IF($A204<=Daten!$B$8,LOOKUP($B204,Daten!$A$16:$A$65,Daten!$W$16:$W$65),\"\")","v":"29,1 Inhalt4Einh[29,1]"},null,{"$f":"IF($A204<=Daten!$B$8,LOOKUP($B204,Daten!$A$67:$A$116,Daten!$V$67:$V$116),\"\") & \" \" & IF($A204<=Daten!$B$8,LOOKUP($B204,Daten!$A$67:$A$116,Daten!$W$67:$W$116),\"\")","v":"29,2 Inhalt4Einh[29,2]"},null,{"$f":"IF($A204<=Daten!$B$8,LOOKUP($B204,Daten!$A$118:$A$167,Daten!$V$118:$V$167),\"\") & \" \" & IF($A204<=Daten!$B$8,LOOKUP($B204,Daten!$A$118:$A$167,Daten!$W$118:$W$167),\"\")","v":"29,3 Inhalt4Einh[29,3]"},null,{"$f":"IF($A204<=Daten!$B$8,LOOKUP($B204,Daten!$A$169:$A$218,Daten!$V$169:$V$218),\"\") & \" \" & IF($A204<=Daten!$B$8,LOOKUP($B204,Daten!$A$169:$A$218,Daten!$W$169:$W$218),\"\")","v":"29,4 Inhalt4Einh[29,4]"},null,{"$f":"IF($A204<=Daten!$B$8,LOOKUP($B204,Daten!$A$220:$A$269,Daten!$V$220:$V$269),\"\") & \" \" & IF($A204<=Daten!$B$8,LOOKUP($B204,Daten!$A$220:$A$269,Daten!$W$220:$W$269),\"\")","v":"29,5 Inhalt4Einh[29,5]"},null,{"$f":"IF($A204<=Daten!$B$8,LOOKUP($B204,Daten!$A$271:$A$320,Daten!$V$271:$V$320),\"\") & \" \" & IF($A204<=Daten!$B$8,LOOKUP($B204,Daten!$A$271:$A$320,Daten!$W$271:$W$320),\"\")","v":"29,6 Inhalt4Einh[29,6]"},null,{"$f":"IF($A204<=Daten!$B$8,LOOKUP($B204,Daten!$A$322:$A$371,Daten!$V$322:$V$371),\"\") & \" \" & IF($A204<=Daten!$B$8,LOOKUP($B204,Daten!$A$322:$A$371,Daten!$W$322:$W$371),\"\")","v":"29,7 Inhalt4Einh[29,7]"}]
[null,null,null,{"$f":"IF($A204<=Daten!$B$8,LOOKUP($B204,Daten!$A$16:$A$65,Daten!$X$16:$X$65),\"\") & \" \" & IF($A204<=Daten!$B$8,LOOKUP($B204,Daten!$A$16:$A$65,Daten!$Y$16:$Y$65),\"\")","v":"29,1 Inhalt5Einh[29,1]"},null,{"$f":"IF($A204<=Daten!$B$8,LOOKUP($B204,Daten!$A$67:$A$116,Daten!$X$67:$X$116),\"\") & \" \" & IF($A204<=Daten!$B$8,LOOKUP($B204,Daten!$A$67:$A$116,Daten!$Y$67:$Y$116),\"\")","v":"29,2 Inhalt5Einh[29,2]"},null,{"$f":"IF($A204<=Daten!$B$8,LOOKUP($B204,Daten!$A$118:$A$167,Daten!$X$118:$X$167),\"\") & \" \" & IF($A204<=Daten!$B$8,LOOKUP($B204,Daten!$A$118:$A$167,Daten!$Y$118:$Y$167),\"\")","v":"29,3 Inhalt5Einh[29,3]"},null,{"$f":"IF($A204<=Daten!$B$8,LOOKUP($B204,Daten!$A$169:$A$218,Daten!$X$169:$X$218),\"\") & \" \" & IF($A204<=Daten!$B$8,LOOKUP($B204,Daten!$A$169:$A$218,Daten!$Y$169:$Y$218),\"\")","v":"29,4 Inhalt5Einh[29,4]"},null,{"$f":"IF($A204<=Daten!$B$8,LOOKUP($B204,Daten!$A$220:$A$269,Daten!$X$220:$X$269),\"\") & \" \" & IF($A204<=Daten!$B$8,LOOKUP($B204,Daten!$A$220:$A$269,Daten!$Y$220:$Y$269),\"\")","v":"29,5 Inhalt5Einh[29,5]"},null,{"$f":"IF($A204<=Daten!$B$8,LOOKUP($B204,Daten!$A$271:$A$320,Daten!$X$271:$X$320),\"\") & \" \" & IF($A204<=Daten!$B$8,LOOKUP($B204,Daten!$A$271:$A$320,Daten!$Y$271:$Y$320),\"\")","v":"29,6 Inhalt5Einh[29,6]"},null,{"$f":"IF($A204<=Daten!$B$8,LOOKUP($B204,Daten!$A$322:$A$371,Daten!$X$322:$X$371),\"\") & \" \" & IF($A204<=Daten!$B$8,LOOKUP($B204,Daten!$A$322:$A$371,Daten!$Y$322:$Y$371),\"\")","v":"29,7 Inhalt5Einh[29,7]"}]
[null,null,null,{"$f":"IF($A204<=Daten!$B$8,LOOKUP($B204,Daten!$A$16:$A$65,Daten!$Z$16:$Z$65),\"\") & \" \" & IF($A204<=Daten!$B$8,LOOKUP($B204,Daten!$A$16:$A$65,Daten!$AA$16:$AA$65),\"\")","v":"29,1 Inhalt6Einh[29,1]"},null,{"$f":"IF($A204<=Daten!$B$8,LOOKUP($B204,Daten!$A$67:$A$116,Daten!$Z$67:$Z$116),\"\") & \" \" & IF($A204<=Daten!$B$8,LOOKUP($B204,Daten!$A$67:$A$116,Daten!$AA$67:$AA$116),\"\")","v":"29,2 Inhalt6Einh[29,2]"},null,{"$f":"IF($A204<=Daten!$B$8,LOOKUP($B204,Daten!$A$118:$A$167,Daten!$Z$118:$Z$167),\"\") & \" \" & IF($A204<=Daten!$B$8,LOOKUP($B204,Daten!$A$118:$A$167,Daten!$AA$118:$AA$167),\"\")","v":"29,3 Inhalt6Einh[29,3]"},null,{"$f":"IF($A204<=Daten!$B$8,LOOKUP($B204,Daten!$A$169:$A$218,Daten!$Z$169:$Z$218),\"\") & \" \" & IF($A204<=Daten!$B$8,LOOKUP($B204,Daten!$A$169:$A$218,Daten!$AA$169:$AA$218),\"\")","v":"29,4 Inhalt6Einh[29,4]"},null,{"$f":"IF($A204<=Daten!$B$8,LOOKUP($B204,Daten!$A$220:$A$269,Daten!$Z$220:$Z$269),\"\") & \" \" & IF($A204<=Daten!$B$8,LOOKUP($B204,Daten!$A$220:$A$269,Daten!$AA$220:$AA$269),\"\")","v":"29,5 Inhalt6Einh[29,5]"},null,{"$f":"IF($A204<=Daten!$B$8,LOOKUP($B204,Daten!$A$271:$A$320,Daten!$Z$271:$Z$320),\"\") & \" \" & IF($A204<=Daten!$B$8,LOOKUP($B204,Daten!$A$271:$A$320,Daten!$AA$271:$AA$320),\"\")","v":"29,6 Inhalt6Einh[29,6]"},null,{"$f":"IF($A204<=Daten!$B$8,LOOKUP($B204,Daten!$A$322:$A$371,Daten!$Z$322:$Z$371),\"\") & \" \" & IF($A204<=Daten!$B$8,LOOKUP($B204,Daten!$A$322:$A$371,Daten!$AA$322:$AA$371),\"\")","v":"29,7 Inhalt6Einh[29,7]"}]
[null,{"$f":"IF(A204<=Daten!$B$8,\"Zusatzstoffe\",\"\")","v":"Zusatzstoffe"},{"$f":"IF($A204<=Daten!$B$8,LOOKUP($B204,Daten!$A$16:$A$65,Daten!$L$16:$L$65),\"\")","v":29.1},{"$f":"IF($A204<=Daten!$B$8,LOOKUP($B204,Daten!$A$16:$A$65,Daten!$D$16:$D$65),\"\")","v":29.1},{"$f":"IF($A204<=Daten!$B$8,LOOKUP($B204,Daten!$A$67:$A$116,Daten!$L$67:$L$116),\"\")","v":29.2},{"$f":"IF($A204<=Daten!$B$8,LOOKUP($B204,Daten!$A$16:$A$65,Daten!$D$67:$D$116),\"\")","v":29.2},{"$f":"IF($A204<=Daten!$B$8,LOOKUP($B204,Daten!$A$118:$A$167,Daten!$L$118:$L$167),\"\")","v":29.3},{"$f":"IF($A204<=Daten!$B$8,LOOKUP($B204,Daten!$A$118:$A$167,Daten!$D$118:$D$167),\"\")","v":29.3},{"$f":"IF($A204<=Daten!$B$8,LOOKUP($B204,Daten!$A$169:$A$218,Daten!$L$169:$L$218),\"\")","v":29.4},{"$f":"IF($A204<=Daten!$B$8,LOOKUP($B204,Daten!$A$169:$A$218,Daten!$D$169:$D$218),\"\")","v":29.4},{"$f":"IF($A204<=Daten!$B$8,LOOKUP($B204,Daten!$A$220:$A$269,Daten!$L$220:$L$269),\"\")","v":29.5},{"$f":"IF($A204<=Daten!$B$8,LOOKUP($B204,Daten!$A$220:$A$269,Daten!$D$220:$D$269),\"\")","v":29.5},{"$f":"IF($A204<=Daten!$B$8,LOOKUP($B204,Daten!$A$271:$A$320,Daten!$L$271:$L$320),\"\")","v":29.6},{"$f":"IF($A204<=Daten!$B$8,LOOKUP($B204,Daten!$A$271:$A$320,Daten!$D$271:$D$320),\"\")","v":29.6},{"$f":"IF($A204<=Daten!$B$8,LOOKUP($B204,Daten!$A$322:$A$371,Daten!$L$322:$L$371),\"\")","v":29.7},{"$f":"IF($A204<=Daten!$B$8,LOOKUP($B204,Daten!$A$322:$A$371,Daten!$D$322:$D$371),\"\")","v":29.7}]
[30,{"$f":"IF(A211<=Daten!$B$8,Daten!AE9,\"\")","v":"Menülinie 30"},{"$f":"IF(A211<=Daten!$B$8,LOOKUP(B211,Daten!$A$16:$A$65,Daten!$C$16:$C$65),\"\")","v":"Lang[30,1]"},{"$f":"IF($A211<=Daten!$B$8,LOOKUP($B211,Daten!$A$16:$A$65,Daten!$P$16:$P$65),\"\") & \" \" & IF($A211<=Daten!$B$8,LOOKUP($B211,Daten!$A$16:$A$65,Daten!$Q$16:$Q$65),\"\")","v":"30,1 Inhalt1Einh[30,1]"},{"$f":"IF($A211<=Daten!$B$8,LOOKUP($B211,Daten!$A$67:$A$116,Daten!$C$67:$C$116),\"\")","v":"Lang[30,2]"},{"$f":"IF($A211<=Daten!$B$8,LOOKUP($B211,Daten!$A$67:$A$116,Daten!$P$67:$P$116),\"\") & \" \" & IF($A211<=Daten!$B$8,LOOKUP($B211,Daten!$A$67:$A$116,Daten!$Q$67:$Q$116),\"\")","v":"30,2 Inhalt1Einh[30,2]"},{"$f":"IF($A211<=Daten!$B$8,LOOKUP($B211,Daten!$A$118:$A$167,Daten!$C$118:$C$167),\"\")","v":"Lang[30,3]"},{"$f":"IF($A211<=Daten!$B$8,LOOKUP($B211,Daten!$A$118:$A$167,Daten!$P$118:$P$167),\"\") & \" \" & IF($A211<=Daten!$B$8,LOOKUP($B211,Daten!$A$118:$A$167,Daten!$Q$118:$Q$167),\"\")","v":"30,3 Inhalt1Einh[30,3]"},{"$f":"IF($A211<=Daten!$B$8,LOOKUP($B211,Daten!$A$169:$A$218,Daten!$C$169:$C$218),\"\")","v":"Lang[30,4]"},{"$f":"IF($A211<=Daten!$B$8,LOOKUP($B211,Daten!$A$169:$A$218,Daten!$P$169:$P$218),\"\") & \" \" & IF($A211<=Daten!$B$8,LOOKUP($B211,Daten!$A$169:$A$218,Daten!$Q$169:$Q$218),\"\")","v":"30,4 Inhalt1Einh[30,4]"},{"$f":"IF($A211<=Daten!$B$8,LOOKUP($B211,Daten!$A$220:$A$269,Daten!$C$220:$C$269),\"\")","v":"Lang[30,5]"},{"$f":"IF($A211<=Daten!$B$8,LOOKUP($B211,Daten!$A$220:$A$269,Daten!$P$220:$P$269),\"\") & \" \" & IF($A211<=Daten!$B$8,LOOKUP($B211,Daten!$A$220:$A$269,Daten!$Q$220:$Q$269),\"\")","v":"30,5 Inhalt1Einh[30,5]"},{"$f":"IF($A211<=Daten!$B$8,LOOKUP($B211,Daten!$A$271:$A$320,Daten!$C$271:$C$320),\"\")","v":"Lang[30,6]"},{"$f":"IF($A211<=Daten!$B$8,LOOKUP($B211,Daten!$A$271:$A$320,Daten!$P$271:$P$320),\"\") & \" \" & IF($A211<=Daten!$B$8,LOOKUP($B211,Daten!$A$271:$A$320,Daten!$Q$271:$Q$320),\"\")","v":"30,6 Inhalt1Einh[30,6]"},{"$f":"IF($A211<=Daten!$B$8,LOOKUP($B211,Daten!$A$322:$A$371,Daten!$B$322:$C$371),\"\")","v":{"$error":"#N/A"}},{"$f":"IF($A211<=Daten!$B$8,LOOKUP($B211,Daten!$A$322:$A$371,Daten!$P$322:$P$371),\"\") & \" \" & IF($A211<=Daten!$B$8,LOOKUP($B211,Daten!$A$322:$A$371,Daten!$Q$322:$Q$371),\"\")","v":"30,7 Inhalt1Einh[30,7]"}]
[null,null,null,{"$f":"IF($A211<=Daten!$B$8,LOOKUP($B211,Daten!$A$16:$A$65,Daten!$R$16:$R$65),\"\") & \" \" & IF($A211<=Daten!$B$8,LOOKUP($B211,Daten!$A$16:$A$65,Daten!$S$16:$S$65),\"\")","v":"30,1 Inhalt2Einh[30,1]"},null,{"$f":"IF($A211<=Daten!$B$8,LOOKUP($B211,Daten!$A$67:$A$116,Daten!$R$67:$R$116),\"\") & \" \" & IF($A211<=Daten!$B$8,LOOKUP($B211,Daten!$A$67:$A$116,Daten!$S$67:$S$116),\"\")","v":"30,2 Inhalt2Einh[30,2]"},null,{"$f":"IF($A211<=Daten!$B$8,LOOKUP($B211,Daten!$A$118:$A$167,Daten!$R$118:$R$167),\"\") & \" \" & IF($A211<=Daten!$B$8,LOOKUP($B211,Daten!$A$118:$A$167,Daten!$S$118:$S$167),\"\")","v":"30,3 Inhalt2Einh[30,3]"},null,{"$f":"IF($A211<=Daten!$B$8,LOOKUP($B211,Daten!$A$169:$A$218,Daten!$R$169:$R$218),\"\") & \" \" & IF($A211<=Daten!$B$8,LOOKUP($B211,Daten!$A$169:$A$218,Daten!$S$169:$S$218),\"\")","v":"30,4 Inhalt2Einh[30,4]"},null,{"$f":"IF($A211<=Daten!$B$8,LOOKUP($B211,Daten!$A$220:$A$269,Daten!$R$220:$R$269),\"\") & \" \" & IF($A211<=Daten!$B$8,LOOKUP($B211,Daten!$A$220:$A$269,Daten!$S$220:$S$269),\"\")","v":"30,5 Inhalt2Einh[30,5]"},null,{"$f":"IF($A211<=Daten!$B$8,LOOKUP($B211,Daten!$A$271:$A$320,Daten!$R$271:$R$320),\"\") & \" \" & IF($A211<=Daten!$B$8,LOOKUP($B211,Daten!$A$271:$A$320,Daten!$S$271:$S$320),\"\")","v":"30,6 Inhalt2Einh[30,6]"},null,{"$f":"IF($A211<=Daten!$B$8,LOOKUP($B211,Daten!$A$322:$A$371,Daten!$R$322:$R$371),\"\") & \" \" & IF($A211<=Daten!$B$8,LOOKUP($B211,Daten!$A$322:$A$371,Daten!$S$322:$S$371),\"\")","v":"30,7 Inhalt2Einh[30,7]"}]
[null,null,null,{"$f":"IF($A211<=Daten!$B$8,LOOKUP($B211,Daten!$A$16:$A$65,Daten!$T$16:$T$65),\"\") & \" \" & IF($A211<=Daten!$B$8,LOOKUP($B211,Daten!$A$16:$A$65,Daten!$U$16:$U$65),\"\")","v":"30,1 Inhalt3Einh[30,1]"},null,{"$f":"IF($A211<=Daten!$B$8,LOOKUP($B211,Daten!$A$67:$A$116,Daten!$T$67:$T$116),\"\") & \" \" & IF($A211<=Daten!$B$8,LOOKUP($B211,Daten!$A$67:$A$116,Daten!$U$67:$U$116),\"\")","v":"30,2 Inhalt3Einh[30,2]"},null,{"$f":"IF($A211<=Daten!$B$8,LOOKUP($B211,Daten!$A$118:$A$167,Daten!$T$118:$T$167),\"\") & \" \" & IF($A211<=Daten!$B$8,LOOKUP($B211,Daten!$A$118:$A$167,Daten!$U$118:$U$167),\"\")","v":"30,3 Inhalt3Einh[30,3]"},null,{"$f":"IF($A211<=Daten!$B$8,LOOKUP($B211,Daten!$A$169:$A$218,Daten!$T$169:$T$218),\"\") & \" \" & IF($A211<=Daten!$B$8,LOOKUP($B211,Daten!$A$169:$A$218,Daten!$U$169:$U$218),\"\")","v":"30,4 Inhalt3Einh[30,4]"},null,{"$f":"IF($A211<=Daten!$B$8,LOOKUP($B211,Daten!$A$220:$A$269,Daten!$T$220:$T$269),\"\") & \" \" & IF($A211<=Daten!$B$8,LOOKUP($B211,Daten!$A$220:$A$269,Daten!$U$220:$U$269),\"\")","v":"30,5 Inhalt3Einh[30,5]"},null,{"$f":"IF($A211<=Daten!$B$8,LOOKUP($B211,Daten!$A$271:$A$320,Daten!$T$271:$T$320),\"\") & \" \" & IF($A211<=Daten!$B$8,LOOKUP($B211,Daten!$A$271:$A$320,Daten!$U$271:$U$320),\"\")","v":"30,6 Inhalt3Einh[30,6]"},null,{"$f":"IF($A211<=Daten!$B$8,LOOKUP($B211,Daten!$A$322:$A$371,Daten!$T$322:$T$371),\"\") & \" \" & IF($A211<=Daten!$B$8,LOOKUP($B211,Daten!$A$322:$A$371,Daten!$U$322:$U$371),\"\")","v":"30,7 Inhalt3Einh[30,7]"}]
[null,null,null,{"$f":"IF($A211<=Daten!$B$8,LOOKUP($B211,Daten!$A$16:$A$65,Daten!$V$16:$V$65),\"\") & \" \" & IF($A211<=Daten!$B$8,LOOKUP($B211,Daten!$A$16:$A$65,Daten!$W$16:$W$65),\"\")","v":"30,1 Inhalt4Einh[30,1]"},null,{"$f":"IF($A211<=Daten!$B$8,LOOKUP($B211,Daten!$A$67:$A$116,Daten!$V$67:$V$116),\"\") & \" \" & IF($A211<=Daten!$B$8,LOOKUP($B211,Daten!$A$67:$A$116,Daten!$W$67:$W$116),\"\")","v":"30,2 Inhalt4Einh[30,2]"},null,{"$f":"IF($A211<=Daten!$B$8,LOOKUP($B211,Daten!$A$118:$A$167,Daten!$V$118:$V$167),\"\") & \" \" & IF($A211<=Daten!$B$8,LOOKUP($B211,Daten!$A$118:$A$167,Daten!$W$118:$W$167),\"\")","v":"30,3 Inhalt4Einh[30,3]"},null,{"$f":"IF($A211<=Daten!$B$8,LOOKUP($B211,Daten!$A$169:$A$218,Daten!$V$169:$V$218),\"\") & \" \" & IF($A211<=Daten!$B$8,LOOKUP($B211,Daten!$A$169:$A$218,Daten!$W$169:$W$218),\"\")","v":"30,4 Inhalt4Einh[30,4]"},null,{"$f":"IF($A211<=Daten!$B$8,LOOKUP($B211,Daten!$A$220:$A$269,Daten!$V$220:$V$269),\"\") & \" \" & IF($A211<=Daten!$B$8,LOOKUP($B211,Daten!$A$220:$A$269,Daten!$W$220:$W$269),\"\")","v":"30,5 Inhalt4Einh[30,5]"},null,{"$f":"IF($A211<=Daten!$B$8,LOOKUP($B211,Daten!$A$271:$A$320,Daten!$V$271:$V$320),\"\") & \" \" & IF($A211<=Daten!$B$8,LOOKUP($B211,Daten!$A$271:$A$320,Daten!$W$271:$W$320),\"\")","v":"30,6 Inhalt4Einh[30,6]"},null,{"$f":"IF($A211<=Daten!$B$8,LOOKUP($B211,Daten!$A$322:$A$371,Daten!$V$322:$V$371),\"\") & \" \" & IF($A211<=Daten!$B$8,LOOKUP($B211,Daten!$A$322:$A$371,Daten!$W$322:$W$371),\"\")","v":"30,7 Inhalt4Einh[30,7]"}]
[null,null,null,{"$f":"IF($A211<=Daten!$B$8,LOOKUP($B211,Daten!$A$16:$A$65,Daten!$X$16:$X$65),\"\") & \" \" & IF($A211<=Daten!$B$8,LOOKUP($B211,Daten!$A$16:$A$65,Daten!$Y$16:$Y$65),\"\")","v":"30,1 Inhalt5Einh[30,1]"},null,{"$f":"IF($A211<=Daten!$B$8,LOOKUP($B211,Daten!$A$67:$A$116,Daten!$X$67:$X$116),\"\") & \" \" & IF($A211<=Daten!$B$8,LOOKUP($B211,Daten!$A$67:$A$116,Daten!$Y$67:$Y$116),\"\")","v":"30,2 Inhalt5Einh[30,2]"},null,{"$f":"IF($A211<=Daten!$B$8,LOOKUP($B211,Daten!$A$118:$A$167,Daten!$X$118:$X$167),\"\") & \" \" & IF($A211<=Daten!$B$8,LOOKUP($B211,Daten!$A$118:$A$167,Daten!$Y$118:$Y$167),\"\")","v":"30,3 Inhalt5Einh[30,3]"},null,{"$f":"IF($A211<=Daten!$B$8,LOOKUP($B211,Daten!$A$169:$A$218,Daten!$X$169:$X$218),\"\") & \" \" & IF($A211<=Daten!$B$8,LOOKUP($B211,Daten!$A$169:$A$218,Daten!$Y$169:$Y$218),\"\")","v":"30,4 Inhalt5Einh[30,4]"},null,{"$f":"IF($A211<=Daten!$B$8,LOOKUP($B211,Daten!$A$220:$A$269,Daten!$X$220:$X$269),\"\") & \" \" & IF($A211<=Daten!$B$8,LOOKUP($B211,Daten!$A$220:$A$269,Daten!$Y$220:$Y$269),\"\")","v":"30,5 Inhalt5Einh[30,5]"},null,{"$f":"IF($A211<=Daten!$B$8,LOOKUP($B211,Daten!$A$271:$A$320,Daten!$X$271:$X$320),\"\") & \" \" & IF($A211<=Daten!$B$8,LOOKUP($B211,Daten!$A$271:$A$320,Daten!$Y$271:$Y$320),\"\")","v":"30,6 Inhalt5Einh[30,6]"},null,{"$f":"IF($A211<=Daten!$B$8,LOOKUP($B211,Daten!$A$322:$A$371,Daten!$X$322:$X$371),\"\") & \" \" & IF($A211<=Daten!$B$8,LOOKUP($B211,Daten!$A$322:$A$371,Daten!$Y$322:$Y$371),\"\")","v":"30,7 Inhalt5Einh[30,7]"}]
[null,null,null,{"$f":"IF($A211<=Daten!$B$8,LOOKUP($B211,Daten!$A$16:$A$65,Daten!$Z$16:$Z$65),\"\") & \" \" & IF($A211<=Daten!$B$8,LOOKUP($B211,Daten!$A$16:$A$65,Daten!$AA$16:$AA$65),\"\")","v":"30,1 Inhalt6Einh[30,1]"},null,{"$f":"IF($A211<=Daten!$B$8,LOOKUP($B211,Daten!$A$67:$A$116,Daten!$Z$67:$Z$116),\"\") & \" \" & IF($A211<=Daten!$B$8,LOOKUP($B211,Daten!$A$67:$A$116,Daten!$AA$67:$AA$116),\"\")","v":"30,2 Inhalt6Einh[30,2]"},null,{"$f":"IF($A211<=Daten!$B$8,LOOKUP($B211,Daten!$A$118:$A$167,Daten!$Z$118:$Z$167),\"\") & \" \" & IF($A211<=Daten!$B$8,LOOKUP($B211,Daten!$A$118:$A$167,Daten!$AA$118:$AA$167),\"\")","v":"30,3 Inhalt6Einh[30,3]"},null,{"$f":"IF($A211<=Daten!$B$8,LOOKUP($B211,Daten!$A$169:$A$218,Daten!$Z$169:$Z$218),\"\") & \" \" & IF($A211<=Daten!$B$8,LOOKUP($B211,Daten!$A$169:$A$218,Daten!$AA$169:$AA$218),\"\")","v":"30,4 Inhalt6Einh[30,4]"},null,{"$f":"IF($A211<=Daten!$B$8,LOOKUP($B211,Daten!$A$220:$A$269,Daten!$Z$220:$Z$269),\"\") & \" \" & IF($A211<=Daten!$B$8,LOOKUP($B211,Daten!$A$220:$A$269,Daten!$AA$220:$AA$269),\"\")","v":"30,5 Inhalt6Einh[30,5]"},null,{"$f":"IF($A211<=Daten!$B$8,LOOKUP($B211,Daten!$A$271:$A$320,Daten!$Z$271:$Z$320),\"\") & \" \" & IF($A211<=Daten!$B$8,LOOKUP($B211,Daten!$A$271:$A$320,Daten!$AA$271:$AA$320),\"\")","v":"30,6 Inhalt6Einh[30,6]"},null,{"$f":"IF($A211<=Daten!$B$8,LOOKUP($B211,Daten!$A$322:$A$371,Daten!$Z$322:$Z$371),\"\") & \" \" & IF($A211<=Daten!$B$8,LOOKUP($B211,Daten!$A$322:$A$371,Daten!$AA$322:$AA$371),\"\")","v":"30,7 Inhalt6Einh[30,7]"}]
[null,{"$f":"IF(A211<=Daten!$B$8,\"Zusatzstoffe\",\"\")","v":"Zusatzstoffe"},{"$f":"IF($A211<=Daten!$B$8,LOOKUP($B211,Daten!$A$16:$A$65,Daten!$L$16:$L$65),\"\")","v":30.1},{"$f":"IF($A211<=Daten!$B$8,LOOKUP($B211,Daten!$A$16:$A$65,Daten!$D$16:$D$65),\"\")","v":30.1},{"$f":"IF($A211<=Daten!$B$8,LOOKUP($B211,Daten!$A$67:$A$116,Daten!$L$67:$L$116),\"\")","v":30.2},{"$f":"IF($A211<=Daten!$B$8,LOOKUP($B211,Daten!$A$16:$A$65,Daten!$D$67:$D$116),\"\")","v":30.2},{"$f":"IF($A211<=Daten!$B$8,LOOKUP($B211,Daten!$A$118:$A$167,Daten!$L$118:$L$167),\"\")","v":30.3},{"$f":"IF($A211<=Daten!$B$8,LOOKUP($B211,Daten!$A$118:$A$167,Daten!$D$118:$D$167),\"\")","v":30.3},{"$f":"IF($A211<=Daten!$B$8,LOOKUP($B211,Daten!$A$169:$A$218,Daten!$L$169:$L$218),\"\")","v":30.4},{"$f":"IF($A211<=Daten!$B$8,LOOKUP($B211,Daten!$A$169:$A$218,Daten!$D$169:$D$218),\"\")","v":30.4},{"$f":"IF($A211<=Daten!$B$8,LOOKUP($B211,Daten!$A$220:$A$269,Daten!$L$220:$L$269),\"\")","v":30.5},{"$f":"IF($A211<=Daten!$B$8,LOOKUP($B211,Daten!$A$220:$A$269,Daten!$D$220:$D$269),\"\")","v":30.5},{"$f":"IF($A211<=Daten!$B$8,LOOKUP($B211,Daten!$A$271:$A$320,Daten!$L$271:$L$320),\"\")","v":30.6},{"$f":"IF($A211<=Daten!$B$8,LOOKUP($B211,Daten!$A$271:$A$320,Daten!$D$271:$D$320),\"\")","v":30.6},{"$f":"IF($A211<=Daten!$B$8,LOOKUP($B211,Daten!$A$322:$A$371,Daten!$L$322:$L$371),\"\")","v":30.7},{"$f":"IF($A211<=Daten!$B$8,LOOKUP($B211,Daten!$A$322:$A$371,Daten!$D$322:$D$371),\"\")","v":30.7}]
[31,{"$f":"IF(A218<=Daten!$B$8,Daten!AF9,\"\")","v":"Menülinie 31"},{"$f":"IF($A218<=Daten!$B$8,LOOKUP($B218,Daten!$A$16:$A$65,Daten!$C$16:$C$65),\"\")","v":"Lang[31,1]"},{"$f":"IF($A218<=Daten!$B$8,LOOKUP($B218,Daten!$A$16:$A$65,Daten!$P$16:$P$65),\"\") & \" \" & IF($A218<=Daten!$B$8,LOOKUP($B218,Daten!$A$16:$A$65,Daten!$Q$16:$Q$65),\"\")","v":"31,1 Inhalt1Einh[31,1]"},{"$f":"IF($A218<=Daten!$B$8,LOOKUP($B218,Daten!$A$67:$A$116,Daten!$C$67:$C$116),\"\")","v":"Lang[31,2]"},{"$f":"IF($A218<=Daten!$B$8,LOOKUP($B218,Daten!$A$67:$A$116,Daten!$P$67:$P$116),\"\") & \" \" & IF($A218<=Daten!$B$8,LOOKUP($B218,Daten!$A$67:$A$116,Daten!$Q$67:$Q$116),\"\")","v":"31,2 Inhalt1Einh[31,2]"},{"$f":"IF($A218<=Daten!$B$8,LOOKUP($B218,Daten!$A$118:$A$167,Daten!$C$118:$C$167),\"\")","v":"Lang[31,3]"},{"$f":"IF($A218<=Daten!$B$8,LOOKUP($B218,Daten!$A$118:$A$167,Daten!$P$118:$P$167),\"\") & \" \" & IF($A218<=Daten!$B$8,LOOKUP($B218,Daten!$A$118:$A$167,Daten!$Q$118:$Q$167),\"\")","v":"31,3 Inhalt1Einh[31,3]"},{"$f":"IF($A218<=Daten!$B$8,LOOKUP($B218,Daten!$A$169:$A$218,Daten!$C$169:$C$218),\"\")","v":"Lang[31,4]"},{"$f":"IF($A218<=Daten!$B$8,LOOKUP($B218,Daten!$A$169:$A$218,Daten!$P$169:$P$218),\"\") & \" \" & IF($A218<=Daten!$B$8,LOOKUP($B218,Daten!$A$169:$A$218,Daten!$Q$169:$Q$218),\"\")","v":"31,4 Inhalt1Einh[31,4]"},{"$f":"IF($A218<=Daten!$B$8,LOOKUP($B218,Daten!$A$220:$A$269,Daten!$C$220:$C$269),\"\")","v":"Lang[31,5]"},{"$f":"IF($A218<=Daten!$B$8,LOOKUP($B218,Daten!$A$220:$A$269,Daten!$P$220:$P$269),\"\") & \" \" & IF($A218<=Daten!$B$8,LOOKUP($B218,Daten!$A$220:$A$269,Daten!$Q$220:$Q$269),\"\")","v":"31,5 Inhalt1Einh[31,5]"},{"$f":"IF($A218<=Daten!$B$8,LOOKUP($B218,Daten!$A$271:$A$320,Daten!$C$271:$C$320),\"\")","v":"Lang[31,6]"},{"$f":"IF($A218<=Daten!$B$8,LOOKUP($B218,Daten!$A$271:$A$320,Daten!$P$271:$P$320),\"\") & \" \" & IF($A218<=Daten!$B$8,LOOKUP($B218,Daten!$A$271:$A$320,Daten!$Q$271:$Q$320),\"\")","v":"31,6 Inhalt1Einh[31,6]"},{"$f":"IF($A218<=Daten!$B$8,LOOKUP($B218,Daten!$A$322:$A$371,Daten!$B$322:$C$371),\"\")","v":{"$error":"#N/A"}},{"$f":"IF($A218<=Daten!$B$8,LOOKUP($B218,Daten!$A$322:$A$371,Daten!$P$322:$P$371),\"\") & \" \" & IF($A218<=Daten!$B$8,LOOKUP($B218,Daten!$A$322:$A$371,Daten!$Q$322:$Q$371),\"\")","v":"31,7 Inhalt1Einh[31,7]"}]
[null,null,null,{"$f":"IF($A218<=Daten!$B$8,LOOKUP($B218,Daten!$A$16:$A$65,Daten!$R$16:$R$65),\"\") & \" \" & IF($A218<=Daten!$B$8,LOOKUP($B218,Daten!$A$16:$A$65,Daten!$S$16:$S$65),\"\")","v":"31,1 Inhalt2Einh[31,1]"},null,{"$f":"IF($A218<=Daten!$B$8,LOOKUP($B218,Daten!$A$67:$A$116,Daten!$R$67:$R$116),\"\") & \" \" & IF($A218<=Daten!$B$8,LOOKUP($B218,Daten!$A$67:$A$116,Daten!$S$67:$S$116),\"\")","v":"31,2 Inhalt2Einh[31,2]"},null,{"$f":"IF($A218<=Daten!$B$8,LOOKUP($B218,Daten!$A$118:$A$167,Daten!$R$118:$R$167),\"\") & \" \" & IF($A218<=Daten!$B$8,LOOKUP($B218,Daten!$A$118:$A$167,Daten!$S$118:$S$167),\"\")","v":"31,3 Inhalt2Einh[31,3]"},null,{"$f":"IF($A218<=Daten!$B$8,LOOKUP($B218,Daten!$A$169:$A$218,Daten!$R$169:$R$218),\"\") & \" \" & IF($A218<=Daten!$B$8,LOOKUP($B218,Daten!$A$169:$A$218,Daten!$S$169:$S$218),\"\")","v":"31,4 Inhalt2Einh[31,4]"},null,{"$f":"IF($A218<=Daten!$B$8,LOOKUP($B218,Daten!$A$220:$A$269,Daten!$R$220:$R$269),\"\") & \" \" & IF($A218<=Daten!$B$8,LOOKUP($B218,Daten!$A$220:$A$269,Daten!$S$220:$S$269),\"\")","v":"31,5 Inhalt2Einh[31,5]"},null,{"$f":"IF($A218<=Daten!$B$8,LOOKUP($B218,Daten!$A$271:$A$320,Daten!$R$271:$R$320),\"\") & \" \" & IF($A218<=Daten!$B$8,LOOKUP($B218,Daten!$A$271:$A$320,Daten!$S$271:$S$320),\"\")","v":"31,6 Inhalt2Einh[31,6]"},null,{"$f":"IF($A218<=Daten!$B$8,LOOKUP($B218,Daten!$A$322:$A$371,Daten!$R$322:$R$371),\"\") & \" \" & IF($A218<=Daten!$B$8,LOOKUP($B218,Daten!$A$322:$A$371,Daten!$S$322:$S$371),\"\")","v":"31,7 Inhalt2Einh[31,7]"}]
[null,null,null,{"$f":"IF($A218<=Daten!$B$8,LOOKUP($B218,Daten!$A$16:$A$65,Daten!$T$16:$T$65),\"\") & \" \" & IF($A218<=Daten!$B$8,LOOKUP($B218,Daten!$A$16:$A$65,Daten!$U$16:$U$65),\"\")","v":"31,1 Inhalt3Einh[31,1]"},null,{"$f":"IF($A218<=Daten!$B$8,LOOKUP($B218,Daten!$A$67:$A$116,Daten!$T$67:$T$116),\"\") & \" \" & IF($A218<=Daten!$B$8,LOOKUP($B218,Daten!$A$67:$A$116,Daten!$U$67:$U$116),\"\")","v":"31,2 Inhalt3Einh[31,2]"},null,{"$f":"IF($A218<=Daten!$B$8,LOOKUP($B218,Daten!$A$118:$A$167,Daten!$T$118:$T$167),\"\") & \" \" & IF($A218<=Daten!$B$8,LOOKUP($B218,Daten!$A$118:$A$167,Daten!$U$118:$U$167),\"\")","v":"31,3 Inhalt3Einh[31,3]"},null,{"$f":"IF($A218<=Daten!$B$8,LOOKUP($B218,Daten!$A$169:$A$218,Daten!$T$169:$T$218),\"\") & \" \" & IF($A218<=Daten!$B$8,LOOKUP($B218,Daten!$A$169:$A$218,Daten!$U$169:$U$218),\"\")","v":"31,4 Inhalt3Einh[31,4]"},null,{"$f":"IF($A218<=Daten!$B$8,LOOKUP($B218,Daten!$A$220:$A$269,Daten!$T$220:$T$269),\"\") & \" \" & IF($A218<=Daten!$B$8,LOOKUP($B218,Daten!$A$220:$A$269,Daten!$U$220:$U$269),\"\")","v":"31,5 Inhalt3Einh[31,5]"},null,{"$f":"IF($A218<=Daten!$B$8,LOOKUP($B218,Daten!$A$271:$A$320,Daten!$T$271:$T$320),\"\") & \" \" & IF($A218<=Daten!$B$8,LOOKUP($B218,Daten!$A$271:$A$320,Daten!$U$271:$U$320),\"\")","v":"31,6 Inhalt3Einh[31,6]"},null,{"$f":"IF($A218<=Daten!$B$8,LOOKUP($B218,Daten!$A$322:$A$371,Daten!$T$322:$T$371),\"\") & \" \" & IF($A218<=Daten!$B$8,LOOKUP($B218,Daten!$A$322:$A$371,Daten!$U$322:$U$371),\"\")","v":"31,7 Inhalt3Einh[31,7]"}]
[null,null,null,{"$f":"IF($A218<=Daten!$B$8,LOOKUP($B218,Daten!$A$16:$A$65,Daten!$V$16:$V$65),\"\") & \" \" & IF($A218<=Daten!$B$8,LOOKUP($B218,Daten!$A$16:$A$65,Daten!$W$16:$W$65),\"\")","v":"31,1 Inhalt4Einh[31,1]"},null,{"$f":"IF($A218<=Daten!$B$8,LOOKUP($B218,Daten!$A$67:$A$116,Daten!$V$67:$V$116),\"\") & \" \" & IF($A218<=Daten!$B$8,LOOKUP($B218,Daten!$A$67:$A$116,Daten!$W$67:$W$116),\"\")","v":"31,2 Inhalt4Einh[31,2]"},null,{"$f":"IF($A218<=Daten!$B$8,LOOKUP($B218,Daten!$A$118:$A$167,Daten!$V$118:$V$167),\"\") & \" \" & IF($A218<=Daten!$B$8,LOOKUP($B218,Daten!$A$118:$A$167,Daten!$W$118:$W$167),\"\")","v":"31,3 Inhalt4Einh[31,3]"},null,{"$f":"IF($A218<=Daten!$B$8,LOOKUP($B218,Daten!$A$169:$A$218,Daten!$V$169:$V$218),\"\") & \" \" & IF($A218<=Daten!$B$8,LOOKUP($B218,Daten!$A$169:$A$218,Daten!$W$169:$W$218),\"\")","v":"31,4 Inhalt4Einh[31,4]"},null,{"$f":"IF($A218<=Daten!$B$8,LOOKUP($B218,Daten!$A$220:$A$269,Daten!$V$220:$V$269),\"\") & \" \" & IF($A218<=Daten!$B$8,LOOKUP($B218,Daten!$A$220:$A$269,Daten!$W$220:$W$269),\"\")","v":"31,5 Inhalt4Einh[31,5]"},null,{"$f":"IF($A218<=Daten!$B$8,LOOKUP($B218,Daten!$A$271:$A$320,Daten!$V$271:$V$320),\"\") & \" \" & IF($A218<=Daten!$B$8,LOOKUP($B218,Daten!$A$271:$A$320,Daten!$W$271:$W$320),\"\")","v":"31,6 Inhalt4Einh[31,6]"},null,{"$f":"IF($A218<=Daten!$B$8,LOOKUP($B218,Daten!$A$322:$A$371,Daten!$V$322:$V$371),\"\") & \" \" & IF($A218<=Daten!$B$8,LOOKUP($B218,Daten!$A$322:$A$371,Daten!$W$322:$W$371),\"\")","v":"31,7 Inhalt4Einh[31,7]"}]
[null,null,null,{"$f":"IF($A218<=Daten!$B$8,LOOKUP($B218,Daten!$A$16:$A$65,Daten!$X$16:$X$65),\"\") & \" \" & IF($A218<=Daten!$B$8,LOOKUP($B218,Daten!$A$16:$A$65,Daten!$Y$16:$Y$65),\"\")","v":"31,1 Inhalt5Einh[31,1]"},null,{"$f":"IF($A218<=Daten!$B$8,LOOKUP($B218,Daten!$A$67:$A$116,Daten!$X$67:$X$116),\"\") & \" \" & IF($A218<=Daten!$B$8,LOOKUP($B218,Daten!$A$67:$A$116,Daten!$Y$67:$Y$116),\"\")","v":"31,2 Inhalt5Einh[31,2]"},null,{"$f":"IF($A218<=Daten!$B$8,LOOKUP($B218,Daten!$A$118:$A$167,Daten!$X$118:$X$167),\"\") & \" \" & IF($A218<=Daten!$B$8,LOOKUP($B218,Daten!$A$118:$A$167,Daten!$Y$118:$Y$167),\"\")","v":"31,3 Inhalt5Einh[31,3]"},null,{"$f":"IF($A218<=Daten!$B$8,LOOKUP($B218,Daten!$A$169:$A$218,Daten!$X$169:$X$218),\"\") & \" \" & IF($A218<=Daten!$B$8,LOOKUP($B218,Daten!$A$169:$A$218,Daten!$Y$169:$Y$218),\"\")","v":"31,4 Inhalt5Einh[31,4]"},null,{"$f":"IF($A218<=Daten!$B$8,LOOKUP($B218,Daten!$A$220:$A$269,Daten!$X$220:$X$269),\"\") & \" \" & IF($A218<=Daten!$B$8,LOOKUP($B218,Daten!$A$220:$A$269,Daten!$Y$220:$Y$269),\"\")","v":"31,5 Inhalt5Einh[31,5]"},null,{"$f":"IF($A218<=Daten!$B$8,LOOKUP($B218,Daten!$A$271:$A$320,Daten!$X$271:$X$320),\"\") & \" \" & IF($A218<=Daten!$B$8,LOOKUP($B218,Daten!$A$271:$A$320,Daten!$Y$271:$Y$320),\"\")","v":"31,6 Inhalt5Einh[31,6]"},null,{"$f":"IF($A218<=Daten!$B$8,LOOKUP($B218,Daten!$A$322:$A$371,Daten!$X$322:$X$371),\"\") & \" \" & IF($A218<=Daten!$B$8,LOOKUP($B218,Daten!$A$322:$A$371,Daten!$Y$322:$Y$371),\"\")","v":"31,7 Inhalt5Einh[31,7]"}]
[null,null,null,{"$f":"IF($A218<=Daten!$B$8,LOOKUP($B218,Daten!$A$16:$A$65,Daten!$Z$16:$Z$65),\"\") & \" \" & IF($A218<=Daten!$B$8,LOOKUP($B218,Daten!$A$16:$A$65,Daten!$AA$16:$AA$65),\"\")","v":"31,1 Inhalt6Einh[31,1]"},null,{"$f":"IF($A218<=Daten!$B$8,LOOKUP($B218,Daten!$A$67:$A$116,Daten!$Z$67:$Z$116),\"\") & \" \" & IF($A218<=Daten!$B$8,LOOKUP($B218,Daten!$A$67:$A$116,Daten!$AA$67:$AA$116),\"\")","v":"31,2 Inhalt6Einh[31,2]"},null,{"$f":"IF($A218<=Daten!$B$8,LOOKUP($B218,Daten!$A$118:$A$167,Daten!$Z$118:$Z$167),\"\") & \" \" & IF($A218<=Daten!$B$8,LOOKUP($B218,Daten!$A$118:$A$167,Daten!$AA$118:$AA$167),\"\")","v":"31,3 Inhalt6Einh[31,3]"},null,{"$f":"IF($A218<=Daten!$B$8,LOOKUP($B218,Daten!$A$169:$A$218,Daten!$Z$169:$Z$218),\"\") & \" \" & IF($A218<=Daten!$B$8,LOOKUP($B218,Daten!$A$169:$A$218,Daten!$AA$169:$AA$218),\"\")","v":"31,4 Inhalt6Einh[31,4]"},null,{"$f":"IF($A218<=Daten!$B$8,LOOKUP($B218,Daten!$A$220:$A$269,Daten!$Z$220:$Z$269),\"\") & \" \" & IF($A218<=Daten!$B$8,LOOKUP($B218,Daten!$A$220:$A$269,Daten!$AA$220:$AA$269),\"\")","v":"31,5 Inhalt6Einh[31,5]"},null,{"$f":"IF($A218<=Daten!$B$8,LOOKUP($B218,Daten!$A$271:$A$320,Daten!$Z$271:$Z$320),\"\") & \" \" & IF($A218<=Daten!$B$8,LOOKUP($B218,Daten!$A$271:$A$320,Daten!$AA$271:$AA$320),\"\")","v":"31,6 Inhalt6Einh[31,6]"},null,{"$f":"IF($A218<=Daten!$B$8,LOOKUP($B218,Daten!$A$322:$A$371,Daten!$Z$322:$Z$371),\"\") & \" \" & IF($A218<=Daten!$B$8,LOOKUP($B218,Daten!$A$322:$A$371,Daten!$AA$322:$AA$371),\"\")","v":"31,7 Inhalt6Einh[31,7]"}]
[null,{"$f":"IF(A218<=Daten!$B$8,\"Zusatzstoffe\",\"\")","v":"Zusatzstoffe"},{"$f":"IF($A218<=Daten!$B$8,LOOKUP($B218,Daten!$A$16:$A$65,Daten!$L$16:$L$65),\"\")","v":31.1},{"$f":"IF($A218<=Daten!$B$8,LOOKUP($B218,Daten!$A$16:$A$65,Daten!$D$16:$D$65),\"\")","v":31.1},{"$f":"IF($A218<=Daten!$B$8,LOOKUP($B218,Daten!$A$67:$A$116,Daten!$L$67:$L$116),\"\")","v":31.2},{"$f":"IF($A218<=Daten!$B$8,LOOKUP($B218,Daten!$A$16:$A$65,Daten!$D$67:$D$116),\"\")","v":31.2},{"$f":"IF($A218<=Daten!$B$8,LOOKUP($B218,Daten!$A$118:$A$167,Daten!$L$118:$L$167),\"\")","v":31.3},{"$f":"IF($A218<=Daten!$B$8,LOOKUP($B218,Daten!$A$118:$A$167,Daten!$D$118:$D$167),\"\")","v":31.3},{"$f":"IF($A218<=Daten!$B$8,LOOKUP($B218,Daten!$A$169:$A$218,Daten!$L$169:$L$218),\"\")","v":31.4},{"$f":"IF($A218<=Daten!$B$8,LOOKUP($B218,Daten!$A$169:$A$218,Daten!$D$169:$D$218),\"\")","v":31.4},{"$f":"IF($A218<=Daten!$B$8,LOOKUP($B218,Daten!$A$220:$A$269,Daten!$L$220:$L$269),\"\")","v":31.5},{"$f":"IF($A218<=Daten!$B$8,LOOKUP($B218,Daten!$A$220:$A$269,Daten!$D$220:$D$269),\"\")","v":31.5},{"$f":"IF($A218<=Daten!$B$8,LOOKUP($B218,Daten!$A$271:$A$320,Daten!$L$271:$L$320),\"\")","v":31.6},{"$f":"IF($A218<=Daten!$B$8,LOOKUP($B218,Daten!$A$271:$A$320,Daten!$D$271:$D$320),\"\")","v":31.6},{"$f":"IF($A218<=Daten!$B$8,LOOKUP($B218,Daten!$A$322:$A$371,Daten!$L$322:$L$371),\"\")","v":31.7},{"$f":"IF($A218<=Daten!$B$8,LOOKUP($B218,Daten!$A$322:$A$371,Daten!$D$322:$D$371),\"\")","v":31.7}]
[32,{"$f":"IF(A225<=Daten!$B$8,Daten!AG9,\"\")","v":"Menülinie 32"},{"$f":"IF($A225<=Daten!$B$8,LOOKUP($B225,Daten!$A$16:$A$65,Daten!$C$16:$C$65),\"\")","v":"Lang[32,1]"},{"$f":"IF($A225<=Daten!$B$8,LOOKUP($B225,Daten!$A$16:$A$65,Daten!$P$16:$P$65),\"\") & \" \" & IF($A225<=Daten!$B$8,LOOKUP($B225,Daten!$A$16:$A$65,Daten!$Q$16:$Q$65),\"\")","v":"32,1 Inhalt1Einh[32,1]"},{"$f":"IF($A225<=Daten!$B$8,LOOKUP($B225,Daten!$A$67:$A$116,Daten!$C$67:$C$116),\"\")","v":"Lang[32,2]"},{"$f":"IF($A225<=Daten!$B$8,LOOKUP($B225,Daten!$A$67:$A$116,Daten!$P$67:$P$116),\"\") & \" \" & IF($A225<=Daten!$B$8,LOOKUP($B225,Daten!$A$67:$A$116,Daten!$Q$67:$Q$116),\"\")","v":"32,2 Inhalt1Einh[32,2]"},{"$f":"IF($A225<=Daten!$B$8,LOOKUP($B225,Daten!$A$118:$A$167,Daten!$C$118:$C$167),\"\")","v":"Lang[32,3]"},{"$f":"IF($A225<=Daten!$B$8,LOOKUP($B225,Daten!$A$118:$A$167,Daten!$P$118:$P$167),\"\") & \" \" & IF($A225<=Daten!$B$8,LOOKUP($B225,Daten!$A$118:$A$167,Daten!$Q$118:$Q$167),\"\")","v":"32,3 Inhalt1Einh[32,3]"},{"$f":"IF($A225<=Daten!$B$8,LOOKUP($B225,Daten!$A$169:$A$218,Daten!$C$169:$C$218),\"\")","v":"Lang[32,4]"},{"$f":"IF($A225<=Daten!$B$8,LOOKUP($B225,Daten!$A$169:$A$218,Daten!$P$169:$P$218),\"\") & \" \" & IF($A225<=Daten!$B$8,LOOKUP($B225,Daten!$A$169:$A$218,Daten!$Q$169:$Q$218),\"\")","v":"32,4 Inhalt1Einh[32,4]"},{"$f":"IF($A225<=Daten!$B$8,LOOKUP($B225,Daten!$A$220:$A$269,Daten!$C$220:$C$269),\"\")","v":"Lang[32,5]"},{"$f":"IF($A225<=Daten!$B$8,LOOKUP($B225,Daten!$A$220:$A$269,Daten!$P$220:$P$269),\"\") & \" \" & IF($A225<=Daten!$B$8,LOOKUP($B225,Daten!$A$220:$A$269,Daten!$Q$220:$Q$269),\"\")","v":"32,5 Inhalt1Einh[32,5]"},{"$f":"IF($A225<=Daten!$B$8,LOOKUP($B225,Daten!$A$271:$A$320,Daten!$C$271:$C$320),\"\")","v":"Lang[32,6]"},{"$f":"IF($A225<=Daten!$B$8,LOOKUP($B225,Daten!$A$271:$A$320,Daten!$P$271:$P$320),\"\") & \" \" & IF($A225<=Daten!$B$8,LOOKUP($B225,Daten!$A$271:$A$320,Daten!$Q$271:$Q$320),\"\")","v":"32,6 Inhalt1Einh[32,6]"},{"$f":"IF($A225<=Daten!$B$8,LOOKUP($B225,Daten!$A$322:$A$371,Daten!$B$322:$C$371),\"\")","v":{"$error":"#N/A"}},{"$f":"IF($A225<=Daten!$B$8,LOOKUP($B225,Daten!$A$322:$A$371,Daten!$P$322:$P$371),\"\") & \" \" & IF($A225<=Daten!$B$8,LOOKUP($B225,Daten!$A$322:$A$371,Daten!$Q$322:$Q$371),\"\")","v":"32,7 Inhalt1Einh[32,7]"}]
[null,null,null,{"$f":"IF($A225<=Daten!$B$8,LOOKUP($B225,Daten!$A$16:$A$65,Daten!$R$16:$R$65),\"\") & \" \" & IF($A225<=Daten!$B$8,LOOKUP($B225,Daten!$A$16:$A$65,Daten!$S$16:$S$65),\"\")","v":"32,1 Inhalt2Einh[32,1]"},null,{"$f":"IF($A225<=Daten!$B$8,LOOKUP($B225,Daten!$A$67:$A$116,Daten!$R$67:$R$116),\"\") & \" \" & IF($A225<=Daten!$B$8,LOOKUP($B225,Daten!$A$67:$A$116,Daten!$S$67:$S$116),\"\")","v":"32,2 Inhalt2Einh[32,2]"},null,{"$f":"IF($A225<=Daten!$B$8,LOOKUP($B225,Daten!$A$118:$A$167,Daten!$R$118:$R$167),\"\") & \" \" & IF($A225<=Daten!$B$8,LOOKUP($B225,Daten!$A$118:$A$167,Daten!$S$118:$S$167),\"\")","v":"32,3 Inhalt2Einh[32,3]"},null,{"$f":"IF($A225<=Daten!$B$8,LOOKUP($B225,Daten!$A$169:$A$218,Daten!$R$169:$R$218),\"\") & \" \" & IF($A225<=Daten!$B$8,LOOKUP($B225,Daten!$A$169:$A$218,Daten!$S$169:$S$218),\"\")","v":"32,4 Inhalt2Einh[32,4]"},null,{"$f":"IF($A225<=Daten!$B$8,LOOKUP($B225,Daten!$A$220:$A$269,Daten!$R$220:$R$269),\"\") & \" \" & IF($A225<=Daten!$B$8,LOOKUP($B225,Daten!$A$220:$A$269,Daten!$S$220:$S$269),\"\")","v":"32,5 Inhalt2Einh[32,5]"},null,{"$f":"IF($A225<=Daten!$B$8,LOOKUP($B225,Daten!$A$271:$A$320,Daten!$R$271:$R$320),\"\") & \" \" & IF($A225<=Daten!$B$8,LOOKUP($B225,Daten!$A$271:$A$320,Daten!$S$271:$S$320),\"\")","v":"32,6 Inhalt2Einh[32,6]"},null,{"$f":"IF($A225<=Daten!$B$8,LOOKUP($B225,Daten!$A$322:$A$371,Daten!$R$322:$R$371),\"\") & \" \" & IF($A225<=Daten!$B$8,LOOKUP($B225,Daten!$A$322:$A$371,Daten!$S$322:$S$371),\"\")","v":"32,7 Inhalt2Einh[32,7]"}]
[null,null,null,{"$f":"IF($A225<=Daten!$B$8,LOOKUP($B225,Daten!$A$16:$A$65,Daten!$T$16:$T$65),\"\") & \" \" & IF($A225<=Daten!$B$8,LOOKUP($B225,Daten!$A$16:$A$65,Daten!$U$16:$U$65),\"\")","v":"32,1 Inhalt3Einh[32,1]"},null,{"$f":"IF($A225<=Daten!$B$8,LOOKUP($B225,Daten!$A$67:$A$116,Daten!$T$67:$T$116),\"\") & \" \" & IF($A225<=Daten!$B$8,LOOKUP($B225,Daten!$A$67:$A$116,Daten!$U$67:$U$116),\"\")","v":"32,2 Inhalt3Einh[32,2]"},null,{"$f":"IF($A225<=Daten!$B$8,LOOKUP($B225,Daten!$A$118:$A$167,Daten!$T$118:$T$167),\"\") & \" \" & IF($A225<=Daten!$B$8,LOOKUP($B225,Daten!$A$118:$A$167,Daten!$U$118:$U$167),\"\")","v":"32,3 Inhalt3Einh[32,3]"},null,{"$f":"IF($A225<=Daten!$B$8,LOOKUP($B225,Daten!$A$169:$A$218,Daten!$T$169:$T$218),\"\") & \" \" & IF($A225<=Daten!$B$8,LOOKUP($B225,Daten!$A$169:$A$218,Daten!$U$169:$U$218),\"\")","v":"32,4 Inhalt3Einh[32,4]"},null,{"$f":"IF($A225<=Daten!$B$8,LOOKUP($B225,Daten!$A$220:$A$269,Daten!$T$220:$T$269),\"\") & \" \" & IF($A225<=Daten!$B$8,LOOKUP($B225,Daten!$A$220:$A$269,Daten!$U$220:$U$269),\"\")","v":"32,5 Inhalt3Einh[32,5]"},null,{"$f":"IF($A225<=Daten!$B$8,LOOKUP($B225,Daten!$A$271:$A$320,Daten!$T$271:$T$320),\"\") & \" \" & IF($A225<=Daten!$B$8,LOOKUP($B225,Daten!$A$271:$A$320,Daten!$U$271:$U$320),\"\")","v":"32,6 Inhalt3Einh[32,6]"},null,{"$f":"IF($A225<=Daten!$B$8,LOOKUP($B225,Daten!$A$322:$A$371,Daten!$T$322:$T$371),\"\") & \" \" & IF($A225<=Daten!$B$8,LOOKUP($B225,Daten!$A$322:$A$371,Daten!$U$322:$U$371),\"\")","v":"32,7 Inhalt3Einh[32,7]"}]
[null,null,null,{"$f":"IF($A225<=Daten!$B$8,LOOKUP($B225,Daten!$A$16:$A$65,Daten!$V$16:$V$65),\"\") & \" \" & IF($A225<=Daten!$B$8,LOOKUP($B225,Daten!$A$16:$A$65,Daten!$W$16:$W$65),\"\")","v":"32,1 Inhalt4Einh[32,1]"},null,{"$f":"IF($A225<=Daten!$B$8,LOOKUP($B225,Daten!$A$67:$A$116,Daten!$V$67:$V$116),\"\") & \" \" & IF($A225<=Daten!$B$8,LOOKUP($B225,Daten!$A$67:$A$116,Daten!$W$67:$W$116),\"\")","v":"32,2 Inhalt4Einh[32,2]"},null,{"$f":"IF($A225<=Daten!$B$8,LOOKUP($B225,Daten!$A$118:$A$167,Daten!$V$118:$V$167),\"\") & \" \" & IF($A225<=Daten!$B$8,LOOKUP($B225,Daten!$A$118:$A$167,Daten!$W$118:$W$167),\"\")","v":"32,3 Inhalt4Einh[32,3]"},null,{"$f":"IF($A225<=Daten!$B$8,LOOKUP($B225,Daten!$A$169:$A$218,Daten!$V$169:$V$218),\"\") & \" \" & IF($A225<=Daten!$B$8,LOOKUP($B225,Daten!$A$169:$A$218,Daten!$W$169:$W$218),\"\")","v":"32,4 Inhalt4Einh[32,4]"},null,{"$f":"IF($A225<=Daten!$B$8,LOOKUP($B225,Daten!$A$220:$A$269,Daten!$V$220:$V$269),\"\") & \" \" & IF($A225<=Daten!$B$8,LOOKUP($B225,Daten!$A$220:$A$269,Daten!$W$220:$W$269),\"\")","v":"32,5 Inhalt4Einh[32,5]"},null,{"$f":"IF($A225<=Daten!$B$8,LOOKUP($B225,Daten!$A$271:$A$320,Daten!$V$271:$V$320),\"\") & \" \" & IF($A225<=Daten!$B$8,LOOKUP($B225,Daten!$A$271:$A$320,Daten!$W$271:$W$320),\"\")","v":"32,6 Inhalt4Einh[32,6]"},null,{"$f":"IF($A225<=Daten!$B$8,LOOKUP($B225,Daten!$A$322:$A$371,Daten!$V$322:$V$371),\"\") & \" \" & IF($A225<=Daten!$B$8,LOOKUP($B225,Daten!$A$322:$A$371,Daten!$W$322:$W$371),\"\")","v":"32,7 Inhalt4Einh[32,7]"}]
[null,null,null,{"$f":"IF($A225<=Daten!$B$8,LOOKUP($B225,Daten!$A$16:$A$65,Daten!$X$16:$X$65),\"\") & \" \" & IF($A225<=Daten!$B$8,LOOKUP($B225,Daten!$A$16:$A$65,Daten!$Y$16:$Y$65),\"\")","v":"32,1 Inhalt5Einh[32,1]"},null,{"$f":"IF($A225<=Daten!$B$8,LOOKUP($B225,Daten!$A$67:$A$116,Daten!$X$67:$X$116),\"\") & \" \" & IF($A225<=Daten!$B$8,LOOKUP($B225,Daten!$A$67:$A$116,Daten!$Y$67:$Y$116),\"\")","v":"32,2 Inhalt5Einh[32,2]"},null,{"$f":"IF($A225<=Daten!$B$8,LOOKUP($B225,Daten!$A$118:$A$167,Daten!$X$118:$X$167),\"\") & \" \" & IF($A225<=Daten!$B$8,LOOKUP($B225,Daten!$A$118:$A$167,Daten!$Y$118:$Y$167),\"\")","v":"32,3 Inhalt5Einh[32,3]"},null,{"$f":"IF($A225<=Daten!$B$8,LOOKUP($B225,Daten!$A$169:$A$218,Daten!$X$169:$X$218),\"\") & \" \" & IF($A225<=Daten!$B$8,LOOKUP($B225,Daten!$A$169:$A$218,Daten!$Y$169:$Y$218),\"\")","v":"32,4 Inhalt5Einh[32,4]"},null,{"$f":"IF($A225<=Daten!$B$8,LOOKUP($B225,Daten!$A$220:$A$269,Daten!$X$220:$X$269),\"\") & \" \" & IF($A225<=Daten!$B$8,LOOKUP($B225,Daten!$A$220:$A$269,Daten!$Y$220:$Y$269),\"\")","v":"32,5 Inhalt5Einh[32,5]"},null,{"$f":"IF($A225<=Daten!$B$8,LOOKUP($B225,Daten!$A$271:$A$320,Daten!$X$271:$X$320),\"\") & \" \" & IF($A225<=Daten!$B$8,LOOKUP($B225,Daten!$A$271:$A$320,Daten!$Y$271:$Y$320),\"\")","v":"32,6 Inhalt5Einh[32,6]"},null,{"$f":"IF($A225<=Daten!$B$8,LOOKUP($B225,Daten!$A$322:$A$371,Daten!$X$322:$X$371),\"\") & \" \" & IF($A225<=Daten!$B$8,LOOKUP($B225,Daten!$A$322:$A$371,Daten!$Y$322:$Y$371),\"\")","v":"32,7 Inhalt5Einh[32,7]"}]
[null,null,null,{"$f":"IF($A225<=Daten!$B$8,LOOKUP($B225,Daten!$A$16:$A$65,Daten!$Z$16:$Z$65),\"\") & \" \" & IF($A225<=Daten!$B$8,LOOKUP($B225,Daten!$A$16:$A$65,Daten!$AA$16:$AA$65),\"\")","v":"32,1 Inhalt6Einh[32,1]"},null,{"$f":"IF($A225<=Daten!$B$8,LOOKUP($B225,Daten!$A$67:$A$116,Daten!$Z$67:$Z$116),\"\") & \" \" & IF($A225<=Daten!$B$8,LOOKUP($B225,Daten!$A$67:$A$116,Daten!$AA$67:$AA$116),\"\")","v":"32,2 Inhalt6Einh[32,2]"},null,{"$f":"IF($A225<=Daten!$B$8,LOOKUP($B225,Daten!$A$118:$A$167,Daten!$Z$118:$Z$167),\"\") & \" \" & IF($A225<=Daten!$B$8,LOOKUP($B225,Daten!$A$118:$A$167,Daten!$AA$118:$AA$167),\"\")","v":"32,3 Inhalt6Einh[32,3]"},null,{"$f":"IF($A225<=Daten!$B$8,LOOKUP($B225,Daten!$A$169:$A$218,Daten!$Z$169:$Z$218),\"\") & \" \" & IF($A225<=Daten!$B$8,LOOKUP($B225,Daten!$A$169:$A$218,Daten!$AA$169:$AA$218),\"\")","v":"32,4 Inhalt6Einh[32,4]"},null,{"$f":"IF($A225<=Daten!$B$8,LOOKUP($B225,Daten!$A$220:$A$269,Daten!$Z$220:$Z$269),\"\") & \" \" & IF($A225<=Daten!$B$8,LOOKUP($B225,Daten!$A$220:$A$269,Daten!$AA$220:$AA$269),\"\")","v":"32,5 Inhalt6Einh[32,5]"},null,{"$f":"IF($A225<=Daten!$B$8,LOOKUP($B225,Daten!$A$271:$A$320,Daten!$Z$271:$Z$320),\"\") & \" \" & IF($A225<=Daten!$B$8,LOOKUP($B225,Daten!$A$271:$A$320,Daten!$AA$271:$AA$320),\"\")","v":"32,6 Inhalt6Einh[32,6]"},null,{"$f":"IF($A225<=Daten!$B$8,LOOKUP($B225,Daten!$A$322:$A$371,Daten!$Z$322:$Z$371),\"\") & \" \" & IF($A225<=Daten!$B$8,LOOKUP($B225,Daten!$A$322:$A$371,Daten!$AA$322:$AA$371),\"\")","v":"32,7 Inhalt6Einh[32,7]"}]
[null,{"$f":"IF(A225<=Daten!$B$8,\"Zusatzstoffe\",\"\")","v":"Zusatzstoffe"},{"$f":"IF($A225<=Daten!$B$8,LOOKUP($B225,Daten!$A$16:$A$65,Daten!$L$16:$L$65),\"\")","v":32.1},{"$f":"IF($A225<=Daten!$B$8,LOOKUP($B225,Daten!$A$16:$A$65,Daten!$D$16:$D$65),\"\")","v":32.1},{"$f":"IF($A225<=Daten!$B$8,LOOKUP($B225,Daten!$A$67:$A$116,Daten!$L$67:$L$116),\"\")","v":32.200000000000003},{"$f":"IF($A225<=Daten!$B$8,LOOKUP($B225,Daten!$A$16:$A$65,Daten!$D$67:$D$116),\"\")","v":32.200000000000003},{"$f":"IF($A225<=Daten!$B$8,LOOKUP($B225,Daten!$A$118:$A$167,Daten!$L$118:$L$167),\"\")","v":32.299999999999997},{"$f":"IF($A225<=Daten!$B$8,LOOKUP($B225,Daten!$A$118:$A$167,Daten!$D$118:$D$167),\"\")","v":32.299999999999997},{"$f":"IF($A225<=Daten!$B$8,LOOKUP($B225,Daten!$A$169:$A$218,Daten!$L$169:$L$218),\"\")","v":32.4},{"$f":"IF($A225<=Daten!$B$8,LOOKUP($B225,Daten!$A$169:$A$218,Daten!$D$169:$D$218),\"\")","v":32.4},{"$f":"IF($A225<=Daten!$B$8,LOOKUP($B225,Daten!$A$220:$A$269,Daten!$L$220:$L$269),\"\")","v":32.5},{"$f":"IF($A225<=Daten!$B$8,LOOKUP($B225,Daten!$A$220:$A$269,Daten!$D$220:$D$269),\"\")","v":32.5},{"$f":"IF($A225<=Daten!$B$8,LOOKUP($B225,Daten!$A$271:$A$320,Daten!$L$271:$L$320),\"\")","v":32.6},{"$f":"IF($A225<=Daten!$B$8,LOOKUP($B225,Daten!$A$271:$A$320,Daten!$D$271:$D$320),\"\")","v":32.6},{"$f":"IF($A225<=Daten!$B$8,LOOKUP($B225,Daten!$A$322:$A$371,Daten!$L$322:$L$371),\"\")","v":32.700000000000003},{"$f":"IF($A225<=Daten!$B$8,LOOKUP($B225,Daten!$A$322:$A$371,Daten!$D$322:$D$371),\"\")","v":32.700000000000003}]
[33,{"$f":"IF(A232<=Daten!$B$8,Daten!AH9,\"\")","v":"Menülinie 33"},{"$f":"IF(A232<=Daten!$B$8,LOOKUP(B232,Daten!$A$16:$A$65,Daten!$C$16:$C$65),\"\")","v":"Lang[33,1]"},{"$f":"IF($A232<=Daten!$B$8,LOOKUP($B232,Daten!$A$16:$A$65,Daten!$P$16:$P$65),\"\") & \" \" & IF($A232<=Daten!$B$8,LOOKUP($B232,Daten!$A$16:$A$65,Daten!$Q$16:$Q$65),\"\")","v":"33,1 Inhalt1Einh[33,1]"},{"$f":"IF($A232<=Daten!$B$8,LOOKUP($B232,Daten!$A$67:$A$116,Daten!$C$67:$C$116),\"\")","v":"Lang[33,2]"},{"$f":"IF($A232<=Daten!$B$8,LOOKUP($B232,Daten!$A$67:$A$116,Daten!$P$67:$P$116),\"\") & \" \" & IF($A232<=Daten!$B$8,LOOKUP($B232,Daten!$A$67:$A$116,Daten!$Q$67:$Q$116),\"\")","v":"33,2 Inhalt1Einh[33,2]"},{"$f":"IF($A232<=Daten!$B$8,LOOKUP($B232,Daten!$A$118:$A$167,Daten!$C$118:$C$167),\"\")","v":"Lang[33,3]"},{"$f":"IF($A232<=Daten!$B$8,LOOKUP($B232,Daten!$A$118:$A$167,Daten!$P$118:$P$167),\"\") & \" \" & IF($A232<=Daten!$B$8,LOOKUP($B232,Daten!$A$118:$A$167,Daten!$Q$118:$Q$167),\"\")","v":"33,3 Inhalt1Einh[33,3]"},{"$f":"IF($A232<=Daten!$B$8,LOOKUP($B232,Daten!$A$169:$A$218,Daten!$C$169:$C$218),\"\")","v":"Lang[33,4]"},{"$f":"IF($A232<=Daten!$B$8,LOOKUP($B232,Daten!$A$169:$A$218,Daten!$P$169:$P$218),\"\") & \" \" & IF($A232<=Daten!$B$8,LOOKUP($B232,Daten!$A$169:$A$218,Daten!$Q$169:$Q$218),\"\")","v":"33,4 Inhalt1Einh[33,4]"},{"$f":"IF($A232<=Daten!$B$8,LOOKUP($B232,Daten!$A$220:$A$269,Daten!$C$220:$C$269),\"\")","v":"Lang[33,5]"},{"$f":"IF($A232<=Daten!$B$8,LOOKUP($B232,Daten!$A$220:$A$269,Daten!$P$220:$P$269),\"\") & \" \" & IF($A232<=Daten!$B$8,LOOKUP($B232,Daten!$A$220:$A$269,Daten!$Q$220:$Q$269),\"\")","v":"33,5 Inhalt1Einh[33,5]"},{"$f":"IF($A232<=Daten!$B$8,LOOKUP($B232,Daten!$A$271:$A$320,Daten!$C$271:$C$320),\"\")","v":"Lang[33,6]"},{"$f":"IF($A232<=Daten!$B$8,LOOKUP($B232,Daten!$A$271:$A$320,Daten!$P$271:$P$320),\"\") & \" \" & IF($A232<=Daten!$B$8,LOOKUP($B232,Daten!$A$271:$A$320,Daten!$Q$271:$Q$320),\"\")","v":"33,6 Inhalt1Einh[33,6]"},{"$f":"IF($A232<=Daten!$B$8,LOOKUP($B232,Daten!$A$322:$A$371,Daten!$B$322:$C$371),\"\")","v":{"$error":"#N/A"}},{"$f":"IF($A232<=Daten!$B$8,LOOKUP($B232,Daten!$A$322:$A$371,Daten!$P$322:$P$371),\"\") & \" \" & IF($A232<=Daten!$B$8,LOOKUP($B232,Daten!$A$322:$A$371,Daten!$Q$322:$Q$371),\"\")","v":"33,7 Inhalt1Einh[33,7]"}]
[null,null,null,{"$f":"IF($A232<=Daten!$B$8,LOOKUP($B232,Daten!$A$16:$A$65,Daten!$R$16:$R$65),\"\") & \" \" & IF($A232<=Daten!$B$8,LOOKUP($B232,Daten!$A$16:$A$65,Daten!$S$16:$S$65),\"\")","v":"33,1 Inhalt2Einh[33,1]"},null,{"$f":"IF($A232<=Daten!$B$8,LOOKUP($B232,Daten!$A$67:$A$116,Daten!$R$67:$R$116),\"\") & \" \" & IF($A232<=Daten!$B$8,LOOKUP($B232,Daten!$A$67:$A$116,Daten!$S$67:$S$116),\"\")","v":"33,2 Inhalt2Einh[33,2]"},null,{"$f":"IF($A232<=Daten!$B$8,LOOKUP($B232,Daten!$A$118:$A$167,Daten!$R$118:$R$167),\"\") & \" \" & IF($A232<=Daten!$B$8,LOOKUP($B232,Daten!$A$118:$A$167,Daten!$S$118:$S$167),\"\")","v":"33,3 Inhalt2Einh[33,3]"},null,{"$f":"IF($A232<=Daten!$B$8,LOOKUP($B232,Daten!$A$169:$A$218,Daten!$R$169:$R$218),\"\") & \" \" & IF($A232<=Daten!$B$8,LOOKUP($B232,Daten!$A$169:$A$218,Daten!$S$169:$S$218),\"\")","v":"33,4 Inhalt2Einh[33,4]"},null,{"$f":"IF($A232<=Daten!$B$8,LOOKUP($B232,Daten!$A$220:$A$269,Daten!$R$220:$R$269),\"\") & \" \" & IF($A232<=Daten!$B$8,LOOKUP($B232,Daten!$A$220:$A$269,Daten!$S$220:$S$269),\"\")","v":"33,5 Inhalt2Einh[33,5]"},null,{"$f":"IF($A232<=Daten!$B$8,LOOKUP($B232,Daten!$A$271:$A$320,Daten!$R$271:$R$320),\"\") & \" \" & IF($A232<=Daten!$B$8,LOOKUP($B232,Daten!$A$271:$A$320,Daten!$S$271:$S$320),\"\")","v":"33,6 Inhalt2Einh[33,6]"},null,{"$f":"IF($A232<=Daten!$B$8,LOOKUP($B232,Daten!$A$322:$A$371,Daten!$R$322:$R$371),\"\") & \" \" & IF($A232<=Daten!$B$8,LOOKUP($B232,Daten!$A$322:$A$371,Daten!$S$322:$S$371),\"\")","v":"33,7 Inhalt2Einh[33,7]"}]
[null,null,null,{"$f":"IF($A232<=Daten!$B$8,LOOKUP($B232,Daten!$A$16:$A$65,Daten!$T$16:$T$65),\"\") & \" \" & IF($A232<=Daten!$B$8,LOOKUP($B232,Daten!$A$16:$A$65,Daten!$U$16:$U$65),\"\")","v":"33,1 Inhalt3Einh[33,1]"},null,{"$f":"IF($A232<=Daten!$B$8,LOOKUP($B232,Daten!$A$67:$A$116,Daten!$T$67:$T$116),\"\") & \" \" & IF($A232<=Daten!$B$8,LOOKUP($B232,Daten!$A$67:$A$116,Daten!$U$67:$U$116),\"\")","v":"33,2 Inhalt3Einh[33,2]"},null,{"$f":"IF($A232<=Daten!$B$8,LOOKUP($B232,Daten!$A$118:$A$167,Daten!$T$118:$T$167),\"\") & \" \" & IF($A232<=Daten!$B$8,LOOKUP($B232,Daten!$A$118:$A$167,Daten!$U$118:$U$167),\"\")","v":"33,3 Inhalt3Einh[33,3]"},null,{"$f":"IF($A232<=Daten!$B$8,LOOKUP($B232,Daten!$A$169:$A$218,Daten!$T$169:$T$218),\"\") & \" \" & IF($A232<=Daten!$B$8,LOOKUP($B232,Daten!$A$169:$A$218,Daten!$U$169:$U$218),\"\")","v":"33,4 Inhalt3Einh[33,4]"},null,{"$f":"IF($A232<=Daten!$B$8,LOOKUP($B232,Daten!$A$220:$A$269,Daten!$T$220:$T$269),\"\") & \" \" & IF($A232<=Daten!$B$8,LOOKUP($B232,Daten!$A$220:$A$269,Daten!$U$220:$U$269),\"\")","v":"33,5 Inhalt3Einh[33,5]"},null,{"$f":"IF($A232<=Daten!$B$8,LOOKUP($B232,Daten!$A$271:$A$320,Daten!$T$271:$T$320),\"\") & \" \" & IF($A232<=Daten!$B$8,LOOKUP($B232,Daten!$A$271:$A$320,Daten!$U$271:$U$320),\"\")","v":"33,6 Inhalt3Einh[33,6]"},null,{"$f":"IF($A232<=Daten!$B$8,LOOKUP($B232,Daten!$A$322:$A$371,Daten!$T$322:$T$371),\"\") & \" \" & IF($A232<=Daten!$B$8,LOOKUP($B232,Daten!$A$322:$A$371,Daten!$U$322:$U$371),\"\")","v":"33,7 Inhalt3Einh[33,7]"}]
[null,null,null,{"$f":"IF($A232<=Daten!$B$8,LOOKUP($B232,Daten!$A$16:$A$65,Daten!$V$16:$V$65),\"\") & \" \" & IF($A232<=Daten!$B$8,LOOKUP($B232,Daten!$A$16:$A$65,Daten!$W$16:$W$65),\"\")","v":"33,1 Inhalt4Einh[33,1]"},null,{"$f":"IF($A232<=Daten!$B$8,LOOKUP($B232,Daten!$A$67:$A$116,Daten!$V$67:$V$116),\"\") & \" \" & IF($A232<=Daten!$B$8,LOOKUP($B232,Daten!$A$67:$A$116,Daten!$W$67:$W$116),\"\")","v":"33,2 Inhalt4Einh[33,2]"},null,{"$f":"IF($A232<=Daten!$B$8,LOOKUP($B232,Daten!$A$118:$A$167,Daten!$V$118:$V$167),\"\") & \" \" & IF($A232<=Daten!$B$8,LOOKUP($B232,Daten!$A$118:$A$167,Daten!$W$118:$W$167),\"\")","v":"33,3 Inhalt4Einh[33,3]"},null,{"$f":"IF($A232<=Daten!$B$8,LOOKUP($B232,Daten!$A$169:$A$218,Daten!$V$169:$V$218),\"\") & \" \" & IF($A232<=Daten!$B$8,LOOKUP($B232,Daten!$A$169:$A$218,Daten!$W$169:$W$218),\"\")","v":"33,4 Inhalt4Einh[33,4]"},null,{"$f":"IF($A232<=Daten!$B$8,LOOKUP($B232,Daten!$A$220:$A$269,Daten!$V$220:$V$269),\"\") & \" \" & IF($A232<=Daten!$B$8,LOOKUP($B232,Daten!$A$220:$A$269,Daten!$W$220:$W$269),\"\")","v":"33,5 Inhalt4Einh[33,5]"},null,{"$f":"IF($A232<=Daten!$B$8,LOOKUP($B232,Daten!$A$271:$A$320,Daten!$V$271:$V$320),\"\") & \" \" & IF($A232<=Daten!$B$8,LOOKUP($B232,Daten!$A$271:$A$320,Daten!$W$271:$W$320),\"\")","v":"33,6 Inhalt4Einh[33,6]"},null,{"$f":"IF($A232<=Daten!$B$8,LOOKUP($B232,Daten!$A$322:$A$371,Daten!$V$322:$V$371),\"\") & \" \" & IF($A232<=Daten!$B$8,LOOKUP($B232,Daten!$A$322:$A$371,Daten!$W$322:$W$371),\"\")","v":"33,7 Inhalt4Einh[33,7]"}]
[null,null,null,{"$f":"IF($A232<=Daten!$B$8,LOOKUP($B232,Daten!$A$16:$A$65,Daten!$X$16:$X$65),\"\") & \" \" & IF($A232<=Daten!$B$8,LOOKUP($B232,Daten!$A$16:$A$65,Daten!$Y$16:$Y$65),\"\")","v":"33,1 Inhalt5Einh[33,1]"},null,{"$f":"IF($A232<=Daten!$B$8,LOOKUP($B232,Daten!$A$67:$A$116,Daten!$X$67:$X$116),\"\") & \" \" & IF($A232<=Daten!$B$8,LOOKUP($B232,Daten!$A$67:$A$116,Daten!$Y$67:$Y$116),\"\")","v":"33,2 Inhalt5Einh[33,2]"},null,{"$f":"IF($A232<=Daten!$B$8,LOOKUP($B232,Daten!$A$118:$A$167,Daten!$X$118:$X$167),\"\") & \" \" & IF($A232<=Daten!$B$8,LOOKUP($B232,Daten!$A$118:$A$167,Daten!$Y$118:$Y$167),\"\")","v":"33,3 Inhalt5Einh[33,3]"},null,{"$f":"IF($A232<=Daten!$B$8,LOOKUP($B232,Daten!$A$169:$A$218,Daten!$X$169:$X$218),\"\") & \" \" & IF($A232<=Daten!$B$8,LOOKUP($B232,Daten!$A$169:$A$218,Daten!$Y$169:$Y$218),\"\")","v":"33,4 Inhalt5Einh[33,4]"},null,{"$f":"IF($A232<=Daten!$B$8,LOOKUP($B232,Daten!$A$220:$A$269,Daten!$X$220:$X$269),\"\") & \" \" & IF($A232<=Daten!$B$8,LOOKUP($B232,Daten!$A$220:$A$269,Daten!$Y$220:$Y$269),\"\")","v":"33,5 Inhalt5Einh[33,5]"},null,{"$f":"IF($A232<=Daten!$B$8,LOOKUP($B232,Daten!$A$271:$A$320,Daten!$X$271:$X$320),\"\") & \" \" & IF($A232<=Daten!$B$8,LOOKUP($B232,Daten!$A$271:$A$320,Daten!$Y$271:$Y$320),\"\")","v":"33,6 Inhalt5Einh[33,6]"},null,{"$f":"IF($A232<=Daten!$B$8,LOOKUP($B232,Daten!$A$322:$A$371,Daten!$X$322:$X$371),\"\") & \" \" & IF($A232<=Daten!$B$8,LOOKUP($B232,Daten!$A$322:$A$371,Daten!$Y$322:$Y$371),\"\")","v":"33,7 Inhalt5Einh[33,7]"}]
[null,null,null,{"$f":"IF($A232<=Daten!$B$8,LOOKUP($B232,Daten!$A$16:$A$65,Daten!$Z$16:$Z$65),\"\") & \" \" & IF($A232<=Daten!$B$8,LOOKUP($B232,Daten!$A$16:$A$65,Daten!$AA$16:$AA$65),\"\")","v":"33,1 Inhalt6Einh[33,1]"},null,{"$f":"IF($A232<=Daten!$B$8,LOOKUP($B232,Daten!$A$67:$A$116,Daten!$Z$67:$Z$116),\"\") & \" \" & IF($A232<=Daten!$B$8,LOOKUP($B232,Daten!$A$67:$A$116,Daten!$AA$67:$AA$116),\"\")","v":"33,2 Inhalt6Einh[33,2]"},null,{"$f":"IF($A232<=Daten!$B$8,LOOKUP($B232,Daten!$A$118:$A$167,Daten!$Z$118:$Z$167),\"\") & \" \" & IF($A232<=Daten!$B$8,LOOKUP($B232,Daten!$A$118:$A$167,Daten!$AA$118:$AA$167),\"\")","v":"33,3 Inhalt6Einh[33,3]"},null,{"$f":"IF($A232<=Daten!$B$8,LOOKUP($B232,Daten!$A$169:$A$218,Daten!$Z$169:$Z$218),\"\") & \" \" & IF($A232<=Daten!$B$8,LOOKUP($B232,Daten!$A$169:$A$218,Daten!$AA$169:$AA$218),\"\")","v":"33,4 Inhalt6Einh[33,4]"},null,{"$f":"IF($A232<=Daten!$B$8,LOOKUP($B232,Daten!$A$220:$A$269,Daten!$Z$220:$Z$269),\"\") & \" \" & IF($A232<=Daten!$B$8,LOOKUP($B232,Daten!$A$220:$A$269,Daten!$AA$220:$AA$269),\"\")","v":"33,5 Inhalt6Einh[33,5]"},null,{"$f":"IF($A232<=Daten!$B$8,LOOKUP($B232,Daten!$A$271:$A$320,Daten!$Z$271:$Z$320),\"\") & \" \" & IF($A232<=Daten!$B$8,LOOKUP($B232,Daten!$A$271:$A$320,Daten!$AA$271:$AA$320),\"\")","v":"33,6 Inhalt6Einh[33,6]"},null,{"$f":"IF($A232<=Daten!$B$8,LOOKUP($B232,Daten!$A$322:$A$371,Daten!$Z$322:$Z$371),\"\") & \" \" & IF($A232<=Daten!$B$8,LOOKUP($B232,Daten!$A$322:$A$371,Daten!$AA$322:$AA$371),\"\")","v":"33,7 Inhalt6Einh[33,7]"}]
[null,{"$f":"IF(A232<=Daten!$B$8,\"Zusatzstoffe\",\"\")","v":"Zusatzstoffe"},{"$f":"IF($A232<=Daten!$B$8,LOOKUP($B232,Daten!$A$16:$A$65,Daten!$L$16:$L$65),\"\")","v":33.1},{"$f":"IF($A232<=Daten!$B$8,LOOKUP($B232,Daten!$A$16:$A$65,Daten!$D$16:$D$65),\"\")","v":33.1},{"$f":"IF($A232<=Daten!$B$8,LOOKUP($B232,Daten!$A$67:$A$116,Daten!$L$67:$L$116),\"\")","v":33.200000000000003},{"$f":"IF($A232<=Daten!$B$8,LOOKUP($B232,Daten!$A$16:$A$65,Daten!$D$67:$D$116),\"\")","v":33.200000000000003},{"$f":"IF($A232<=Daten!$B$8,LOOKUP($B232,Daten!$A$118:$A$167,Daten!$L$118:$L$167),\"\")","v":33.299999999999997},{"$f":"IF($A232<=Daten!$B$8,LOOKUP($B232,Daten!$A$118:$A$167,Daten!$D$118:$D$167),\"\")","v":33.299999999999997},{"$f":"IF($A232<=Daten!$B$8,LOOKUP($B232,Daten!$A$169:$A$218,Daten!$L$169:$L$218),\"\")","v":33.4},{"$f":"IF($A232<=Daten!$B$8,LOOKUP($B232,Daten!$A$169:$A$218,Daten!$D$169:$D$218),\"\")","v":33.4},{"$f":"IF($A232<=Daten!$B$8,LOOKUP($B232,Daten!$A$220:$A$269,Daten!$L$220:$L$269),\"\")","v":33.5},{"$f":"IF($A232<=Daten!$B$8,LOOKUP($B232,Daten!$A$220:$A$269,Daten!$D$220:$D$269),\"\")","v":33.5},{"$f":"IF($A232<=Daten!$B$8,LOOKUP($B232,Daten!$A$271:$A$320,Daten!$L$271:$L$320),\"\")","v":33.6},{"$f":"IF($A232<=Daten!$B$8,LOOKUP($B232,Daten!$A$271:$A$320,Daten!$D$271:$D$320),\"\")","v":33.6},{"$f":"IF($A232<=Daten!$B$8,LOOKUP($B232,Daten!$A$322:$A$371,Daten!$L$322:$L$371),\"\")","v":33.700000000000003},{"$f":"IF($A232<=Daten!$B$8,LOOKUP($B232,Daten!$A$322:$A$371,Daten!$D$322:$D$371),\"\")","v":33.700000000000003}]
[34,{"$f":"IF(A239<=Daten!$B$8,Daten!AI9,\"\")","v":"Menülinie 34"},{"$f":"IF(A239<=Daten!$B$8,LOOKUP(B239,Daten!$A$16:$A$65,Daten!$C$16:$C$65),\"\")","v":"Lang[34,1]"},{"$f":"IF($A239<=Daten!$B$8,LOOKUP($B239,Daten!$A$16:$A$65,Daten!$P$16:$P$65),\"\") & \" \" & IF($A239<=Daten!$B$8,LOOKUP($B239,Daten!$A$16:$A$65,Daten!$Q$16:$Q$65),\"\")","v":"34,1 Inhalt1Einh[34,1]"},{"$f":"IF($A239<=Daten!$B$8,LOOKUP($B239,Daten!$A$67:$A$116,Daten!$C$67:$C$116),\"\")","v":"Lang[34,2]"},{"$f":"IF($A239<=Daten!$B$8,LOOKUP($B239,Daten!$A$67:$A$116,Daten!$P$67:$P$116),\"\") & \" \" & IF($A239<=Daten!$B$8,LOOKUP($B239,Daten!$A$67:$A$116,Daten!$Q$67:$Q$116),\"\")","v":"34,2 Inhalt1Einh[34,2]"},{"$f":"IF($A239<=Daten!$B$8,LOOKUP($B239,Daten!$A$118:$A$167,Daten!$C$118:$C$167),\"\")","v":"Lang[34,3]"},{"$f":"IF($A239<=Daten!$B$8,LOOKUP($B239,Daten!$A$118:$A$167,Daten!$P$118:$P$167),\"\") & \" \" & IF($A239<=Daten!$B$8,LOOKUP($B239,Daten!$A$118:$A$167,Daten!$Q$118:$Q$167),\"\")","v":"34,3 Inhalt1Einh[34,3]"},{"$f":"IF($A239<=Daten!$B$8,LOOKUP($B239,Daten!$A$169:$A$218,Daten!$C$169:$C$218),\"\")","v":"Lang[34,4]"},{"$f":"IF($A239<=Daten!$B$8,LOOKUP($B239,Daten!$A$169:$A$218,Daten!$P$169:$P$218),\"\") & \" \" & IF($A239<=Daten!$B$8,LOOKUP($B239,Daten!$A$169:$A$218,Daten!$Q$169:$Q$218),\"\")","v":"34,4 Inhalt1Einh[34,4]"},{"$f":"IF($A239<=Daten!$B$8,LOOKUP($B239,Daten!$A$220:$A$269,Daten!$C$220:$C$269),\"\")","v":"Lang[34,5]"},{"$f":"IF($A239<=Daten!$B$8,LOOKUP($B239,Daten!$A$220:$A$269,Daten!$P$220:$P$269),\"\") & \" \" & IF($A239<=Daten!$B$8,LOOKUP($B239,Daten!$A$220:$A$269,Daten!$Q$220:$Q$269),\"\")","v":"34,5 Inhalt1Einh[34,5]"},{"$f":"IF($A239<=Daten!$B$8,LOOKUP($B239,Daten!$A$271:$A$320,Daten!$C$271:$C$320),\"\")","v":"Lang[34,6]"},{"$f":"IF($A239<=Daten!$B$8,LOOKUP($B239,Daten!$A$271:$A$320,Daten!$P$271:$P$320),\"\") & \" \" & IF($A239<=Daten!$B$8,LOOKUP($B239,Daten!$A$271:$A$320,Daten!$Q$271:$Q$320),\"\")","v":"34,6 Inhalt1Einh[34,6]"},{"$f":"IF($A239<=Daten!$B$8,LOOKUP($B239,Daten!$A$322:$A$371,Daten!$B$322:$C$371),\"\")","v":{"$error":"#N/A"}},{"$f":"IF($A239<=Daten!$B$8,LOOKUP($B239,Daten!$A$322:$A$371,Daten!$P$322:$P$371),\"\") & \" \" & IF($A239<=Daten!$B$8,LOOKUP($B239,Daten!$A$322:$A$371,Daten!$Q$322:$Q$371),\"\")","v":"34,7 Inhalt1Einh[34,7]"}]
[null,null,null,{"$f":"IF($A239<=Daten!$B$8,LOOKUP($B239,Daten!$A$16:$A$65,Daten!$R$16:$R$65),\"\") & \" \" & IF($A239<=Daten!$B$8,LOOKUP($B239,Daten!$A$16:$A$65,Daten!$S$16:$S$65),\"\")","v":"34,1 Inhalt2Einh[34,1]"},null,{"$f":"IF($A239<=Daten!$B$8,LOOKUP($B239,Daten!$A$67:$A$116,Daten!$R$67:$R$116),\"\") & \" \" & IF($A239<=Daten!$B$8,LOOKUP($B239,Daten!$A$67:$A$116,Daten!$S$67:$S$116),\"\")","v":"34,2 Inhalt2Einh[34,2]"},null,{"$f":"IF($A239<=Daten!$B$8,LOOKUP($B239,Daten!$A$118:$A$167,Daten!$R$118:$R$167),\"\") & \" \" & IF($A239<=Daten!$B$8,LOOKUP($B239,Daten!$A$118:$A$167,Daten!$S$118:$S$167),\"\")","v":"34,3 Inhalt2Einh[34,3]"},null,{"$f":"IF($A239<=Daten!$B$8,LOOKUP($B239,Daten!$A$169:$A$218,Daten!$R$169:$R$218),\"\") & \" \" & IF($A239<=Daten!$B$8,LOOKUP($B239,Daten!$A$169:$A$218,Daten!$S$169:$S$218),\"\")","v":"34,4 Inhalt2Einh[34,4]"},null,{"$f":"IF($A239<=Daten!$B$8,LOOKUP($B239,Daten!$A$220:$A$269,Daten!$R$220:$R$269),\"\") & \" \" & IF($A239<=Daten!$B$8,LOOKUP($B239,Daten!$A$220:$A$269,Daten!$S$220:$S$269),\"\")","v":"34,5 Inhalt2Einh[34,5]"},null,{"$f":"IF($A239<=Daten!$B$8,LOOKUP($B239,Daten!$A$271:$A$320,Daten!$R$271:$R$320),\"\") & \" \" & IF($A239<=Daten!$B$8,LOOKUP($B239,Daten!$A$271:$A$320,Daten!$S$271:$S$320),\"\")","v":"34,6 Inhalt2Einh[34,6]"},null,{"$f":"IF($A239<=Daten!$B$8,LOOKUP($B239,Daten!$A$322:$A$371,Daten!$R$322:$R$371),\"\") & \" \" & IF($A239<=Daten!$B$8,LOOKUP($B239,Daten!$A$322:$A$371,Daten!$S$322:$S$371),\"\")","v":"34,7 Inhalt2Einh[34,7]"}]
[null,null,null,{"$f":"IF($A239<=Daten!$B$8,LOOKUP($B239,Daten!$A$16:$A$65,Daten!$T$16:$T$65),\"\") & \" \" & IF($A239<=Daten!$B$8,LOOKUP($B239,Daten!$A$16:$A$65,Daten!$U$16:$U$65),\"\")","v":"34,1 Inhalt3Einh[34,1]"},null,{"$f":"IF($A239<=Daten!$B$8,LOOKUP($B239,Daten!$A$67:$A$116,Daten!$T$67:$T$116),\"\") & \" \" & IF($A239<=Daten!$B$8,LOOKUP($B239,Daten!$A$67:$A$116,Daten!$U$67:$U$116),\"\")","v":"34,2 Inhalt3Einh[34,2]"},null,{"$f":"IF($A239<=Daten!$B$8,LOOKUP($B239,Daten!$A$118:$A$167,Daten!$T$118:$T$167),\"\") & \" \" & IF($A239<=Daten!$B$8,LOOKUP($B239,Daten!$A$118:$A$167,Daten!$U$118:$U$167),\"\")","v":"34,3 Inhalt3Einh[34,3]"},null,{"$f":"IF($A239<=Daten!$B$8,LOOKUP($B239,Daten!$A$169:$A$218,Daten!$T$169:$T$218),\"\") & \" \" & IF($A239<=Daten!$B$8,LOOKUP($B239,Daten!$A$169:$A$218,Daten!$U$169:$U$218),\"\")","v":"34,4 Inhalt3Einh[34,4]"},null,{"$f":"IF($A239<=Daten!$B$8,LOOKUP($B239,Daten!$A$220:$A$269,Daten!$T$220:$T$269),\"\") & \" \" & IF($A239<=Daten!$B$8,LOOKUP($B239,Daten!$A$220:$A$269,Daten!$U$220:$U$269),\"\")","v":"34,5 Inhalt3Einh[34,5]"},null,{"$f":"IF($A239<=Daten!$B$8,LOOKUP($B239,Daten!$A$271:$A$320,Daten!$T$271:$T$320),\"\") & \" \" & IF($A239<=Daten!$B$8,LOOKUP($B239,Daten!$A$271:$A$320,Daten!$U$271:$U$320),\"\")","v":"34,6 Inhalt3Einh[34,6]"},null,{"$f":"IF($A239<=Daten!$B$8,LOOKUP($B239,Daten!$A$322:$A$371,Daten!$T$322:$T$371),\"\") & \" \" & IF($A239<=Daten!$B$8,LOOKUP($B239,Daten!$A$322:$A$371,Daten!$U$322:$U$371),\"\")","v":"34,7 Inhalt3Einh[34,7]"}]
[null,null,null,{"$f":"IF($A239<=Daten!$B$8,LOOKUP($B239,Daten!$A$16:$A$65,Daten!$V$16:$V$65),\"\") & \" \" & IF($A239<=Daten!$B$8,LOOKUP($B239,Daten!$A$16:$A$65,Daten!$W$16:$W$65),\"\")","v":"34,1 Inhalt4Einh[34,1]"},null,{"$f":"IF($A239<=Daten!$B$8,LOOKUP($B239,Daten!$A$67:$A$116,Daten!$V$67:$V$116),\"\") & \" \" & IF($A239<=Daten!$B$8,LOOKUP($B239,Daten!$A$67:$A$116,Daten!$W$67:$W$116),\"\")","v":"34,2 Inhalt4Einh[34,2]"},null,{"$f":"IF($A239<=Daten!$B$8,LOOKUP($B239,Daten!$A$118:$A$167,Daten!$V$118:$V$167),\"\") & \" \" & IF($A239<=Daten!$B$8,LOOKUP($B239,Daten!$A$118:$A$167,Daten!$W$118:$W$167),\"\")","v":"34,3 Inhalt4Einh[34,3]"},null,{"$f":"IF($A239<=Daten!$B$8,LOOKUP($B239,Daten!$A$169:$A$218,Daten!$V$169:$V$218),\"\") & \" \" & IF($A239<=Daten!$B$8,LOOKUP($B239,Daten!$A$169:$A$218,Daten!$W$169:$W$218),\"\")","v":"34,4 Inhalt4Einh[34,4]"},null,{"$f":"IF($A239<=Daten!$B$8,LOOKUP($B239,Daten!$A$220:$A$269,Daten!$V$220:$V$269),\"\") & \" \" & IF($A239<=Daten!$B$8,LOOKUP($B239,Daten!$A$220:$A$269,Daten!$W$220:$W$269),\"\")","v":"34,5 Inhalt4Einh[34,5]"},null,{"$f":"IF($A239<=Daten!$B$8,LOOKUP($B239,Daten!$A$271:$A$320,Daten!$V$271:$V$320),\"\") & \" \" & IF($A239<=Daten!$B$8,LOOKUP($B239,Daten!$A$271:$A$320,Daten!$W$271:$W$320),\"\")","v":"34,6 Inhalt4Einh[34,6]"},null,{"$f":"IF($A239<=Daten!$B$8,LOOKUP($B239,Daten!$A$322:$A$371,Daten!$V$322:$V$371),\"\") & \" \" & IF($A239<=Daten!$B$8,LOOKUP($B239,Daten!$A$322:$A$371,Daten!$W$322:$W$371),\"\")","v":"34,7 Inhalt4Einh[34,7]"}]
[null,null,null,{"$f":"IF($A239<=Daten!$B$8,LOOKUP($B239,Daten!$A$16:$A$65,Daten!$X$16:$X$65),\"\") & \" \" & IF($A239<=Daten!$B$8,LOOKUP($B239,Daten!$A$16:$A$65,Daten!$Y$16:$Y$65),\"\")","v":"34,1 Inhalt5Einh[34,1]"},null,{"$f":"IF($A239<=Daten!$B$8,LOOKUP($B239,Daten!$A$67:$A$116,Daten!$X$67:$X$116),\"\") & \" \" & IF($A239<=Daten!$B$8,LOOKUP($B239,Daten!$A$67:$A$116,Daten!$Y$67:$Y$116),\"\")","v":"34,2 Inhalt5Einh[34,2]"},null,{"$f":"IF($A239<=Daten!$B$8,LOOKUP($B239,Daten!$A$118:$A$167,Daten!$X$118:$X$167),\"\") & \" \" & IF($A239<=Daten!$B$8,LOOKUP($B239,Daten!$A$118:$A$167,Daten!$Y$118:$Y$167),\"\")","v":"34,3 Inhalt5Einh[34,3]"},null,{"$f":"IF($A239<=Daten!$B$8,LOOKUP($B239,Daten!$A$169:$A$218,Daten!$X$169:$X$218),\"\") & \" \" & IF($A239<=Daten!$B$8,LOOKUP($B239,Daten!$A$169:$A$218,Daten!$Y$169:$Y$218),\"\")","v":"34,4 Inhalt5Einh[34,4]"},null,{"$f":"IF($A239<=Daten!$B$8,LOOKUP($B239,Daten!$A$220:$A$269,Daten!$X$220:$X$269),\"\") & \" \" & IF($A239<=Daten!$B$8,LOOKUP($B239,Daten!$A$220:$A$269,Daten!$Y$220:$Y$269),\"\")","v":"34,5 Inhalt5Einh[34,5]"},null,{"$f":"IF($A239<=Daten!$B$8,LOOKUP($B239,Daten!$A$271:$A$320,Daten!$X$271:$X$320),\"\") & \" \" & IF($A239<=Daten!$B$8,LOOKUP($B239,Daten!$A$271:$A$320,Daten!$Y$271:$Y$320),\"\")","v":"34,6 Inhalt5Einh[34,6]"},null,{"$f":"IF($A239<=Daten!$B$8,LOOKUP($B239,Daten!$A$322:$A$371,Daten!$X$322:$X$371),\"\") & \" \" & IF($A239<=Daten!$B$8,LOOKUP($B239,Daten!$A$322:$A$371,Daten!$Y$322:$Y$371),\"\")","v":"34,7 Inhalt5Einh[34,7]"}]
[null,null,null,{"$f":"IF($A239<=Daten!$B$8,LOOKUP($B239,Daten!$A$16:$A$65,Daten!$Z$16:$Z$65),\"\") & \" \" & IF($A239<=Daten!$B$8,LOOKUP($B239,Daten!$A$16:$A$65,Daten!$AA$16:$AA$65),\"\")","v":"34,1 Inhalt6Einh[34,1]"},null,{"$f":"IF($A239<=Daten!$B$8,LOOKUP($B239,Daten!$A$67:$A$116,Daten!$Z$67:$Z$116),\"\") & \" \" & IF($A239<=Daten!$B$8,LOOKUP($B239,Daten!$A$67:$A$116,Daten!$AA$67:$AA$116),\"\")","v":"34,2 Inhalt6Einh[34,2]"},null,{"$f":"IF($A239<=Daten!$B$8,LOOKUP($B239,Daten!$A$118:$A$167,Daten!$Z$118:$Z$167),\"\") & \" \" & IF($A239<=Daten!$B$8,LOOKUP($B239,Daten!$A$118:$A$167,Daten!$AA$118:$AA$167),\"\")","v":"34,3 Inhalt6Einh[34,3]"},null,{"$f":"IF($A239<=Daten!$B$8,LOOKUP($B239,Daten!$A$169:$A$218,Daten!$Z$169:$Z$218),\"\") & \" \" & IF($A239<=Daten!$B$8,LOOKUP($B239,Daten!$A$169:$A$218,Daten!$AA$169:$AA$218),\"\")","v":"34,4 Inhalt6Einh[34,4]"},null,{"$f":"IF($A239<=Daten!$B$8,LOOKUP($B239,Daten!$A$220:$A$269,Daten!$Z$220:$Z$269),\"\") & \" \" & IF($A239<=Daten!$B$8,LOOKUP($B239,Daten!$A$220:$A$269,Daten!$AA$220:$AA$269),\"\")","v":"34,5 Inhalt6Einh[34,5]"},null,{"$f":"IF($A239<=Daten!$B$8,LOOKUP($B239,Daten!$A$271:$A$320,Daten!$Z$271:$Z$320),\"\") & \" \" & IF($A239<=Daten!$B$8,LOOKUP($B239,Daten!$A$271:$A$320,Daten!$AA$271:$AA$320),\"\")","v":"34,6 Inhalt6Einh[34,6]"},null,{"$f":"IF($A239<=Daten!$B$8,LOOKUP($B239,Daten!$A$322:$A$371,Daten!$Z$322:$Z$371),\"\") & \" \" & IF($A239<=Daten!$B$8,LOOKUP($B239,Daten!$A$322:$A$371,Daten!$AA$322:$AA$371),\"\")","v":"34,7 Inhalt6Einh[34,7]"}]
[null,{"$f":"IF(A239<=Daten!$B$8,\"Zusatzstoffe\",\"\")","v":"Zusatzstoffe"},{"$f":"IF($A239<=Daten!$B$8,LOOKUP($B239,Daten!$A$16:$A$65,Daten!$L$16:$L$65),\"\")","v":34.1},{"$f":"IF($A239<=Daten!$B$8,LOOKUP($B239,Daten!$A$16:$A$65,Daten!$D$16:$D$65),\"\")","v":34.1},{"$f":"IF($A239<=Daten!$B$8,LOOKUP($B239,Daten!$A$67:$A$116,Daten!$L$67:$L$116),\"\")","v":34.200000000000003},{"$f":"IF($A239<=Daten!$B$8,LOOKUP($B239,Daten!$A$16:$A$65,Daten!$D$67:$D$116),\"\")","v":34.200000000000003},{"$f":"IF($A239<=Daten!$B$8,LOOKUP($B239,Daten!$A$118:$A$167,Daten!$L$118:$L$167),\"\")","v":34.299999999999997},{"$f":"IF($A239<=Daten!$B$8,LOOKUP($B239,Daten!$A$118:$A$167,Daten!$D$118:$D$167),\"\")","v":34.299999999999997},{"$f":"IF($A239<=Daten!$B$8,LOOKUP($B239,Daten!$A$169:$A$218,Daten!$L$169:$L$218),\"\")","v":34.4},{"$f":"IF($A239<=Daten!$B$8,LOOKUP($B239,Daten!$A$169:$A$218,Daten!$D$169:$D$218),\"\")","v":34.4},{"$f":"IF($A239<=Daten!$B$8,LOOKUP($B239,Daten!$A$220:$A$269,Daten!$L$220:$L$269),\"\")","v":34.5},{"$f":"IF($A239<=Daten!$B$8,LOOKUP($B239,Daten!$A$220:$A$269,Daten!$D$220:$D$269),\"\")","v":34.5},{"$f":"IF($A239<=Daten!$B$8,LOOKUP($B239,Daten!$A$271:$A$320,Daten!$L$271:$L$320),\"\")","v":34.6},{"$f":"IF($A239<=Daten!$B$8,LOOKUP($B239,Daten!$A$271:$A$320,Daten!$D$271:$D$320),\"\")","v":34.6},{"$f":"IF($A239<=Daten!$B$8,LOOKUP($B239,Daten!$A$322:$A$371,Daten!$L$322:$L$371),\"\")","v":34.700000000000003},{"$f":"IF($A239<=Daten!$B$8,LOOKUP($B239,Daten!$A$322:$A$371,Daten!$D$322:$D$371),\"\")","v":34.700000000000003}]
[35,{"$f":"IF(A246<=Daten!$B$8,Daten!AJ9,\"\")","v":"Menülinie 35"},{"$f":"IF(A246<=Daten!$B$8,LOOKUP(B246,Daten!$A$16:$A$65,Daten!$C$16:$C$65),\"\")","v":"Lang[35,1]"},{"$f":"IF($A246<=Daten!$B$8,LOOKUP($B246,Daten!$A$16:$A$65,Daten!$P$16:$P$65),\"\") & \" \" & IF($A246<=Daten!$B$8,LOOKUP($B246,Daten!$A$16:$A$65,Daten!$Q$16:$Q$65),\"\")","v":"35,1 Inhalt1Einh[35,1]"},{"$f":"IF($A246<=Daten!$B$8,LOOKUP($B246,Daten!$A$67:$A$116,Daten!$C$67:$C$116),\"\")","v":"Lang[35,2]"},{"$f":"IF($A246<=Daten!$B$8,LOOKUP($B246,Daten!$A$67:$A$116,Daten!$P$67:$P$116),\"\") & \" \" & IF($A246<=Daten!$B$8,LOOKUP($B246,Daten!$A$67:$A$116,Daten!$Q$67:$Q$116),\"\")","v":"35,2 Inhalt1Einh[35,2]"},{"$f":"IF($A246<=Daten!$B$8,LOOKUP($B246,Daten!$A$118:$A$167,Daten!$C$118:$C$167),\"\")","v":"Lang[35,3]"},{"$f":"IF($A246<=Daten!$B$8,LOOKUP($B246,Daten!$A$118:$A$167,Daten!$P$118:$P$167),\"\") & \" \" & IF($A246<=Daten!$B$8,LOOKUP($B246,Daten!$A$118:$A$167,Daten!$Q$118:$Q$167),\"\")","v":"35,3 Inhalt1Einh[35,3]"},{"$f":"IF($A246<=Daten!$B$8,LOOKUP($B246,Daten!$A$169:$A$218,Daten!$C$169:$C$218),\"\")","v":"Lang[35,4]"},{"$f":"IF($A246<=Daten!$B$8,LOOKUP($B246,Daten!$A$169:$A$218,Daten!$P$169:$P$218),\"\") & \" \" & IF($A246<=Daten!$B$8,LOOKUP($B246,Daten!$A$169:$A$218,Daten!$Q$169:$Q$218),\"\")","v":"35,4 Inhalt1Einh[35,4]"},{"$f":"IF($A246<=Daten!$B$8,LOOKUP($B246,Daten!$A$220:$A$269,Daten!$C$220:$C$269),\"\")","v":"Lang[35,5]"},{"$f":"IF($A246<=Daten!$B$8,LOOKUP($B246,Daten!$A$220:$A$269,Daten!$P$220:$P$269),\"\") & \" \" & IF($A246<=Daten!$B$8,LOOKUP($B246,Daten!$A$220:$A$269,Daten!$Q$220:$Q$269),\"\")","v":"35,5 Inhalt1Einh[35,5]"},{"$f":"IF($A246<=Daten!$B$8,LOOKUP($B246,Daten!$A$271:$A$320,Daten!$C$271:$C$320),\"\")","v":"Lang[35,6]"},{"$f":"IF($A246<=Daten!$B$8,LOOKUP($B246,Daten!$A$271:$A$320,Daten!$P$271:$P$320),\"\") & \" \" & IF($A246<=Daten!$B$8,LOOKUP($B246,Daten!$A$271:$A$320,Daten!$Q$271:$Q$320),\"\")","v":"35,6 Inhalt1Einh[35,6]"},{"$f":"IF($A246<=Daten!$B$8,LOOKUP($B246,Daten!$A$322:$A$371,Daten!$B$322:$C$371),\"\")","v":{"$error":"#N/A"}},{"$f":"IF($A246<=Daten!$B$8,LOOKUP($B246,Daten!$A$322:$A$371,Daten!$P$322:$P$371),\"\") & \" \" & IF($A246<=Daten!$B$8,LOOKUP($B246,Daten!$A$322:$A$371,Daten!$Q$322:$Q$371),\"\")","v":"35,7 Inhalt1Einh[35,7]"}]
[null,null,null,{"$f":"IF($A246<=Daten!$B$8,LOOKUP($B246,Daten!$A$16:$A$65,Daten!$R$16:$R$65),\"\") & \" \" & IF($A246<=Daten!$B$8,LOOKUP($B246,Daten!$A$16:$A$65,Daten!$S$16:$S$65),\"\")","v":"35,1 Inhalt2Einh[35,1]"},null,{"$f":"IF($A246<=Daten!$B$8,LOOKUP($B246,Daten!$A$67:$A$116,Daten!$R$67:$R$116),\"\") & \" \" & IF($A246<=Daten!$B$8,LOOKUP($B246,Daten!$A$67:$A$116,Daten!$S$67:$S$116),\"\")","v":"35,2 Inhalt2Einh[35,2]"},null,{"$f":"IF($A246<=Daten!$B$8,LOOKUP($B246,Daten!$A$118:$A$167,Daten!$R$118:$R$167),\"\") & \" \" & IF($A246<=Daten!$B$8,LOOKUP($B246,Daten!$A$118:$A$167,Daten!$S$118:$S$167),\"\")","v":"35,3 Inhalt2Einh[35,3]"},null,{"$f":"IF($A246<=Daten!$B$8,LOOKUP($B246,Daten!$A$169:$A$218,Daten!$R$169:$R$218),\"\") & \" \" & IF($A246<=Daten!$B$8,LOOKUP($B246,Daten!$A$169:$A$218,Daten!$S$169:$S$218),\"\")","v":"35,4 Inhalt2Einh[35,4]"},null,{"$f":"IF($A246<=Daten!$B$8,LOOKUP($B246,Daten!$A$220:$A$269,Daten!$R$220:$R$269),\"\") & \" \" & IF($A246<=Daten!$B$8,LOOKUP($B246,Daten!$A$220:$A$269,Daten!$S$220:$S$269),\"\")","v":"35,5 Inhalt2Einh[35,5]"},null,{"$f":"IF($A246<=Daten!$B$8,LOOKUP($B246,Daten!$A$271:$A$320,Daten!$R$271:$R$320),\"\") & \" \" & IF($A246<=Daten!$B$8,LOOKUP($B246,Daten!$A$271:$A$320,Daten!$S$271:$S$320),\"\")","v":"35,6 Inhalt2Einh[35,6]"},null,{"$f":"IF($A246<=Daten!$B$8,LOOKUP($B246,Daten!$A$322:$A$371,Daten!$R$322:$R$371),\"\") & \" \" & IF($A246<=Daten!$B$8,LOOKUP($B246,Daten!$A$322:$A$371,Daten!$S$322:$S$371),\"\")","v":"35,7 Inhalt2Einh[35,7]"}]
[null,null,null,{"$f":"IF($A246<=Daten!$B$8,LOOKUP($B246,Daten!$A$16:$A$65,Daten!$T$16:$T$65),\"\") & \" \" & IF($A246<=Daten!$B$8,LOOKUP($B246,Daten!$A$16:$A$65,Daten!$U$16:$U$65),\"\")","v":"35,1 Inhalt3Einh[35,1]"},null,{"$f":"IF($A246<=Daten!$B$8,LOOKUP($B246,Daten!$A$67:$A$116,Daten!$T$67:$T$116),\"\") & \" \" & IF($A246<=Daten!$B$8,LOOKUP($B246,Daten!$A$67:$A$116,Daten!$U$67:$U$116),\"\")","v":"35,2 Inhalt3Einh[35,2]"},null,{"$f":"IF($A246<=Daten!$B$8,LOOKUP($B246,Daten!$A$118:$A$167,Daten!$T$118:$T$167),\"\") & \" \" & IF($A246<=Daten!$B$8,LOOKUP($B246,Daten!$A$118:$A$167,Daten!$U$118:$U$167),\"\")","v":"35,3 Inhalt3Einh[35,3]"},null,{"$f":"IF($A246<=Daten!$B$8,LOOKUP($B246,Daten!$A$169:$A$218,Daten!$T$169:$T$218),\"\") & \" \" & IF($A246<=Daten!$B$8,LOOKUP($B246,Daten!$A$169:$A$218,Daten!$U$169:$U$218),\"\")","v":"35,4 Inhalt3Einh[35,4]"},null,{"$f":"IF($A246<=Daten!$B$8,LOOKUP($B246,Daten!$A$220:$A$269,Daten!$T$220:$T$269),\"\") & \" \" & IF($A246<=Daten!$B$8,LOOKUP($B246,Daten!$A$220:$A$269,Daten!$U$220:$U$269),\"\")","v":"35,5 Inhalt3Einh[35,5]"},null,{"$f":"IF($A246<=Daten!$B$8,LOOKUP($B246,Daten!$A$271:$A$320,Daten!$T$271:$T$320),\"\") & \" \" & IF($A246<=Daten!$B$8,LOOKUP($B246,Daten!$A$271:$A$320,Daten!$U$271:$U$320),\"\")","v":"35,6 Inhalt3Einh[35,6]"},null,{"$f":"IF($A246<=Daten!$B$8,LOOKUP($B246,Daten!$A$322:$A$371,Daten!$T$322:$T$371),\"\") & \" \" & IF($A246<=Daten!$B$8,LOOKUP($B246,Daten!$A$322:$A$371,Daten!$U$322:$U$371),\"\")","v":"35,7 Inhalt3Einh[35,7]"}]
[null,null,null,{"$f":"IF($A246<=Daten!$B$8,LOOKUP($B246,Daten!$A$16:$A$65,Daten!$V$16:$V$65),\"\") & \" \" & IF($A246<=Daten!$B$8,LOOKUP($B246,Daten!$A$16:$A$65,Daten!$W$16:$W$65),\"\")","v":"35,1 Inhalt4Einh[35,1]"},null,{"$f":"IF($A246<=Daten!$B$8,LOOKUP($B246,Daten!$A$67:$A$116,Daten!$V$67:$V$116),\"\") & \" \" & IF($A246<=Daten!$B$8,LOOKUP($B246,Daten!$A$67:$A$116,Daten!$W$67:$W$116),\"\")","v":"35,2 Inhalt4Einh[35,2]"},null,{"$f":"IF($A246<=Daten!$B$8,LOOKUP($B246,Daten!$A$118:$A$167,Daten!$V$118:$V$167),\"\") & \" \" & IF($A246<=Daten!$B$8,LOOKUP($B246,Daten!$A$118:$A$167,Daten!$W$118:$W$167),\"\")","v":"35,3 Inhalt4Einh[35,3]"},null,{"$f":"IF($A246<=Daten!$B$8,LOOKUP($B246,Daten!$A$169:$A$218,Daten!$V$169:$V$218),\"\") & \" \" & IF($A246<=Daten!$B$8,LOOKUP($B246,Daten!$A$169:$A$218,Daten!$W$169:$W$218),\"\")","v":"35,4 Inhalt4Einh[35,4]"},null,{"$f":"IF($A246<=Daten!$B$8,LOOKUP($B246,Daten!$A$220:$A$269,Daten!$V$220:$V$269),\"\") & \" \" & IF($A246<=Daten!$B$8,LOOKUP($B246,Daten!$A$220:$A$269,Daten!$W$220:$W$269),\"\")","v":"35,5 Inhalt4Einh[35,5]"},null,{"$f":"IF($A246<=Daten!$B$8,LOOKUP($B246,Daten!$A$271:$A$320,Daten!$V$271:$V$320),\"\") & \" \" & IF($A246<=Daten!$B$8,LOOKUP($B246,Daten!$A$271:$A$320,Daten!$W$271:$W$320),\"\")","v":"35,6 Inhalt4Einh[35,6]"},null,{"$f":"IF($A246<=Daten!$B$8,LOOKUP($B246,Daten!$A$322:$A$371,Daten!$V$322:$V$371),\"\") & \" \" & IF($A246<=Daten!$B$8,LOOKUP($B246,Daten!$A$322:$A$371,Daten!$W$322:$W$371),\"\")","v":"35,7 Inhalt4Einh[35,7]"}]
[null,null,null,{"$f":"IF($A246<=Daten!$B$8,LOOKUP($B246,Daten!$A$16:$A$65,Daten!$X$16:$X$65),\"\") & \" \" & IF($A246<=Daten!$B$8,LOOKUP($B246,Daten!$A$16:$A$65,Daten!$Y$16:$Y$65),\"\")","v":"35,1 Inhalt5Einh[35,1]"},null,{"$f":"IF($A246<=Daten!$B$8,LOOKUP($B246,Daten!$A$67:$A$116,Daten!$X$67:$X$116),\"\") & \" \" & IF($A246<=Daten!$B$8,LOOKUP($B246,Daten!$A$67:$A$116,Daten!$Y$67:$Y$116),\"\")","v":"35,2 Inhalt5Einh[35,2]"},null,{"$f":"IF($A246<=Daten!$B$8,LOOKUP($B246,Daten!$A$118:$A$167,Daten!$X$118:$X$167),\"\") & \" \" & IF($A246<=Daten!$B$8,LOOKUP($B246,Daten!$A$118:$A$167,Daten!$Y$118:$Y$167),\"\")","v":"35,3 Inhalt5Einh[35,3]"},null,{"$f":"IF($A246<=Daten!$B$8,LOOKUP($B246,Daten!$A$169:$A$218,Daten!$X$169:$X$218),\"\") & \" \" & IF($A246<=Daten!$B$8,LOOKUP($B246,Daten!$A$169:$A$218,Daten!$Y$169:$Y$218),\"\")","v":"35,4 Inhalt5Einh[35,4]"},null,{"$f":"IF($A246<=Daten!$B$8,LOOKUP($B246,Daten!$A$220:$A$269,Daten!$X$220:$X$269),\"\") & \" \" & IF($A246<=Daten!$B$8,LOOKUP($B246,Daten!$A$220:$A$269,Daten!$Y$220:$Y$269),\"\")","v":"35,5 Inhalt5Einh[35,5]"},null,{"$f":"IF($A246<=Daten!$B$8,LOOKUP($B246,Daten!$A$271:$A$320,Daten!$X$271:$X$320),\"\") & \" \" & IF($A246<=Daten!$B$8,LOOKUP($B246,Daten!$A$271:$A$320,Daten!$Y$271:$Y$320),\"\")","v":"35,6 Inhalt5Einh[35,6]"},null,{"$f":"IF($A246<=Daten!$B$8,LOOKUP($B246,Daten!$A$322:$A$371,Daten!$X$322:$X$371),\"\") & \" \" & IF($A246<=Daten!$B$8,LOOKUP($B246,Daten!$A$322:$A$371,Daten!$Y$322:$Y$371),\"\")","v":"35,7 Inhalt5Einh[35,7]"}]
[null,null,null,{"$f":"IF($A246<=Daten!$B$8,LOOKUP($B246,Daten!$A$16:$A$65,Daten!$Z$16:$Z$65),\"\") & \" \" & IF($A246<=Daten!$B$8,LOOKUP($B246,Daten!$A$16:$A$65,Daten!$AA$16:$AA$65),\"\")","v":"35,1 Inhalt6Einh[35,1]"},null,{"$f":"IF($A246<=Daten!$B$8,LOOKUP($B246,Daten!$A$67:$A$116,Daten!$Z$67:$Z$116),\"\") & \" \" & IF($A246<=Daten!$B$8,LOOKUP($B246,Daten!$A$67:$A$116,Daten!$AA$67:$AA$116),\"\")","v":"35,2 Inhalt6Einh[35,2]"},null,{"$f":"IF($A246<=Daten!$B$8,LOOKUP($B246,Daten!$A$118:$A$167,Daten!$Z$118:$Z$167),\"\") & \" \" & IF($A246<=Daten!$B$8,LOOKUP($B246,Daten!$A$118:$A$167,Daten!$AA$118:$AA$167),\"\")","v":"35,3 Inhalt6Einh[35,3]"},null,{"$f":"IF($A246<=Daten!$B$8,LOOKUP($B246,Daten!$A$169:$A$218,Daten!$Z$169:$Z$218),\"\") & \" \" & IF($A246<=Daten!$B$8,LOOKUP($B246,Daten!$A$169:$A$218,Daten!$AA$169:$AA$218),\"\")","v":"35,4 Inhalt6Einh[35,4]"},null,{"$f":"IF($A246<=Daten!$B$8,LOOKUP($B246,Daten!$A$220:$A$269,Daten!$Z$220:$Z$269),\"\") & \" \" & IF($A246<=Daten!$B$8,LOOKUP($B246,Daten!$A$220:$A$269,Daten!$AA$220:$AA$269),\"\")","v":"35,5 Inhalt6Einh[35,5]"},null,{"$f":"IF($A246<=Daten!$B$8,LOOKUP($B246,Daten!$A$271:$A$320,Daten!$Z$271:$Z$320),\"\") & \" \" & IF($A246<=Daten!$B$8,LOOKUP($B246,Daten!$A$271:$A$320,Daten!$AA$271:$AA$320),\"\")","v":"35,6 Inhalt6Einh[35,6]"},null,{"$f":"IF($A246<=Daten!$B$8,LOOKUP($B246,Daten!$A$322:$A$371,Daten!$Z$322:$Z$371),\"\") & \" \" & IF($A246<=Daten!$B$8,LOOKUP($B246,Daten!$A$322:$A$371,Daten!$AA$322:$AA$371),\"\")","v":"35,7 Inhalt6Einh[35,7]"}]
[null,{"$f":"IF(A246<=Daten!$B$8,\"Zusatzstoffe\",\"\")","v":"Zusatzstoffe"},{"$f":"IF($A246<=Daten!$B$8,LOOKUP($B246,Daten!$A$16:$A$65,Daten!$L$16:$L$65),\"\")","v":35.1},{"$f":"IF($A246<=Daten!$B$8,LOOKUP($B246,Daten!$A$16:$A$65,Daten!$D$16:$D$65),\"\")","v":35.1},{"$f":"IF($A246<=Daten!$B$8,LOOKUP($B246,Daten!$A$67:$A$116,Daten!$L$67:$L$116),\"\")","v":35.200000000000003},{"$f":"IF($A246<=Daten!$B$8,LOOKUP($B246,Daten!$A$16:$A$65,Daten!$D$67:$D$116),\"\")","v":35.200000000000003},{"$f":"IF($A246<=Daten!$B$8,LOOKUP($B246,Daten!$A$118:$A$167,Daten!$L$118:$L$167),\"\")","v":35.299999999999997},{"$f":"IF($A246<=Daten!$B$8,LOOKUP($B246,Daten!$A$118:$A$167,Daten!$D$118:$D$167),\"\")","v":35.299999999999997},{"$f":"IF($A246<=Daten!$B$8,LOOKUP($B246,Daten!$A$169:$A$218,Daten!$L$169:$L$218),\"\")","v":35.4},{"$f":"IF($A246<=Daten!$B$8,LOOKUP($B246,Daten!$A$169:$A$218,Daten!$D$169:$D$218),\"\")","v":35.4},{"$f":"IF($A246<=Daten!$B$8,LOOKUP($B246,Daten!$A$220:$A$269,Daten!$L$220:$L$269),\"\")","v":35.5},{"$f":"IF($A246<=Daten!$B$8,LOOKUP($B246,Daten!$A$220:$A$269,Daten!$D$220:$D$269),\"\")","v":35.5},{"$f":"IF($A246<=Daten!$B$8,LOOKUP($B246,Daten!$A$271:$A$320,Daten!$L$271:$L$320),\"\")","v":35.6},{"$f":"IF($A246<=Daten!$B$8,LOOKUP($B246,Daten!$A$271:$A$320,Daten!$D$271:$D$320),\"\")","v":35.6},{"$f":"IF($A246<=Daten!$B$8,LOOKUP($B246,Daten!$A$322:$A$371,Daten!$L$322:$L$371),\"\")","v":35.700000000000003},{"$f":"IF($A246<=Daten!$B$8,LOOKUP($B246,Daten!$A$322:$A$371,Daten!$D$322:$D$371),\"\")","v":35.700000000000003}]
[36,{"$f":"IF(A253<=Daten!$B$8,Daten!AK9,\"\")","v":"Menülinie 36"},{"$f":"IF(A253<=Daten!$B$8,LOOKUP(B253,Daten!$A$16:$A$65,Daten!$C$16:$C$65),\"\")","v":"Lang[36,1]"},{"$f":"IF($A253<=Daten!$B$8,LOOKUP($B253,Daten!$A$16:$A$65,Daten!$P$16:$P$65),\"\") & \" \" & IF($A253<=Daten!$B$8,LOOKUP($B253,Daten!$A$16:$A$65,Daten!$Q$16:$Q$65),\"\")","v":"36,1 Inhalt1Einh[36,1]"},{"$f":"IF($A253<=Daten!$B$8,LOOKUP($B253,Daten!$A$67:$A$116,Daten!$C$67:$C$116),\"\")","v":"Lang[36,2]"},{"$f":"IF($A253<=Daten!$B$8,LOOKUP($B253,Daten!$A$67:$A$116,Daten!$P$67:$P$116),\"\") & \" \" & IF($A253<=Daten!$B$8,LOOKUP($B253,Daten!$A$67:$A$116,Daten!$Q$67:$Q$116),\"\")","v":"36,2 Inhalt1Einh[36,2]"},{"$f":"IF($A253<=Daten!$B$8,LOOKUP($B253,Daten!$A$118:$A$167,Daten!$C$118:$C$167),\"\")","v":"Lang[36,3]"},{"$f":"IF($A253<=Daten!$B$8,LOOKUP($B253,Daten!$A$118:$A$167,Daten!$P$118:$P$167),\"\") & \" \" & IF($A253<=Daten!$B$8,LOOKUP($B253,Daten!$A$118:$A$167,Daten!$Q$118:$Q$167),\"\")","v":"36,3 Inhalt1Einh[36,3]"},{"$f":"IF($A253<=Daten!$B$8,LOOKUP($B253,Daten!$A$169:$A$218,Daten!$C$169:$C$218),\"\")","v":"Lang[36,4]"},{"$f":"IF($A253<=Daten!$B$8,LOOKUP($B253,Daten!$A$169:$A$218,Daten!$P$169:$P$218),\"\") & \" \" & IF($A253<=Daten!$B$8,LOOKUP($B253,Daten!$A$169:$A$218,Daten!$Q$169:$Q$218),\"\")","v":"36,4 Inhalt1Einh[36,4]"},{"$f":"IF($A253<=Daten!$B$8,LOOKUP($B253,Daten!$A$220:$A$269,Daten!$C$220:$C$269),\"\")","v":"Lang[36,5]"},{"$f":"IF($A253<=Daten!$B$8,LOOKUP($B253,Daten!$A$220:$A$269,Daten!$P$220:$P$269),\"\") & \" \" & IF($A253<=Daten!$B$8,LOOKUP($B253,Daten!$A$220:$A$269,Daten!$Q$220:$Q$269),\"\")","v":"36,5 Inhalt1Einh[36,5]"},{"$f":"IF($A253<=Daten!$B$8,LOOKUP($B253,Daten!$A$271:$A$320,Daten!$C$271:$C$320),\"\")","v":"Lang[36,6]"},{"$f":"IF($A253<=Daten!$B$8,LOOKUP($B253,Daten!$A$271:$A$320,Daten!$P$271:$P$320),\"\") & \" \" & IF($A253<=Daten!$B$8,LOOKUP($B253,Daten!$A$271:$A$320,Daten!$Q$271:$Q$320),\"\")","v":"36,6 Inhalt1Einh[36,6]"},{"$f":"IF($A253<=Daten!$B$8,LOOKUP($B253,Daten!$A$322:$A$371,Daten!$B$322:$C$371),\"\")","v":{"$error":"#N/A"}},{"$f":"IF($A253<=Daten!$B$8,LOOKUP($B253,Daten!$A$322:$A$371,Daten!$P$322:$P$371),\"\") & \" \" & IF($A253<=Daten!$B$8,LOOKUP($B253,Daten!$A$322:$A$371,Daten!$Q$322:$Q$371),\"\")","v":"36,7 Inhalt1Einh[36,7]"}]
[null,null,null,{"$f":"IF($A253<=Daten!$B$8,LOOKUP($B253,Daten!$A$16:$A$65,Daten!$R$16:$R$65),\"\") & \" \" & IF($A253<=Daten!$B$8,LOOKUP($B253,Daten!$A$16:$A$65,Daten!$S$16:$S$65),\"\")","v":"36,1 Inhalt2Einh[36,1]"},null,{"$f":"IF($A253<=Daten!$B$8,LOOKUP($B253,Daten!$A$67:$A$116,Daten!$R$67:$R$116),\"\") & \" \" & IF($A253<=Daten!$B$8,LOOKUP($B253,Daten!$A$67:$A$116,Daten!$S$67:$S$116),\"\")","v":"36,2 Inhalt2Einh[36,2]"},null,{"$f":"IF($A253<=Daten!$B$8,LOOKUP($B253,Daten!$A$118:$A$167,Daten!$R$118:$R$167),\"\") & \" \" & IF($A253<=Daten!$B$8,LOOKUP($B253,Daten!$A$118:$A$167,Daten!$S$118:$S$167),\"\")","v":"36,3 Inhalt2Einh[36,3]"},null,{"$f":"IF($A253<=Daten!$B$8,LOOKUP($B253,Daten!$A$169:$A$218,Daten!$R$169:$R$218),\"\") & \" \" & IF($A253<=Daten!$B$8,LOOKUP($B253,Daten!$A$169:$A$218,Daten!$S$169:$S$218),\"\")","v":"36,4 Inhalt2Einh[36,4]"},null,{"$f":"IF($A253<=Daten!$B$8,LOOKUP($B253,Daten!$A$220:$A$269,Daten!$R$220:$R$269),\"\") & \" \" & IF($A253<=Daten!$B$8,LOOKUP($B253,Daten!$A$220:$A$269,Daten!$S$220:$S$269),\"\")","v":"36,5 Inhalt2Einh[36,5]"},null,{"$f":"IF($A253<=Daten!$B$8,LOOKUP($B253,Daten!$A$271:$A$320,Daten!$R$271:$R$320),\"\") & \" \" & IF($A253<=Daten!$B$8,LOOKUP($B253,Daten!$A$271:$A$320,Daten!$S$271:$S$320),\"\")","v":"36,6 Inhalt2Einh[36,6]"},null,{"$f":"IF($A253<=Daten!$B$8,LOOKUP($B253,Daten!$A$322:$A$371,Daten!$R$322:$R$371),\"\") & \" \" & IF($A253<=Daten!$B$8,LOOKUP($B253,Daten!$A$322:$A$371,Daten!$S$322:$S$371),\"\")","v":"36,7 Inhalt2Einh[36,7]"}]
[null,null,null,{"$f":"IF($A253<=Daten!$B$8,LOOKUP($B253,Daten!$A$16:$A$65,Daten!$T$16:$T$65),\"\") & \" \" & IF($A253<=Daten!$B$8,LOOKUP($B253,Daten!$A$16:$A$65,Daten!$U$16:$U$65),\"\")","v":"36,1 Inhalt3Einh[36,1]"},null,{"$f":"IF($A253<=Daten!$B$8,LOOKUP($B253,Daten!$A$67:$A$116,Daten!$T$67:$T$116),\"\") & \" \" & IF($A253<=Daten!$B$8,LOOKUP($B253,Daten!$A$67:$A$116,Daten!$U$67:$U$116),\"\")","v":"36,2 Inhalt3Einh[36,2]"},null,{"$f":"IF($A253<=Daten!$B$8,LOOKUP($B253,Daten!$A$118:$A$167,Daten!$T$118:$T$167),\"\") & \" \" & IF($A253<=Daten!$B$8,LOOKUP($B253,Daten!$A$118:$A$167,Daten!$U$118:$U$167),\"\")","v":"36,3 Inhalt3Einh[36,3]"},null,{"$f":"IF($A253<=Daten!$B$8,LOOKUP($B253,Daten!$A$169:$A$218,Daten!$T$169:$T$218),\"\") & \" \" & IF($A253<=Daten!$B$8,LOOKUP($B253,Daten!$A$169:$A$218,Daten!$U$169:$U$218),\"\")","v":"36,4 Inhalt3Einh[36,4]"},null,{"$f":"IF($A253<=Daten!$B$8,LOOKUP($B253,Daten!$A$220:$A$269,Daten!$T$220:$T$269),\"\") & \" \" & IF($A253<=Daten!$B$8,LOOKUP($B253,Daten!$A$220:$A$269,Daten!$U$220:$U$269),\"\")","v":"36,5 Inhalt3Einh[36,5]"},null,{"$f":"IF($A253<=Daten!$B$8,LOOKUP($B253,Daten!$A$271:$A$320,Daten!$T$271:$T$320),\"\") & \" \" & IF($A253<=Daten!$B$8,LOOKUP($B253,Daten!$A$271:$A$320,Daten!$U$271:$U$320),\"\")","v":"36,6 Inhalt3Einh[36,6]"},null,{"$f":"IF($A253<=Daten!$B$8,LOOKUP($B253,Daten!$A$322:$A$371,Daten!$T$322:$T$371),\"\") & \" \" & IF($A253<=Daten!$B$8,LOOKUP($B253,Daten!$A$322:$A$371,Daten!$U$322:$U$371),\"\")","v":"36,7 Inhalt3Einh[36,7]"}]
[null,null,null,{"$f":"IF($A253<=Daten!$B$8,LOOKUP($B253,Daten!$A$16:$A$65,Daten!$V$16:$V$65),\"\") & \" \" & IF($A253<=Daten!$B$8,LOOKUP($B253,Daten!$A$16:$A$65,Daten!$W$16:$W$65),\"\")","v":"36,1 Inhalt4Einh[36,1]"},null,{"$f":"IF($A253<=Daten!$B$8,LOOKUP($B253,Daten!$A$67:$A$116,Daten!$V$67:$V$116),\"\") & \" \" & IF($A253<=Daten!$B$8,LOOKUP($B253,Daten!$A$67:$A$116,Daten!$W$67:$W$116),\"\")","v":"36,2 Inhalt4Einh[36,2]"},null,{"$f":"IF($A253<=Daten!$B$8,LOOKUP($B253,Daten!$A$118:$A$167,Daten!$V$118:$V$167),\"\") & \" \" & IF($A253<=Daten!$B$8,LOOKUP($B253,Daten!$A$118:$A$167,Daten!$W$118:$W$167),\"\")","v":"36,3 Inhalt4Einh[36,3]"},null,{"$f":"IF($A253<=Daten!$B$8,LOOKUP($B253,Daten!$A$169:$A$218,Daten!$V$169:$V$218),\"\") & \" \" & IF($A253<=Daten!$B$8,LOOKUP($B253,Daten!$A$169:$A$218,Daten!$W$169:$W$218),\"\")","v":"36,4 Inhalt4Einh[36,4]"},null,{"$f":"IF($A253<=Daten!$B$8,LOOKUP($B253,Daten!$A$220:$A$269,Daten!$V$220:$V$269),\"\") & \" \" & IF($A253<=Daten!$B$8,LOOKUP($B253,Daten!$A$220:$A$269,Daten!$W$220:$W$269),\"\")","v":"36,5 Inhalt4Einh[36,5]"},null,{"$f":"IF($A253<=Daten!$B$8,LOOKUP($B253,Daten!$A$271:$A$320,Daten!$V$271:$V$320),\"\") & \" \" & IF($A253<=Daten!$B$8,LOOKUP($B253,Daten!$A$271:$A$320,Daten!$W$271:$W$320),\"\")","v":"36,6 Inhalt4Einh[36,6]"},null,{"$f":"IF($A253<=Daten!$B$8,LOOKUP($B253,Daten!$A$322:$A$371,Daten!$V$322:$V$371),\"\") & \" \" & IF($A253<=Daten!$B$8,LOOKUP($B253,Daten!$A$322:$A$371,Daten!$W$322:$W$371),\"\")","v":"36,7 Inhalt4Einh[36,7]"}]
[null,null,null,{"$f":"IF($A253<=Daten!$B$8,LOOKUP($B253,Daten!$A$16:$A$65,Daten!$X$16:$X$65),\"\") & \" \" & IF($A253<=Daten!$B$8,LOOKUP($B253,Daten!$A$16:$A$65,Daten!$Y$16:$Y$65),\"\")","v":"36,1 Inhalt5Einh[36,1]"},null,{"$f":"IF($A253<=Daten!$B$8,LOOKUP($B253,Daten!$A$67:$A$116,Daten!$X$67:$X$116),\"\") & \" \" & IF($A253<=Daten!$B$8,LOOKUP($B253,Daten!$A$67:$A$116,Daten!$Y$67:$Y$116),\"\")","v":"36,2 Inhalt5Einh[36,2]"},null,{"$f":"IF($A253<=Daten!$B$8,LOOKUP($B253,Daten!$A$118:$A$167,Daten!$X$118:$X$167),\"\") & \" \" & IF($A253<=Daten!$B$8,LOOKUP($B253,Daten!$A$118:$A$167,Daten!$Y$118:$Y$167),\"\")","v":"36,3 Inhalt5Einh[36,3]"},null,{"$f":"IF($A253<=Daten!$B$8,LOOKUP($B253,Daten!$A$169:$A$218,Daten!$X$169:$X$218),\"\") & \" \" & IF($A253<=Daten!$B$8,LOOKUP($B253,Daten!$A$169:$A$218,Daten!$Y$169:$Y$218),\"\")","v":"36,4 Inhalt5Einh[36,4]"},null,{"$f":"IF($A253<=Daten!$B$8,LOOKUP($B253,Daten!$A$220:$A$269,Daten!$X$220:$X$269),\"\") & \" \" & IF($A253<=Daten!$B$8,LOOKUP($B253,Daten!$A$220:$A$269,Daten!$Y$220:$Y$269),\"\")","v":"36,5 Inhalt5Einh[36,5]"},null,{"$f":"IF($A253<=Daten!$B$8,LOOKUP($B253,Daten!$A$271:$A$320,Daten!$X$271:$X$320),\"\") & \" \" & IF($A253<=Daten!$B$8,LOOKUP($B253,Daten!$A$271:$A$320,Daten!$Y$271:$Y$320),\"\")","v":"36,6 Inhalt5Einh[36,6]"},null,{"$f":"IF($A253<=Daten!$B$8,LOOKUP($B253,Daten!$A$322:$A$371,Daten!$X$322:$X$371),\"\") & \" \" & IF($A253<=Daten!$B$8,LOOKUP($B253,Daten!$A$322:$A$371,Daten!$Y$322:$Y$371),\"\")","v":"36,7 Inhalt5Einh[36,7]"}]
[null,null,null,{"$f":"IF($A253<=Daten!$B$8,LOOKUP($B253,Daten!$A$16:$A$65,Daten!$Z$16:$Z$65),\"\") & \" \" & IF($A253<=Daten!$B$8,LOOKUP($B253,Daten!$A$16:$A$65,Daten!$AA$16:$AA$65),\"\")","v":"36,1 Inhalt6Einh[36,1]"},null,{"$f":"IF($A253<=Daten!$B$8,LOOKUP($B253,Daten!$A$67:$A$116,Daten!$Z$67:$Z$116),\"\") & \" \" & IF($A253<=Daten!$B$8,LOOKUP($B253,Daten!$A$67:$A$116,Daten!$AA$67:$AA$116),\"\")","v":"36,2 Inhalt6Einh[36,2]"},null,{"$f":"IF($A253<=Daten!$B$8,LOOKUP($B253,Daten!$A$118:$A$167,Daten!$Z$118:$Z$167),\"\") & \" \" & IF($A253<=Daten!$B$8,LOOKUP($B253,Daten!$A$118:$A$167,Daten!$AA$118:$AA$167),\"\")","v":"36,3 Inhalt6Einh[36,3]"},null,{"$f":"IF($A253<=Daten!$B$8,LOOKUP($B253,Daten!$A$169:$A$218,Daten!$Z$169:$Z$218),\"\") & \" \" & IF($A253<=Daten!$B$8,LOOKUP($B253,Daten!$A$169:$A$218,Daten!$AA$169:$AA$218),\"\")","v":"36,4 Inhalt6Einh[36,4]"},null,{"$f":"IF($A253<=Daten!$B$8,LOOKUP($B253,Daten!$A$220:$A$269,Daten!$Z$220:$Z$269),\"\") & \" \" & IF($A253<=Daten!$B$8,LOOKUP($B253,Daten!$A$220:$A$269,Daten!$AA$220:$AA$269),\"\")","v":"36,5 Inhalt6Einh[36,5]"},null,{"$f":"IF($A253<=Daten!$B$8,LOOKUP($B253,Daten!$A$271:$A$320,Daten!$Z$271:$Z$320),\"\") & \" \" & IF($A253<=Daten!$B$8,LOOKUP($B253,Daten!$A$271:$A$320,Daten!$AA$271:$AA$320),\"\")","v":"36,6 Inhalt6Einh[36,6]"},null,{"$f":"IF($A253<=Daten!$B$8,LOOKUP($B253,Daten!$A$322:$A$371,Daten!$Z$322:$Z$371),\"\") & \" \" & IF($A253<=Daten!$B$8,LOOKUP($B253,Daten!$A$322:$A$371,Daten!$AA$322:$AA$371),\"\")","v":"36,7 Inhalt6Einh[36,7]"}]
[null,{"$f":"IF(A253<=Daten!$B$8,\"Zusatzstoffe\",\"\")","v":"Zusatzstoffe"},{"$f":"IF($A253<=Daten!$B$8,LOOKUP($B253,Daten!$A$16:$A$65,Daten!$L$16:$L$65),\"\")","v":36.1},{"$f":"IF($A253<=Daten!$B$8,LOOKUP($B253,Daten!$A$16:$A$65,Daten!$D$16:$D$65),\"\")","v":36.1},{"$f":"IF($A253<=Daten!$B$8,LOOKUP($B253,Daten!$A$67:$A$116,Daten!$L$67:$L$116),\"\")","v":36.200000000000003},{"$f":"IF($A253<=Daten!$B$8,LOOKUP($B253,Daten!$A$16:$A$65,Daten!$D$67:$D$116),\"\")","v":36.200000000000003},{"$f":"IF($A253<=Daten!$B$8,LOOKUP($B253,Daten!$A$118:$A$167,Daten!$L$118:$L$167),\"\")","v":36.299999999999997},{"$f":"IF($A253<=Daten!$B$8,LOOKUP($B253,Daten!$A$118:$A$167,Daten!$D$118:$D$167),\"\")","v":36.299999999999997},{"$f":"IF($A253<=Daten!$B$8,LOOKUP($B253,Daten!$A$169:$A$218,Daten!$L$169:$L$218),\"\")","v":36.4},{"$f":"IF($A253<=Daten!$B$8,LOOKUP($B253,Daten!$A$169:$A$218,Daten!$D$169:$D$218),\"\")","v":36.4},{"$f":"IF($A253<=Daten!$B$8,LOOKUP($B253,Daten!$A$220:$A$269,Daten!$L$220:$L$269),\"\")","v":36.5},{"$f":"IF($A253<=Daten!$B$8,LOOKUP($B253,Daten!$A$220:$A$269,Daten!$D$220:$D$269),\"\")","v":36.5},{"$f":"IF($A253<=Daten!$B$8,LOOKUP($B253,Daten!$A$271:$A$320,Daten!$L$271:$L$320),\"\")","v":36.6},{"$f":"IF($A253<=Daten!$B$8,LOOKUP($B253,Daten!$A$271:$A$320,Daten!$D$271:$D$320),\"\")","v":36.6},{"$f":"IF($A253<=Daten!$B$8,LOOKUP($B253,Daten!$A$322:$A$371,Daten!$L$322:$L$371),\"\")","v":36.700000000000003},{"$f":"IF($A253<=Daten!$B$8,LOOKUP($B253,Daten!$A$322:$A$371,Daten!$D$322:$D$371),\"\")","v":36.700000000000003}]
[37,{"$f":"IF(A260<=Daten!$B$8,Daten!AL9,\"\")","v":"Menülinie 37"},{"$f":"IF(A260<=Daten!$B$8,LOOKUP(B260,Daten!$A$16:$A$65,Daten!$C$16:$C$65),\"\")","v":"Lang[37,1]"},{"$f":"IF($A260<=Daten!$B$8,LOOKUP($B260,Daten!$A$16:$A$65,Daten!$P$16:$P$65),\"\") & \" \" & IF($A260<=Daten!$B$8,LOOKUP($B260,Daten!$A$16:$A$65,Daten!$Q$16:$Q$65),\"\")","v":"37,1 Inhalt1Einh[37,1]"},{"$f":"IF($A260<=Daten!$B$8,LOOKUP($B260,Daten!$A$67:$A$116,Daten!$C$67:$C$116),\"\")","v":"Lang[37,2]"},{"$f":"IF($A260<=Daten!$B$8,LOOKUP($B260,Daten!$A$67:$A$116,Daten!$P$67:$P$116),\"\") & \" \" & IF($A260<=Daten!$B$8,LOOKUP($B260,Daten!$A$67:$A$116,Daten!$Q$67:$Q$116),\"\")","v":"37,2 Inhalt1Einh[37,2]"},{"$f":"IF($A260<=Daten!$B$8,LOOKUP($B260,Daten!$A$118:$A$167,Daten!$C$118:$C$167),\"\")","v":"Lang[37,3]"},{"$f":"IF($A260<=Daten!$B$8,LOOKUP($B260,Daten!$A$118:$A$167,Daten!$P$118:$P$167),\"\") & \" \" & IF($A260<=Daten!$B$8,LOOKUP($B260,Daten!$A$118:$A$167,Daten!$Q$118:$Q$167),\"\")","v":"37,3 Inhalt1Einh[37,3]"},{"$f":"IF($A260<=Daten!$B$8,LOOKUP($B260,Daten!$A$169:$A$218,Daten!$C$169:$C$218),\"\")","v":"Lang[37,4]"},{"$f":"IF($A260<=Daten!$B$8,LOOKUP($B260,Daten!$A$169:$A$218,Daten!$P$169:$P$218),\"\") & \" \" & IF($A260<=Daten!$B$8,LOOKUP($B260,Daten!$A$169:$A$218,Daten!$Q$169:$Q$218),\"\")","v":"37,4 Inhalt1Einh[37,4]"},{"$f":"IF($A260<=Daten!$B$8,LOOKUP($B260,Daten!$A$220:$A$269,Daten!$C$220:$C$269),\"\")","v":"Lang[37,5]"},{"$f":"IF($A260<=Daten!$B$8,LOOKUP($B260,Daten!$A$220:$A$269,Daten!$P$220:$P$269),\"\") & \" \" & IF($A260<=Daten!$B$8,LOOKUP($B260,Daten!$A$220:$A$269,Daten!$Q$220:$Q$269),\"\")","v":"37,5 Inhalt1Einh[37,5]"},{"$f":"IF($A260<=Daten!$B$8,LOOKUP($B260,Daten!$A$271:$A$320,Daten!$C$271:$C$320),\"\")","v":"Lang[37,6]"},{"$f":"IF($A260<=Daten!$B$8,LOOKUP($B260,Daten!$A$271:$A$320,Daten!$P$271:$P$320),\"\") & \" \" & IF($A260<=Daten!$B$8,LOOKUP($B260,Daten!$A$271:$A$320,Daten!$Q$271:$Q$320),\"\")","v":"37,6 Inhalt1Einh[37,6]"},{"$f":"IF($A260<=Daten!$B$8,LOOKUP($B260,Daten!$A$322:$A$371,Daten!$B$322:$C$371),\"\")","v":{"$error":"#N/A"}},{"$f":"IF($A260<=Daten!$B$8,LOOKUP($B260,Daten!$A$322:$A$371,Daten!$P$322:$P$371),\"\") & \" \" & IF($A260<=Daten!$B$8,LOOKUP($B260,Daten!$A$322:$A$371,Daten!$Q$322:$Q$371),\"\")","v":"37,7 Inhalt1Einh[37,7]"}]
[null,null,null,{"$f":"IF($A260<=Daten!$B$8,LOOKUP($B260,Daten!$A$16:$A$65,Daten!$R$16:$R$65),\"\") & \" \" & IF($A260<=Daten!$B$8,LOOKUP($B260,Daten!$A$16:$A$65,Daten!$S$16:$S$65),\"\")","v":"37,1 Inhalt2Einh[37,1]"},null,{"$f":"IF($A260<=Daten!$B$8,LOOKUP($B260,Daten!$A$67:$A$116,Daten!$R$67:$R$116),\"\") & \" \" & IF($A260<=Daten!$B$8,LOOKUP($B260,Daten!$A$67:$A$116,Daten!$S$67:$S$116),\"\")","v":"37,2 Inhalt2Einh[37,2]"},null,{"$f":"IF($A260<=Daten!$B$8,LOOKUP($B260,Daten!$A$118:$A$167,Daten!$R$118:$R$167),\"\") & \" \" & IF($A260<=Daten!$B$8,LOOKUP($B260,Daten!$A$118:$A$167,Daten!$S$118:$S$167),\"\")","v":"37,3 Inhalt2Einh[37,3]"},null,{"$f":"IF($A260<=Daten!$B$8,LOOKUP($B260,Daten!$A$169:$A$218,Daten!$R$169:$R$218),\"\") & \" \" & IF($A260<=Daten!$B$8,LOOKUP($B260,Daten!$A$169:$A$218,Daten!$S$169:$S$218),\"\")","v":"37,4 Inhalt2Einh[37,4]"},null,{"$f":"IF($A260<=Daten!$B$8,LOOKUP($B260,Daten!$A$220:$A$269,Daten!$R$220:$R$269),\"\") & \" \" & IF($A260<=Daten!$B$8,LOOKUP($B260,Daten!$A$220:$A$269,Daten!$S$220:$S$269),\"\")","v":"37,5 Inhalt2Einh[37,5]"},null,{"$f":"IF($A260<=Daten!$B$8,LOOKUP($B260,Daten!$A$271:$A$320,Daten!$R$271:$R$320),\"\") & \" \" & IF($A260<=Daten!$B$8,LOOKUP($B260,Daten!$A$271:$A$320,Daten!$S$271:$S$320),\"\")","v":"37,6 Inhalt2Einh[37,6]"},null,{"$f":"IF($A260<=Daten!$B$8,LOOKUP($B260,Daten!$A$322:$A$371,Daten!$R$322:$R$371),\"\") & \" \" & IF($A260<=Daten!$B$8,LOOKUP($B260,Daten!$A$322:$A$371,Daten!$S$322:$S$371),\"\")","v":"37,7 Inhalt2Einh[37,7]"}]
[null,null,null,{"$f":"IF($A260<=Daten!$B$8,LOOKUP($B260,Daten!$A$16:$A$65,Daten!$T$16:$T$65),\"\") & \" \" & IF($A260<=Daten!$B$8,LOOKUP($B260,Daten!$A$16:$A$65,Daten!$U$16:$U$65),\"\")","v":"37,1 Inhalt3Einh[37,1]"},null,{"$f":"IF($A260<=Daten!$B$8,LOOKUP($B260,Daten!$A$67:$A$116,Daten!$T$67:$T$116),\"\") & \" \" & IF($A260<=Daten!$B$8,LOOKUP($B260,Daten!$A$67:$A$116,Daten!$U$67:$U$116),\"\")","v":"37,2 Inhalt3Einh[37,2]"},null,{"$f":"IF($A260<=Daten!$B$8,LOOKUP($B260,Daten!$A$118:$A$167,Daten!$T$118:$T$167),\"\") & \" \" & IF($A260<=Daten!$B$8,LOOKUP($B260,Daten!$A$118:$A$167,Daten!$U$118:$U$167),\"\")","v":"37,3 Inhalt3Einh[37,3]"},null,{"$f":"IF($A260<=Daten!$B$8,LOOKUP($B260,Daten!$A$169:$A$218,Daten!$T$169:$T$218),\"\") & \" \" & IF($A260<=Daten!$B$8,LOOKUP($B260,Daten!$A$169:$A$218,Daten!$U$169:$U$218),\"\")","v":"37,4 Inhalt3Einh[37,4]"},null,{"$f":"IF($A260<=Daten!$B$8,LOOKUP($B260,Daten!$A$220:$A$269,Daten!$T$220:$T$269),\"\") & \" \" & IF($A260<=Daten!$B$8,LOOKUP($B260,Daten!$A$220:$A$269,Daten!$U$220:$U$269),\"\")","v":"37,5 Inhalt3Einh[37,5]"},null,{"$f":"IF($A260<=Daten!$B$8,LOOKUP($B260,Daten!$A$271:$A$320,Daten!$T$271:$T$320),\"\") & \" \" & IF($A260<=Daten!$B$8,LOOKUP($B260,Daten!$A$271:$A$320,Daten!$U$271:$U$320),\"\")","v":"37,6 Inhalt3Einh[37,6]"},null,{"$f":"IF($A260<=Daten!$B$8,LOOKUP($B260,Daten!$A$322:$A$371,Daten!$T$322:$T$371),\"\") & \" \" & IF($A260<=Daten!$B$8,LOOKUP($B260,Daten!$A$322:$A$371,Daten!$U$322:$U$371),\"\")","v":"37,7 Inhalt3Einh[37,7]"}]
[null,null,null,{"$f":"IF($A260<=Daten!$B$8,LOOKUP($B260,Daten!$A$16:$A$65,Daten!$V$16:$V$65),\"\") & \" \" & IF($A260<=Daten!$B$8,LOOKUP($B260,Daten!$A$16:$A$65,Daten!$W$16:$W$65),\"\")","v":"37,1 Inhalt4Einh[37,1]"},null,{"$f":"IF($A260<=Daten!$B$8,LOOKUP($B260,Daten!$A$67:$A$116,Daten!$V$67:$V$116),\"\") & \" \" & IF($A260<=Daten!$B$8,LOOKUP($B260,Daten!$A$67:$A$116,Daten!$W$67:$W$116),\"\")","v":"37,2 Inhalt4Einh[37,2]"},null,{"$f":"IF($A260<=Daten!$B$8,LOOKUP($B260,Daten!$A$118:$A$167,Daten!$V$118:$V$167),\"\") & \" \" & IF($A260<=Daten!$B$8,LOOKUP($B260,Daten!$A$118:$A$167,Daten!$W$118:$W$167),\"\")","v":"37,3 Inhalt4Einh[37,3]"},null,{"$f":"IF($A260<=Daten!$B$8,LOOKUP($B260,Daten!$A$169:$A$218,Daten!$V$169:$V$218),\"\") & \" \" & IF($A260<=Daten!$B$8,LOOKUP($B260,Daten!$A$169:$A$218,Daten!$W$169:$W$218),\"\")","v":"37,4 Inhalt4Einh[37,4]"},null,{"$f":"IF($A260<=Daten!$B$8,LOOKUP($B260,Daten!$A$220:$A$269,Daten!$V$220:$V$269),\"\") & \" \" & IF($A260<=Daten!$B$8,LOOKUP($B260,Daten!$A$220:$A$269,Daten!$W$220:$W$269),\"\")","v":"37,5 Inhalt4Einh[37,5]"},null,{"$f":"IF($A260<=Daten!$B$8,LOOKUP($B260,Daten!$A$271:$A$320,Daten!$V$271:$V$320),\"\") & \" \" & IF($A260<=Daten!$B$8,LOOKUP($B260,Daten!$A$271:$A$320,Daten!$W$271:$W$320),\"\")","v":"37,6 Inhalt4Einh[37,6]"},null,{"$f":"IF($A260<=Daten!$B$8,LOOKUP($B260,Daten!$A$322:$A$371,Daten!$V$322:$V$371),\"\") & \" \" & IF($A260<=Daten!$B$8,LOOKUP($B260,Daten!$A$322:$A$371,Daten!$W$322:$W$371),\"\")","v":"37,7 Inhalt4Einh[37,7]"}]
[null,null,null,{"$f":"IF($A260<=Daten!$B$8,LOOKUP($B260,Daten!$A$16:$A$65,Daten!$X$16:$X$65),\"\") & \" \" & IF($A260<=Daten!$B$8,LOOKUP($B260,Daten!$A$16:$A$65,Daten!$Y$16:$Y$65),\"\")","v":"37,1 Inhalt5Einh[37,1]"},null,{"$f":"IF($A260<=Daten!$B$8,LOOKUP($B260,Daten!$A$67:$A$116,Daten!$X$67:$X$116),\"\") & \" \" & IF($A260<=Daten!$B$8,LOOKUP($B260,Daten!$A$67:$A$116,Daten!$Y$67:$Y$116),\"\")","v":"37,2 Inhalt5Einh[37,2]"},null,{"$f":"IF($A260<=Daten!$B$8,LOOKUP($B260,Daten!$A$118:$A$167,Daten!$X$118:$X$167),\"\") & \" \" & IF($A260<=Daten!$B$8,LOOKUP($B260,Daten!$A$118:$A$167,Daten!$Y$118:$Y$167),\"\")","v":"37,3 Inhalt5Einh[37,3]"},null,{"$f":"IF($A260<=Daten!$B$8,LOOKUP($B260,Daten!$A$169:$A$218,Daten!$X$169:$X$218),\"\") & \" \" & IF($A260<=Daten!$B$8,LOOKUP($B260,Daten!$A$169:$A$218,Daten!$Y$169:$Y$218),\"\")","v":"37,4 Inhalt5Einh[37,4]"},null,{"$f":"IF($A260<=Daten!$B$8,LOOKUP($B260,Daten!$A$220:$A$269,Daten!$X$220:$X$269),\"\") & \" \" & IF($A260<=Daten!$B$8,LOOKUP($B260,Daten!$A$220:$A$269,Daten!$Y$220:$Y$269),\"\")","v":"37,5 Inhalt5Einh[37,5]"},null,{"$f":"IF($A260<=Daten!$B$8,LOOKUP($B260,Daten!$A$271:$A$320,Daten!$X$271:$X$320),\"\") & \" \" & IF($A260<=Daten!$B$8,LOOKUP($B260,Daten!$A$271:$A$320,Daten!$Y$271:$Y$320),\"\")","v":"37,6 Inhalt5Einh[37,6]"},null,{"$f":"IF($A260<=Daten!$B$8,LOOKUP($B260,Daten!$A$322:$A$371,Daten!$X$322:$X$371),\"\") & \" \" & IF($A260<=Daten!$B$8,LOOKUP($B260,Daten!$A$322:$A$371,Daten!$Y$322:$Y$371),\"\")","v":"37,7 Inhalt5Einh[37,7]"}]
[null,null,null,{"$f":"IF($A260<=Daten!$B$8,LOOKUP($B260,Daten!$A$16:$A$65,Daten!$Z$16:$Z$65),\"\") & \" \" & IF($A260<=Daten!$B$8,LOOKUP($B260,Daten!$A$16:$A$65,Daten!$AA$16:$AA$65),\"\")","v":"37,1 Inhalt6Einh[37,1]"},null,{"$f":"IF($A260<=Daten!$B$8,LOOKUP($B260,Daten!$A$67:$A$116,Daten!$Z$67:$Z$116),\"\") & \" \" & IF($A260<=Daten!$B$8,LOOKUP($B260,Daten!$A$67:$A$116,Daten!$AA$67:$AA$116),\"\")","v":"37,2 Inhalt6Einh[37,2]"},null,{"$f":"IF($A260<=Daten!$B$8,LOOKUP($B260,Daten!$A$118:$A$167,Daten!$Z$118:$Z$167),\"\") & \" \" & IF($A260<=Daten!$B$8,LOOKUP($B260,Daten!$A$118:$A$167,Daten!$AA$118:$AA$167),\"\")","v":"37,3 Inhalt6Einh[37,3]"},null,{"$f":"IF($A260<=Daten!$B$8,LOOKUP($B260,Daten!$A$169:$A$218,Daten!$Z$169:$Z$218),\"\") & \" \" & IF($A260<=Daten!$B$8,LOOKUP($B260,Daten!$A$169:$A$218,Daten!$AA$169:$AA$218),\"\")","v":"37,4 Inhalt6Einh[37,4]"},null,{"$f":"IF($A260<=Daten!$B$8,LOOKUP($B260,Daten!$A$220:$A$269,Daten!$Z$220:$Z$269),\"\") & \" \" & IF($A260<=Daten!$B$8,LOOKUP($B260,Daten!$A$220:$A$269,Daten!$AA$220:$AA$269),\"\")","v":"37,5 Inhalt6Einh[37,5]"},null,{"$f":"IF($A260<=Daten!$B$8,LOOKUP($B260,Daten!$A$271:$A$320,Daten!$Z$271:$Z$320),\"\") & \" \" & IF($A260<=Daten!$B$8,LOOKUP($B260,Daten!$A$271:$A$320,Daten!$AA$271:$AA$320),\"\")","v":"37,6 Inhalt6Einh[37,6]"},null,{"$f":"IF($A260<=Daten!$B$8,LOOKUP($B260,Daten!$A$322:$A$371,Daten!$Z$322:$Z$371),\"\") & \" \" & IF($A260<=Daten!$B$8,LOOKUP($B260,Daten!$A$322:$A$371,Daten!$AA$322:$AA$371),\"\")","v":"37,7 Inhalt6Einh[37,7]"}]
[null,{"$f":"IF(A260<=Daten!$B$8,\"Zusatzstoffe\",\"\")","v":"Zusatzstoffe"},{"$f":"IF($A260<=Daten!$B$8,LOOKUP($B260,Daten!$A$16:$A$65,Daten!$L$16:$L$65),\"\")","v":37.1},{"$f":"IF($A260<=Daten!$B$8,LOOKUP($B260,Daten!$A$16:$A$65,Daten!$D$16:$D$65),\"\")","v":37.1},{"$f":"IF($A260<=Daten!$B$8,LOOKUP($B260,Daten!$A$67:$A$116,Daten!$L$67:$L$116),\"\")","v":37.200000000000003},{"$f":"IF($A260<=Daten!$B$8,LOOKUP($B260,Daten!$A$16:$A$65,Daten!$D$67:$D$116),\"\")","v":37.200000000000003},{"$f":"IF($A260<=Daten!$B$8,LOOKUP($B260,Daten!$A$118:$A$167,Daten!$L$118:$L$167),\"\")","v":37.299999999999997},{"$f":"IF($A260<=Daten!$B$8,LOOKUP($B260,Daten!$A$118:$A$167,Daten!$D$118:$D$167),\"\")","v":37.299999999999997},{"$f":"IF($A260<=Daten!$B$8,LOOKUP($B260,Daten!$A$169:$A$218,Daten!$L$169:$L$218),\"\")","v":37.4},{"$f":"IF($A260<=Daten!$B$8,LOOKUP($B260,Daten!$A$169:$A$218,Daten!$D$169:$D$218),\"\")","v":37.4},{"$f":"IF($A260<=Daten!$B$8,LOOKUP($B260,Daten!$A$220:$A$269,Daten!$L$220:$L$269),\"\")","v":37.5},{"$f":"IF($A260<=Daten!$B$8,LOOKUP($B260,Daten!$A$220:$A$269,Daten!$D$220:$D$269),\"\")","v":37.5},{"$f":"IF($A260<=Daten!$B$8,LOOKUP($B260,Daten!$A$271:$A$320,Daten!$L$271:$L$320),\"\")","v":37.6},{"$f":"IF($A260<=Daten!$B$8,LOOKUP($B260,Daten!$A$271:$A$320,Daten!$D$271:$D$320),\"\")","v":37.6},{"$f":"IF($A260<=Daten!$B$8,LOOKUP($B260,Daten!$A$322:$A$371,Daten!$L$322:$L$371),\"\")","v":37.700000000000003},{"$f":"IF($A260<=Daten!$B$8,LOOKUP($B260,Daten!$A$322:$A$371,Daten!$D$322:$D$371),\"\")","v":37.700000000000003}]
[38,{"$f":"IF(A267<=Daten!$B$8,Daten!AM9,\"\")","v":"Menülinie 38"},{"$f":"IF(A267<=Daten!$B$8,LOOKUP(B267,Daten!$A$16:$A$65,Daten!$C$16:$C$65),\"\")","v":"Lang[38,1]"},{"$f":"IF($A267<=Daten!$B$8,LOOKUP($B267,Daten!$A$16:$A$65,Daten!$P$16:$P$65),\"\") & \" \" & IF($A267<=Daten!$B$8,LOOKUP($B267,Daten!$A$16:$A$65,Daten!$Q$16:$Q$65),\"\")","v":"38,1 Inhalt1Einh[38,1]"},{"$f":"IF($A267<=Daten!$B$8,LOOKUP($B267,Daten!$A$57:$A$116,Daten!$C$57:$C$116),\"\")","v":"Lang[38,2]"},{"$f":"IF($A267<=Daten!$B$8,LOOKUP($B267,Daten!$A$57:$A$116,Daten!$P$57:$P$116),\"\") & \" \" & IF($A267<=Daten!$B$8,LOOKUP($B267,Daten!$A$57:$A$116,Daten!$Q$57:$Q$116),\"\")","v":"38,2 Inhalt1Einh[38,2]"},{"$f":"IF($A267<=Daten!$B$8,LOOKUP($B267,Daten!$A$118:$A$167,Daten!$C$118:$C$167),\"\")","v":"Lang[38,3]"},{"$f":"IF($A267<=Daten!$B$8,LOOKUP($B267,Daten!$A$118:$A$167,Daten!$P$118:$P$167),\"\") & \" \" & IF($A267<=Daten!$B$8,LOOKUP($B267,Daten!$A$118:$A$167,Daten!$Q$118:$Q$167),\"\")","v":"38,3 Inhalt1Einh[38,3]"},{"$f":"IF($A267<=Daten!$B$8,LOOKUP($B267,Daten!$A$169:$A$218,Daten!$C$169:$C$218),\"\")","v":"Lang[38,4]"},{"$f":"IF($A267<=Daten!$B$8,LOOKUP($B267,Daten!$A$169:$A$218,Daten!$P$169:$P$218),\"\") & \" \" & IF($A267<=Daten!$B$8,LOOKUP($B267,Daten!$A$169:$A$218,Daten!$Q$169:$Q$218),\"\")","v":"38,4 Inhalt1Einh[38,4]"},{"$f":"IF($A267<=Daten!$B$8,LOOKUP($B267,Daten!$A$220:$A$269,Daten!$C$220:$C$269),\"\")","v":"Lang[38,5]"},{"$f":"IF($A267<=Daten!$B$8,LOOKUP($B267,Daten!$A$220:$A$269,Daten!$P$220:$P$269),\"\") & \" \" & IF($A267<=Daten!$B$8,LOOKUP($B267,Daten!$A$220:$A$269,Daten!$Q$220:$Q$269),\"\")","v":"38,5 Inhalt1Einh[38,5]"},{"$f":"IF($A267<=Daten!$B$8,LOOKUP($B267,Daten!$A$271:$A$320,Daten!$C$271:$C$320),\"\")","v":"Lang[38,6]"},{"$f":"IF($A267<=Daten!$B$8,LOOKUP($B267,Daten!$A$271:$A$320,Daten!$P$271:$P$320),\"\") & \" \" & IF($A267<=Daten!$B$8,LOOKUP($B267,Daten!$A$271:$A$320,Daten!$Q$271:$Q$320),\"\")","v":"38,6 Inhalt1Einh[38,6]"},{"$f":"IF($A267<=Daten!$B$8,LOOKUP($B267,Daten!$A$322:$A$371,Daten!$B$322:$C$371),\"\")","v":{"$error":"#N/A"}},{"$f":"IF($A267<=Daten!$B$8,LOOKUP($B267,Daten!$A$322:$A$371,Daten!$P$322:$P$371),\"\") & \" \" & IF($A267<=Daten!$B$8,LOOKUP($B267,Daten!$A$322:$A$371,Daten!$Q$322:$Q$371),\"\")","v":"38,7 Inhalt1Einh[38,7]"}]
[null,null,null,{"$f":"IF($A267<=Daten!$B$8,LOOKUP($B267,Daten!$A$16:$A$65,Daten!$R$16:$R$65),\"\") & \" \" & IF($A267<=Daten!$B$8,LOOKUP($B267,Daten!$A$16:$A$65,Daten!$S$16:$S$65),\"\")","v":"38,1 Inhalt2Einh[38,1]"},null,{"$f":"IF($A267<=Daten!$B$8,LOOKUP($B267,Daten!$A$57:$A$116,Daten!$R$57:$R$116),\"\") & \" \" & IF($A267<=Daten!$B$8,LOOKUP($B267,Daten!$A$57:$A$116,Daten!$S$57:$S$116),\"\")","v":"38,2 Inhalt2Einh[38,2]"},null,{"$f":"IF($A267<=Daten!$B$8,LOOKUP($B267,Daten!$A$118:$A$167,Daten!$R$118:$R$167),\"\") & \" \" & IF($A267<=Daten!$B$8,LOOKUP($B267,Daten!$A$118:$A$167,Daten!$S$118:$S$167),\"\")","v":"38,3 Inhalt2Einh[38,3]"},null,{"$f":"IF($A267<=Daten!$B$8,LOOKUP($B267,Daten!$A$169:$A$218,Daten!$R$169:$R$218),\"\") & \" \" & IF($A267<=Daten!$B$8,LOOKUP($B267,Daten!$A$169:$A$218,Daten!$S$169:$S$218),\"\")","v":"38,4 Inhalt2Einh[38,4]"},null,{"$f":"IF($A267<=Daten!$B$8,LOOKUP($B267,Daten!$A$220:$A$269,Daten!$R$220:$R$269),\"\") & \" \" & IF($A267<=Daten!$B$8,LOOKUP($B267,Daten!$A$220:$A$269,Daten!$S$220:$S$269),\"\")","v":"38,5 Inhalt2Einh[38,5]"},null,{"$f":"IF($A267<=Daten!$B$8,LOOKUP($B267,Daten!$A$271:$A$320,Daten!$R$271:$R$320),\"\") & \" \" & IF($A267<=Daten!$B$8,LOOKUP($B267,Daten!$A$271:$A$320,Daten!$S$271:$S$320),\"\")","v":"38,6 Inhalt2Einh[38,6]"},null,{"$f":"IF($A267<=Daten!$B$8,LOOKUP($B267,Daten!$A$322:$A$371,Daten!$R$322:$R$371),\"\") & \" \" & IF($A267<=Daten!$B$8,LOOKUP($B267,Daten!$A$322:$A$371,Daten!$S$322:$S$371),\"\")","v":"38,7 Inhalt2Einh[38,7]"}]
[null,null,null,{"$f":"IF($A267<=Daten!$B$8,LOOKUP($B267,Daten!$A$16:$A$65,Daten!$T$16:$T$65),\"\") & \" \" & IF($A267<=Daten!$B$8,LOOKUP($B267,Daten!$A$16:$A$65,Daten!$U$16:$U$65),\"\")","v":"38,1 Inhalt3Einh[38,1]"},null,{"$f":"IF($A267<=Daten!$B$8,LOOKUP($B267,Daten!$A$57:$A$116,Daten!$T$57:$T$116),\"\") & \" \" & IF($A267<=Daten!$B$8,LOOKUP($B267,Daten!$A$57:$A$116,Daten!$U$57:$U$116),\"\")","v":"38,2 Inhalt3Einh[38,2]"},null,{"$f":"IF($A267<=Daten!$B$8,LOOKUP($B267,Daten!$A$118:$A$167,Daten!$T$118:$T$167),\"\") & \" \" & IF($A267<=Daten!$B$8,LOOKUP($B267,Daten!$A$118:$A$167,Daten!$U$118:$U$167),\"\")","v":"38,3 Inhalt3Einh[38,3]"},null,{"$f":"IF($A267<=Daten!$B$8,LOOKUP($B267,Daten!$A$169:$A$218,Daten!$T$169:$T$218),\"\") & \" \" & IF($A267<=Daten!$B$8,LOOKUP($B267,Daten!$A$169:$A$218,Daten!$U$169:$U$218),\"\")","v":"38,4 Inhalt3Einh[38,4]"},null,{"$f":"IF($A267<=Daten!$B$8,LOOKUP($B267,Daten!$A$220:$A$269,Daten!$T$220:$T$269),\"\") & \" \" & IF($A267<=Daten!$B$8,LOOKUP($B267,Daten!$A$220:$A$269,Daten!$U$220:$U$269),\"\")","v":"38,5 Inhalt3Einh[38,5]"},null,{"$f":"IF($A267<=Daten!$B$8,LOOKUP($B267,Daten!$A$271:$A$320,Daten!$T$271:$T$320),\"\") & \" \" & IF($A267<=Daten!$B$8,LOOKUP($B267,Daten!$A$271:$A$320,Daten!$U$271:$U$320),\"\")","v":"38,6 Inhalt3Einh[38,6]"},null,{"$f":"IF($A267<=Daten!$B$8,LOOKUP($B267,Daten!$A$322:$A$371,Daten!$T$322:$T$371),\"\") & \" \" & IF($A267<=Daten!$B$8,LOOKUP($B267,Daten!$A$322:$A$371,Daten!$U$322:$U$371),\"\")","v":"38,7 Inhalt3Einh[38,7]"}]
[null,null,null,{"$f":"IF($A267<=Daten!$B$8,LOOKUP($B267,Daten!$A$16:$A$65,Daten!$V$16:$V$65),\"\") & \" \" & IF($A267<=Daten!$B$8,LOOKUP($B267,Daten!$A$16:$A$65,Daten!$W$16:$W$65),\"\")","v":"38,1 Inhalt4Einh[38,1]"},null,{"$f":"IF($A267<=Daten!$B$8,LOOKUP($B267,Daten!$A$57:$A$116,Daten!$V$57:$V$116),\"\") & \" \" & IF($A267<=Daten!$B$8,LOOKUP($B267,Daten!$A$57:$A$116,Daten!$W$57:$W$116),\"\")","v":"38,2 Inhalt4Einh[38,2]"},null,{"$f":"IF($A267<=Daten!$B$8,LOOKUP($B267,Daten!$A$118:$A$167,Daten!$V$118:$V$167),\"\") & \" \" & IF($A267<=Daten!$B$8,LOOKUP($B267,Daten!$A$118:$A$167,Daten!$W$118:$W$167),\"\")","v":"38,3 Inhalt4Einh[38,3]"},null,{"$f":"IF($A267<=Daten!$B$8,LOOKUP($B267,Daten!$A$169:$A$218,Daten!$V$169:$V$218),\"\") & \" \" & IF($A267<=Daten!$B$8,LOOKUP($B267,Daten!$A$169:$A$218,Daten!$W$169:$W$218),\"\")","v":"38,4 Inhalt4Einh[38,4]"},null,{"$f":"IF($A267<=Daten!$B$8,LOOKUP($B267,Daten!$A$220:$A$269,Daten!$V$220:$V$269),\"\") & \" \" & IF($A267<=Daten!$B$8,LOOKUP($B267,Daten!$A$220:$A$269,Daten!$W$220:$W$269),\"\")","v":"38,5 Inhalt4Einh[38,5]"},null,{"$f":"IF($A267<=Daten!$B$8,LOOKUP($B267,Daten!$A$271:$A$320,Daten!$V$271:$V$320),\"\") & \" \" & IF($A267<=Daten!$B$8,LOOKUP($B267,Daten!$A$271:$A$320,Daten!$W$271:$W$320),\"\")","v":"38,6 Inhalt4Einh[38,6]"},null,{"$f":"IF($A267<=Daten!$B$8,LOOKUP($B267,Daten!$A$322:$A$371,Daten!$V$322:$V$371),\"\") & \" \" & IF($A267<=Daten!$B$8,LOOKUP($B267,Daten!$A$322:$A$371,Daten!$W$322:$W$371),\"\")","v":"38,7 Inhalt4Einh[38,7]"}]
[null,null,null,{"$f":"IF($A267<=Daten!$B$8,LOOKUP($B267,Daten!$A$16:$A$65,Daten!$X$16:$X$65),\"\") & \" \" & IF($A267<=Daten!$B$8,LOOKUP($B267,Daten!$A$16:$A$65,Daten!$Y$16:$Y$65),\"\")","v":"38,1 Inhalt5Einh[38,1]"},null,{"$f":"IF($A267<=Daten!$B$8,LOOKUP($B267,Daten!$A$57:$A$116,Daten!$X$57:$X$116),\"\") & \" \" & IF($A267<=Daten!$B$8,LOOKUP($B267,Daten!$A$57:$A$116,Daten!$Y$57:$Y$116),\"\")","v":"38,2 Inhalt5Einh[38,2]"},null,{"$f":"IF($A267<=Daten!$B$8,LOOKUP($B267,Daten!$A$118:$A$167,Daten!$X$118:$X$167),\"\") & \" \" & IF($A267<=Daten!$B$8,LOOKUP($B267,Daten!$A$118:$A$167,Daten!$Y$118:$Y$167),\"\")","v":"38,3 Inhalt5Einh[38,3]"},null,{"$f":"IF($A267<=Daten!$B$8,LOOKUP($B267,Daten!$A$169:$A$218,Daten!$X$169:$X$218),\"\") & \" \" & IF($A267<=Daten!$B$8,LOOKUP($B267,Daten!$A$169:$A$218,Daten!$Y$169:$Y$218),\"\")","v":"38,4 Inhalt5Einh[38,4]"},null,{"$f":"IF($A267<=Daten!$B$8,LOOKUP($B267,Daten!$A$220:$A$269,Daten!$X$220:$X$269),\"\") & \" \" & IF($A267<=Daten!$B$8,LOOKUP($B267,Daten!$A$220:$A$269,Daten!$Y$220:$Y$269),\"\")","v":"38,5 Inhalt5Einh[38,5]"},null,{"$f":"IF($A267<=Daten!$B$8,LOOKUP($B267,Daten!$A$271:$A$320,Daten!$X$271:$X$320),\"\") & \" \" & IF($A267<=Daten!$B$8,LOOKUP($B267,Daten!$A$271:$A$320,Daten!$Y$271:$Y$320),\"\")","v":"38,6 Inhalt5Einh[38,6]"},null,{"$f":"IF($A267<=Daten!$B$8,LOOKUP($B267,Daten!$A$322:$A$371,Daten!$X$322:$X$371),\"\") & \" \" & IF($A267<=Daten!$B$8,LOOKUP($B267,Daten!$A$322:$A$371,Daten!$Y$322:$Y$371),\"\")","v":"38,7 Inhalt5Einh[38,7]"}]
[null,null,null,{"$f":"IF($A267<=Daten!$B$8,LOOKUP($B267,Daten!$A$16:$A$65,Daten!$Z$16:$Z$65),\"\") & \" \" & IF($A267<=Daten!$B$8,LOOKUP($B267,Daten!$A$16:$A$65,Daten!$AA$16:$AA$65),\"\")","v":"38,1 Inhalt6Einh[38,1]"},null,{"$f":"IF($A267<=Daten!$B$8,LOOKUP($B267,Daten!$A$57:$A$116,Daten!$Z$57:$Z$116),\"\") & \" \" & IF($A267<=Daten!$B$8,LOOKUP($B267,Daten!$A$57:$A$116,Daten!$AA$57:$AA$116),\"\")","v":"38,2 Inhalt6Einh[38,2]"},null,{"$f":"IF($A267<=Daten!$B$8,LOOKUP($B267,Daten!$A$118:$A$167,Daten!$Z$118:$Z$167),\"\") & \" \" & IF($A267<=Daten!$B$8,LOOKUP($B267,Daten!$A$118:$A$167,Daten!$AA$118:$AA$167),\"\")","v":"38,3 Inhalt6Einh[38,3]"},null,{"$f":"IF($A267<=Daten!$B$8,LOOKUP($B267,Daten!$A$169:$A$218,Daten!$Z$169:$Z$218),\"\") & \" \" & IF($A267<=Daten!$B$8,LOOKUP($B267,Daten!$A$169:$A$218,Daten!$AA$169:$AA$218),\"\")","v":"38,4 Inhalt6Einh[38,4]"},null,{"$f":"IF($A267<=Daten!$B$8,LOOKUP($B267,Daten!$A$220:$A$269,Daten!$Z$220:$Z$269),\"\") & \" \" & IF($A267<=Daten!$B$8,LOOKUP($B267,Daten!$A$220:$A$269,Daten!$AA$220:$AA$269),\"\")","v":"38,5 Inhalt6Einh[38,5]"},null,{"$f":"IF($A267<=Daten!$B$8,LOOKUP($B267,Daten!$A$271:$A$320,Daten!$Z$271:$Z$320),\"\") & \" \" & IF($A267<=Daten!$B$8,LOOKUP($B267,Daten!$A$271:$A$320,Daten!$AA$271:$AA$320),\"\")","v":"38,6 Inhalt6Einh[38,6]"},null,{"$f":"IF($A267<=Daten!$B$8,LOOKUP($B267,Daten!$A$322:$A$371,Daten!$Z$322:$Z$371),\"\") & \" \" & IF($A267<=Daten!$B$8,LOOKUP($B267,Daten!$A$322:$A$371,Daten!$AA$322:$AA$371),\"\")","v":"38,7 Inhalt6Einh[38,7]"}]
[null,{"$f":"IF(A267<=Daten!$B$8,\"Zusatzstoffe\",\"\")","v":"Zusatzstoffe"},{"$f":"IF($A267<=Daten!$B$8,LOOKUP($B267,Daten!$A$16:$A$65,Daten!$L$16:$L$65),\"\")","v":38.1},{"$f":"IF($A267<=Daten!$B$8,LOOKUP($B267,Daten!$A$16:$A$65,Daten!$D$16:$D$65),\"\")","v":38.1},{"$f":"IF($A267<=Daten!$B$8,LOOKUP($B267,Daten!$A$67:$A$116,Daten!$L$67:$L$116),\"\")","v":38.200000000000003},{"$f":"IF($A267<=Daten!$B$8,LOOKUP($B267,Daten!$A$16:$A$65,Daten!$D$67:$D$116),\"\")","v":38.200000000000003},{"$f":"IF($A267<=Daten!$B$8,LOOKUP($B267,Daten!$A$118:$A$167,Daten!$L$118:$L$167),\"\")","v":38.299999999999997},{"$f":"IF($A267<=Daten!$B$8,LOOKUP($B267,Daten!$A$118:$A$167,Daten!$D$118:$D$167),\"\")","v":38.299999999999997},{"$f":"IF($A267<=Daten!$B$8,LOOKUP($B267,Daten!$A$169:$A$218,Daten!$L$169:$L$218),\"\")","v":38.4},{"$f":"IF($A267<=Daten!$B$8,LOOKUP($B267,Daten!$A$169:$A$218,Daten!$D$169:$D$218),\"\")","v":38.4},{"$f":"IF($A267<=Daten!$B$8,LOOKUP($B267,Daten!$A$220:$A$269,Daten!$L$220:$L$269),\"\")","v":38.5},{"$f":"IF($A267<=Daten!$B$8,LOOKUP($B267,Daten!$A$220:$A$269,Daten!$D$220:$D$269),\"\")","v":38.5},{"$f":"IF($A267<=Daten!$B$8,LOOKUP($B267,Daten!$A$271:$A$320,Daten!$L$271:$L$320),\"\")","v":38.6},{"$f":"IF($A267<=Daten!$B$8,LOOKUP($B267,Daten!$A$271:$A$320,Daten!$D$271:$D$320),\"\")","v":38.6},{"$f":"IF($A267<=Daten!$B$8,LOOKUP($B267,Daten!$A$322:$A$371,Daten!$L$322:$L$371),\"\")","v":38.700000000000003},{"$f":"IF($A267<=Daten!$B$8,LOOKUP($B267,Daten!$A$322:$A$371,Daten!$D$322:$D$371),\"\")","v":38.700000000000003}]
[39,{"$f":"IF(A274<=Daten!$B$8,Daten!AN9,\"\")","v":"Menülinie 39"},{"$f":"IF(A274<=Daten!$B$8,LOOKUP(B274,Daten!$A$16:$A$65,Daten!$C$16:$C$65),\"\")","v":"Lang[39,1]"},{"$f":"IF($A274<=Daten!$B$8,LOOKUP($B274,Daten!$A$16:$A$65,Daten!$P$16:$P$65),\"\") & \" \" & IF($A274<=Daten!$B$8,LOOKUP($B274,Daten!$A$16:$A$65,Daten!$Q$16:$Q$65),\"\")","v":"39,1 Inhalt1Einh[39,1]"},{"$f":"IF($A274<=Daten!$B$8,LOOKUP($B274,Daten!$A$67:$A$116,Daten!$C$67:$C$116),\"\")","v":"Lang[39,2]"},{"$f":"IF($A274<=Daten!$B$8,LOOKUP($B274,Daten!$A$67:$A$116,Daten!$P$67:$P$116),\"\") & \" \" & IF($A274<=Daten!$B$8,LOOKUP($B274,Daten!$A$67:$A$116,Daten!$Q$67:$Q$116),\"\")","v":"39,2 Inhalt1Einh[39,2]"},{"$f":"IF($A274<=Daten!$B$8,LOOKUP($B274,Daten!$A$118:$A$167,Daten!$C$118:$C$167),\"\")","v":"Lang[39,3]"},{"$f":"IF($A274<=Daten!$B$8,LOOKUP($B274,Daten!$A$118:$A$167,Daten!$P$118:$P$167),\"\") & \" \" & IF($A274<=Daten!$B$8,LOOKUP($B274,Daten!$A$118:$A$167,Daten!$Q$118:$Q$167),\"\")","v":"39,3 Inhalt1Einh[39,3]"},{"$f":"IF($A274<=Daten!$B$8,LOOKUP($B274,Daten!$A$169:$A$218,Daten!$C$169:$C$218),\"\")","v":"Lang[39,4]"},{"$f":"IF($A274<=Daten!$B$8,LOOKUP($B274,Daten!$A$169:$A$218,Daten!$P$169:$P$218),\"\") & \" \" & IF($A274<=Daten!$B$8,LOOKUP($B274,Daten!$A$169:$A$218,Daten!$Q$169:$Q$218),\"\")","v":"39,4 Inhalt1Einh[39,4]"},{"$f":"IF($A274<=Daten!$B$8,LOOKUP($B274,Daten!$A$220:$A$269,Daten!$C$220:$C$269),\"\")","v":"Lang[39,5]"},{"$f":"IF($A274<=Daten!$B$8,LOOKUP($B274,Daten!$A$220:$A$269,Daten!$P$220:$P$269),\"\") & \" \" & IF($A274<=Daten!$B$8,LOOKUP($B274,Daten!$A$220:$A$269,Daten!$Q$220:$Q$269),\"\")","v":"39,5 Inhalt1Einh[39,5]"},{"$f":"IF($A274<=Daten!$B$8,LOOKUP($B274,Daten!$A$271:$A$320,Daten!$C$271:$C$320),\"\")","v":"Lang[39,6]"},{"$f":"IF($A274<=Daten!$B$8,LOOKUP($B274,Daten!$A$271:$A$320,Daten!$P$271:$P$320),\"\") & \" \" & IF($A274<=Daten!$B$8,LOOKUP($B274,Daten!$A$271:$A$320,Daten!$Q$271:$Q$320),\"\")","v":"39,6 Inhalt1Einh[39,6]"},{"$f":"IF($A274<=Daten!$B$8,LOOKUP($B274,Daten!$A$322:$A$371,Daten!$B$322:$C$371),\"\")","v":{"$error":"#N/A"}},{"$f":"IF($A274<=Daten!$B$8,LOOKUP($B274,Daten!$A$322:$A$371,Daten!$P$322:$P$371),\"\") & \" \" & IF($A274<=Daten!$B$8,LOOKUP($B274,Daten!$A$322:$A$371,Daten!$Q$322:$Q$371),\"\")","v":"39,7 Inhalt1Einh[39,7]"}]
[null,null,null,{"$f":"IF($A274<=Daten!$B$8,LOOKUP($B274,Daten!$A$16:$A$65,Daten!$R$16:$R$65),\"\") & \" \" & IF($A274<=Daten!$B$8,LOOKUP($B274,Daten!$A$16:$A$65,Daten!$S$16:$S$65),\"\")","v":"39,1 Inhalt2Einh[39,1]"},null,{"$f":"IF($A274<=Daten!$B$8,LOOKUP($B274,Daten!$A$67:$A$116,Daten!$R$67:$R$116),\"\") & \" \" & IF($A274<=Daten!$B$8,LOOKUP($B274,Daten!$A$67:$A$116,Daten!$S$67:$S$116),\"\")","v":"39,2 Inhalt2Einh[39,2]"},null,{"$f":"IF($A274<=Daten!$B$8,LOOKUP($B274,Daten!$A$118:$A$167,Daten!$R$118:$R$167),\"\") & \" \" & IF($A274<=Daten!$B$8,LOOKUP($B274,Daten!$A$118:$A$167,Daten!$S$118:$S$167),\"\")","v":"39,3 Inhalt2Einh[39,3]"},null,{"$f":"IF($A274<=Daten!$B$8,LOOKUP($B274,Daten!$A$169:$A$218,Daten!$R$169:$R$218),\"\") & \" \" & IF($A274<=Daten!$B$8,LOOKUP($B274,Daten!$A$169:$A$218,Daten!$S$169:$S$218),\"\")","v":"39,4 Inhalt2Einh[39,4]"},null,{"$f":"IF($A274<=Daten!$B$8,LOOKUP($B274,Daten!$A$220:$A$269,Daten!$R$220:$R$269),\"\") & \" \" & IF($A274<=Daten!$B$8,LOOKUP($B274,Daten!$A$220:$A$269,Daten!$S$220:$S$269),\"\")","v":"39,5 Inhalt2Einh[39,5]"},null,{"$f":"IF($A274<=Daten!$B$8,LOOKUP($B274,Daten!$A$271:$A$320,Daten!$R$271:$R$320),\"\") & \" \" & IF($A274<=Daten!$B$8,LOOKUP($B274,Daten!$A$271:$A$320,Daten!$S$271:$S$320),\"\")","v":"39,6 Inhalt2Einh[39,6]"},null,{"$f":"IF($A274<=Daten!$B$8,LOOKUP($B274,Daten!$A$322:$A$371,Daten!$R$322:$R$371),\"\") & \" \" & IF($A274<=Daten!$B$8,LOOKUP($B274,Daten!$A$322:$A$371,Daten!$S$322:$S$371),\"\")","v":"39,7 Inhalt2Einh[39,7]"}]
[null,null,null,{"$f":"IF($A274<=Daten!$B$8,LOOKUP($B274,Daten!$A$16:$A$65,Daten!$T$16:$T$65),\"\") & \" \" & IF($A274<=Daten!$B$8,LOOKUP($B274,Daten!$A$16:$A$65,Daten!$U$16:$U$65),\"\")","v":"39,1 Inhalt3Einh[39,1]"},null,{"$f":"IF($A274<=Daten!$B$8,LOOKUP($B274,Daten!$A$67:$A$116,Daten!$T$67:$T$116),\"\") & \" \" & IF($A274<=Daten!$B$8,LOOKUP($B274,Daten!$A$67:$A$116,Daten!$U$67:$U$116),\"\")","v":"39,2 Inhalt3Einh[39,2]"},null,{"$f":"IF($A274<=Daten!$B$8,LOOKUP($B274,Daten!$A$118:$A$167,Daten!$T$118:$T$167),\"\") & \" \" & IF($A274<=Daten!$B$8,LOOKUP($B274,Daten!$A$118:$A$167,Daten!$U$118:$U$167),\"\")","v":"39,3 Inhalt3Einh[39,3]"},null,{"$f":"IF($A274<=Daten!$B$8,LOOKUP($B274,Daten!$A$169:$A$218,Daten!$T$169:$T$218),\"\") & \" \" & IF($A274<=Daten!$B$8,LOOKUP($B274,Daten!$A$169:$A$218,Daten!$U$169:$U$218),\"\")","v":"39,4 Inhalt3Einh[39,4]"},null,{"$f":"IF($A274<=Daten!$B$8,LOOKUP($B274,Daten!$A$220:$A$269,Daten!$T$220:$T$269),\"\") & \" \" & IF($A274<=Daten!$B$8,LOOKUP($B274,Daten!$A$220:$A$269,Daten!$U$220:$U$269),\"\")","v":"39,5 Inhalt3Einh[39,5]"},null,{"$f":"IF($A274<=Daten!$B$8,LOOKUP($B274,Daten!$A$271:$A$320,Daten!$T$271:$T$320),\"\") & \" \" & IF($A274<=Daten!$B$8,LOOKUP($B274,Daten!$A$271:$A$320,Daten!$U$271:$U$320),\"\")","v":"39,6 Inhalt3Einh[39,6]"},null,{"$f":"IF($A274<=Daten!$B$8,LOOKUP($B274,Daten!$A$322:$A$371,Daten!$T$322:$T$371),\"\") & \" \" & IF($A274<=Daten!$B$8,LOOKUP($B274,Daten!$A$322:$A$371,Daten!$U$322:$U$371),\"\")","v":"39,7 Inhalt3Einh[39,7]"}]
[null,null,null,{"$f":"IF($A274<=Daten!$B$8,LOOKUP($B274,Daten!$A$16:$A$65,Daten!$V$16:$V$65),\"\") & \" \" & IF($A274<=Daten!$B$8,LOOKUP($B274,Daten!$A$16:$A$65,Daten!$W$16:$W$65),\"\")","v":"39,1 Inhalt4Einh[39,1]"},null,{"$f":"IF($A274<=Daten!$B$8,LOOKUP($B274,Daten!$A$67:$A$116,Daten!$V$67:$V$116),\"\") & \" \" & IF($A274<=Daten!$B$8,LOOKUP($B274,Daten!$A$67:$A$116,Daten!$W$67:$W$116),\"\")","v":"39,2 Inhalt4Einh[39,2]"},null,{"$f":"IF($A274<=Daten!$B$8,LOOKUP($B274,Daten!$A$118:$A$167,Daten!$V$118:$V$167),\"\") & \" \" & IF($A274<=Daten!$B$8,LOOKUP($B274,Daten!$A$118:$A$167,Daten!$W$118:$W$167),\"\")","v":"39,3 Inhalt4Einh[39,3]"},null,{"$f":"IF($A274<=Daten!$B$8,LOOKUP($B274,Daten!$A$169:$A$218,Daten!$V$169:$V$218),\"\") & \" \" & IF($A274<=Daten!$B$8,LOOKUP($B274,Daten!$A$169:$A$218,Daten!$W$169:$W$218),\"\")","v":"39,4 Inhalt4Einh[39,4]"},null,{"$f":"IF($A274<=Daten!$B$8,LOOKUP($B274,Daten!$A$220:$A$269,Daten!$V$220:$V$269),\"\") & \" \" & IF($A274<=Daten!$B$8,LOOKUP($B274,Daten!$A$220:$A$269,Daten!$W$220:$W$269),\"\")","v":"39,5 Inhalt4Einh[39,5]"},null,{"$f":"IF($A274<=Daten!$B$8,LOOKUP($B274,Daten!$A$271:$A$320,Daten!$V$271:$V$320),\"\") & \" \" & IF($A274<=Daten!$B$8,LOOKUP($B274,Daten!$A$271:$A$320,Daten!$W$271:$W$320),\"\")","v":"39,6 Inhalt4Einh[39,6]"},null,{"$f":"IF($A274<=Daten!$B$8,LOOKUP($B274,Daten!$A$322:$A$371,Daten!$V$322:$V$371),\"\") & \" \" & IF($A274<=Daten!$B$8,LOOKUP($B274,Daten!$A$322:$A$371,Daten!$W$322:$W$371),\"\")","v":"39,7 Inhalt4Einh[39,7]"}]
[null,null,null,{"$f":"IF($A274<=Daten!$B$8,LOOKUP($B274,Daten!$A$16:$A$65,Daten!$X$16:$X$65),\"\") & \" \" & IF($A274<=Daten!$B$8,LOOKUP($B274,Daten!$A$16:$A$65,Daten!$Y$16:$Y$65),\"\")","v":"39,1 Inhalt5Einh[39,1]"},null,{"$f":"IF($A274<=Daten!$B$8,LOOKUP($B274,Daten!$A$67:$A$116,Daten!$X$67:$X$116),\"\") & \" \" & IF($A274<=Daten!$B$8,LOOKUP($B274,Daten!$A$67:$A$116,Daten!$Y$67:$Y$116),\"\")","v":"39,2 Inhalt5Einh[39,2]"},null,{"$f":"IF($A274<=Daten!$B$8,LOOKUP($B274,Daten!$A$118:$A$167,Daten!$X$118:$X$167),\"\") & \" \" & IF($A274<=Daten!$B$8,LOOKUP($B274,Daten!$A$118:$A$167,Daten!$Y$118:$Y$167),\"\")","v":"39,3 Inhalt5Einh[39,3]"},null,{"$f":"IF($A274<=Daten!$B$8,LOOKUP($B274,Daten!$A$169:$A$218,Daten!$X$169:$X$218),\"\") & \" \" & IF($A274<=Daten!$B$8,LOOKUP($B274,Daten!$A$169:$A$218,Daten!$Y$169:$Y$218),\"\")","v":"39,4 Inhalt5Einh[39,4]"},null,{"$f":"IF($A274<=Daten!$B$8,LOOKUP($B274,Daten!$A$220:$A$269,Daten!$X$220:$X$269),\"\") & \" \" & IF($A274<=Daten!$B$8,LOOKUP($B274,Daten!$A$220:$A$269,Daten!$Y$220:$Y$269),\"\")","v":"39,5 Inhalt5Einh[39,5]"},null,{"$f":"IF($A274<=Daten!$B$8,LOOKUP($B274,Daten!$A$271:$A$320,Daten!$X$271:$X$320),\"\") & \" \" & IF($A274<=Daten!$B$8,LOOKUP($B274,Daten!$A$271:$A$320,Daten!$Y$271:$Y$320),\"\")","v":"39,6 Inhalt5Einh[39,6]"},null,{"$f":"IF($A274<=Daten!$B$8,LOOKUP($B274,Daten!$A$322:$A$371,Daten!$X$322:$X$371),\"\") & \" \" & IF($A274<=Daten!$B$8,LOOKUP($B274,Daten!$A$322:$A$371,Daten!$Y$322:$Y$371),\"\")","v":"39,7 Inhalt5Einh[39,7]"}]
[null,null,null,{"$f":"IF($A274<=Daten!$B$8,LOOKUP($B274,Daten!$A$16:$A$65,Daten!$Z$16:$Z$65),\"\") & \" \" & IF($A274<=Daten!$B$8,LOOKUP($B274,Daten!$A$16:$A$65,Daten!$AA$16:$AA$65),\"\")","v":"39,1 Inhalt6Einh[39,1]"},null,{"$f":"IF($A274<=Daten!$B$8,LOOKUP($B274,Daten!$A$67:$A$116,Daten!$Z$67:$Z$116),\"\") & \" \" & IF($A274<=Daten!$B$8,LOOKUP($B274,Daten!$A$67:$A$116,Daten!$AA$67:$AA$116),\"\")","v":"39,2 Inhalt6Einh[39,2]"},null,{"$f":"IF($A274<=Daten!$B$8,LOOKUP($B274,Daten!$A$118:$A$167,Daten!$Z$118:$Z$167),\"\") & \" \" & IF($A274<=Daten!$B$8,LOOKUP($B274,Daten!$A$118:$A$167,Daten!$AA$118:$AA$167),\"\")","v":"39,3 Inhalt6Einh[39,3]"},null,{"$f":"IF($A274<=Daten!$B$8,LOOKUP($B274,Daten!$A$169:$A$218,Daten!$Z$169:$Z$218),\"\") & \" \" & IF($A274<=Daten!$B$8,LOOKUP($B274,Daten!$A$169:$A$218,Daten!$AA$169:$AA$218),\"\")","v":"39,4 Inhalt6Einh[39,4]"},null,{"$f":"IF($A274<=Daten!$B$8,LOOKUP($B274,Daten!$A$220:$A$269,Daten!$Z$220:$Z$269),\"\") & \" \" & IF($A274<=Daten!$B$8,LOOKUP($B274,Daten!$A$220:$A$269,Daten!$AA$220:$AA$269),\"\")","v":"39,5 Inhalt6Einh[39,5]"},null,{"$f":"IF($A274<=Daten!$B$8,LOOKUP($B274,Daten!$A$271:$A$320,Daten!$Z$271:$Z$320),\"\") & \" \" & IF($A274<=Daten!$B$8,LOOKUP($B274,Daten!$A$271:$A$320,Daten!$AA$271:$AA$320),\"\")","v":"39,6 Inhalt6Einh[39,6]"},null,{"$f":"IF($A274<=Daten!$B$8,LOOKUP($B274,Daten!$A$322:$A$371,Daten!$Z$322:$Z$371),\"\") & \" \" & IF($A274<=Daten!$B$8,LOOKUP($B274,Daten!$A$322:$A$371,Daten!$AA$322:$AA$371),\"\")","v":"39,7 Inhalt6Einh[39,7]"}]
[null,{"$f":"IF(A274<=Daten!$B$8,\"Zusatzstoffe\",\"\")","v":"Zusatzstoffe"},{"$f":"IF($A274<=Daten!$B$8,LOOKUP($B274,Daten!$A$16:$A$65,Daten!$L$16:$L$65),\"\")","v":39.1},{"$f":"IF($A274<=Daten!$B$8,LOOKUP($B274,Daten!$A$16:$A$65,Daten!$D$16:$D$65),\"\")","v":39.1},{"$f":"IF($A274<=Daten!$B$8,LOOKUP($B274,Daten!$A$67:$A$116,Daten!$L$67:$L$116),\"\")","v":39.200000000000003},{"$f":"IF($A274<=Daten!$B$8,LOOKUP($B274,Daten!$A$16:$A$65,Daten!$D$67:$D$116),\"\")","v":39.200000000000003},{"$f":"IF($A274<=Daten!$B$8,LOOKUP($B274,Daten!$A$118:$A$167,Daten!$L$118:$L$167),\"\")","v":39.299999999999997},{"$f":"IF($A274<=Daten!$B$8,LOOKUP($B274,Daten!$A$118:$A$167,Daten!$D$118:$D$167),\"\")","v":39.299999999999997},{"$f":"IF($A274<=Daten!$B$8,LOOKUP($B274,Daten!$A$169:$A$218,Daten!$L$169:$L$218),\"\")","v":39.4},{"$f":"IF($A274<=Daten!$B$8,LOOKUP($B274,Daten!$A$169:$A$218,Daten!$D$169:$D$218),\"\")","v":39.4},{"$f":"IF($A274<=Daten!$B$8,LOOKUP($B274,Daten!$A$220:$A$269,Daten!$L$220:$L$269),\"\")","v":39.5},{"$f":"IF($A274<=Daten!$B$8,LOOKUP($B274,Daten!$A$220:$A$269,Daten!$D$220:$D$269),\"\")","v":39.5},{"$f":"IF($A274<=Daten!$B$8,LOOKUP($B274,Daten!$A$271:$A$320,Daten!$L$271:$L$320),\"\")","v":39.6},{"$f":"IF($A274<=Daten!$B$8,LOOKUP($B274,Daten!$A$271:$A$320,Daten!$D$271:$D$320),\"\")","v":39.6},{"$f":"IF($A274<=Daten!$B$8,LOOKUP($B274,Daten!$A$322:$A$371,Daten!$L$322:$L$371),\"\")","v":39.700000000000003},{"$f":"IF($A274<=Daten!$B$8,LOOKUP($B274,Daten!$A$322:$A$371,Daten!$D$322:$D$371),\"\")","v":39.700000000000003}]
[40,{"$f":"IF(A281<=Daten!$B$8,Daten!AO9,\"\")","v":"Menülinie 40"},{"$f":"IF(A281<=Daten!$B$8,LOOKUP(B281,Daten!$A$16:$A$65,Daten!$C$16:$C$65),\"\")","v":"Lang[40,1]"},{"$f":"IF($A281<=Daten!$B$8,LOOKUP($B281,Daten!$A$16:$A$65,Daten!$P$16:$P$65),\"\") & \" \" & IF($A281<=Daten!$B$8,LOOKUP($B281,Daten!$A$16:$A$65,Daten!$Q$16:$Q$65),\"\")","v":"40,1 Inhalt1Einh[40,1]"},{"$f":"IF($A281<=Daten!$B$8,LOOKUP($B281,Daten!$A$67:$A$116,Daten!$C$67:$C$116),\"\")","v":"Lang[40,2]"},{"$f":"IF($A281<=Daten!$B$8,LOOKUP($B281,Daten!$A$67:$A$116,Daten!$P$67:$P$116),\"\") & \" \" & IF($A281<=Daten!$B$8,LOOKUP($B281,Daten!$A$67:$A$116,Daten!$Q$67:$Q$116),\"\")","v":"40,2 Inhalt1Einh[40,2]"},{"$f":"IF($A281<=Daten!$B$8,LOOKUP($B281,Daten!$A$118:$A$167,Daten!$C$118:$C$167),\"\")","v":"Lang[40,3]"},{"$f":"IF($A281<=Daten!$B$8,LOOKUP($B281,Daten!$A$118:$A$167,Daten!$P$118:$P$167),\"\") & \" \" & IF($A281<=Daten!$B$8,LOOKUP($B281,Daten!$A$118:$A$167,Daten!$Q$118:$Q$167),\"\")","v":"40,3 Inhalt1Einh[40,3]"},{"$f":"IF($A281<=Daten!$B$8,LOOKUP($B281,Daten!$A$169:$A$218,Daten!$C$169:$C$218),\"\")","v":"Lang[40,4]"},{"$f":"IF($A281<=Daten!$B$8,LOOKUP($B281,Daten!$A$169:$A$218,Daten!$P$169:$P$218),\"\") & \" \" & IF($A281<=Daten!$B$8,LOOKUP($B281,Daten!$A$169:$A$218,Daten!$Q$169:$Q$218),\"\")","v":"40,4 Inhalt1Einh[40,4]"},{"$f":"IF($A281<=Daten!$B$8,LOOKUP($B281,Daten!$A$220:$A$269,Daten!$C$220:$C$269),\"\")","v":"Lang[40,5]"},{"$f":"IF($A281<=Daten!$B$8,LOOKUP($B281,Daten!$A$220:$A$269,Daten!$P$220:$P$269),\"\") & \" \" & IF($A281<=Daten!$B$8,LOOKUP($B281,Daten!$A$220:$A$269,Daten!$Q$220:$Q$269),\"\")","v":"40,5 Inhalt1Einh[40,5]"},{"$f":"IF($A281<=Daten!$B$8,LOOKUP($B281,Daten!$A$271:$A$320,Daten!$C$271:$C$320),\"\")","v":"Lang[40,6]"},{"$f":"IF($A281<=Daten!$B$8,LOOKUP($B281,Daten!$A$271:$A$320,Daten!$P$271:$P$320),\"\") & \" \" & IF($A281<=Daten!$B$8,LOOKUP($B281,Daten!$A$271:$A$320,Daten!$Q$271:$Q$320),\"\")","v":"40,6 Inhalt1Einh[40,6]"},{"$f":"IF($A281<=Daten!$B$8,LOOKUP($B281,Daten!$A$322:$A$371,Daten!$B$322:$C$371),\"\")","v":{"$error":"#N/A"}},{"$f":"IF($A281<=Daten!$B$8,LOOKUP($B281,Daten!$A$322:$A$371,Daten!$P$322:$P$371),\"\") & \" \" & IF($A281<=Daten!$B$8,LOOKUP($B281,Daten!$A$322:$A$371,Daten!$Q$322:$Q$371),\"\")","v":"40,7 Inhalt1Einh[40,7]"}]
[null,null,null,{"$f":"IF($A281<=Daten!$B$8,LOOKUP($B281,Daten!$A$16:$A$65,Daten!$R$16:$R$65),\"\") & \" \" & IF($A281<=Daten!$B$8,LOOKUP($B281,Daten!$A$16:$A$65,Daten!$S$16:$S$65),\"\")","v":"40,1 Inhalt2Einh[40,1]"},null,{"$f":"IF($A281<=Daten!$B$8,LOOKUP($B281,Daten!$A$67:$A$116,Daten!$R$67:$R$116),\"\") & \" \" & IF($A281<=Daten!$B$8,LOOKUP($B281,Daten!$A$67:$A$116,Daten!$S$67:$S$116),\"\")","v":"40,2 Inhalt2Einh[40,2]"},null,{"$f":"IF($A281<=Daten!$B$8,LOOKUP($B281,Daten!$A$118:$A$167,Daten!$R$118:$R$167),\"\") & \" \" & IF($A281<=Daten!$B$8,LOOKUP($B281,Daten!$A$118:$A$167,Daten!$S$118:$S$167),\"\")","v":"40,3 Inhalt2Einh[40,3]"},null,{"$f":"IF($A281<=Daten!$B$8,LOOKUP($B281,Daten!$A$169:$A$218,Daten!$R$169:$R$218),\"\") & \" \" & IF($A281<=Daten!$B$8,LOOKUP($B281,Daten!$A$169:$A$218,Daten!$S$169:$S$218),\"\")","v":"40,4 Inhalt2Einh[40,4]"},null,{"$f":"IF($A281<=Daten!$B$8,LOOKUP($B281,Daten!$A$220:$A$269,Daten!$R$220:$R$269),\"\") & \" \" & IF($A281<=Daten!$B$8,LOOKUP($B281,Daten!$A$220:$A$269,Daten!$S$220:$S$269),\"\")","v":"40,5 Inhalt2Einh[40,5]"},null,{"$f":"IF($A281<=Daten!$B$8,LOOKUP($B281,Daten!$A$271:$A$320,Daten!$R$271:$R$320),\"\") & \" \" & IF($A281<=Daten!$B$8,LOOKUP($B281,Daten!$A$271:$A$320,Daten!$S$271:$S$320),\"\")","v":"40,6 Inhalt2Einh[40,6]"},null,{"$f":"IF($A281<=Daten!$B$8,LOOKUP($B281,Daten!$A$322:$A$371,Daten!$R$322:$R$371),\"\") & \" \" & IF($A281<=Daten!$B$8,LOOKUP($B281,Daten!$A$322:$A$371,Daten!$S$322:$S$371),\"\")","v":"40,7 Inhalt2Einh[40,7]"}]
[null,null,null,{"$f":"IF($A281<=Daten!$B$8,LOOKUP($B281,Daten!$A$16:$A$65,Daten!$T$16:$T$65),\"\") & \" \" & IF($A281<=Daten!$B$8,LOOKUP($B281,Daten!$A$16:$A$65,Daten!$U$16:$U$65),\"\")","v":"40,1 Inhalt3Einh[40,1]"},null,{"$f":"IF($A281<=Daten!$B$8,LOOKUP($B281,Daten!$A$67:$A$116,Daten!$T$67:$T$116),\"\") & \" \" & IF($A281<=Daten!$B$8,LOOKUP($B281,Daten!$A$67:$A$116,Daten!$U$67:$U$116),\"\")","v":"40,2 Inhalt3Einh[40,2]"},null,{"$f":"IF($A281<=Daten!$B$8,LOOKUP($B281,Daten!$A$118:$A$167,Daten!$T$118:$T$167),\"\") & \" \" & IF($A281<=Daten!$B$8,LOOKUP($B281,Daten!$A$118:$A$167,Daten!$U$118:$U$167),\"\")","v":"40,3 Inhalt3Einh[40,3]"},null,{"$f":"IF($A281<=Daten!$B$8,LOOKUP($B281,Daten!$A$169:$A$218,Daten!$T$169:$T$218),\"\") & \" \" & IF($A281<=Daten!$B$8,LOOKUP($B281,Daten!$A$169:$A$218,Daten!$U$169:$U$218),\"\")","v":"40,4 Inhalt3Einh[40,4]"},null,{"$f":"IF($A281<=Daten!$B$8,LOOKUP($B281,Daten!$A$220:$A$269,Daten!$T$220:$T$269),\"\") & \" \" & IF($A281<=Daten!$B$8,LOOKUP($B281,Daten!$A$220:$A$269,Daten!$U$220:$U$269),\"\")","v":"40,5 Inhalt3Einh[40,5]"},null,{"$f":"IF($A281<=Daten!$B$8,LOOKUP($B281,Daten!$A$271:$A$320,Daten!$T$271:$T$320),\"\") & \" \" & IF($A281<=Daten!$B$8,LOOKUP($B281,Daten!$A$271:$A$320,Daten!$U$271:$U$320),\"\")","v":"40,6 Inhalt3Einh[40,6]"},null,{"$f":"IF($A281<=Daten!$B$8,LOOKUP($B281,Daten!$A$322:$A$371,Daten!$T$322:$T$371),\"\") & \" \" & IF($A281<=Daten!$B$8,LOOKUP($B281,Daten!$A$322:$A$371,Daten!$U$322:$U$371),\"\")","v":"40,7 Inhalt3Einh[40,7]"}]
[null,null,null,{"$f":"IF($A281<=Daten!$B$8,LOOKUP($B281,Daten!$A$16:$A$65,Daten!$V$16:$V$65),\"\") & \" \" & IF($A281<=Daten!$B$8,LOOKUP($B281,Daten!$A$16:$A$65,Daten!$W$16:$W$65),\"\")","v":"40,1 Inhalt4Einh[40,1]"},null,{"$f":"IF($A281<=Daten!$B$8,LOOKUP($B281,Daten!$A$67:$A$116,Daten!$V$67:$V$116),\"\") & \" \" & IF($A281<=Daten!$B$8,LOOKUP($B281,Daten!$A$67:$A$116,Daten!$W$67:$W$116),\"\")","v":"40,2 Inhalt4Einh[40,2]"},null,{"$f":"IF($A281<=Daten!$B$8,LOOKUP($B281,Daten!$A$118:$A$167,Daten!$V$118:$V$167),\"\") & \" \" & IF($A281<=Daten!$B$8,LOOKUP($B281,Daten!$A$118:$A$167,Daten!$W$118:$W$167),\"\")","v":"40,3 Inhalt4Einh[40,3]"},null,{"$f":"IF($A281<=Daten!$B$8,LOOKUP($B281,Daten!$A$169:$A$218,Daten!$V$169:$V$218),\"\") & \" \" & IF($A281<=Daten!$B$8,LOOKUP($B281,Daten!$A$169:$A$218,Daten!$W$169:$W$218),\"\")","v":"40,4 Inhalt4Einh[40,4]"},null,{"$f":"IF($A281<=Daten!$B$8,LOOKUP($B281,Daten!$A$220:$A$269,Daten!$V$220:$V$269),\"\") & \" \" & IF($A281<=Daten!$B$8,LOOKUP($B281,Daten!$A$220:$A$269,Daten!$W$220:$W$269),\"\")","v":"40,5 Inhalt4Einh[40,5]"},null,{"$f":"IF($A281<=Daten!$B$8,LOOKUP($B281,Daten!$A$271:$A$320,Daten!$V$271:$V$320),\"\") & \" \" & IF($A281<=Daten!$B$8,LOOKUP($B281,Daten!$A$271:$A$320,Daten!$W$271:$W$320),\"\")","v":"40,6 Inhalt4Einh[40,6]"},null,{"$f":"IF($A281<=Daten!$B$8,LOOKUP($B281,Daten!$A$322:$A$371,Daten!$V$322:$V$371),\"\") & \" \" & IF($A281<=Daten!$B$8,LOOKUP($B281,Daten!$A$322:$A$371,Daten!$W$322:$W$371),\"\")","v":"40,7 Inhalt4Einh[40,7]"}]
[null,null,null,{"$f":"IF($A281<=Daten!$B$8,LOOKUP($B281,Daten!$A$16:$A$65,Daten!$X$16:$X$65),\"\") & \" \" & IF($A281<=Daten!$B$8,LOOKUP($B281,Daten!$A$16:$A$65,Daten!$Y$16:$Y$65),\"\")","v":"40,1 Inhalt5Einh[40,1]"},null,{"$f":"IF($A281<=Daten!$B$8,LOOKUP($B281,Daten!$A$67:$A$116,Daten!$X$67:$X$116),\"\") & \" \" & IF($A281<=Daten!$B$8,LOOKUP($B281,Daten!$A$67:$A$116,Daten!$Y$67:$Y$116),\"\")","v":"40,2 Inhalt5Einh[40,2]"},null,{"$f":"IF($A281<=Daten!$B$8,LOOKUP($B281,Daten!$A$118:$A$167,Daten!$X$118:$X$167),\"\") & \" \" & IF($A281<=Daten!$B$8,LOOKUP($B281,Daten!$A$118:$A$167,Daten!$Y$118:$Y$167),\"\")","v":"40,3 Inhalt5Einh[40,3]"},null,{"$f":"IF($A281<=Daten!$B$8,LOOKUP($B281,Daten!$A$169:$A$218,Daten!$X$169:$X$218),\"\") & \" \" & IF($A281<=Daten!$B$8,LOOKUP($B281,Daten!$A$169:$A$218,Daten!$Y$169:$Y$218),\"\")","v":"40,4 Inhalt5Einh[40,4]"},null,{"$f":"IF($A281<=Daten!$B$8,LOOKUP($B281,Daten!$A$220:$A$269,Daten!$X$220:$X$269),\"\") & \" \" & IF($A281<=Daten!$B$8,LOOKUP($B281,Daten!$A$220:$A$269,Daten!$Y$220:$Y$269),\"\")","v":"40,5 Inhalt5Einh[40,5]"},null,{"$f":"IF($A281<=Daten!$B$8,LOOKUP($B281,Daten!$A$271:$A$320,Daten!$X$271:$X$320),\"\") & \" \" & IF($A281<=Daten!$B$8,LOOKUP($B281,Daten!$A$271:$A$320,Daten!$Y$271:$Y$320),\"\")","v":"40,6 Inhalt5Einh[40,6]"},null,{"$f":"IF($A281<=Daten!$B$8,LOOKUP($B281,Daten!$A$322:$A$371,Daten!$X$322:$X$371),\"\") & \" \" & IF($A281<=Daten!$B$8,LOOKUP($B281,Daten!$A$322:$A$371,Daten!$Y$322:$Y$371),\"\")","v":"40,7 Inhalt5Einh[40,7]"}]
[null,null,null,{"$f":"IF($A281<=Daten!$B$8,LOOKUP($B281,Daten!$A$16:$A$65,Daten!$Z$16:$Z$65),\"\") & \" \" & IF($A281<=Daten!$B$8,LOOKUP($B281,Daten!$A$16:$A$65,Daten!$AA$16:$AA$65),\"\")","v":"40,1 Inhalt6Einh[40,1]"},null,{"$f":"IF($A281<=Daten!$B$8,LOOKUP($B281,Daten!$A$67:$A$116,Daten!$Z$67:$Z$116),\"\") & \" \" & IF($A281<=Daten!$B$8,LOOKUP($B281,Daten!$A$67:$A$116,Daten!$AA$67:$AA$116),\"\")","v":"40,2 Inhalt6Einh[40,2]"},null,{"$f":"IF($A281<=Daten!$B$8,LOOKUP($B281,Daten!$A$118:$A$167,Daten!$Z$118:$Z$167),\"\") & \" \" & IF($A281<=Daten!$B$8,LOOKUP($B281,Daten!$A$118:$A$167,Daten!$AA$118:$AA$167),\"\")","v":"40,3 Inhalt6Einh[40,3]"},null,{"$f":"IF($A281<=Daten!$B$8,LOOKUP($B281,Daten!$A$169:$A$218,Daten!$Z$169:$Z$218),\"\") & \" \" & IF($A281<=Daten!$B$8,LOOKUP($B281,Daten!$A$169:$A$218,Daten!$AA$169:$AA$218),\"\")","v":"40,4 Inhalt6Einh[40,4]"},null,{"$f":"IF($A281<=Daten!$B$8,LOOKUP($B281,Daten!$A$220:$A$269,Daten!$Z$220:$Z$269),\"\") & \" \" & IF($A281<=Daten!$B$8,LOOKUP($B281,Daten!$A$220:$A$269,Daten!$AA$220:$AA$269),\"\")","v":"40,5 Inhalt6Einh[40,5]"},null,{"$f":"IF($A281<=Daten!$B$8,LOOKUP($B281,Daten!$A$271:$A$320,Daten!$Z$271:$Z$320),\"\") & \" \" & IF($A281<=Daten!$B$8,LOOKUP($B281,Daten!$A$271:$A$320,Daten!$AA$271:$AA$320),\"\")","v":"40,6 Inhalt6Einh[40,6]"},null,{"$f":"IF($A281<=Daten!$B$8,LOOKUP($B281,Daten!$A$322:$A$371,Daten!$Z$322:$Z$371),\"\") & \" \" & IF($A281<=Daten!$B$8,LOOKUP($B281,Daten!$A$322:$A$371,Daten!$AA$322:$AA$371),\"\")","v":"40,7 Inhalt6Einh[40,7]"}]
[null,{"$f":"IF(A281<=Daten!$B$8,\"Zusatzstoffe\",\"\")","v":"Zusatzstoffe"},{"$f":"IF($A281<=Daten!$B$8,LOOKUP($B281,Daten!$A$16:$A$65,Daten!$L$16:$L$65),\"\")","v":40.1},{"$f":"IF($A281<=Daten!$B$8,LOOKUP($B281,Daten!$A$16:$A$65,Daten!$D$16:$D$65),\"\")","v":40.1},{"$f":"IF($A281<=Daten!$B$8,LOOKUP($B281,Daten!$A$67:$A$116,Daten!$L$67:$L$116),\"\")","v":40.200000000000003},{"$f":"IF($A281<=Daten!$B$8,LOOKUP($B281,Daten!$A$16:$A$65,Daten!$D$67:$D$116),\"\")","v":40.200000000000003},{"$f":"IF($A281<=Daten!$B$8,LOOKUP($B281,Daten!$A$118:$A$167,Daten!$L$118:$L$167),\"\")","v":40.299999999999997},{"$f":"IF($A281<=Daten!$B$8,LOOKUP($B281,Daten!$A$118:$A$167,Daten!$D$118:$D$167),\"\")","v":40.299999999999997},{"$f":"IF($A281<=Daten!$B$8,LOOKUP($B281,Daten!$A$169:$A$218,Daten!$L$169:$L$218),\"\")","v":40.4},{"$f":"IF($A281<=Daten!$B$8,LOOKUP($B281,Daten!$A$169:$A$218,Daten!$D$169:$D$218),\"\")","v":40.4},{"$f":"IF($A281<=Daten!$B$8,LOOKUP($B281,Daten!$A$220:$A$269,Daten!$L$220:$L$269),\"\")","v":40.5},{"$f":"IF($A281<=Daten!$B$8,LOOKUP($B281,Daten!$A$220:$A$269,Daten!$D$220:$D$269),\"\")","v":40.5},{"$f":"IF($A281<=Daten!$B$8,LOOKUP($B281,Daten!$A$271:$A$320,Daten!$L$271:$L$320),\"\")","v":40.6},{"$f":"IF($A281<=Daten!$B$8,LOOKUP($B281,Daten!$A$271:$A$320,Daten!$D$271:$D$320),\"\")","v":40.6},{"$f":"IF($A281<=Daten!$B$8,LOOKUP($B281,Daten!$A$322:$A$371,Daten!$L$322:$L$371),\"\")","v":40.700000000000003},{"$f":"IF($A281<=Daten!$B$8,LOOKUP($B281,Daten!$A$322:$A$371,Daten!$D$322:$D$371),\"\")","v":40.700000000000003}]
[41,{"$f":"IF(A288<=Daten!$B$8,Daten!AP9,\"\")","v":"Menülinie 41"},{"$f":"IF($A288<=Daten!$B$8,LOOKUP($B288,Daten!$A$16:$A$65,Daten!$C$16:$C$65),\"\")","v":"Lang[41,1]"},{"$f":"IF($A288<=Daten!$B$8,LOOKUP($B288,Daten!$A$16:$A$65,Daten!$P$16:$P$65),\"\") & \" \" & IF($A288<=Daten!$B$8,LOOKUP($B288,Daten!$A$16:$A$65,Daten!$Q$16:$Q$65),\"\")","v":"41,1 Inhalt1Einh[41,1]"},{"$f":"IF($A288<=Daten!$B$8,LOOKUP($B288,Daten!$A$67:$A$116,Daten!$C$67:$C$116),\"\")","v":"Lang[41,2]"},{"$f":"IF($A288<=Daten!$B$8,LOOKUP($B288,Daten!$A$67:$A$116,Daten!$P$67:$P$116),\"\") & \" \" & IF($A288<=Daten!$B$8,LOOKUP($B288,Daten!$A$67:$A$116,Daten!$Q$67:$Q$116),\"\")","v":"41,2 Inhalt1Einh[41,2]"},{"$f":"IF($A288<=Daten!$B$8,LOOKUP($B288,Daten!$A$118:$A$167,Daten!$C$118:$C$167),\"\")","v":"Lang[41,3]"},{"$f":"IF($A288<=Daten!$B$8,LOOKUP($B288,Daten!$A$118:$A$167,Daten!$P$118:$P$167),\"\") & \" \" & IF($A288<=Daten!$B$8,LOOKUP($B288,Daten!$A$118:$A$167,Daten!$Q$118:$Q$167),\"\")","v":"41,3 Inhalt1Einh[41,3]"},{"$f":"IF($A288<=Daten!$B$8,LOOKUP($B288,Daten!$A$169:$A$218,Daten!$C$169:$C$218),\"\")","v":"Lang[41,4]"},{"$f":"IF($A288<=Daten!$B$8,LOOKUP($B288,Daten!$A$169:$A$218,Daten!$P$169:$P$218),\"\") & \" \" & IF($A288<=Daten!$B$8,LOOKUP($B288,Daten!$A$169:$A$218,Daten!$Q$169:$Q$218),\"\")","v":"41,4 Inhalt1Einh[41,4]"},{"$f":"IF($A288<=Daten!$B$8,LOOKUP($B288,Daten!$A$220:$A$269,Daten!$C$220:$C$269),\"\")","v":"Lang[41,5]"},{"$f":"IF($A288<=Daten!$B$8,LOOKUP($B288,Daten!$A$220:$A$269,Daten!$P$220:$P$269),\"\") & \" \" & IF($A288<=Daten!$B$8,LOOKUP($B288,Daten!$A$220:$A$269,Daten!$Q$220:$Q$269),\"\")","v":"41,5 Inhalt1Einh[41,5]"},{"$f":"IF($A288<=Daten!$B$8,LOOKUP($B288,Daten!$A$271:$A$320,Daten!$C$271:$C$320),\"\")","v":"Lang[41,6]"},{"$f":"IF($A288<=Daten!$B$8,LOOKUP($B288,Daten!$A$271:$A$320,Daten!$P$271:$P$320),\"\") & \" \" & IF($A288<=Daten!$B$8,LOOKUP($B288,Daten!$A$271:$A$320,Daten!$Q$271:$Q$320),\"\")","v":"41,6 Inhalt1Einh[41,6]"},{"$f":"IF($A288<=Daten!$B$8,LOOKUP($B288,Daten!$A$322:$A$371,Daten!$B$322:$C$371),\"\")","v":{"$error":"#N/A"}},{"$f":"IF($A288<=Daten!$B$8,LOOKUP($B288,Daten!$A$322:$A$371,Daten!$P$322:$P$371),\"\") & \" \" & IF($A288<=Daten!$B$8,LOOKUP($B288,Daten!$A$322:$A$371,Daten!$Q$322:$Q$371),\"\")","v":"41,7 Inhalt1Einh[41,7]"}]
[null,null,null,{"$f":"IF($A288<=Daten!$B$8,LOOKUP($B288,Daten!$A$16:$A$65,Daten!$R$16:$R$65),\"\") & \" \" & IF($A288<=Daten!$B$8,LOOKUP($B288,Daten!$A$16:$A$65,Daten!$S$16:$S$65),\"\")","v":"41,1 Inhalt2Einh[41,1]"},null,{"$f":"IF($A288<=Daten!$B$8,LOOKUP($B288,Daten!$A$67:$A$116,Daten!$R$67:$R$116),\"\") & \" \" & IF($A288<=Daten!$B$8,LOOKUP($B288,Daten!$A$67:$A$116,Daten!$S$67:$S$116),\"\")","v":"41,2 Inhalt2Einh[41,2]"},null,{"$f":"IF($A288<=Daten!$B$8,LOOKUP($B288,Daten!$A$118:$A$167,Daten!$R$118:$R$167),\"\") & \" \" & IF($A288<=Daten!$B$8,LOOKUP($B288,Daten!$A$118:$A$167,Daten!$S$118:$S$167),\"\")","v":"41,3 Inhalt2Einh[41,3]"},null,{"$f":"IF($A288<=Daten!$B$8,LOOKUP($B288,Daten!$A$169:$A$218,Daten!$R$169:$R$218),\"\") & \" \" & IF($A288<=Daten!$B$8,LOOKUP($B288,Daten!$A$169:$A$218,Daten!$S$169:$S$218),\"\")","v":"41,4 Inhalt2Einh[41,4]"},null,{"$f":"IF($A288<=Daten!$B$8,LOOKUP($B288,Daten!$A$220:$A$269,Daten!$R$220:$R$269),\"\") & \" \" & IF($A288<=Daten!$B$8,LOOKUP($B288,Daten!$A$220:$A$269,Daten!$S$220:$S$269),\"\")","v":"41,5 Inhalt2Einh[41,5]"},null,{"$f":"IF($A288<=Daten!$B$8,LOOKUP($B288,Daten!$A$271:$A$320,Daten!$R$271:$R$320),\"\") & \" \" & IF($A288<=Daten!$B$8,LOOKUP($B288,Daten!$A$271:$A$320,Daten!$S$271:$S$320),\"\")","v":"41,6 Inhalt2Einh[41,6]"},null,{"$f":"IF($A288<=Daten!$B$8,LOOKUP($B288,Daten!$A$322:$A$371,Daten!$R$322:$R$371),\"\") & \" \" & IF($A288<=Daten!$B$8,LOOKUP($B288,Daten!$A$322:$A$371,Daten!$S$322:$S$371),\"\")","v":"41,7 Inhalt2Einh[41,7]"}]
[null,null,null,{"$f":"IF($A288<=Daten!$B$8,LOOKUP($B288,Daten!$A$16:$A$65,Daten!$T$16:$T$65),\"\") & \" \" & IF($A288<=Daten!$B$8,LOOKUP($B288,Daten!$A$16:$A$65,Daten!$U$16:$U$65),\"\")","v":"41,1 Inhalt3Einh[41,1]"},null,{"$f":"IF($A288<=Daten!$B$8,LOOKUP($B288,Daten!$A$67:$A$116,Daten!$T$67:$T$116),\"\") & \" \" & IF($A288<=Daten!$B$8,LOOKUP($B288,Daten!$A$67:$A$116,Daten!$U$67:$U$116),\"\")","v":"41,2 Inhalt3Einh[41,2]"},null,{"$f":"IF($A288<=Daten!$B$8,LOOKUP($B288,Daten!$A$118:$A$167,Daten!$T$118:$T$167),\"\") & \" \" & IF($A288<=Daten!$B$8,LOOKUP($B288,Daten!$A$118:$A$167,Daten!$U$118:$U$167),\"\")","v":"41,3 Inhalt3Einh[41,3]"},null,{"$f":"IF($A288<=Daten!$B$8,LOOKUP($B288,Daten!$A$169:$A$218,Daten!$T$169:$T$218),\"\") & \" \" & IF($A288<=Daten!$B$8,LOOKUP($B288,Daten!$A$169:$A$218,Daten!$U$169:$U$218),\"\")","v":"41,4 Inhalt3Einh[41,4]"},null,{"$f":"IF($A288<=Daten!$B$8,LOOKUP($B288,Daten!$A$220:$A$269,Daten!$T$220:$T$269),\"\") & \" \" & IF($A288<=Daten!$B$8,LOOKUP($B288,Daten!$A$220:$A$269,Daten!$U$220:$U$269),\"\")","v":"41,5 Inhalt3Einh[41,5]"},null,{"$f":"IF($A288<=Daten!$B$8,LOOKUP($B288,Daten!$A$271:$A$320,Daten!$T$271:$T$320),\"\") & \" \" & IF($A288<=Daten!$B$8,LOOKUP($B288,Daten!$A$271:$A$320,Daten!$U$271:$U$320),\"\")","v":"41,6 Inhalt3Einh[41,6]"},null,{"$f":"IF($A288<=Daten!$B$8,LOOKUP($B288,Daten!$A$322:$A$371,Daten!$T$322:$T$371),\"\") & \" \" & IF($A288<=Daten!$B$8,LOOKUP($B288,Daten!$A$322:$A$371,Daten!$U$322:$U$371),\"\")","v":"41,7 Inhalt3Einh[41,7]"}]
[null,null,null,{"$f":"IF($A288<=Daten!$B$8,LOOKUP($B288,Daten!$A$16:$A$65,Daten!$V$16:$V$65),\"\") & \" \" & IF($A288<=Daten!$B$8,LOOKUP($B288,Daten!$A$16:$A$65,Daten!$W$16:$W$65),\"\")","v":"41,1 Inhalt4Einh[41,1]"},null,{"$f":"IF($A288<=Daten!$B$8,LOOKUP($B288,Daten!$A$67:$A$116,Daten!$V$67:$V$116),\"\") & \" \" & IF($A288<=Daten!$B$8,LOOKUP($B288,Daten!$A$67:$A$116,Daten!$W$67:$W$116),\"\")","v":"41,2 Inhalt4Einh[41,2]"},null,{"$f":"IF($A288<=Daten!$B$8,LOOKUP($B288,Daten!$A$118:$A$167,Daten!$V$118:$V$167),\"\") & \" \" & IF($A288<=Daten!$B$8,LOOKUP($B288,Daten!$A$118:$A$167,Daten!$W$118:$W$167),\"\")","v":"41,3 Inhalt4Einh[41,3]"},null,{"$f":"IF($A288<=Daten!$B$8,LOOKUP($B288,Daten!$A$169:$A$218,Daten!$V$169:$V$218),\"\") & \" \" & IF($A288<=Daten!$B$8,LOOKUP($B288,Daten!$A$169:$A$218,Daten!$W$169:$W$218),\"\")","v":"41,4 Inhalt4Einh[41,4]"},null,{"$f":"IF($A288<=Daten!$B$8,LOOKUP($B288,Daten!$A$220:$A$269,Daten!$V$220:$V$269),\"\") & \" \" & IF($A288<=Daten!$B$8,LOOKUP($B288,Daten!$A$220:$A$269,Daten!$W$220:$W$269),\"\")","v":"41,5 Inhalt4Einh[41,5]"},null,{"$f":"IF($A288<=Daten!$B$8,LOOKUP($B288,Daten!$A$271:$A$320,Daten!$V$271:$V$320),\"\") & \" \" & IF($A288<=Daten!$B$8,LOOKUP($B288,Daten!$A$271:$A$320,Daten!$W$271:$W$320),\"\")","v":"41,6 Inhalt4Einh[41,6]"},null,{"$f":"IF($A288<=Daten!$B$8,LOOKUP($B288,Daten!$A$322:$A$371,Daten!$V$322:$V$371),\"\") & \" \" & IF($A288<=Daten!$B$8,LOOKUP($B288,Daten!$A$322:$A$371,Daten!$W$322:$W$371),\"\")","v":"41,7 Inhalt4Einh[41,7]"}]
[null,null,null,{"$f":"IF($A288<=Daten!$B$8,LOOKUP($B288,Daten!$A$16:$A$65,Daten!$X$16:$X$65),\"\") & \" \" & IF($A288<=Daten!$B$8,LOOKUP($B288,Daten!$A$16:$A$65,Daten!$Y$16:$Y$65),\"\")","v":"41,1 Inhalt5Einh[41,1]"},null,{"$f":"IF($A288<=Daten!$B$8,LOOKUP($B288,Daten!$A$67:$A$116,Daten!$X$67:$X$116),\"\") & \" \" & IF($A288<=Daten!$B$8,LOOKUP($B288,Daten!$A$67:$A$116,Daten!$Y$67:$Y$116),\"\")","v":"41,2 Inhalt5Einh[41,2]"},null,{"$f":"IF($A288<=Daten!$B$8,LOOKUP($B288,Daten!$A$118:$A$167,Daten!$X$118:$X$167),\"\") & \" \" & IF($A288<=Daten!$B$8,LOOKUP($B288,Daten!$A$118:$A$167,Daten!$Y$118:$Y$167),\"\")","v":"41,3 Inhalt5Einh[41,3]"},null,{"$f":"IF($A288<=Daten!$B$8,LOOKUP($B288,Daten!$A$169:$A$218,Daten!$X$169:$X$218),\"\") & \" \" & IF($A288<=Daten!$B$8,LOOKUP($B288,Daten!$A$169:$A$218,Daten!$Y$169:$Y$218),\"\")","v":"41,4 Inhalt5Einh[41,4]"},null,{"$f":"IF($A288<=Daten!$B$8,LOOKUP($B288,Daten!$A$220:$A$269,Daten!$X$220:$X$269),\"\") & \" \" & IF($A288<=Daten!$B$8,LOOKUP($B288,Daten!$A$220:$A$269,Daten!$Y$220:$Y$269),\"\")","v":"41,5 Inhalt5Einh[41,5]"},null,{"$f":"IF($A288<=Daten!$B$8,LOOKUP($B288,Daten!$A$271:$A$320,Daten!$X$271:$X$320),\"\") & \" \" & IF($A288<=Daten!$B$8,LOOKUP($B288,Daten!$A$271:$A$320,Daten!$Y$271:$Y$320),\"\")","v":"41,6 Inhalt5Einh[41,6]"},null,{"$f":"IF($A288<=Daten!$B$8,LOOKUP($B288,Daten!$A$322:$A$371,Daten!$X$322:$X$371),\"\") & \" \" & IF($A288<=Daten!$B$8,LOOKUP($B288,Daten!$A$322:$A$371,Daten!$Y$322:$Y$371),\"\")","v":"41,7 Inhalt5Einh[41,7]"}]
[null,null,null,{"$f":"IF($A288<=Daten!$B$8,LOOKUP($B288,Daten!$A$16:$A$65,Daten!$Z$16:$Z$65),\"\") & \" \" & IF($A288<=Daten!$B$8,LOOKUP($B288,Daten!$A$16:$A$65,Daten!$AA$16:$AA$65),\"\")","v":"41,1 Inhalt6Einh[41,1]"},null,{"$f":"IF($A288<=Daten!$B$8,LOOKUP($B288,Daten!$A$67:$A$116,Daten!$Z$67:$Z$116),\"\") & \" \" & IF($A288<=Daten!$B$8,LOOKUP($B288,Daten!$A$67:$A$116,Daten!$AA$67:$AA$116),\"\")","v":"41,2 Inhalt6Einh[41,2]"},null,{"$f":"IF($A288<=Daten!$B$8,LOOKUP($B288,Daten!$A$118:$A$167,Daten!$Z$118:$Z$167),\"\") & \" \" & IF($A288<=Daten!$B$8,LOOKUP($B288,Daten!$A$118:$A$167,Daten!$AA$118:$AA$167),\"\")","v":"41,3 Inhalt6Einh[41,3]"},null,{"$f":"IF($A288<=Daten!$B$8,LOOKUP($B288,Daten!$A$169:$A$218,Daten!$Z$169:$Z$218),\"\") & \" \" & IF($A288<=Daten!$B$8,LOOKUP($B288,Daten!$A$169:$A$218,Daten!$AA$169:$AA$218),\"\")","v":"41,4 Inhalt6Einh[41,4]"},null,{"$f":"IF($A288<=Daten!$B$8,LOOKUP($B288,Daten!$A$220:$A$269,Daten!$Z$220:$Z$269),\"\") & \" \" & IF($A288<=Daten!$B$8,LOOKUP($B288,Daten!$A$220:$A$269,Daten!$AA$220:$AA$269),\"\")","v":"41,5 Inhalt6Einh[41,5]"},null,{"$f":"IF($A288<=Daten!$B$8,LOOKUP($B288,Daten!$A$271:$A$320,Daten!$Z$271:$Z$320),\"\") & \" \" & IF($A288<=Daten!$B$8,LOOKUP($B288,Daten!$A$271:$A$320,Daten!$AA$271:$AA$320),\"\")","v":"41,6 Inhalt6Einh[41,6]"},null,{"$f":"IF($A288<=Daten!$B$8,LOOKUP($B288,Daten!$A$322:$A$371,Daten!$Z$322:$Z$371),\"\") & \" \" & IF($A288<=Daten!$B$8,LOOKUP($B288,Daten!$A$322:$A$371,Daten!$AA$322:$AA$371),\"\")","v":"41,7 Inhalt6Einh[41,7]"}]
[null,{"$f":"IF(A288<=Daten!$B$8,\"Zusatzstoffe\",\"\")","v":"Zusatzstoffe"},{"$f":"IF($A288<=Daten!$B$8,LOOKUP($B288,Daten!$A$16:$A$65,Daten!$L$16:$L$65),\"\")","v":41.1},{"$f":"IF($A288<=Daten!$B$8,LOOKUP($B288,Daten!$A$16:$A$65,Daten!$D$16:$D$65),\"\")","v":41.1},{"$f":"IF($A288<=Daten!$B$8,LOOKUP($B288,Daten!$A$67:$A$116,Daten!$L$67:$L$116),\"\")","v":41.2},{"$f":"IF($A288<=Daten!$B$8,LOOKUP($B288,Daten!$A$16:$A$65,Daten!$D$67:$D$116),\"\")","v":41.2},{"$f":"IF($A288<=Daten!$B$8,LOOKUP($B288,Daten!$A$118:$A$167,Daten!$L$118:$L$167),\"\")","v":41.3},{"$f":"IF($A288<=Daten!$B$8,LOOKUP($B288,Daten!$A$118:$A$167,Daten!$D$118:$D$167),\"\")","v":41.3},{"$f":"IF($A288<=Daten!$B$8,LOOKUP($B288,Daten!$A$169:$A$218,Daten!$L$169:$L$218),\"\")","v":41.4},{"$f":"IF($A288<=Daten!$B$8,LOOKUP($B288,Daten!$A$169:$A$218,Daten!$D$169:$D$218),\"\")","v":41.4},{"$f":"IF($A288<=Daten!$B$8,LOOKUP($B288,Daten!$A$220:$A$269,Daten!$L$220:$L$269),\"\")","v":41.5},{"$f":"IF($A288<=Daten!$B$8,LOOKUP($B288,Daten!$A$220:$A$269,Daten!$D$220:$D$269),\"\")","v":41.5},{"$f":"IF($A288<=Daten!$B$8,LOOKUP($B288,Daten!$A$271:$A$320,Daten!$L$271:$L$320),\"\")","v":41.6},{"$f":"IF($A288<=Daten!$B$8,LOOKUP($B288,Daten!$A$271:$A$320,Daten!$D$271:$D$320),\"\")","v":41.6},{"$f":"IF($A288<=Daten!$B$8,LOOKUP($B288,Daten!$A$322:$A$371,Daten!$L$322:$L$371),\"\")","v":41.7},{"$f":"IF($A288<=Daten!$B$8,LOOKUP($B288,Daten!$A$322:$A$371,Daten!$D$322:$D$371),\"\")","v":41.7}]
[42,{"$f":"IF(A295<=Daten!$B$8,Daten!AQ9,\"\")","v":"Menülinie 42"},{"$f":"IF($A295<=Daten!$B$8,LOOKUP($B295,Daten!$A$16:$A$65,Daten!$C$16:$C$65),\"\")","v":"Lang[42,1]"},{"$f":"IF($A295<=Daten!$B$8,LOOKUP($B295,Daten!$A$16:$A$65,Daten!$P$16:$P$65),\"\") & \" \" & IF($A295<=Daten!$B$8,LOOKUP($B295,Daten!$A$16:$A$65,Daten!$Q$16:$Q$65),\"\")","v":"42,1 Inhalt1Einh[42,1]"},{"$f":"IF($A295<=Daten!$B$8,LOOKUP($B295,Daten!$A$67:$A$116,Daten!$C$67:$C$116),\"\")","v":"Lang[42,2]"},{"$f":"IF($A295<=Daten!$B$8,LOOKUP($B295,Daten!$A$67:$A$116,Daten!$P$67:$P$116),\"\") & \" \" & IF($A295<=Daten!$B$8,LOOKUP($B295,Daten!$A$67:$A$116,Daten!$Q$67:$Q$116),\"\")","v":"42,2 Inhalt1Einh[42,2]"},{"$f":"IF($A295<=Daten!$B$8,LOOKUP($B295,Daten!$A$118:$A$167,Daten!$C$118:$C$167),\"\")","v":"Lang[42,3]"},{"$f":"IF($A295<=Daten!$B$8,LOOKUP($B295,Daten!$A$118:$A$167,Daten!$P$118:$P$167),\"\") & \" \" & IF($A295<=Daten!$B$8,LOOKUP($B295,Daten!$A$118:$A$167,Daten!$Q$118:$Q$167),\"\")","v":"42,3 Inhalt1Einh[42,3]"},{"$f":"IF($A295<=Daten!$B$8,LOOKUP($B295,Daten!$A$169:$A$218,Daten!$C$169:$C$218),\"\")","v":"Lang[42,4]"},{"$f":"IF($A295<=Daten!$B$8,LOOKUP($B295,Daten!$A$169:$A$218,Daten!$P$169:$P$218),\"\") & \" \" & IF($A295<=Daten!$B$8,LOOKUP($B295,Daten!$A$169:$A$218,Daten!$Q$169:$Q$218),\"\")","v":"42,4 Inhalt1Einh[42,4]"},{"$f":"IF($A295<=Daten!$B$8,LOOKUP($B295,Daten!$A$220:$A$269,Daten!$C$220:$C$269),\"\")","v":"Lang[42,5]"},{"$f":"IF($A295<=Daten!$B$8,LOOKUP($B295,Daten!$A$220:$A$269,Daten!$P$220:$P$269),\"\") & \" \" & IF($A295<=Daten!$B$8,LOOKUP($B295,Daten!$A$220:$A$269,Daten!$Q$220:$Q$269),\"\")","v":"42,5 Inhalt1Einh[42,5]"},{"$f":"IF($A295<=Daten!$B$8,LOOKUP($B295,Daten!$A$271:$A$320,Daten!$C$271:$C$320),\"\")","v":"Lang[42,6]"},{"$f":"IF($A295<=Daten!$B$8,LOOKUP($B295,Daten!$A$271:$A$320,Daten!$P$271:$P$320),\"\") & \" \" & IF($A295<=Daten!$B$8,LOOKUP($B295,Daten!$A$271:$A$320,Daten!$Q$271:$Q$320),\"\")","v":"42,6 Inhalt1Einh[42,6]"},{"$f":"IF($A295<=Daten!$B$8,LOOKUP($B295,Daten!$A$322:$A$371,Daten!$B$322:$C$371),\"\")","v":{"$error":"#N/A"}},{"$f":"IF($A295<=Daten!$B$8,LOOKUP($B295,Daten!$A$322:$A$371,Daten!$P$322:$P$371),\"\") & \" \" & IF($A295<=Daten!$B$8,LOOKUP($B295,Daten!$A$322:$A$371,Daten!$Q$322:$Q$371),\"\")","v":"42,7 Inhalt1Einh[42,7]"}]
[null,null,null,{"$f":"IF($A295<=Daten!$B$8,LOOKUP($B295,Daten!$A$16:$A$65,Daten!$R$16:$R$65),\"\") & \" \" & IF($A295<=Daten!$B$8,LOOKUP($B295,Daten!$A$16:$A$65,Daten!$S$16:$S$65),\"\")","v":"42,1 Inhalt2Einh[42,1]"},null,{"$f":"IF($A295<=Daten!$B$8,LOOKUP($B295,Daten!$A$67:$A$116,Daten!$R$67:$R$116),\"\") & \" \" & IF($A295<=Daten!$B$8,LOOKUP($B295,Daten!$A$67:$A$116,Daten!$S$67:$S$116),\"\")","v":"42,2 Inhalt2Einh[42,2]"},null,{"$f":"IF($A295<=Daten!$B$8,LOOKUP($B295,Daten!$A$118:$A$167,Daten!$R$118:$R$167),\"\") & \" \" & IF($A295<=Daten!$B$8,LOOKUP($B295,Daten!$A$118:$A$167,Daten!$S$118:$S$167),\"\")","v":"42,3 Inhalt2Einh[42,3]"},null,{"$f":"IF($A295<=Daten!$B$8,LOOKUP($B295,Daten!$A$169:$A$218,Daten!$R$169:$R$218),\"\") & \" \" & IF($A295<=Daten!$B$8,LOOKUP($B295,Daten!$A$169:$A$218,Daten!$S$169:$S$218),\"\")","v":"42,4 Inhalt2Einh[42,4]"},null,{"$f":"IF($A295<=Daten!$B$8,LOOKUP($B295,Daten!$A$220:$A$269,Daten!$R$220:$R$269),\"\") & \" \" & IF($A295<=Daten!$B$8,LOOKUP($B295,Daten!$A$220:$A$269,Daten!$S$220:$S$269),\"\")","v":"42,5 Inhalt2Einh[42,5]"},null,{"$f":"IF($A295<=Daten!$B$8,LOOKUP($B295,Daten!$A$271:$A$320,Daten!$R$271:$R$320),\"\") & \" \" & IF($A295<=Daten!$B$8,LOOKUP($B295,Daten!$A$271:$A$320,Daten!$S$271:$S$320),\"\")","v":"42,6 Inhalt2Einh[42,6]"},null,{"$f":"IF($A295<=Daten!$B$8,LOOKUP($B295,Daten!$A$322:$A$371,Daten!$R$322:$R$371),\"\") & \" \" & IF($A295<=Daten!$B$8,LOOKUP($B295,Daten!$A$322:$A$371,Daten!$S$322:$S$371),\"\")","v":"42,7 Inhalt2Einh[42,7]"}]
[null,null,null,{"$f":"IF($A295<=Daten!$B$8,LOOKUP($B295,Daten!$A$16:$A$65,Daten!$T$16:$T$65),\"\") & \" \" & IF($A295<=Daten!$B$8,LOOKUP($B295,Daten!$A$16:$A$65,Daten!$U$16:$U$65),\"\")","v":"42,1 Inhalt3Einh[42,1]"},null,{"$f":"IF($A295<=Daten!$B$8,LOOKUP($B295,Daten!$A$67:$A$116,Daten!$T$67:$T$116),\"\") & \" \" & IF($A295<=Daten!$B$8,LOOKUP($B295,Daten!$A$67:$A$116,Daten!$U$67:$U$116),\"\")","v":"42,2 Inhalt3Einh[42,2]"},null,{"$f":"IF($A295<=Daten!$B$8,LOOKUP($B295,Daten!$A$118:$A$167,Daten!$T$118:$T$167),\"\") & \" \" & IF($A295<=Daten!$B$8,LOOKUP($B295,Daten!$A$118:$A$167,Daten!$U$118:$U$167),\"\")","v":"42,3 Inhalt3Einh[42,3]"},null,{"$f":"IF($A295<=Daten!$B$8,LOOKUP($B295,Daten!$A$169:$A$218,Daten!$T$169:$T$218),\"\") & \" \" & IF($A295<=Daten!$B$8,LOOKUP($B295,Daten!$A$169:$A$218,Daten!$U$169:$U$218),\"\")","v":"42,4 Inhalt3Einh[42,4]"},null,{"$f":"IF($A295<=Daten!$B$8,LOOKUP($B295,Daten!$A$220:$A$269,Daten!$T$220:$T$269),\"\") & \" \" & IF($A295<=Daten!$B$8,LOOKUP($B295,Daten!$A$220:$A$269,Daten!$U$220:$U$269),\"\")","v":"42,5 Inhalt3Einh[42,5]"},null,{"$f":"IF($A295<=Daten!$B$8,LOOKUP($B295,Daten!$A$271:$A$320,Daten!$T$271:$T$320),\"\") & \" \" & IF($A295<=Daten!$B$8,LOOKUP($B295,Daten!$A$271:$A$320,Daten!$U$271:$U$320),\"\")","v":"42,6 Inhalt3Einh[42,6]"},null,{"$f":"IF($A295<=Daten!$B$8,LOOKUP($B295,Daten!$A$322:$A$371,Daten!$T$322:$T$371),\"\") & \" \" & IF($A295<=Daten!$B$8,LOOKUP($B295,Daten!$A$322:$A$371,Daten!$U$322:$U$371),\"\")","v":"42,7 Inhalt3Einh[42,7]"}]
[null,null,null,{"$f":"IF($A295<=Daten!$B$8,LOOKUP($B295,Daten!$A$16:$A$65,Daten!$V$16:$V$65),\"\") & \" \" & IF($A295<=Daten!$B$8,LOOKUP($B295,Daten!$A$16:$A$65,Daten!$W$16:$W$65),\"\")","v":"42,1 Inhalt4Einh[42,1]"},null,{"$f":"IF($A295<=Daten!$B$8,LOOKUP($B295,Daten!$A$67:$A$116,Daten!$V$67:$V$116),\"\") & \" \" & IF($A295<=Daten!$B$8,LOOKUP($B295,Daten!$A$67:$A$116,Daten!$W$67:$W$116),\"\")","v":"42,2 Inhalt4Einh[42,2]"},null,{"$f":"IF($A295<=Daten!$B$8,LOOKUP($B295,Daten!$A$118:$A$167,Daten!$V$118:$V$167),\"\") & \" \" & IF($A295<=Daten!$B$8,LOOKUP($B295,Daten!$A$118:$A$167,Daten!$W$118:$W$167),\"\")","v":"42,3 Inhalt4Einh[42,3]"},null,{"$f":"IF($A295<=Daten!$B$8,LOOKUP($B295,Daten!$A$169:$A$218,Daten!$V$169:$V$218),\"\") & \" \" & IF($A295<=Daten!$B$8,LOOKUP($B295,Daten!$A$169:$A$218,Daten!$W$169:$W$218),\"\")","v":"42,4 Inhalt4Einh[42,4]"},null,{"$f":"IF($A295<=Daten!$B$8,LOOKUP($B295,Daten!$A$220:$A$269,Daten!$V$220:$V$269),\"\") & \" \" & IF($A295<=Daten!$B$8,LOOKUP($B295,Daten!$A$220:$A$269,Daten!$W$220:$W$269),\"\")","v":"42,5 Inhalt4Einh[42,5]"},null,{"$f":"IF($A295<=Daten!$B$8,LOOKUP($B295,Daten!$A$271:$A$320,Daten!$V$271:$V$320),\"\") & \" \" & IF($A295<=Daten!$B$8,LOOKUP($B295,Daten!$A$271:$A$320,Daten!$W$271:$W$320),\"\")","v":"42,6 Inhalt4Einh[42,6]"},null,{"$f":"IF($A295<=Daten!$B$8,LOOKUP($B295,Daten!$A$322:$A$371,Daten!$V$322:$V$371),\"\") & \" \" & IF($A295<=Daten!$B$8,LOOKUP($B295,Daten!$A$322:$A$371,Daten!$W$322:$W$371),\"\")","v":"42,7 Inhalt4Einh[42,7]"}]
[null,null,null,{"$f":"IF($A295<=Daten!$B$8,LOOKUP($B295,Daten!$A$16:$A$65,Daten!$X$16:$X$65),\"\") & \" \" & IF($A295<=Daten!$B$8,LOOKUP($B295,Daten!$A$16:$A$65,Daten!$Y$16:$Y$65),\"\")","v":"42,1 Inhalt5Einh[42,1]"},null,{"$f":"IF($A295<=Daten!$B$8,LOOKUP($B295,Daten!$A$67:$A$116,Daten!$X$67:$X$116),\"\") & \" \" & IF($A295<=Daten!$B$8,LOOKUP($B295,Daten!$A$67:$A$116,Daten!$Y$67:$Y$116),\"\")","v":"42,2 Inhalt5Einh[42,2]"},null,{"$f":"IF($A295<=Daten!$B$8,LOOKUP($B295,Daten!$A$118:$A$167,Daten!$X$118:$X$167),\"\") & \" \" & IF($A295<=Daten!$B$8,LOOKUP($B295,Daten!$A$118:$A$167,Daten!$Y$118:$Y$167),\"\")","v":"42,3 Inhalt5Einh[42,3]"},null,{"$f":"IF($A295<=Daten!$B$8,LOOKUP($B295,Daten!$A$169:$A$218,Daten!$X$169:$X$218),\"\") & \" \" & IF($A295<=Daten!$B$8,LOOKUP($B295,Daten!$A$169:$A$218,Daten!$Y$169:$Y$218),\"\")","v":"42,4 Inhalt5Einh[42,4]"},null,{"$f":"IF($A295<=Daten!$B$8,LOOKUP($B295,Daten!$A$220:$A$269,Daten!$X$220:$X$269),\"\") & \" \" & IF($A295<=Daten!$B$8,LOOKUP($B295,Daten!$A$220:$A$269,Daten!$Y$220:$Y$269),\"\")","v":"42,5 Inhalt5Einh[42,5]"},null,{"$f":"IF($A295<=Daten!$B$8,LOOKUP($B295,Daten!$A$271:$A$320,Daten!$X$271:$X$320),\"\") & \" \" & IF($A295<=Daten!$B$8,LOOKUP($B295,Daten!$A$271:$A$320,Daten!$Y$271:$Y$320),\"\")","v":"42,6 Inhalt5Einh[42,6]"},null,{"$f":"IF($A295<=Daten!$B$8,LOOKUP($B295,Daten!$A$322:$A$371,Daten!$X$322:$X$371),\"\") & \" \" & IF($A295<=Daten!$B$8,LOOKUP($B295,Daten!$A$322:$A$371,Daten!$Y$322:$Y$371),\"\")","v":"42,7 Inhalt5Einh[42,7]"}]
[null,null,null,{"$f":"IF($A295<=Daten!$B$8,LOOKUP($B295,Daten!$A$16:$A$65,Daten!$Z$16:$Z$65),\"\") & \" \" & IF($A295<=Daten!$B$8,LOOKUP($B295,Daten!$A$16:$A$65,Daten!$AA$16:$AA$65),\"\")","v":"42,1 Inhalt6Einh[42,1]"},null,{"$f":"IF($A295<=Daten!$B$8,LOOKUP($B295,Daten!$A$67:$A$116,Daten!$Z$67:$Z$116),\"\") & \" \" & IF($A295<=Daten!$B$8,LOOKUP($B295,Daten!$A$67:$A$116,Daten!$AA$67:$AA$116),\"\")","v":"42,2 Inhalt6Einh[42,2]"},null,{"$f":"IF($A295<=Daten!$B$8,LOOKUP($B295,Daten!$A$118:$A$167,Daten!$Z$118:$Z$167),\"\") & \" \" & IF($A295<=Daten!$B$8,LOOKUP($B295,Daten!$A$118:$A$167,Daten!$AA$118:$AA$167),\"\")","v":"42,3 Inhalt6Einh[42,3]"},null,{"$f":"IF($A295<=Daten!$B$8,LOOKUP($B295,Daten!$A$169:$A$218,Daten!$Z$169:$Z$218),\"\") & \" \" & IF($A295<=Daten!$B$8,LOOKUP($B295,Daten!$A$169:$A$218,Daten!$AA$169:$AA$218),\"\")","v":"42,4 Inhalt6Einh[42,4]"},null,{"$f":"IF($A295<=Daten!$B$8,LOOKUP($B295,Daten!$A$220:$A$269,Daten!$Z$220:$Z$269),\"\") & \" \" & IF($A295<=Daten!$B$8,LOOKUP($B295,Daten!$A$220:$A$269,Daten!$AA$220:$AA$269),\"\")","v":"42,5 Inhalt6Einh[42,5]"},null,{"$f":"IF($A295<=Daten!$B$8,LOOKUP($B295,Daten!$A$271:$A$320,Daten!$Z$271:$Z$320),\"\") & \" \" & IF($A295<=Daten!$B$8,LOOKUP($B295,Daten!$A$271:$A$320,Daten!$AA$271:$AA$320),\"\")","v":"42,6 Inhalt6Einh[42,6]"},null,{"$f":"IF($A295<=Daten!$B$8,LOOKUP($B295,Daten!$A$322:$A$371,Daten!$Z$322:$Z$371),\"\") & \" \" & IF($A295<=Daten!$B$8,LOOKUP($B295,Daten!$A$322:$A$371,Daten!$AA$322:$AA$371),\"\")","v":"42,7 Inhalt6Einh[42,7]"}]
[null,{"$f":"IF(A295<=Daten!$B$8,\"Zusatzstoffe\",\"\")","v":"Zusatzstoffe"},{"$f":"IF($A295<=Daten!$B$8,LOOKUP($B295,Daten!$A$16:$A$65,Daten!$L$16:$L$65),\"\")","v":42.1},{"$f":"IF($A295<=Daten!$B$8,LOOKUP($B295,Daten!$A$16:$A$65,Daten!$D$16:$D$65),\"\")","v":42.1},{"$f":"IF($A295<=Daten!$B$8,LOOKUP($B295,Daten!$A$67:$A$116,Daten!$L$67:$L$116),\"\")","v":42.2},{"$f":"IF($A295<=Daten!$B$8,LOOKUP($B295,Daten!$A$16:$A$65,Daten!$D$67:$D$116),\"\")","v":42.2},{"$f":"IF($A295<=Daten!$B$8,LOOKUP($B295,Daten!$A$118:$A$167,Daten!$L$118:$L$167),\"\")","v":42.3},{"$f":"IF($A295<=Daten!$B$8,LOOKUP($B295,Daten!$A$118:$A$167,Daten!$D$118:$D$167),\"\")","v":42.3},{"$f":"IF($A295<=Daten!$B$8,LOOKUP($B295,Daten!$A$169:$A$218,Daten!$L$169:$L$218),\"\")","v":42.4},{"$f":"IF($A295<=Daten!$B$8,LOOKUP($B295,Daten!$A$169:$A$218,Daten!$D$169:$D$218),\"\")","v":42.4},{"$f":"IF($A295<=Daten!$B$8,LOOKUP($B295,Daten!$A$220:$A$269,Daten!$L$220:$L$269),\"\")","v":42.5},{"$f":"IF($A295<=Daten!$B$8,LOOKUP($B295,Daten!$A$220:$A$269,Daten!$D$220:$D$269),\"\")","v":42.5},{"$f":"IF($A295<=Daten!$B$8,LOOKUP($B295,Daten!$A$271:$A$320,Daten!$L$271:$L$320),\"\")","v":42.6},{"$f":"IF($A295<=Daten!$B$8,LOOKUP($B295,Daten!$A$271:$A$320,Daten!$D$271:$D$320),\"\")","v":42.6},{"$f":"IF($A295<=Daten!$B$8,LOOKUP($B295,Daten!$A$322:$A$371,Daten!$L$322:$L$371),\"\")","v":42.7},{"$f":"IF($A295<=Daten!$B$8,LOOKUP($B295,Daten!$A$322:$A$371,Daten!$D$322:$D$371),\"\")","v":42.7}]
[43,{"$f":"IF(A302<=Daten!$B$8,Daten!AR9,\"\")","v":"Menülinie 43"},{"$f":"IF(A302<=Daten!$B$8,LOOKUP(B302,Daten!$A$16:$A$65,Daten!$C$16:$C$65),\"\")","v":"Lang[43,1]"},{"$f":"IF($A302<=Daten!$B$8,LOOKUP($B302,Daten!$A$16:$A$65,Daten!$P$16:$P$65),\"\") & \" \" & IF($A302<=Daten!$B$8,LOOKUP($B302,Daten!$A$16:$A$65,Daten!$Q$16:$Q$65),\"\")","v":"43,1 Inhalt1Einh[43,1]"},{"$f":"IF($A302<=Daten!$B$8,LOOKUP($B302,Daten!$A$67:$A$116,Daten!$C$67:$C$116),\"\")","v":"Lang[43,2]"},{"$f":"IF($A302<=Daten!$B$8,LOOKUP($B302,Daten!$A$67:$A$116,Daten!$P$67:$P$116),\"\") & \" \" & IF($A302<=Daten!$B$8,LOOKUP($B302,Daten!$A$67:$A$116,Daten!$Q$67:$Q$116),\"\")","v":"43,2 Inhalt1Einh[43,2]"},{"$f":"IF($A302<=Daten!$B$8,LOOKUP($B302,Daten!$A$118:$A$167,Daten!$C$118:$C$167),\"\")","v":"Lang[43,3]"},{"$f":"IF($A302<=Daten!$B$8,LOOKUP($B302,Daten!$A$118:$A$167,Daten!$P$118:$P$167),\"\") & \" \" & IF($A302<=Daten!$B$8,LOOKUP($B302,Daten!$A$118:$A$167,Daten!$Q$118:$Q$167),\"\")","v":"43,3 Inhalt1Einh[43,3]"},{"$f":"IF($A302<=Daten!$B$8,LOOKUP($B302,Daten!$A$169:$A$218,Daten!$C$169:$C$218),\"\")","v":"Lang[43,4]"},{"$f":"IF($A302<=Daten!$B$8,LOOKUP($B302,Daten!$A$169:$A$218,Daten!$P$169:$P$218),\"\") & \" \" & IF($A302<=Daten!$B$8,LOOKUP($B302,Daten!$A$169:$A$218,Daten!$Q$169:$Q$218),\"\")","v":"43,4 Inhalt1Einh[43,4]"},{"$f":"IF($A302<=Daten!$B$8,LOOKUP($B302,Daten!$A$220:$A$269,Daten!$C$220:$C$269),\"\")","v":"Lang[43,5]"},{"$f":"IF($A302<=Daten!$B$8,LOOKUP($B302,Daten!$A$220:$A$269,Daten!$P$220:$P$269),\"\") & \" \" & IF($A302<=Daten!$B$8,LOOKUP($B302,Daten!$A$220:$A$269,Daten!$Q$220:$Q$269),\"\")","v":"43,5 Inhalt1Einh[43,5]"},{"$f":"IF($A302<=Daten!$B$8,LOOKUP($B302,Daten!$A$271:$A$320,Daten!$C$271:$C$320),\"\")","v":"Lang[43,6]"},{"$f":"IF($A302<=Daten!$B$8,LOOKUP($B302,Daten!$A$271:$A$320,Daten!$P$271:$P$320),\"\") & \" \" & IF($A302<=Daten!$B$8,LOOKUP($B302,Daten!$A$271:$A$320,Daten!$Q$271:$Q$320),\"\")","v":"43,6 Inhalt1Einh[43,6]"},{"$f":"IF($A302<=Daten!$B$8,LOOKUP($B302,Daten!$A$322:$A$371,Daten!$B$322:$C$371),\"\")","v":{"$error":"#N/A"}},{"$f":"IF($A302<=Daten!$B$8,LOOKUP($B302,Daten!$A$322:$A$371,Daten!$P$322:$P$371),\"\") & \" \" & IF($A302<=Daten!$B$8,LOOKUP($B302,Daten!$A$322:$A$371,Daten!$Q$322:$Q$371),\"\")","v":"43,7 Inhalt1Einh[43,7]"}]
[null,null,null,{"$f":"IF($A302<=Daten!$B$8,LOOKUP($B302,Daten!$A$16:$A$65,Daten!$R$16:$R$65),\"\") & \" \" & IF($A302<=Daten!$B$8,LOOKUP($B302,Daten!$A$16:$A$65,Daten!$S$16:$S$65),\"\")","v":"43,1 Inhalt2Einh[43,1]"},null,{"$f":"IF($A302<=Daten!$B$8,LOOKUP($B302,Daten!$A$67:$A$116,Daten!$R$67:$R$116),\"\") & \" \" & IF($A302<=Daten!$B$8,LOOKUP($B302,Daten!$A$67:$A$116,Daten!$S$67:$S$116),\"\")","v":"43,2 Inhalt2Einh[43,2]"},null,{"$f":"IF($A302<=Daten!$B$8,LOOKUP($B302,Daten!$A$118:$A$167,Daten!$R$118:$R$167),\"\") & \" \" & IF($A302<=Daten!$B$8,LOOKUP($B302,Daten!$A$118:$A$167,Daten!$S$118:$S$167),\"\")","v":"43,3 Inhalt2Einh[43,3]"},null,{"$f":"IF($A302<=Daten!$B$8,LOOKUP($B302,Daten!$A$169:$A$218,Daten!$R$169:$R$218),\"\") & \" \" & IF($A302<=Daten!$B$8,LOOKUP($B302,Daten!$A$169:$A$218,Daten!$S$169:$S$218),\"\")","v":"43,4 Inhalt2Einh[43,4]"},null,{"$f":"IF($A302<=Daten!$B$8,LOOKUP($B302,Daten!$A$220:$A$269,Daten!$R$220:$R$269),\"\") & \" \" & IF($A302<=Daten!$B$8,LOOKUP($B302,Daten!$A$220:$A$269,Daten!$S$220:$S$269),\"\")","v":"43,5 Inhalt2Einh[43,5]"},null,{"$f":"IF($A302<=Daten!$B$8,LOOKUP($B302,Daten!$A$271:$A$320,Daten!$R$271:$R$320),\"\") & \" \" & IF($A302<=Daten!$B$8,LOOKUP($B302,Daten!$A$271:$A$320,Daten!$S$271:$S$320),\"\")","v":"43,6 Inhalt2Einh[43,6]"},null,{"$f":"IF($A302<=Daten!$B$8,LOOKUP($B302,Daten!$A$322:$A$371,Daten!$R$322:$R$371),\"\") & \" \" & IF($A302<=Daten!$B$8,LOOKUP($B302,Daten!$A$322:$A$371,Daten!$S$322:$S$371),\"\")","v":"43,7 Inhalt2Einh[43,7]"}]
[null,null,null,{"$f":"IF($A302<=Daten!$B$8,LOOKUP($B302,Daten!$A$16:$A$65,Daten!$T$16:$T$65),\"\") & \" \" & IF($A302<=Daten!$B$8,LOOKUP($B302,Daten!$A$16:$A$65,Daten!$U$16:$U$65),\"\")","v":"43,1 Inhalt3Einh[43,1]"},null,{"$f":"IF($A302<=Daten!$B$8,LOOKUP($B302,Daten!$A$67:$A$116,Daten!$T$67:$T$116),\"\") & \" \" & IF($A302<=Daten!$B$8,LOOKUP($B302,Daten!$A$67:$A$116,Daten!$U$67:$U$116),\"\")","v":"43,2 Inhalt3Einh[43,2]"},null,{"$f":"IF($A302<=Daten!$B$8,LOOKUP($B302,Daten!$A$118:$A$167,Daten!$T$118:$T$167),\"\") & \" \" & IF($A302<=Daten!$B$8,LOOKUP($B302,Daten!$A$118:$A$167,Daten!$U$118:$U$167),\"\")","v":"43,3 Inhalt3Einh[43,3]"},null,{"$f":"IF($A302<=Daten!$B$8,LOOKUP($B302,Daten!$A$169:$A$218,Daten!$T$169:$T$218),\"\") & \" \" & IF($A302<=Daten!$B$8,LOOKUP($B302,Daten!$A$169:$A$218,Daten!$U$169:$U$218),\"\")","v":"43,4 Inhalt3Einh[43,4]"},null,{"$f":"IF($A302<=Daten!$B$8,LOOKUP($B302,Daten!$A$220:$A$269,Daten!$T$220:$T$269),\"\") & \" \" & IF($A302<=Daten!$B$8,LOOKUP($B302,Daten!$A$220:$A$269,Daten!$U$220:$U$269),\"\")","v":"43,5 Inhalt3Einh[43,5]"},null,{"$f":"IF($A302<=Daten!$B$8,LOOKUP($B302,Daten!$A$271:$A$320,Daten!$T$271:$T$320),\"\") & \" \" & IF($A302<=Daten!$B$8,LOOKUP($B302,Daten!$A$271:$A$320,Daten!$U$271:$U$320),\"\")","v":"43,6 Inhalt3Einh[43,6]"},null,{"$f":"IF($A302<=Daten!$B$8,LOOKUP($B302,Daten!$A$322:$A$371,Daten!$T$322:$T$371),\"\") & \" \" & IF($A302<=Daten!$B$8,LOOKUP($B302,Daten!$A$322:$A$371,Daten!$U$322:$U$371),\"\")","v":"43,7 Inhalt3Einh[43,7]"}]
[null,null,null,{"$f":"IF($A302<=Daten!$B$8,LOOKUP($B302,Daten!$A$16:$A$65,Daten!$V$16:$V$65),\"\") & \" \" & IF($A302<=Daten!$B$8,LOOKUP($B302,Daten!$A$16:$A$65,Daten!$W$16:$W$65),\"\")","v":"43,1 Inhalt4Einh[43,1]"},null,{"$f":"IF($A302<=Daten!$B$8,LOOKUP($B302,Daten!$A$67:$A$116,Daten!$V$67:$V$116),\"\") & \" \" & IF($A302<=Daten!$B$8,LOOKUP($B302,Daten!$A$67:$A$116,Daten!$W$67:$W$116),\"\")","v":"43,2 Inhalt4Einh[43,2]"},null,{"$f":"IF($A302<=Daten!$B$8,LOOKUP($B302,Daten!$A$118:$A$167,Daten!$V$118:$V$167),\"\") & \" \" & IF($A302<=Daten!$B$8,LOOKUP($B302,Daten!$A$118:$A$167,Daten!$W$118:$W$167),\"\")","v":"43,3 Inhalt4Einh[43,3]"},null,{"$f":"IF($A302<=Daten!$B$8,LOOKUP($B302,Daten!$A$169:$A$218,Daten!$V$169:$V$218),\"\") & \" \" & IF($A302<=Daten!$B$8,LOOKUP($B302,Daten!$A$169:$A$218,Daten!$W$169:$W$218),\"\")","v":"43,4 Inhalt4Einh[43,4]"},null,{"$f":"IF($A302<=Daten!$B$8,LOOKUP($B302,Daten!$A$220:$A$269,Daten!$V$220:$V$269),\"\") & \" \" & IF($A302<=Daten!$B$8,LOOKUP($B302,Daten!$A$220:$A$269,Daten!$W$220:$W$269),\"\")","v":"43,5 Inhalt4Einh[43,5]"},null,{"$f":"IF($A302<=Daten!$B$8,LOOKUP($B302,Daten!$A$271:$A$320,Daten!$V$271:$V$320),\"\") & \" \" & IF($A302<=Daten!$B$8,LOOKUP($B302,Daten!$A$271:$A$320,Daten!$W$271:$W$320),\"\")","v":"43,6 Inhalt4Einh[43,6]"},null,{"$f":"IF($A302<=Daten!$B$8,LOOKUP($B302,Daten!$A$322:$A$371,Daten!$V$322:$V$371),\"\") & \" \" & IF($A302<=Daten!$B$8,LOOKUP($B302,Daten!$A$322:$A$371,Daten!$W$322:$W$371),\"\")","v":"43,7 Inhalt4Einh[43,7]"}]
[null,null,null,{"$f":"IF($A302<=Daten!$B$8,LOOKUP($B302,Daten!$A$16:$A$65,Daten!$X$16:$X$65),\"\") & \" \" & IF($A302<=Daten!$B$8,LOOKUP($B302,Daten!$A$16:$A$65,Daten!$Y$16:$Y$65),\"\")","v":"43,1 Inhalt5Einh[43,1]"},null,{"$f":"IF($A302<=Daten!$B$8,LOOKUP($B302,Daten!$A$67:$A$116,Daten!$X$67:$X$116),\"\") & \" \" & IF($A302<=Daten!$B$8,LOOKUP($B302,Daten!$A$67:$A$116,Daten!$Y$67:$Y$116),\"\")","v":"43,2 Inhalt5Einh[43,2]"},null,{"$f":"IF($A302<=Daten!$B$8,LOOKUP($B302,Daten!$A$118:$A$167,Daten!$X$118:$X$167),\"\") & \" \" & IF($A302<=Daten!$B$8,LOOKUP($B302,Daten!$A$118:$A$167,Daten!$Y$118:$Y$167),\"\")","v":"43,3 Inhalt5Einh[43,3]"},null,{"$f":"IF($A302<=Daten!$B$8,LOOKUP($B302,Daten!$A$169:$A$218,Daten!$X$169:$X$218),\"\") & \" \" & IF($A302<=Daten!$B$8,LOOKUP($B302,Daten!$A$169:$A$218,Daten!$Y$169:$Y$218),\"\")","v":"43,4 Inhalt5Einh[43,4]"},null,{"$f":"IF($A302<=Daten!$B$8,LOOKUP($B302,Daten!$A$220:$A$269,Daten!$X$220:$X$269),\"\") & \" \" & IF($A302<=Daten!$B$8,LOOKUP($B302,Daten!$A$220:$A$269,Daten!$Y$220:$Y$269),\"\")","v":"43,5 Inhalt5Einh[43,5]"},null,{"$f":"IF($A302<=Daten!$B$8,LOOKUP($B302,Daten!$A$271:$A$320,Daten!$X$271:$X$320),\"\") & \" \" & IF($A302<=Daten!$B$8,LOOKUP($B302,Daten!$A$271:$A$320,Daten!$Y$271:$Y$320),\"\")","v":"43,6 Inhalt5Einh[43,6]"},null,{"$f":"IF($A302<=Daten!$B$8,LOOKUP($B302,Daten!$A$322:$A$371,Daten!$X$322:$X$371),\"\") & \" \" & IF($A302<=Daten!$B$8,LOOKUP($B302,Daten!$A$322:$A$371,Daten!$Y$322:$Y$371),\"\")","v":"43,7 Inhalt5Einh[43,7]"}]
[null,null,null,{"$f":"IF($A302<=Daten!$B$8,LOOKUP($B302,Daten!$A$16:$A$65,Daten!$Z$16:$Z$65),\"\") & \" \" & IF($A302<=Daten!$B$8,LOOKUP($B302,Daten!$A$16:$A$65,Daten!$AA$16:$AA$65),\"\")","v":"43,1 Inhalt6Einh[43,1]"},null,{"$f":"IF($A302<=Daten!$B$8,LOOKUP($B302,Daten!$A$67:$A$116,Daten!$Z$67:$Z$116),\"\") & \" \" & IF($A302<=Daten!$B$8,LOOKUP($B302,Daten!$A$67:$A$116,Daten!$AA$67:$AA$116),\"\")","v":"43,2 Inhalt6Einh[43,2]"},null,{"$f":"IF($A302<=Daten!$B$8,LOOKUP($B302,Daten!$A$118:$A$167,Daten!$Z$118:$Z$167),\"\") & \" \" & IF($A302<=Daten!$B$8,LOOKUP($B302,Daten!$A$118:$A$167,Daten!$AA$118:$AA$167),\"\")","v":"43,3 Inhalt6Einh[43,3]"},null,{"$f":"IF($A302<=Daten!$B$8,LOOKUP($B302,Daten!$A$169:$A$218,Daten!$Z$169:$Z$218),\"\") & \" \" & IF($A302<=Daten!$B$8,LOOKUP($B302,Daten!$A$169:$A$218,Daten!$AA$169:$AA$218),\"\")","v":"43,4 Inhalt6Einh[43,4]"},null,{"$f":"IF($A302<=Daten!$B$8,LOOKUP($B302,Daten!$A$220:$A$269,Daten!$Z$220:$Z$269),\"\") & \" \" & IF($A302<=Daten!$B$8,LOOKUP($B302,Daten!$A$220:$A$269,Daten!$AA$220:$AA$269),\"\")","v":"43,5 Inhalt6Einh[43,5]"},null,{"$f":"IF($A302<=Daten!$B$8,LOOKUP($B302,Daten!$A$271:$A$320,Daten!$Z$271:$Z$320),\"\") & \" \" & IF($A302<=Daten!$B$8,LOOKUP($B302,Daten!$A$271:$A$320,Daten!$AA$271:$AA$320),\"\")","v":"43,6 Inhalt6Einh[43,6]"},null,{"$f":"IF($A302<=Daten!$B$8,LOOKUP($B302,Daten!$A$322:$A$371,Daten!$Z$322:$Z$371),\"\") & \" \" & IF($A302<=Daten!$B$8,LOOKUP($B302,Daten!$A$322:$A$371,Daten!$AA$322:$AA$371),\"\")","v":"43,7 Inhalt6Einh[43,7]"}]
[null,{"$f":"IF(A302<=Daten!$B$8,\"Zusatzstoffe\",\"\")","v":"Zusatzstoffe"},{"$f":"IF($A302<=Daten!$B$8,LOOKUP($B302,Daten!$A$16:$A$65,Daten!$L$16:$L$65),\"\")","v":43.1},{"$f":"IF($A302<=Daten!$B$8,LOOKUP($B302,Daten!$A$16:$A$65,Daten!$D$16:$D$65),\"\")","v":43.1},{"$f":"IF($A302<=Daten!$B$8,LOOKUP($B302,Daten!$A$67:$A$116,Daten!$L$67:$L$116),\"\")","v":43.2},{"$f":"IF($A302<=Daten!$B$8,LOOKUP($B302,Daten!$A$16:$A$65,Daten!$D$67:$D$116),\"\")","v":43.2},{"$f":"IF($A302<=Daten!$B$8,LOOKUP($B302,Daten!$A$118:$A$167,Daten!$L$118:$L$167),\"\")","v":43.3},{"$f":"IF($A302<=Daten!$B$8,LOOKUP($B302,Daten!$A$118:$A$167,Daten!$D$118:$D$167),\"\")","v":43.3},{"$f":"IF($A302<=Daten!$B$8,LOOKUP($B302,Daten!$A$169:$A$218,Daten!$L$169:$L$218),\"\")","v":43.4},{"$f":"IF($A302<=Daten!$B$8,LOOKUP($B302,Daten!$A$169:$A$218,Daten!$D$169:$D$218),\"\")","v":43.4},{"$f":"IF($A302<=Daten!$B$8,LOOKUP($B302,Daten!$A$220:$A$269,Daten!$L$220:$L$269),\"\")","v":43.5},{"$f":"IF($A302<=Daten!$B$8,LOOKUP($B302,Daten!$A$220:$A$269,Daten!$D$220:$D$269),\"\")","v":43.5},{"$f":"IF($A302<=Daten!$B$8,LOOKUP($B302,Daten!$A$271:$A$320,Daten!$L$271:$L$320),\"\")","v":43.6},{"$f":"IF($A302<=Daten!$B$8,LOOKUP($B302,Daten!$A$271:$A$320,Daten!$D$271:$D$320),\"\")","v":43.6},{"$f":"IF($A302<=Daten!$B$8,LOOKUP($B302,Daten!$A$322:$A$371,Daten!$L$322:$L$371),\"\")","v":43.7},{"$f":"IF($A302<=Daten!$B$8,LOOKUP($B302,Daten!$A$322:$A$371,Daten!$D$322:$D$371),\"\")","v":43.7}]
[44,{"$f":"IF(A309<=Daten!$B$8,Daten!AS9,\"\")","v":"Menülinie 44"},{"$f":"IF(A309<=Daten!$B$8,LOOKUP(B309,Daten!$A$16:$A$65,Daten!$C$16:$C$65),\"\")","v":"Lang[44,1]"},{"$f":"IF($A309<=Daten!$B$8,LOOKUP($B309,Daten!$A$16:$A$65,Daten!$P$16:$P$65),\"\") & \" \" & IF($A309<=Daten!$B$8,LOOKUP($B309,Daten!$A$16:$A$65,Daten!$Q$16:$Q$65),\"\")","v":"44,1 Inhalt1Einh[44,1]"},{"$f":"IF($A309<=Daten!$B$8,LOOKUP($B309,Daten!$A$67:$A$116,Daten!$C$67:$C$116),\"\")","v":"Lang[44,2]"},{"$f":"IF($A309<=Daten!$B$8,LOOKUP($B309,Daten!$A$67:$A$116,Daten!$P$67:$P$116),\"\") & \" \" & IF($A309<=Daten!$B$8,LOOKUP($B309,Daten!$A$67:$A$116,Daten!$Q$67:$Q$116),\"\")","v":"44,2 Inhalt1Einh[44,2]"},{"$f":"IF($A309<=Daten!$B$8,LOOKUP($B309,Daten!$A$118:$A$167,Daten!$C$118:$C$167),\"\")","v":"Lang[44,3]"},{"$f":"IF($A309<=Daten!$B$8,LOOKUP($B309,Daten!$A$118:$A$167,Daten!$P$118:$P$167),\"\") & \" \" & IF($A309<=Daten!$B$8,LOOKUP($B309,Daten!$A$118:$A$167,Daten!$Q$118:$Q$167),\"\")","v":"44,3 Inhalt1Einh[44,3]"},{"$f":"IF($A309<=Daten!$B$8,LOOKUP($B309,Daten!$A$169:$A$218,Daten!$C$169:$C$218),\"\")","v":"Lang[44,4]"},{"$f":"IF($A309<=Daten!$B$8,LOOKUP($B309,Daten!$A$169:$A$218,Daten!$P$169:$P$218),\"\") & \" \" & IF($A309<=Daten!$B$8,LOOKUP($B309,Daten!$A$169:$A$218,Daten!$Q$169:$Q$218),\"\")","v":"44,4 Inhalt1Einh[44,4]"},{"$f":"IF($A309<=Daten!$B$8,LOOKUP($B309,Daten!$A$220:$A$269,Daten!$C$220:$C$269),\"\")","v":"Lang[44,5]"},{"$f":"IF($A309<=Daten!$B$8,LOOKUP($B309,Daten!$A$220:$A$269,Daten!$P$220:$P$269),\"\") & \" \" & IF($A309<=Daten!$B$8,LOOKUP($B309,Daten!$A$220:$A$269,Daten!$Q$220:$Q$269),\"\")","v":"44,5 Inhalt1Einh[44,5]"},{"$f":"IF($A309<=Daten!$B$8,LOOKUP($B309,Daten!$A$271:$A$320,Daten!$C$271:$C$320),\"\")","v":"Lang[44,6]"},{"$f":"IF($A309<=Daten!$B$8,LOOKUP($B309,Daten!$A$271:$A$320,Daten!$P$271:$P$320),\"\") & \" \" & IF($A309<=Daten!$B$8,LOOKUP($B309,Daten!$A$271:$A$320,Daten!$Q$271:$Q$320),\"\")","v":"44,6 Inhalt1Einh[44,6]"},{"$f":"IF($A309<=Daten!$B$8,LOOKUP($B309,Daten!$A$322:$A$371,Daten!$B$322:$C$371),\"\")","v":{"$error":"#N/A"}},{"$f":"IF($A309<=Daten!$B$8,LOOKUP($B309,Daten!$A$322:$A$371,Daten!$P$322:$P$371),\"\") & \" \" & IF($A309<=Daten!$B$8,LOOKUP($B309,Daten!$A$322:$A$371,Daten!$Q$322:$Q$371),\"\")","v":"44,7 Inhalt1Einh[44,7]"}]
[null,null,null,{"$f":"IF($A309<=Daten!$B$8,LOOKUP($B309,Daten!$A$16:$A$65,Daten!$R$16:$R$65),\"\") & \" \" & IF($A309<=Daten!$B$8,LOOKUP($B309,Daten!$A$16:$A$65,Daten!$S$16:$S$65),\"\")","v":"44,1 Inhalt2Einh[44,1]"},null,{"$f":"IF($A309<=Daten!$B$8,LOOKUP($B309,Daten!$A$67:$A$116,Daten!$R$67:$R$116),\"\") & \" \" & IF($A309<=Daten!$B$8,LOOKUP($B309,Daten!$A$67:$A$116,Daten!$S$67:$S$116),\"\")","v":"44,2 Inhalt2Einh[44,2]"},null,{"$f":"IF($A309<=Daten!$B$8,LOOKUP($B309,Daten!$A$118:$A$167,Daten!$R$118:$R$167),\"\") & \" \" & IF($A309<=Daten!$B$8,LOOKUP($B309,Daten!$A$118:$A$167,Daten!$S$118:$S$167),\"\")","v":"44,3 Inhalt2Einh[44,3]"},null,{"$f":"IF($A309<=Daten!$B$8,LOOKUP($B309,Daten!$A$169:$A$218,Daten!$R$169:$R$218),\"\") & \" \" & IF($A309<=Daten!$B$8,LOOKUP($B309,Daten!$A$169:$A$218,Daten!$S$169:$S$218),\"\")","v":"44,4 Inhalt2Einh[44,4]"},null,{"$f":"IF($A309<=Daten!$B$8,LOOKUP($B309,Daten!$A$220:$A$269,Daten!$R$220:$R$269),\"\") & \" \" & IF($A309<=Daten!$B$8,LOOKUP($B309,Daten!$A$220:$A$269,Daten!$S$220:$S$269),\"\")","v":"44,5 Inhalt2Einh[44,5]"},null,{"$f":"IF($A309<=Daten!$B$8,LOOKUP($B309,Daten!$A$271:$A$320,Daten!$R$271:$R$320),\"\") & \" \" & IF($A309<=Daten!$B$8,LOOKUP($B309,Daten!$A$271:$A$320,Daten!$S$271:$S$320),\"\")","v":"44,6 Inhalt2Einh[44,6]"},null,{"$f":"IF($A309<=Daten!$B$8,LOOKUP($B309,Daten!$A$322:$A$371,Daten!$R$322:$R$371),\"\") & \" \" & IF($A309<=Daten!$B$8,LOOKUP($B309,Daten!$A$322:$A$371,Daten!$S$322:$S$371),\"\")","v":"44,7 Inhalt2Einh[44,7]"}]
[null,null,null,{"$f":"IF($A309<=Daten!$B$8,LOOKUP($B309,Daten!$A$16:$A$65,Daten!$T$16:$T$65),\"\") & \" \" & IF($A309<=Daten!$B$8,LOOKUP($B309,Daten!$A$16:$A$65,Daten!$U$16:$U$65),\"\")","v":"44,1 Inhalt3Einh[44,1]"},null,{"$f":"IF($A309<=Daten!$B$8,LOOKUP($B309,Daten!$A$67:$A$116,Daten!$T$67:$T$116),\"\") & \" \" & IF($A309<=Daten!$B$8,LOOKUP($B309,Daten!$A$67:$A$116,Daten!$U$67:$U$116),\"\")","v":"44,2 Inhalt3Einh[44,2]"},null,{"$f":"IF($A309<=Daten!$B$8,LOOKUP($B309,Daten!$A$118:$A$167,Daten!$T$118:$T$167),\"\") & \" \" & IF($A309<=Daten!$B$8,LOOKUP($B309,Daten!$A$118:$A$167,Daten!$U$118:$U$167),\"\")","v":"44,3 Inhalt3Einh[44,3]"},null,{"$f":"IF($A309<=Daten!$B$8,LOOKUP($B309,Daten!$A$169:$A$218,Daten!$T$169:$T$218),\"\") & \" \" & IF($A309<=Daten!$B$8,LOOKUP($B309,Daten!$A$169:$A$218,Daten!$U$169:$U$218),\"\")","v":"44,4 Inhalt3Einh[44,4]"},null,{"$f":"IF($A309<=Daten!$B$8,LOOKUP($B309,Daten!$A$220:$A$269,Daten!$T$220:$T$269),\"\") & \" \" & IF($A309<=Daten!$B$8,LOOKUP($B309,Daten!$A$220:$A$269,Daten!$U$220:$U$269),\"\")","v":"44,5 Inhalt3Einh[44,5]"},null,{"$f":"IF($A309<=Daten!$B$8,LOOKUP($B309,Daten!$A$271:$A$320,Daten!$T$271:$T$320),\"\") & \" \" & IF($A309<=Daten!$B$8,LOOKUP($B309,Daten!$A$271:$A$320,Daten!$U$271:$U$320),\"\")","v":"44,6 Inhalt3Einh[44,6]"},null,{"$f":"IF($A309<=Daten!$B$8,LOOKUP($B309,Daten!$A$322:$A$371,Daten!$T$322:$T$371),\"\") & \" \" & IF($A309<=Daten!$B$8,LOOKUP($B309,Daten!$A$322:$A$371,Daten!$U$322:$U$371),\"\")","v":"44,7 Inhalt3Einh[44,7]"}]
[null,null,null,{"$f":"IF($A309<=Daten!$B$8,LOOKUP($B309,Daten!$A$16:$A$65,Daten!$V$16:$V$65),\"\") & \" \" & IF($A309<=Daten!$B$8,LOOKUP($B309,Daten!$A$16:$A$65,Daten!$W$16:$W$65),\"\")","v":"44,1 Inhalt4Einh[44,1]"},null,{"$f":"IF($A309<=Daten!$B$8,LOOKUP($B309,Daten!$A$67:$A$116,Daten!$V$67:$V$116),\"\") & \" \" & IF($A309<=Daten!$B$8,LOOKUP($B309,Daten!$A$67:$A$116,Daten!$W$67:$W$116),\"\")","v":"44,2 Inhalt4Einh[44,2]"},null,{"$f":"IF($A309<=Daten!$B$8,LOOKUP($B309,Daten!$A$118:$A$167,Daten!$V$118:$V$167),\"\") & \" \" & IF($A309<=Daten!$B$8,LOOKUP($B309,Daten!$A$118:$A$167,Daten!$W$118:$W$167),\"\")","v":"44,3 Inhalt4Einh[44,3]"},null,{"$f":"IF($A309<=Daten!$B$8,LOOKUP($B309,Daten!$A$169:$A$218,Daten!$V$169:$V$218),\"\") & \" \" & IF($A309<=Daten!$B$8,LOOKUP($B309,Daten!$A$169:$A$218,Daten!$W$169:$W$218),\"\")","v":"44,4 Inhalt4Einh[44,4]"},null,{"$f":"IF($A309<=Daten!$B$8,LOOKUP($B309,Daten!$A$220:$A$269,Daten!$V$220:$V$269),\"\") & \" \" & IF($A309<=Daten!$B$8,LOOKUP($B309,Daten!$A$220:$A$269,Daten!$W$220:$W$269),\"\")","v":"44,5 Inhalt4Einh[44,5]"},null,{"$f":"IF($A309<=Daten!$B$8,LOOKUP($B309,Daten!$A$271:$A$320,Daten!$V$271:$V$320),\"\") & \" \" & IF($A309<=Daten!$B$8,LOOKUP($B309,Daten!$A$271:$A$320,Daten!$W$271:$W$320),\"\")","v":"44,6 Inhalt4Einh[44,6]"},null,{"$f":"IF($A309<=Daten!$B$8,LOOKUP($B309,Daten!$A$322:$A$371,Daten!$V$322:$V$371),\"\") & \" \" & IF($A309<=Daten!$B$8,LOOKUP($B309,Daten!$A$322:$A$371,Daten!$W$322:$W$371),\"\")","v":"44,7 Inhalt4Einh[44,7]"}]
[null,null,null,{"$f":"IF($A309<=Daten!$B$8,LOOKUP($B309,Daten!$A$16:$A$65,Daten!$X$16:$X$65),\"\") & \" \" & IF($A309<=Daten!$B$8,LOOKUP($B309,Daten!$A$16:$A$65,Daten!$Y$16:$Y$65),\"\")","v":"44,1 Inhalt5Einh[44,1]"},null,{"$f":"IF($A309<=Daten!$B$8,LOOKUP($B309,Daten!$A$67:$A$116,Daten!$X$67:$X$116),\"\") & \" \" & IF($A309<=Daten!$B$8,LOOKUP($B309,Daten!$A$67:$A$116,Daten!$Y$67:$Y$116),\"\")","v":"44,2 Inhalt5Einh[44,2]"},null,{"$f":"IF($A309<=Daten!$B$8,LOOKUP($B309,Daten!$A$118:$A$167,Daten!$X$118:$X$167),\"\") & \" \" & IF($A309<=Daten!$B$8,LOOKUP($B309,Daten!$A$118:$A$167,Daten!$Y$118:$Y$167),\"\")","v":"44,3 Inhalt5Einh[44,3]"},null,{"$f":"IF($A309<=Daten!$B$8,LOOKUP($B309,Daten!$A$169:$A$218,Daten!$X$169:$X$218),\"\") & \" \" & IF($A309<=Daten!$B$8,LOOKUP($B309,Daten!$A$169:$A$218,Daten!$Y$169:$Y$218),\"\")","v":"44,4 Inhalt5Einh[44,4]"},null,{"$f":"IF($A309<=Daten!$B$8,LOOKUP($B309,Daten!$A$220:$A$269,Daten!$X$220:$X$269),\"\") & \" \" & IF($A309<=Daten!$B$8,LOOKUP($B309,Daten!$A$220:$A$269,Daten!$Y$220:$Y$269),\"\")","v":"44,5 Inhalt5Einh[44,5]"},null,{"$f":"IF($A309<=Daten!$B$8,LOOKUP($B309,Daten!$A$271:$A$320,Daten!$X$271:$X$320),\"\") & \" \" & IF($A309<=Daten!$B$8,LOOKUP($B309,Daten!$A$271:$A$320,Daten!$Y$271:$Y$320),\"\")","v":"44,6 Inhalt5Einh[44,6]"},null,{"$f":"IF($A309<=Daten!$B$8,LOOKUP($B309,Daten!$A$322:$A$371,Daten!$X$322:$X$371),\"\") & \" \" & IF($A309<=Daten!$B$8,LOOKUP($B309,Daten!$A$322:$A$371,Daten!$Y$322:$Y$371),\"\")","v":"44,7 Inhalt5Einh[44,7]"}]
[null,null,null,{"$f":"IF($A309<=Daten!$B$8,LOOKUP($B309,Daten!$A$16:$A$65,Daten!$Z$16:$Z$65),\"\") & \" \" & IF($A309<=Daten!$B$8,LOOKUP($B309,Daten!$A$16:$A$65,Daten!$AA$16:$AA$65),\"\")","v":"44,1 Inhalt6Einh[44,1]"},null,{"$f":"IF($A309<=Daten!$B$8,LOOKUP($B309,Daten!$A$67:$A$116,Daten!$Z$67:$Z$116),\"\") & \" \" & IF($A309<=Daten!$B$8,LOOKUP($B309,Daten!$A$67:$A$116,Daten!$AA$67:$AA$116),\"\")","v":"44,2 Inhalt6Einh[44,2]"},null,{"$f":"IF($A309<=Daten!$B$8,LOOKUP($B309,Daten!$A$118:$A$167,Daten!$Z$118:$Z$167),\"\") & \" \" & IF($A309<=Daten!$B$8,LOOKUP($B309,Daten!$A$118:$A$167,Daten!$AA$118:$AA$167),\"\")","v":"44,3 Inhalt6Einh[44,3]"},null,{"$f":"IF($A309<=Daten!$B$8,LOOKUP($B309,Daten!$A$169:$A$218,Daten!$Z$169:$Z$218),\"\") & \" \" & IF($A309<=Daten!$B$8,LOOKUP($B309,Daten!$A$169:$A$218,Daten!$AA$169:$AA$218),\"\")","v":"44,4 Inhalt6Einh[44,4]"},null,{"$f":"IF($A309<=Daten!$B$8,LOOKUP($B309,Daten!$A$220:$A$269,Daten!$Z$220:$Z$269),\"\") & \" \" & IF($A309<=Daten!$B$8,LOOKUP($B309,Daten!$A$220:$A$269,Daten!$AA$220:$AA$269),\"\")","v":"44,5 Inhalt6Einh[44,5]"},null,{"$f":"IF($A309<=Daten!$B$8,LOOKUP($B309,Daten!$A$271:$A$320,Daten!$Z$271:$Z$320),\"\") & \" \" & IF($A309<=Daten!$B$8,LOOKUP($B309,Daten!$A$271:$A$320,Daten!$AA$271:$AA$320),\"\")","v":"44,6 Inhalt6Einh[44,6]"},null,{"$f":"IF($A309<=Daten!$B$8,LOOKUP($B309,Daten!$A$322:$A$371,Daten!$Z$322:$Z$371),\"\") & \" \" & IF($A309<=Daten!$B$8,LOOKUP($B309,Daten!$A$322:$A$371,Daten!$AA$322:$AA$371),\"\")","v":"44,7 Inhalt6Einh[44,7]"}]
[null,{"$f":"IF(A309<=Daten!$B$8,\"Zusatzstoffe\",\"\")","v":"Zusatzstoffe"},{"$f":"IF($A309<=Daten!$B$8,LOOKUP($B309,Daten!$A$16:$A$65,Daten!$L$16:$L$65),\"\")","v":44.1},{"$f":"IF($A309<=Daten!$B$8,LOOKUP($B309,Daten!$A$16:$A$65,Daten!$D$16:$D$65),\"\")","v":44.1},{"$f":"IF($A309<=Daten!$B$8,LOOKUP($B309,Daten!$A$67:$A$116,Daten!$L$67:$L$116),\"\")","v":44.2},{"$f":"IF($A309<=Daten!$B$8,LOOKUP($B309,Daten!$A$16:$A$65,Daten!$D$67:$D$116),\"\")","v":44.2},{"$f":"IF($A309<=Daten!$B$8,LOOKUP($B309,Daten!$A$118:$A$167,Daten!$L$118:$L$167),\"\")","v":44.3},{"$f":"IF($A309<=Daten!$B$8,LOOKUP($B309,Daten!$A$118:$A$167,Daten!$D$118:$D$167),\"\")","v":44.3},{"$f":"IF($A309<=Daten!$B$8,LOOKUP($B309,Daten!$A$169:$A$218,Daten!$L$169:$L$218),\"\")","v":44.4},{"$f":"IF($A309<=Daten!$B$8,LOOKUP($B309,Daten!$A$169:$A$218,Daten!$D$169:$D$218),\"\")","v":44.4},{"$f":"IF($A309<=Daten!$B$8,LOOKUP($B309,Daten!$A$220:$A$269,Daten!$L$220:$L$269),\"\")","v":44.5},{"$f":"IF($A309<=Daten!$B$8,LOOKUP($B309,Daten!$A$220:$A$269,Daten!$D$220:$D$269),\"\")","v":44.5},{"$f":"IF($A309<=Daten!$B$8,LOOKUP($B309,Daten!$A$271:$A$320,Daten!$L$271:$L$320),\"\")","v":44.6},{"$f":"IF($A309<=Daten!$B$8,LOOKUP($B309,Daten!$A$271:$A$320,Daten!$D$271:$D$320),\"\")","v":44.6},{"$f":"IF($A309<=Daten!$B$8,LOOKUP($B309,Daten!$A$322:$A$371,Daten!$L$322:$L$371),\"\")","v":44.7},{"$f":"IF($A309<=Daten!$B$8,LOOKUP($B309,Daten!$A$322:$A$371,Daten!$D$322:$D$371),\"\")","v":44.7}]
[45,{"$f":"IF(A316<=Daten!$B$8,Daten!AT9,\"\")","v":"Menülinie 45"},{"$f":"IF(A316<=Daten!$B$8,LOOKUP(B316,Daten!$A$16:$A$65,Daten!$C$16:$C$65),\"\")","v":"Lang[45,1]"},{"$f":"IF($A316<=Daten!$B$8,LOOKUP($B316,Daten!$A$16:$A$65,Daten!$P$16:$P$65),\"\") & \" \" & IF($A316<=Daten!$B$8,LOOKUP($B316,Daten!$A$16:$A$65,Daten!$Q$16:$Q$65),\"\")","v":"45,1 Inhalt1Einh[45,1]"},{"$f":"IF($A316<=Daten!$B$8,LOOKUP($B316,Daten!$A$67:$A$116,Daten!$C$67:$C$116),\"\")","v":"Lang[45,2]"},{"$f":"IF($A316<=Daten!$B$8,LOOKUP($B316,Daten!$A$67:$A$116,Daten!$P$67:$P$116),\"\") & \" \" & IF($A316<=Daten!$B$8,LOOKUP($B316,Daten!$A$67:$A$116,Daten!$Q$67:$Q$116),\"\")","v":"45,2 Inhalt1Einh[45,2]"},{"$f":"IF($A316<=Daten!$B$8,LOOKUP($B316,Daten!$A$118:$A$167,Daten!$C$118:$C$167),\"\")","v":"Lang[45,3]"},{"$f":"IF($A316<=Daten!$B$8,LOOKUP($B316,Daten!$A$118:$A$167,Daten!$P$118:$P$167),\"\") & \" \" & IF($A316<=Daten!$B$8,LOOKUP($B316,Daten!$A$118:$A$167,Daten!$Q$118:$Q$167),\"\")","v":"45,3 Inhalt1Einh[45,3]"},{"$f":"IF($A316<=Daten!$B$8,LOOKUP($B316,Daten!$A$169:$A$218,Daten!$C$169:$C$218),\"\")","v":"Lang[45,4]"},{"$f":"IF($A316<=Daten!$B$8,LOOKUP($B316,Daten!$A$169:$A$218,Daten!$P$169:$P$218),\"\") & \" \" & IF($A316<=Daten!$B$8,LOOKUP($B316,Daten!$A$169:$A$218,Daten!$Q$169:$Q$218),\"\")","v":"45,4 Inhalt1Einh[45,4]"},{"$f":"IF($A316<=Daten!$B$8,LOOKUP($B316,Daten!$A$220:$A$269,Daten!$C$220:$C$269),\"\")","v":"Lang[45,5]"},{"$f":"IF($A316<=Daten!$B$8,LOOKUP($B316,Daten!$A$220:$A$269,Daten!$P$220:$P$269),\"\") & \" \" & IF($A316<=Daten!$B$8,LOOKUP($B316,Daten!$A$220:$A$269,Daten!$Q$220:$Q$269),\"\")","v":"45,5 Inhalt1Einh[45,5]"},{"$f":"IF($A316<=Daten!$B$8,LOOKUP($B316,Daten!$A$271:$A$320,Daten!$C$271:$C$320),\"\")","v":"Lang[45,6]"},{"$f":"IF($A316<=Daten!$B$8,LOOKUP($B316,Daten!$A$271:$A$320,Daten!$P$271:$P$320),\"\") & \" \" & IF($A316<=Daten!$B$8,LOOKUP($B316,Daten!$A$271:$A$320,Daten!$Q$271:$Q$320),\"\")","v":"45,6 Inhalt1Einh[45,6]"},{"$f":"IF($A316<=Daten!$B$8,LOOKUP($B316,Daten!$A$322:$A$371,Daten!$B$322:$C$371),\"\")","v":{"$error":"#N/A"}},{"$f":"IF($A316<=Daten!$B$8,LOOKUP($B316,Daten!$A$322:$A$371,Daten!$P$322:$P$371),\"\") & \" \" & IF($A316<=Daten!$B$8,LOOKUP($B316,Daten!$A$322:$A$371,Daten!$Q$322:$Q$371),\"\")","v":"45,7 Inhalt1Einh[45,7]"}]
[null,null,null,{"$f":"IF($A316<=Daten!$B$8,LOOKUP($B316,Daten!$A$16:$A$65,Daten!$R$16:$R$65),\"\") & \" \" & IF($A316<=Daten!$B$8,LOOKUP($B316,Daten!$A$16:$A$65,Daten!$S$16:$S$65),\"\")","v":"45,1 Inhalt2Einh[45,1]"},null,{"$f":"IF($A316<=Daten!$B$8,LOOKUP($B316,Daten!$A$67:$A$116,Daten!$R$67:$R$116),\"\") & \" \" & IF($A316<=Daten!$B$8,LOOKUP($B316,Daten!$A$67:$A$116,Daten!$S$67:$S$116),\"\")","v":"45,2 Inhalt2Einh[45,2]"},null,{"$f":"IF($A316<=Daten!$B$8,LOOKUP($B316,Daten!$A$118:$A$167,Daten!$R$118:$R$167),\"\") & \" \" & IF($A316<=Daten!$B$8,LOOKUP($B316,Daten!$A$118:$A$167,Daten!$S$118:$S$167),\"\")","v":"45,3 Inhalt2Einh[45,3]"},null,{"$f":"IF($A316<=Daten!$B$8,LOOKUP($B316,Daten!$A$169:$A$218,Daten!$R$169:$R$218),\"\") & \" \" & IF($A316<=Daten!$B$8,LOOKUP($B316,Daten!$A$169:$A$218,Daten!$S$169:$S$218),\"\")","v":"45,4 Inhalt2Einh[45,4]"},null,{"$f":"IF($A316<=Daten!$B$8,LOOKUP($B316,Daten!$A$220:$A$269,Daten!$R$220:$R$269),\"\") & \" \" & IF($A316<=Daten!$B$8,LOOKUP($B316,Daten!$A$220:$A$269,Daten!$S$220:$S$269),\"\")","v":"45,5 Inhalt2Einh[45,5]"},null,{"$f":"IF($A316<=Daten!$B$8,LOOKUP($B316,Daten!$A$271:$A$320,Daten!$R$271:$R$320),\"\") & \" \" & IF($A316<=Daten!$B$8,LOOKUP($B316,Daten!$A$271:$A$320,Daten!$S$271:$S$320),\"\")","v":"45,6 Inhalt2Einh[45,6]"},null,{"$f":"IF($A316<=Daten!$B$8,LOOKUP($B316,Daten!$A$322:$A$371,Daten!$R$322:$R$371),\"\") & \" \" & IF($A316<=Daten!$B$8,LOOKUP($B316,Daten!$A$322:$A$371,Daten!$S$322:$S$371),\"\")","v":"45,7 Inhalt2Einh[45,7]"}]
[null,null,null,{"$f":"IF($A316<=Daten!$B$8,LOOKUP($B316,Daten!$A$16:$A$65,Daten!$T$16:$T$65),\"\") & \" \" & IF($A316<=Daten!$B$8,LOOKUP($B316,Daten!$A$16:$A$65,Daten!$U$16:$U$65),\"\")","v":"45,1 Inhalt3Einh[45,1]"},null,{"$f":"IF($A316<=Daten!$B$8,LOOKUP($B316,Daten!$A$67:$A$116,Daten!$T$67:$T$116),\"\") & \" \" & IF($A316<=Daten!$B$8,LOOKUP($B316,Daten!$A$67:$A$116,Daten!$U$67:$U$116),\"\")","v":"45,2 Inhalt3Einh[45,2]"},null,{"$f":"IF($A316<=Daten!$B$8,LOOKUP($B316,Daten!$A$118:$A$167,Daten!$T$118:$T$167),\"\") & \" \" & IF($A316<=Daten!$B$8,LOOKUP($B316,Daten!$A$118:$A$167,Daten!$U$118:$U$167),\"\")","v":"45,3 Inhalt3Einh[45,3]"},null,{"$f":"IF($A316<=Daten!$B$8,LOOKUP($B316,Daten!$A$169:$A$218,Daten!$T$169:$T$218),\"\") & \" \" & IF($A316<=Daten!$B$8,LOOKUP($B316,Daten!$A$169:$A$218,Daten!$U$169:$U$218),\"\")","v":"45,4 Inhalt3Einh[45,4]"},null,{"$f":"IF($A316<=Daten!$B$8,LOOKUP($B316,Daten!$A$220:$A$269,Daten!$T$220:$T$269),\"\") & \" \" & IF($A316<=Daten!$B$8,LOOKUP($B316,Daten!$A$220:$A$269,Daten!$U$220:$U$269),\"\")","v":"45,5 Inhalt3Einh[45,5]"},null,{"$f":"IF($A316<=Daten!$B$8,LOOKUP($B316,Daten!$A$271:$A$320,Daten!$T$271:$T$320),\"\") & \" \" & IF($A316<=Daten!$B$8,LOOKUP($B316,Daten!$A$271:$A$320,Daten!$U$271:$U$320),\"\")","v":"45,6 Inhalt3Einh[45,6]"},null,{"$f":"IF($A316<=Daten!$B$8,LOOKUP($B316,Daten!$A$322:$A$371,Daten!$T$322:$T$371),\"\") & \" \" & IF($A316<=Daten!$B$8,LOOKUP($B316,Daten!$A$322:$A$371,Daten!$U$322:$U$371),\"\")","v":"45,7 Inhalt3Einh[45,7]"}]
[null,null,null,{"$f":"IF($A316<=Daten!$B$8,LOOKUP($B316,Daten!$A$16:$A$65,Daten!$V$16:$V$65),\"\") & \" \" & IF($A316<=Daten!$B$8,LOOKUP($B316,Daten!$A$16:$A$65,Daten!$W$16:$W$65),\"\")","v":"45,1 Inhalt4Einh[45,1]"},null,{"$f":"IF($A316<=Daten!$B$8,LOOKUP($B316,Daten!$A$67:$A$116,Daten!$V$67:$V$116),\"\") & \" \" & IF($A316<=Daten!$B$8,LOOKUP($B316,Daten!$A$67:$A$116,Daten!$W$67:$W$116),\"\")","v":"45,2 Inhalt4Einh[45,2]"},null,{"$f":"IF($A316<=Daten!$B$8,LOOKUP($B316,Daten!$A$118:$A$167,Daten!$V$118:$V$167),\"\") & \" \" & IF($A316<=Daten!$B$8,LOOKUP($B316,Daten!$A$118:$A$167,Daten!$W$118:$W$167),\"\")","v":"45,3 Inhalt4Einh[45,3]"},null,{"$f":"IF($A316<=Daten!$B$8,LOOKUP($B316,Daten!$A$169:$A$218,Daten!$V$169:$V$218),\"\") & \" \" & IF($A316<=Daten!$B$8,LOOKUP($B316,Daten!$A$169:$A$218,Daten!$W$169:$W$218),\"\")","v":"45,4 Inhalt4Einh[45,4]"},null,{"$f":"IF($A316<=Daten!$B$8,LOOKUP($B316,Daten!$A$220:$A$269,Daten!$V$220:$V$269),\"\") & \" \" & IF($A316<=Daten!$B$8,LOOKUP($B316,Daten!$A$220:$A$269,Daten!$W$220:$W$269),\"\")","v":"45,5 Inhalt4Einh[45,5]"},null,{"$f":"IF($A316<=Daten!$B$8,LOOKUP($B316,Daten!$A$271:$A$320,Daten!$V$271:$V$320),\"\") & \" \" & IF($A316<=Daten!$B$8,LOOKUP($B316,Daten!$A$271:$A$320,Daten!$W$271:$W$320),\"\")","v":"45,6 Inhalt4Einh[45,6]"},null,{"$f":"IF($A316<=Daten!$B$8,LOOKUP($B316,Daten!$A$322:$A$371,Daten!$V$322:$V$371),\"\") & \" \" & IF($A316<=Daten!$B$8,LOOKUP($B316,Daten!$A$322:$A$371,Daten!$W$322:$W$371),\"\")","v":"45,7 Inhalt4Einh[45,7]"}]
[null,null,null,{"$f":"IF($A316<=Daten!$B$8,LOOKUP($B316,Daten!$A$16:$A$65,Daten!$X$16:$X$65),\"\") & \" \" & IF($A316<=Daten!$B$8,LOOKUP($B316,Daten!$A$16:$A$65,Daten!$Y$16:$Y$65),\"\")","v":"45,1 Inhalt5Einh[45,1]"},null,{"$f":"IF($A316<=Daten!$B$8,LOOKUP($B316,Daten!$A$67:$A$116,Daten!$X$67:$X$116),\"\") & \" \" & IF($A316<=Daten!$B$8,LOOKUP($B316,Daten!$A$67:$A$116,Daten!$Y$67:$Y$116),\"\")","v":"45,2 Inhalt5Einh[45,2]"},null,{"$f":"IF($A316<=Daten!$B$8,LOOKUP($B316,Daten!$A$118:$A$167,Daten!$X$118:$X$167),\"\") & \" \" & IF($A316<=Daten!$B$8,LOOKUP($B316,Daten!$A$118:$A$167,Daten!$Y$118:$Y$167),\"\")","v":"45,3 Inhalt5Einh[45,3]"},null,{"$f":"IF($A316<=Daten!$B$8,LOOKUP($B316,Daten!$A$169:$A$218,Daten!$X$169:$X$218),\"\") & \" \" & IF($A316<=Daten!$B$8,LOOKUP($B316,Daten!$A$169:$A$218,Daten!$Y$169:$Y$218),\"\")","v":"45,4 Inhalt5Einh[45,4]"},null,{"$f":"IF($A316<=Daten!$B$8,LOOKUP($B316,Daten!$A$220:$A$269,Daten!$X$220:$X$269),\"\") & \" \" & IF($A316<=Daten!$B$8,LOOKUP($B316,Daten!$A$220:$A$269,Daten!$Y$220:$Y$269),\"\")","v":"45,5 Inhalt5Einh[45,5]"},null,{"$f":"IF($A316<=Daten!$B$8,LOOKUP($B316,Daten!$A$271:$A$320,Daten!$X$271:$X$320),\"\") & \" \" & IF($A316<=Daten!$B$8,LOOKUP($B316,Daten!$A$271:$A$320,Daten!$Y$271:$Y$320),\"\")","v":"45,6 Inhalt5Einh[45,6]"},null,{"$f":"IF($A316<=Daten!$B$8,LOOKUP($B316,Daten!$A$322:$A$371,Daten!$X$322:$X$371),\"\") & \" \" & IF($A316<=Daten!$B$8,LOOKUP($B316,Daten!$A$322:$A$371,Daten!$Y$322:$Y$371),\"\")","v":"45,7 Inhalt5Einh[45,7]"}]
[null,null,null,{"$f":"IF($A316<=Daten!$B$8,LOOKUP($B316,Daten!$A$16:$A$65,Daten!$Z$16:$Z$65),\"\") & \" \" & IF($A316<=Daten!$B$8,LOOKUP($B316,Daten!$A$16:$A$65,Daten!$AA$16:$AA$65),\"\")","v":"45,1 Inhalt6Einh[45,1]"},null,{"$f":"IF($A316<=Daten!$B$8,LOOKUP($B316,Daten!$A$67:$A$116,Daten!$Z$67:$Z$116),\"\") & \" \" & IF($A316<=Daten!$B$8,LOOKUP($B316,Daten!$A$67:$A$116,Daten!$AA$67:$AA$116),\"\")","v":"45,2 Inhalt6Einh[45,2]"},null,{"$f":"IF($A316<=Daten!$B$8,LOOKUP($B316,Daten!$A$118:$A$167,Daten!$Z$118:$Z$167),\"\") & \" \" & IF($A316<=Daten!$B$8,LOOKUP($B316,Daten!$A$118:$A$167,Daten!$AA$118:$AA$167),\"\")","v":"45,3 Inhalt6Einh[45,3]"},null,{"$f":"IF($A316<=Daten!$B$8,LOOKUP($B316,Daten!$A$169:$A$218,Daten!$Z$169:$Z$218),\"\") & \" \" & IF($A316<=Daten!$B$8,LOOKUP($B316,Daten!$A$169:$A$218,Daten!$AA$169:$AA$218),\"\")","v":"45,4 Inhalt6Einh[45,4]"},null,{"$f":"IF($A316<=Daten!$B$8,LOOKUP($B316,Daten!$A$220:$A$269,Daten!$Z$220:$Z$269),\"\") & \" \" & IF($A316<=Daten!$B$8,LOOKUP($B316,Daten!$A$220:$A$269,Daten!$AA$220:$AA$269),\"\")","v":"45,5 Inhalt6Einh[45,5]"},null,{"$f":"IF($A316<=Daten!$B$8,LOOKUP($B316,Daten!$A$271:$A$320,Daten!$Z$271:$Z$320),\"\") & \" \" & IF($A316<=Daten!$B$8,LOOKUP($B316,Daten!$A$271:$A$320,Daten!$AA$271:$AA$320),\"\")","v":"45,6 Inhalt6Einh[45,6]"},null,{"$f":"IF($A316<=Daten!$B$8,LOOKUP($B316,Daten!$A$322:$A$371,Daten!$Z$322:$Z$371),\"\") & \" \" & IF($A316<=Daten!$B$8,LOOKUP($B316,Daten!$A$322:$A$371,Daten!$AA$322:$AA$371),\"\")","v":"45,7 Inhalt6Einh[45,7]"}]
[null,{"$f":"IF(A316<=Daten!$B$8,\"Zusatzstoffe\",\"\")","v":"Zusatzstoffe"},{"$f":"IF($A316<=Daten!$B$8,LOOKUP($B316,Daten!$A$16:$A$65,Daten!$L$16:$L$65),\"\")","v":45.1},{"$f":"IF($A316<=Daten!$B$8,LOOKUP($B316,Daten!$A$16:$A$65,Daten!$D$16:$D$65),\"\")","v":45.1},{"$f":"IF($A316<=Daten!$B$8,LOOKUP($B316,Daten!$A$67:$A$116,Daten!$L$67:$L$116),\"\")","v":45.2},{"$f":"IF($A316<=Daten!$B$8,LOOKUP($B316,Daten!$A$16:$A$65,Daten!$D$67:$D$116),\"\")","v":45.2},{"$f":"IF($A316<=Daten!$B$8,LOOKUP($B316,Daten!$A$118:$A$167,Daten!$L$118:$L$167),\"\")","v":45.3},{"$f":"IF($A316<=Daten!$B$8,LOOKUP($B316,Daten!$A$118:$A$167,Daten!$D$118:$D$167),\"\")","v":45.3},{"$f":"IF($A316<=Daten!$B$8,LOOKUP($B316,Daten!$A$169:$A$218,Daten!$L$169:$L$218),\"\")","v":45.4},{"$f":"IF($A316<=Daten!$B$8,LOOKUP($B316,Daten!$A$169:$A$218,Daten!$D$169:$D$218),\"\")","v":45.4},{"$f":"IF($A316<=Daten!$B$8,LOOKUP($B316,Daten!$A$220:$A$269,Daten!$L$220:$L$269),\"\")","v":45.5},{"$f":"IF($A316<=Daten!$B$8,LOOKUP($B316,Daten!$A$220:$A$269,Daten!$D$220:$D$269),\"\")","v":45.5},{"$f":"IF($A316<=Daten!$B$8,LOOKUP($B316,Daten!$A$271:$A$320,Daten!$L$271:$L$320),\"\")","v":45.6},{"$f":"IF($A316<=Daten!$B$8,LOOKUP($B316,Daten!$A$271:$A$320,Daten!$D$271:$D$320),\"\")","v":45.6},{"$f":"IF($A316<=Daten!$B$8,LOOKUP($B316,Daten!$A$322:$A$371,Daten!$L$322:$L$371),\"\")","v":45.7},{"$f":"IF($A316<=Daten!$B$8,LOOKUP($B316,Daten!$A$322:$A$371,Daten!$D$322:$D$371),\"\")","v":45.7}]
[46,{"$f":"IF(A323<=Daten!$B$8,Daten!AU9,\"\")","v":"Menülinie 46"},{"$f":"IF(A323<=Daten!$B$8,LOOKUP(B323,Daten!$A$16:$A$65,Daten!$C$16:$C$65),\"\")","v":"Lang[46,1]"},{"$f":"IF($A323<=Daten!$B$8,LOOKUP($B323,Daten!$A$16:$A$65,Daten!$P$16:$P$65),\"\") & \" \" & IF($A323<=Daten!$B$8,LOOKUP($B323,Daten!$A$16:$A$65,Daten!$Q$16:$Q$65),\"\")","v":"46,1 Inhalt1Einh[46,1]"},{"$f":"IF($A323<=Daten!$B$8,LOOKUP($B323,Daten!$A$67:$A$116,Daten!$C$67:$C$116),\"\")","v":"Lang[46,2]"},{"$f":"IF($A323<=Daten!$B$8,LOOKUP($B323,Daten!$A$67:$A$116,Daten!$P$67:$P$116),\"\") & \" \" & IF($A323<=Daten!$B$8,LOOKUP($B323,Daten!$A$67:$A$116,Daten!$Q$67:$Q$116),\"\")","v":"46,2 Inhalt1Einh[46,2]"},{"$f":"IF($A323<=Daten!$B$8,LOOKUP($B323,Daten!$A$118:$A$167,Daten!$C$118:$C$167),\"\")","v":"Lang[46,3]"},{"$f":"IF($A323<=Daten!$B$8,LOOKUP($B323,Daten!$A$118:$A$167,Daten!$P$118:$P$167),\"\") & \" \" & IF($A323<=Daten!$B$8,LOOKUP($B323,Daten!$A$118:$A$167,Daten!$Q$118:$Q$167),\"\")","v":"46,3 Inhalt1Einh[46,3]"},{"$f":"IF($A323<=Daten!$B$8,LOOKUP($B323,Daten!$A$169:$A$218,Daten!$C$169:$C$218),\"\")","v":"Lang[46,4]"},{"$f":"IF($A323<=Daten!$B$8,LOOKUP($B323,Daten!$A$169:$A$218,Daten!$P$169:$P$218),\"\") & \" \" & IF($A323<=Daten!$B$8,LOOKUP($B323,Daten!$A$169:$A$218,Daten!$Q$169:$Q$218),\"\")","v":"46,4 Inhalt1Einh[46,4]"},{"$f":"IF($A323<=Daten!$B$8,LOOKUP($B323,Daten!$A$220:$A$269,Daten!$C$220:$C$269),\"\")","v":"Lang[46,5]"},{"$f":"IF($A323<=Daten!$B$8,LOOKUP($B323,Daten!$A$220:$A$269,Daten!$P$220:$P$269),\"\") & \" \" & IF($A323<=Daten!$B$8,LOOKUP($B323,Daten!$A$220:$A$269,Daten!$Q$220:$Q$269),\"\")","v":"46,5 Inhalt1Einh[46,5]"},{"$f":"IF($A323<=Daten!$B$8,LOOKUP($B323,Daten!$A$271:$A$320,Daten!$C$271:$C$320),\"\")","v":"Lang[46,6]"},{"$f":"IF($A323<=Daten!$B$8,LOOKUP($B323,Daten!$A$271:$A$320,Daten!$P$271:$P$320),\"\") & \" \" & IF($A323<=Daten!$B$8,LOOKUP($B323,Daten!$A$271:$A$320,Daten!$Q$271:$Q$320),\"\")","v":"46,6 Inhalt1Einh[46,6]"},{"$f":"IF($A323<=Daten!$B$8,LOOKUP($B323,Daten!$A$322:$A$371,Daten!$B$322:$C$371),\"\")","v":{"$error":"#N/A"}},{"$f":"IF($A323<=Daten!$B$8,LOOKUP($B323,Daten!$A$322:$A$371,Daten!$P$322:$P$371),\"\") & \" \" & IF($A323<=Daten!$B$8,LOOKUP($B323,Daten!$A$322:$A$371,Daten!$Q$322:$Q$371),\"\")","v":"46,7 Inhalt1Einh[46,7]"}]
[null,null,null,{"$f":"IF($A323<=Daten!$B$8,LOOKUP($B323,Daten!$A$16:$A$65,Daten!$R$16:$R$65),\"\") & \" \" & IF($A323<=Daten!$B$8,LOOKUP($B323,Daten!$A$16:$A$65,Daten!$S$16:$S$65),\"\")","v":"46,1 Inhalt2Einh[46,1]"},null,{"$f":"IF($A323<=Daten!$B$8,LOOKUP($B323,Daten!$A$67:$A$116,Daten!$R$67:$R$116),\"\") & \" \" & IF($A323<=Daten!$B$8,LOOKUP($B323,Daten!$A$67:$A$116,Daten!$S$67:$S$116),\"\")","v":"46,2 Inhalt2Einh[46,2]"},null,{"$f":"IF($A323<=Daten!$B$8,LOOKUP($B323,Daten!$A$118:$A$167,Daten!$R$118:$R$167),\"\") & \" \" & IF($A323<=Daten!$B$8,LOOKUP($B323,Daten!$A$118:$A$167,Daten!$S$118:$S$167),\"\")","v":"46,3 Inhalt2Einh[46,3]"},null,{"$f":"IF($A323<=Daten!$B$8,LOOKUP($B323,Daten!$A$169:$A$218,Daten!$R$169:$R$218),\"\") & \" \" & IF($A323<=Daten!$B$8,LOOKUP($B323,Daten!$A$169:$A$218,Daten!$S$169:$S$218),\"\")","v":"46,4 Inhalt2Einh[46,4]"},null,{"$f":"IF($A323<=Daten!$B$8,LOOKUP($B323,Daten!$A$220:$A$269,Daten!$R$220:$R$269),\"\") & \" \" & IF($A323<=Daten!$B$8,LOOKUP($B323,Daten!$A$220:$A$269,Daten!$S$220:$S$269),\"\")","v":"46,5 Inhalt2Einh[46,5]"},null,{"$f":"IF($A323<=Daten!$B$8,LOOKUP($B323,Daten!$A$271:$A$320,Daten!$R$271:$R$320),\"\") & \" \" & IF($A323<=Daten!$B$8,LOOKUP($B323,Daten!$A$271:$A$320,Daten!$S$271:$S$320),\"\")","v":"46,6 Inhalt2Einh[46,6]"},null,{"$f":"IF($A323<=Daten!$B$8,LOOKUP($B323,Daten!$A$322:$A$371,Daten!$R$322:$R$371),\"\") & \" \" & IF($A323<=Daten!$B$8,LOOKUP($B323,Daten!$A$322:$A$371,Daten!$S$322:$S$371),\"\")","v":"46,7 Inhalt2Einh[46,7]"}]
[null,null,null,{"$f":"IF($A323<=Daten!$B$8,LOOKUP($B323,Daten!$A$16:$A$65,Daten!$T$16:$T$65),\"\") & \" \" & IF($A323<=Daten!$B$8,LOOKUP($B323,Daten!$A$16:$A$65,Daten!$U$16:$U$65),\"\")","v":"46,1 Inhalt3Einh[46,1]"},null,{"$f":"IF($A323<=Daten!$B$8,LOOKUP($B323,Daten!$A$67:$A$116,Daten!$T$67:$T$116),\"\") & \" \" & IF($A323<=Daten!$B$8,LOOKUP($B323,Daten!$A$67:$A$116,Daten!$U$67:$U$116),\"\")","v":"46,2 Inhalt3Einh[46,2]"},null,{"$f":"IF($A323<=Daten!$B$8,LOOKUP($B323,Daten!$A$118:$A$167,Daten!$T$118:$T$167),\"\") & \" \" & IF($A323<=Daten!$B$8,LOOKUP($B323,Daten!$A$118:$A$167,Daten!$U$118:$U$167),\"\")","v":"46,3 Inhalt3Einh[46,3]"},null,{"$f":"IF($A323<=Daten!$B$8,LOOKUP($B323,Daten!$A$169:$A$218,Daten!$T$169:$T$218),\"\") & \" \" & IF($A323<=Daten!$B$8,LOOKUP($B323,Daten!$A$169:$A$218,Daten!$U$169:$U$218),\"\")","v":"46,4 Inhalt3Einh[46,4]"},null,{"$f":"IF($A323<=Daten!$B$8,LOOKUP($B323,Daten!$A$220:$A$269,Daten!$T$220:$T$269),\"\") & \" \" & IF($A323<=Daten!$B$8,LOOKUP($B323,Daten!$A$220:$A$269,Daten!$U$220:$U$269),\"\")","v":"46,5 Inhalt3Einh[46,5]"},null,{"$f":"IF($A323<=Daten!$B$8,LOOKUP($B323,Daten!$A$271:$A$320,Daten!$T$271:$T$320),\"\") & \" \" & IF($A323<=Daten!$B$8,LOOKUP($B323,Daten!$A$271:$A$320,Daten!$U$271:$U$320),\"\")","v":"46,6 Inhalt3Einh[46,6]"},null,{"$f":"IF($A323<=Daten!$B$8,LOOKUP($B323,Daten!$A$322:$A$371,Daten!$T$322:$T$371),\"\") & \" \" & IF($A323<=Daten!$B$8,LOOKUP($B323,Daten!$A$322:$A$371,Daten!$U$322:$U$371),\"\")","v":"46,7 Inhalt3Einh[46,7]"}]
[null,null,null,{"$f":"IF($A323<=Daten!$B$8,LOOKUP($B323,Daten!$A$16:$A$65,Daten!$V$16:$V$65),\"\") & \" \" & IF($A323<=Daten!$B$8,LOOKUP($B323,Daten!$A$16:$A$65,Daten!$W$16:$W$65),\"\")","v":"46,1 Inhalt4Einh[46,1]"},null,{"$f":"IF($A323<=Daten!$B$8,LOOKUP($B323,Daten!$A$67:$A$116,Daten!$V$67:$V$116),\"\") & \" \" & IF($A323<=Daten!$B$8,LOOKUP($B323,Daten!$A$67:$A$116,Daten!$W$67:$W$116),\"\")","v":"46,2 Inhalt4Einh[46,2]"},null,{"$f":"IF($A323<=Daten!$B$8,LOOKUP($B323,Daten!$A$118:$A$167,Daten!$V$118:$V$167),\"\") & \" \" & IF($A323<=Daten!$B$8,LOOKUP($B323,Daten!$A$118:$A$167,Daten!$W$118:$W$167),\"\")","v":"46,3 Inhalt4Einh[46,3]"},null,{"$f":"IF($A323<=Daten!$B$8,LOOKUP($B323,Daten!$A$169:$A$218,Daten!$V$169:$V$218),\"\") & \" \" & IF($A323<=Daten!$B$8,LOOKUP($B323,Daten!$A$169:$A$218,Daten!$W$169:$W$218),\"\")","v":"46,4 Inhalt4Einh[46,4]"},null,{"$f":"IF($A323<=Daten!$B$8,LOOKUP($B323,Daten!$A$220:$A$269,Daten!$V$220:$V$269),\"\") & \" \" & IF($A323<=Daten!$B$8,LOOKUP($B323,Daten!$A$220:$A$269,Daten!$W$220:$W$269),\"\")","v":"46,5 Inhalt4Einh[46,5]"},null,{"$f":"IF($A323<=Daten!$B$8,LOOKUP($B323,Daten!$A$271:$A$320,Daten!$V$271:$V$320),\"\") & \" \" & IF($A323<=Daten!$B$8,LOOKUP($B323,Daten!$A$271:$A$320,Daten!$W$271:$W$320),\"\")","v":"46,6 Inhalt4Einh[46,6]"},null,{"$f":"IF($A323<=Daten!$B$8,LOOKUP($B323,Daten!$A$322:$A$371,Daten!$V$322:$V$371),\"\") & \" \" & IF($A323<=Daten!$B$8,LOOKUP($B323,Daten!$A$322:$A$371,Daten!$W$322:$W$371),\"\")","v":"46,7 Inhalt4Einh[46,7]"}]
[null,null,null,{"$f":"IF($A323<=Daten!$B$8,LOOKUP($B323,Daten!$A$16:$A$65,Daten!$X$16:$X$65),\"\") & \" \" & IF($A323<=Daten!$B$8,LOOKUP($B323,Daten!$A$16:$A$65,Daten!$Y$16:$Y$65),\"\")","v":"46,1 Inhalt5Einh[46,1]"},null,{"$f":"IF($A323<=Daten!$B$8,LOOKUP($B323,Daten!$A$67:$A$116,Daten!$X$67:$X$116),\"\") & \" \" & IF($A323<=Daten!$B$8,LOOKUP($B323,Daten!$A$67:$A$116,Daten!$Y$67:$Y$116),\"\")","v":"46,2 Inhalt5Einh[46,2]"},null,{"$f":"IF($A323<=Daten!$B$8,LOOKUP($B323,Daten!$A$118:$A$167,Daten!$X$118:$X$167),\"\") & \" \" & IF($A323<=Daten!$B$8,LOOKUP($B323,Daten!$A$118:$A$167,Daten!$Y$118:$Y$167),\"\")","v":"46,3 Inhalt5Einh[46,3]"},null,{"$f":"IF($A323<=Daten!$B$8,LOOKUP($B323,Daten!$A$169:$A$218,Daten!$X$169:$X$218),\"\") & \" \" & IF($A323<=Daten!$B$8,LOOKUP($B323,Daten!$A$169:$A$218,Daten!$Y$169:$Y$218),\"\")","v":"46,4 Inhalt5Einh[46,4]"},null,{"$f":"IF($A323<=Daten!$B$8,LOOKUP($B323,Daten!$A$220:$A$269,Daten!$X$220:$X$269),\"\") & \" \" & IF($A323<=Daten!$B$8,LOOKUP($B323,Daten!$A$220:$A$269,Daten!$Y$220:$Y$269),\"\")","v":"46,5 Inhalt5Einh[46,5]"},null,{"$f":"IF($A323<=Daten!$B$8,LOOKUP($B323,Daten!$A$271:$A$320,Daten!$X$271:$X$320),\"\") & \" \" & IF($A323<=Daten!$B$8,LOOKUP($B323,Daten!$A$271:$A$320,Daten!$Y$271:$Y$320),\"\")","v":"46,6 Inhalt5Einh[46,6]"},null,{"$f":"IF($A323<=Daten!$B$8,LOOKUP($B323,Daten!$A$322:$A$371,Daten!$X$322:$X$371),\"\") & \" \" & IF($A323<=Daten!$B$8,LOOKUP($B323,Daten!$A$322:$A$371,Daten!$Y$322:$Y$371),\"\")","v":"46,7 Inhalt5Einh[46,7]"}]
[null,null,null,{"$f":"IF($A323<=Daten!$B$8,LOOKUP($B323,Daten!$A$16:$A$65,Daten!$Z$16:$Z$65),\"\") & \" \" & IF($A323<=Daten!$B$8,LOOKUP($B323,Daten!$A$16:$A$65,Daten!$AA$16:$AA$65),\"\")","v":"46,1 Inhalt6Einh[46,1]"},null,{"$f":"IF($A323<=Daten!$B$8,LOOKUP($B323,Daten!$A$67:$A$116,Daten!$Z$67:$Z$116),\"\") & \" \" & IF($A323<=Daten!$B$8,LOOKUP($B323,Daten!$A$67:$A$116,Daten!$AA$67:$AA$116),\"\")","v":"46,2 Inhalt6Einh[46,2]"},null,{"$f":"IF($A323<=Daten!$B$8,LOOKUP($B323,Daten!$A$118:$A$167,Daten!$Z$118:$Z$167),\"\") & \" \" & IF($A323<=Daten!$B$8,LOOKUP($B323,Daten!$A$118:$A$167,Daten!$AA$118:$AA$167),\"\")","v":"46,3 Inhalt6Einh[46,3]"},null,{"$f":"IF($A323<=Daten!$B$8,LOOKUP($B323,Daten!$A$169:$A$218,Daten!$Z$169:$Z$218),\"\") & \" \" & IF($A323<=Daten!$B$8,LOOKUP($B323,Daten!$A$169:$A$218,Daten!$AA$169:$AA$218),\"\")","v":"46,4 Inhalt6Einh[46,4]"},null,{"$f":"IF($A323<=Daten!$B$8,LOOKUP($B323,Daten!$A$220:$A$269,Daten!$Z$220:$Z$269),\"\") & \" \" & IF($A323<=Daten!$B$8,LOOKUP($B323,Daten!$A$220:$A$269,Daten!$AA$220:$AA$269),\"\")","v":"46,5 Inhalt6Einh[46,5]"},null,{"$f":"IF($A323<=Daten!$B$8,LOOKUP($B323,Daten!$A$271:$A$320,Daten!$Z$271:$Z$320),\"\") & \" \" & IF($A323<=Daten!$B$8,LOOKUP($B323,Daten!$A$271:$A$320,Daten!$AA$271:$AA$320),\"\")","v":"46,6 Inhalt6Einh[46,6]"},null,{"$f":"IF($A323<=Daten!$B$8,LOOKUP($B323,Daten!$A$322:$A$371,Daten!$Z$322:$Z$371),\"\") & \" \" & IF($A323<=Daten!$B$8,LOOKUP($B323,Daten!$A$322:$A$371,Daten!$AA$322:$AA$371),\"\")","v":"46,7 Inhalt6Einh[46,7]"}]
[null,{"$f":"IF(A323<=Daten!$B$8,\"Zusatzstoffe\",\"\")","v":"Zusatzstoffe"},{"$f":"IF($A323<=Daten!$B$8,LOOKUP($B323,Daten!$A$16:$A$65,Daten!$L$16:$L$65),\"\")","v":46.1},{"$f":"IF($A323<=Daten!$B$8,LOOKUP($B323,Daten!$A$16:$A$65,Daten!$D$16:$D$65),\"\")","v":46.1},{"$f":"IF($A323<=Daten!$B$8,LOOKUP($B323,Daten!$A$67:$A$116,Daten!$L$67:$L$116),\"\")","v":46.2},{"$f":"IF($A323<=Daten!$B$8,LOOKUP($B323,Daten!$A$16:$A$65,Daten!$D$67:$D$116),\"\")","v":46.2},{"$f":"IF($A323<=Daten!$B$8,LOOKUP($B323,Daten!$A$118:$A$167,Daten!$L$118:$L$167),\"\")","v":46.3},{"$f":"IF($A323<=Daten!$B$8,LOOKUP($B323,Daten!$A$118:$A$167,Daten!$D$118:$D$167),\"\")","v":46.3},{"$f":"IF($A323<=Daten!$B$8,LOOKUP($B323,Daten!$A$169:$A$218,Daten!$L$169:$L$218),\"\")","v":46.4},{"$f":"IF($A323<=Daten!$B$8,LOOKUP($B323,Daten!$A$169:$A$218,Daten!$D$169:$D$218),\"\")","v":46.4},{"$f":"IF($A323<=Daten!$B$8,LOOKUP($B323,Daten!$A$220:$A$269,Daten!$L$220:$L$269),\"\")","v":46.5},{"$f":"IF($A323<=Daten!$B$8,LOOKUP($B323,Daten!$A$220:$A$269,Daten!$D$220:$D$269),\"\")","v":46.5},{"$f":"IF($A323<=Daten!$B$8,LOOKUP($B323,Daten!$A$271:$A$320,Daten!$L$271:$L$320),\"\")","v":46.6},{"$f":"IF($A323<=Daten!$B$8,LOOKUP($B323,Daten!$A$271:$A$320,Daten!$D$271:$D$320),\"\")","v":46.6},{"$f":"IF($A323<=Daten!$B$8,LOOKUP($B323,Daten!$A$322:$A$371,Daten!$L$322:$L$371),\"\")","v":46.7},{"$f":"IF($A323<=Daten!$B$8,LOOKUP($B323,Daten!$A$322:$A$371,Daten!$D$322:$D$371),\"\")","v":46.7}]
[47,{"$f":"IF(A330<=Daten!$B$8,Daten!AV9,\"\")","v":"Menülinie 47"},{"$f":"IF(A330<=Daten!$B$8,LOOKUP(B330,Daten!$A$16:$A$65,Daten!$C$16:$C$65),\"\")","v":"Lang[47,1]"},{"$f":"IF($A330<=Daten!$B$8,LOOKUP($B330,Daten!$A$16:$A$65,Daten!$P$16:$P$65),\"\") & \" \" & IF($A330<=Daten!$B$8,LOOKUP($B330,Daten!$A$16:$A$65,Daten!$Q$16:$Q$65),\"\")","v":"47,1 Inhalt1Einh[47,1]"},{"$f":"IF($A330<=Daten!$B$8,LOOKUP($B330,Daten!$A$67:$A$116,Daten!$C$67:$C$116),\"\")","v":"Lang[47,2]"},{"$f":"IF($A330<=Daten!$B$8,LOOKUP($B330,Daten!$A$67:$A$116,Daten!$P$67:$P$116),\"\") & \" \" & IF($A330<=Daten!$B$8,LOOKUP($B330,Daten!$A$67:$A$116,Daten!$Q$67:$Q$116),\"\")","v":"47,2 Inhalt1Einh[47,2]"},{"$f":"IF($A330<=Daten!$B$8,LOOKUP($B330,Daten!$A$118:$A$167,Daten!$C$118:$C$167),\"\")","v":"Lang[47,3]"},{"$f":"IF($A330<=Daten!$B$8,LOOKUP($B330,Daten!$A$118:$A$167,Daten!$P$118:$P$167),\"\") & \" \" & IF($A330<=Daten!$B$8,LOOKUP($B330,Daten!$A$118:$A$167,Daten!$Q$118:$Q$167),\"\")","v":"47,3 Inhalt1Einh[47,3]"},{"$f":"IF($A330<=Daten!$B$8,LOOKUP($B330,Daten!$A$169:$A$218,Daten!$C$169:$C$218),\"\")","v":"Lang[47,4]"},{"$f":"IF($A330<=Daten!$B$8,LOOKUP($B330,Daten!$A$169:$A$218,Daten!$P$169:$P$218),\"\") & \" \" & IF($A330<=Daten!$B$8,LOOKUP($B330,Daten!$A$169:$A$218,Daten!$Q$169:$Q$218),\"\")","v":"47,4 Inhalt1Einh[47,4]"},{"$f":"IF($A330<=Daten!$B$8,LOOKUP($B330,Daten!$A$220:$A$269,Daten!$C$220:$C$269),\"\")","v":"Lang[47,5]"},{"$f":"IF($A330<=Daten!$B$8,LOOKUP($B330,Daten!$A$220:$A$269,Daten!$P$220:$P$269),\"\") & \" \" & IF($A330<=Daten!$B$8,LOOKUP($B330,Daten!$A$220:$A$269,Daten!$Q$220:$Q$269),\"\")","v":"47,5 Inhalt1Einh[47,5]"},{"$f":"IF($A330<=Daten!$B$8,LOOKUP($B330,Daten!$A$271:$A$320,Daten!$C$271:$C$320),\"\")","v":"Lang[47,6]"},{"$f":"IF($A330<=Daten!$B$8,LOOKUP($B330,Daten!$A$271:$A$320,Daten!$P$271:$P$320),\"\") & \" \" & IF($A330<=Daten!$B$8,LOOKUP($B330,Daten!$A$271:$A$320,Daten!$Q$271:$Q$320),\"\")","v":"47,6 Inhalt1Einh[47,6]"},{"$f":"IF($A330<=Daten!$B$8,LOOKUP($B330,Daten!$A$322:$A$371,Daten!$B$322:$C$371),\"\")","v":{"$error":"#N/A"}},{"$f":"IF($A330<=Daten!$B$8,LOOKUP($B330,Daten!$A$322:$A$371,Daten!$P$322:$P$371),\"\") & \" \" & IF($A330<=Daten!$B$8,LOOKUP($B330,Daten!$A$322:$A$371,Daten!$Q$322:$Q$371),\"\")","v":"47,7 Inhalt1Einh[47,7]"}]
[null,null,null,{"$f":"IF($A330<=Daten!$B$8,LOOKUP($B330,Daten!$A$16:$A$65,Daten!$R$16:$R$65),\"\") & \" \" & IF($A330<=Daten!$B$8,LOOKUP($B330,Daten!$A$16:$A$65,Daten!$S$16:$S$65),\"\")","v":"47,1 Inhalt2Einh[47,1]"},null,{"$f":"IF($A330<=Daten!$B$8,LOOKUP($B330,Daten!$A$67:$A$116,Daten!$R$67:$R$116),\"\") & \" \" & IF($A330<=Daten!$B$8,LOOKUP($B330,Daten!$A$67:$A$116,Daten!$S$67:$S$116),\"\")","v":"47,2 Inhalt2Einh[47,2]"},null,{"$f":"IF($A330<=Daten!$B$8,LOOKUP($B330,Daten!$A$118:$A$167,Daten!$R$118:$R$167),\"\") & \" \" & IF($A330<=Daten!$B$8,LOOKUP($B330,Daten!$A$118:$A$167,Daten!$S$118:$S$167),\"\")","v":"47,3 Inhalt2Einh[47,3]"},null,{"$f":"IF($A330<=Daten!$B$8,LOOKUP($B330,Daten!$A$169:$A$218,Daten!$R$169:$R$218),\"\") & \" \" & IF($A330<=Daten!$B$8,LOOKUP($B330,Daten!$A$169:$A$218,Daten!$S$169:$S$218),\"\")","v":"47,4 Inhalt2Einh[47,4]"},null,{"$f":"IF($A330<=Daten!$B$8,LOOKUP($B330,Daten!$A$220:$A$269,Daten!$R$220:$R$269),\"\") & \" \" & IF($A330<=Daten!$B$8,LOOKUP($B330,Daten!$A$220:$A$269,Daten!$S$220:$S$269),\"\")","v":"47,5 Inhalt2Einh[47,5]"},null,{"$f":"IF($A330<=Daten!$B$8,LOOKUP($B330,Daten!$A$271:$A$320,Daten!$R$271:$R$320),\"\") & \" \" & IF($A330<=Daten!$B$8,LOOKUP($B330,Daten!$A$271:$A$320,Daten!$S$271:$S$320),\"\")","v":"47,6 Inhalt2Einh[47,6]"},null,{"$f":"IF($A330<=Daten!$B$8,LOOKUP($B330,Daten!$A$322:$A$371,Daten!$R$322:$R$371),\"\") & \" \" & IF($A330<=Daten!$B$8,LOOKUP($B330,Daten!$A$322:$A$371,Daten!$S$322:$S$371),\"\")","v":"47,7 Inhalt2Einh[47,7]"}]
[null,null,null,{"$f":"IF($A330<=Daten!$B$8,LOOKUP($B330,Daten!$A$16:$A$65,Daten!$T$16:$T$65),\"\") & \" \" & IF($A330<=Daten!$B$8,LOOKUP($B330,Daten!$A$16:$A$65,Daten!$U$16:$U$65),\"\")","v":"47,1 Inhalt3Einh[47,1]"},null,{"$f":"IF($A330<=Daten!$B$8,LOOKUP($B330,Daten!$A$67:$A$116,Daten!$T$67:$T$116),\"\") & \" \" & IF($A330<=Daten!$B$8,LOOKUP($B330,Daten!$A$67:$A$116,Daten!$U$67:$U$116),\"\")","v":"47,2 Inhalt3Einh[47,2]"},null,{"$f":"IF($A330<=Daten!$B$8,LOOKUP($B330,Daten!$A$118:$A$167,Daten!$T$118:$T$167),\"\") & \" \" & IF($A330<=Daten!$B$8,LOOKUP($B330,Daten!$A$118:$A$167,Daten!$U$118:$U$167),\"\")","v":"47,3 Inhalt3Einh[47,3]"},null,{"$f":"IF($A330<=Daten!$B$8,LOOKUP($B330,Daten!$A$169:$A$218,Daten!$T$169:$T$218),\"\") & \" \" & IF($A330<=Daten!$B$8,LOOKUP($B330,Daten!$A$169:$A$218,Daten!$U$169:$U$218),\"\")","v":"47,4 Inhalt3Einh[47,4]"},null,{"$f":"IF($A330<=Daten!$B$8,LOOKUP($B330,Daten!$A$220:$A$269,Daten!$T$220:$T$269),\"\") & \" \" & IF($A330<=Daten!$B$8,LOOKUP($B330,Daten!$A$220:$A$269,Daten!$U$220:$U$269),\"\")","v":"47,5 Inhalt3Einh[47,5]"},null,{"$f":"IF($A330<=Daten!$B$8,LOOKUP($B330,Daten!$A$271:$A$320,Daten!$T$271:$T$320),\"\") & \" \" & IF($A330<=Daten!$B$8,LOOKUP($B330,Daten!$A$271:$A$320,Daten!$U$271:$U$320),\"\")","v":"47,6 Inhalt3Einh[47,6]"},null,{"$f":"IF($A330<=Daten!$B$8,LOOKUP($B330,Daten!$A$322:$A$371,Daten!$T$322:$T$371),\"\") & \" \" & IF($A330<=Daten!$B$8,LOOKUP($B330,Daten!$A$322:$A$371,Daten!$U$322:$U$371),\"\")","v":"47,7 Inhalt3Einh[47,7]"}]
[null,null,null,{"$f":"IF($A330<=Daten!$B$8,LOOKUP($B330,Daten!$A$16:$A$65,Daten!$V$16:$V$65),\"\") & \" \" & IF($A330<=Daten!$B$8,LOOKUP($B330,Daten!$A$16:$A$65,Daten!$W$16:$W$65),\"\")","v":"47,1 Inhalt4Einh[47,1]"},null,{"$f":"IF($A330<=Daten!$B$8,LOOKUP($B330,Daten!$A$67:$A$116,Daten!$V$67:$V$116),\"\") & \" \" & IF($A330<=Daten!$B$8,LOOKUP($B330,Daten!$A$67:$A$116,Daten!$W$67:$W$116),\"\")","v":"47,2 Inhalt4Einh[47,2]"},null,{"$f":"IF($A330<=Daten!$B$8,LOOKUP($B330,Daten!$A$118:$A$167,Daten!$V$118:$V$167),\"\") & \" \" & IF($A330<=Daten!$B$8,LOOKUP($B330,Daten!$A$118:$A$167,Daten!$W$118:$W$167),\"\")","v":"47,3 Inhalt4Einh[47,3]"},null,{"$f":"IF($A330<=Daten!$B$8,LOOKUP($B330,Daten!$A$169:$A$218,Daten!$V$169:$V$218),\"\") & \" \" & IF($A330<=Daten!$B$8,LOOKUP($B330,Daten!$A$169:$A$218,Daten!$W$169:$W$218),\"\")","v":"47,4 Inhalt4Einh[47,4]"},null,{"$f":"IF($A330<=Daten!$B$8,LOOKUP($B330,Daten!$A$220:$A$269,Daten!$V$220:$V$269),\"\") & \" \" & IF($A330<=Daten!$B$8,LOOKUP($B330,Daten!$A$220:$A$269,Daten!$W$220:$W$269),\"\")","v":"47,5 Inhalt4Einh[47,5]"},null,{"$f":"IF($A330<=Daten!$B$8,LOOKUP($B330,Daten!$A$271:$A$320,Daten!$V$271:$V$320),\"\") & \" \" & IF($A330<=Daten!$B$8,LOOKUP($B330,Daten!$A$271:$A$320,Daten!$W$271:$W$320),\"\")","v":"47,6 Inhalt4Einh[47,6]"},null,{"$f":"IF($A330<=Daten!$B$8,LOOKUP($B330,Daten!$A$322:$A$371,Daten!$V$322:$V$371),\"\") & \" \" & IF($A330<=Daten!$B$8,LOOKUP($B330,Daten!$A$322:$A$371,Daten!$W$322:$W$371),\"\")","v":"47,7 Inhalt4Einh[47,7]"}]
[null,null,null,{"$f":"IF($A330<=Daten!$B$8,LOOKUP($B330,Daten!$A$16:$A$65,Daten!$X$16:$X$65),\"\") & \" \" & IF($A330<=Daten!$B$8,LOOKUP($B330,Daten!$A$16:$A$65,Daten!$Y$16:$Y$65),\"\")","v":"47,1 Inhalt5Einh[47,1]"},null,{"$f":"IF($A330<=Daten!$B$8,LOOKUP($B330,Daten!$A$67:$A$116,Daten!$X$67:$X$116),\"\") & \" \" & IF($A330<=Daten!$B$8,LOOKUP($B330,Daten!$A$67:$A$116,Daten!$Y$67:$Y$116),\"\")","v":"47,2 Inhalt5Einh[47,2]"},null,{"$f":"IF($A330<=Daten!$B$8,LOOKUP($B330,Daten!$A$118:$A$167,Daten!$X$118:$X$167),\"\") & \" \" & IF($A330<=Daten!$B$8,LOOKUP($B330,Daten!$A$118:$A$167,Daten!$Y$118:$Y$167),\"\")","v":"47,3 Inhalt5Einh[47,3]"},null,{"$f":"IF($A330<=Daten!$B$8,LOOKUP($B330,Daten!$A$169:$A$218,Daten!$X$169:$X$218),\"\") & \" \" & IF($A330<=Daten!$B$8,LOOKUP($B330,Daten!$A$169:$A$218,Daten!$Y$169:$Y$218),\"\")","v":"47,4 Inhalt5Einh[47,4]"},null,{"$f":"IF($A330<=Daten!$B$8,LOOKUP($B330,Daten!$A$220:$A$269,Daten!$X$220:$X$269),\"\") & \" \" & IF($A330<=Daten!$B$8,LOOKUP($B330,Daten!$A$220:$A$269,Daten!$Y$220:$Y$269),\"\")","v":"47,5 Inhalt5Einh[47,5]"},null,{"$f":"IF($A330<=Daten!$B$8,LOOKUP($B330,Daten!$A$271:$A$320,Daten!$X$271:$X$320),\"\") & \" \" & IF($A330<=Daten!$B$8,LOOKUP($B330,Daten!$A$271:$A$320,Daten!$Y$271:$Y$320),\"\")","v":"47,6 Inhalt5Einh[47,6]"},null,{"$f":"IF($A330<=Daten!$B$8,LOOKUP($B330,Daten!$A$322:$A$371,Daten!$X$322:$X$371),\"\") & \" \" & IF($A330<=Daten!$B$8,LOOKUP($B330,Daten!$A$322:$A$371,Daten!$Y$322:$Y$371),\"\")","v":"47,7 Inhalt5Einh[47,7]"}]
[null,null,null,{"$f":"IF($A330<=Daten!$B$8,LOOKUP($B330,Daten!$A$16:$A$65,Daten!$Z$16:$Z$65),\"\") & \" \" & IF($A330<=Daten!$B$8,LOOKUP($B330,Daten!$A$16:$A$65,Daten!$AA$16:$AA$65),\"\")","v":"47,1 Inhalt6Einh[47,1]"},null,{"$f":"IF($A330<=Daten!$B$8,LOOKUP($B330,Daten!$A$67:$A$116,Daten!$Z$67:$Z$116),\"\") & \" \" & IF($A330<=Daten!$B$8,LOOKUP($B330,Daten!$A$67:$A$116,Daten!$AA$67:$AA$116),\"\")","v":"47,2 Inhalt6Einh[47,2]"},null,{"$f":"IF($A330<=Daten!$B$8,LOOKUP($B330,Daten!$A$118:$A$167,Daten!$Z$118:$Z$167),\"\") & \" \" & IF($A330<=Daten!$B$8,LOOKUP($B330,Daten!$A$118:$A$167,Daten!$AA$118:$AA$167),\"\")","v":"47,3 Inhalt6Einh[47,3]"},null,{"$f":"IF($A330<=Daten!$B$8,LOOKUP($B330,Daten!$A$169:$A$218,Daten!$Z$169:$Z$218),\"\") & \" \" & IF($A330<=Daten!$B$8,LOOKUP($B330,Daten!$A$169:$A$218,Daten!$AA$169:$AA$218),\"\")","v":"47,4 Inhalt6Einh[47,4]"},null,{"$f":"IF($A330<=Daten!$B$8,LOOKUP($B330,Daten!$A$220:$A$269,Daten!$Z$220:$Z$269),\"\") & \" \" & IF($A330<=Daten!$B$8,LOOKUP($B330,Daten!$A$220:$A$269,Daten!$AA$220:$AA$269),\"\")","v":"47,5 Inhalt6Einh[47,5]"},null,{"$f":"IF($A330<=Daten!$B$8,LOOKUP($B330,Daten!$A$271:$A$320,Daten!$Z$271:$Z$320),\"\") & \" \" & IF($A330<=Daten!$B$8,LOOKUP($B330,Daten!$A$271:$A$320,Daten!$AA$271:$AA$320),\"\")","v":"47,6 Inhalt6Einh[47,6]"},null,{"$f":"IF($A330<=Daten!$B$8,LOOKUP($B330,Daten!$A$322:$A$371,Daten!$Z$322:$Z$371),\"\") & \" \" & IF($A330<=Daten!$B$8,LOOKUP($B330,Daten!$A$322:$A$371,Daten!$AA$322:$AA$371),\"\")","v":"47,7 Inhalt6Einh[47,7]"}]
[null,{"$f":"IF(A330<=Daten!$B$8,\"Zusatzstoffe\",\"\")","v":"Zusatzstoffe"},{"$f":"IF($A330<=Daten!$B$8,LOOKUP($B330,Daten!$A$16:$A$65,Daten!$L$16:$L$65),\"\")","v":47.1},{"$f":"IF($A330<=Daten!$B$8,LOOKUP($B330,Daten!$A$16:$A$65,Daten!$D$16:$D$65),\"\")","v":47.1},{"$f":"IF($A330<=Daten!$B$8,LOOKUP($B330,Daten!$A$67:$A$116,Daten!$L$67:$L$116),\"\")","v":47.2},{"$f":"IF($A330<=Daten!$B$8,LOOKUP($B330,Daten!$A$16:$A$65,Daten!$D$67:$D$116),\"\")","v":47.2},{"$f":"IF($A330<=Daten!$B$8,LOOKUP($B330,Daten!$A$118:$A$167,Daten!$L$118:$L$167),\"\")","v":47.3},{"$f":"IF($A330<=Daten!$B$8,LOOKUP($B330,Daten!$A$118:$A$167,Daten!$D$118:$D$167),\"\")","v":47.3},{"$f":"IF($A330<=Daten!$B$8,LOOKUP($B330,Daten!$A$169:$A$218,Daten!$L$169:$L$218),\"\")","v":47.4},{"$f":"IF($A330<=Daten!$B$8,LOOKUP($B330,Daten!$A$169:$A$218,Daten!$D$169:$D$218),\"\")","v":47.4},{"$f":"IF($A330<=Daten!$B$8,LOOKUP($B330,Daten!$A$220:$A$269,Daten!$L$220:$L$269),\"\")","v":47.5},{"$f":"IF($A330<=Daten!$B$8,LOOKUP($B330,Daten!$A$220:$A$269,Daten!$D$220:$D$269),\"\")","v":47.5},{"$f":"IF($A330<=Daten!$B$8,LOOKUP($B330,Daten!$A$271:$A$320,Daten!$L$271:$L$320),\"\")","v":47.6},{"$f":"IF($A330<=Daten!$B$8,LOOKUP($B330,Daten!$A$271:$A$320,Daten!$D$271:$D$320),\"\")","v":47.6},{"$f":"IF($A330<=Daten!$B$8,LOOKUP($B330,Daten!$A$322:$A$371,Daten!$L$322:$L$371),\"\")","v":47.7},{"$f":"IF($A330<=Daten!$B$8,LOOKUP($B330,Daten!$A$322:$A$371,Daten!$D$322:$D$371),\"\")","v":47.7}]
[48,{"$f":"IF(A337<=Daten!$B$8,Daten!AW9,\"\")","v":"Menülinie 48"},{"$f":"IF(A337<=Daten!$B$8,LOOKUP(B337,Daten!$A$16:$A$65,Daten!$C$16:$C$65),\"\")","v":"Lang[48,1]"},{"$f":"IF($A337<=Daten!$B$8,LOOKUP($B337,Daten!$A$16:$A$65,Daten!$P$16:$P$65),\"\") & \" \" & IF($A337<=Daten!$B$8,LOOKUP($B337,Daten!$A$16:$A$65,Daten!$Q$16:$Q$65),\"\")","v":"48,1 Inhalt1Einh[48,1]"},{"$f":"IF($A337<=Daten!$B$8,LOOKUP($B337,Daten!$A$57:$A$116,Daten!$C$57:$C$116),\"\")","v":"Lang[48,2]"},{"$f":"IF($A337<=Daten!$B$8,LOOKUP($B337,Daten!$A$57:$A$116,Daten!$P$57:$P$116),\"\") & \" \" & IF($A337<=Daten!$B$8,LOOKUP($B337,Daten!$A$57:$A$116,Daten!$Q$57:$Q$116),\"\")","v":"48,2 Inhalt1Einh[48,2]"},{"$f":"IF($A337<=Daten!$B$8,LOOKUP($B337,Daten!$A$118:$A$167,Daten!$C$118:$C$167),\"\")","v":"Lang[48,3]"},{"$f":"IF($A337<=Daten!$B$8,LOOKUP($B337,Daten!$A$118:$A$167,Daten!$P$118:$P$167),\"\") & \" \" & IF($A337<=Daten!$B$8,LOOKUP($B337,Daten!$A$118:$A$167,Daten!$Q$118:$Q$167),\"\")","v":"48,3 Inhalt1Einh[48,3]"},{"$f":"IF($A337<=Daten!$B$8,LOOKUP($B337,Daten!$A$169:$A$218,Daten!$C$169:$C$218),\"\")","v":"Lang[48,4]"},{"$f":"IF($A337<=Daten!$B$8,LOOKUP($B337,Daten!$A$169:$A$218,Daten!$P$169:$P$218),\"\") & \" \" & IF($A337<=Daten!$B$8,LOOKUP($B337,Daten!$A$169:$A$218,Daten!$Q$169:$Q$218),\"\")","v":"48,4 Inhalt1Einh[48,4]"},{"$f":"IF($A337<=Daten!$B$8,LOOKUP($B337,Daten!$A$220:$A$269,Daten!$C$220:$C$269),\"\")","v":"Lang[48,5]"},{"$f":"IF($A337<=Daten!$B$8,LOOKUP($B337,Daten!$A$220:$A$269,Daten!$P$220:$P$269),\"\") & \" \" & IF($A337<=Daten!$B$8,LOOKUP($B337,Daten!$A$220:$A$269,Daten!$Q$220:$Q$269),\"\")","v":"48,5 Inhalt1Einh[48,5]"},{"$f":"IF($A337<=Daten!$B$8,LOOKUP($B337,Daten!$A$271:$A$320,Daten!$C$271:$C$320),\"\")","v":"Lang[48,6]"},{"$f":"IF($A337<=Daten!$B$8,LOOKUP($B337,Daten!$A$271:$A$320,Daten!$P$271:$P$320),\"\") & \" \" & IF($A337<=Daten!$B$8,LOOKUP($B337,Daten!$A$271:$A$320,Daten!$Q$271:$Q$320),\"\")","v":"48,6 Inhalt1Einh[48,6]"},{"$f":"IF($A337<=Daten!$B$8,LOOKUP($B337,Daten!$A$322:$A$371,Daten!$B$322:$C$371),\"\")","v":{"$error":"#N/A"}},{"$f":"IF($A337<=Daten!$B$8,LOOKUP($B337,Daten!$A$322:$A$371,Daten!$P$322:$P$371),\"\") & \" \" & IF($A337<=Daten!$B$8,LOOKUP($B337,Daten!$A$322:$A$371,Daten!$Q$322:$Q$371),\"\")","v":"48,7 Inhalt1Einh[48,7]"}]
[null,null,null,{"$f":"IF($A337<=Daten!$B$8,LOOKUP($B337,Daten!$A$16:$A$65,Daten!$R$16:$R$65),\"\") & \" \" & IF($A337<=Daten!$B$8,LOOKUP($B337,Daten!$A$16:$A$65,Daten!$S$16:$S$65),\"\")","v":"48,1 Inhalt2Einh[48,1]"},null,{"$f":"IF($A337<=Daten!$B$8,LOOKUP($B337,Daten!$A$57:$A$116,Daten!$R$57:$R$116),\"\") & \" \" & IF($A337<=Daten!$B$8,LOOKUP($B337,Daten!$A$57:$A$116,Daten!$S$57:$S$116),\"\")","v":"48,2 Inhalt2Einh[48,2]"},null,{"$f":"IF($A337<=Daten!$B$8,LOOKUP($B337,Daten!$A$118:$A$167,Daten!$R$118:$R$167),\"\") & \" \" & IF($A337<=Daten!$B$8,LOOKUP($B337,Daten!$A$118:$A$167,Daten!$S$118:$S$167),\"\")","v":"48,3 Inhalt2Einh[48,3]"},null,{"$f":"IF($A337<=Daten!$B$8,LOOKUP($B337,Daten!$A$169:$A$218,Daten!$R$169:$R$218),\"\") & \" \" & IF($A337<=Daten!$B$8,LOOKUP($B337,Daten!$A$169:$A$218,Daten!$S$169:$S$218),\"\")","v":"48,4 Inhalt2Einh[48,4]"},null,{"$f":"IF($A337<=Daten!$B$8,LOOKUP($B337,Daten!$A$220:$A$269,Daten!$R$220:$R$269),\"\") & \" \" & IF($A337<=Daten!$B$8,LOOKUP($B337,Daten!$A$220:$A$269,Daten!$S$220:$S$269),\"\")","v":"48,5 Inhalt2Einh[48,5]"},null,{"$f":"IF($A337<=Daten!$B$8,LOOKUP($B337,Daten!$A$271:$A$320,Daten!$R$271:$R$320),\"\") & \" \" & IF($A337<=Daten!$B$8,LOOKUP($B337,Daten!$A$271:$A$320,Daten!$S$271:$S$320),\"\")","v":"48,6 Inhalt2Einh[48,6]"},null,{"$f":"IF($A337<=Daten!$B$8,LOOKUP($B337,Daten!$A$322:$A$371,Daten!$R$322:$R$371),\"\") & \" \" & IF($A337<=Daten!$B$8,LOOKUP($B337,Daten!$A$322:$A$371,Daten!$S$322:$S$371),\"\")","v":"48,7 Inhalt2Einh[48,7]"}]
[null,null,null,{"$f":"IF($A337<=Daten!$B$8,LOOKUP($B337,Daten!$A$16:$A$65,Daten!$T$16:$T$65),\"\") & \" \" & IF($A337<=Daten!$B$8,LOOKUP($B337,Daten!$A$16:$A$65,Daten!$U$16:$U$65),\"\")","v":"48,1 Inhalt3Einh[48,1]"},null,{"$f":"IF($A337<=Daten!$B$8,LOOKUP($B337,Daten!$A$57:$A$116,Daten!$T$57:$T$116),\"\") & \" \" & IF($A337<=Daten!$B$8,LOOKUP($B337,Daten!$A$57:$A$116,Daten!$U$57:$U$116),\"\")","v":"48,2 Inhalt3Einh[48,2]"},null,{"$f":"IF($A337<=Daten!$B$8,LOOKUP($B337,Daten!$A$118:$A$167,Daten!$T$118:$T$167),\"\") & \" \" & IF($A337<=Daten!$B$8,LOOKUP($B337,Daten!$A$118:$A$167,Daten!$U$118:$U$167),\"\")","v":"48,3 Inhalt3Einh[48,3]"},null,{"$f":"IF($A337<=Daten!$B$8,LOOKUP($B337,Daten!$A$169:$A$218,Daten!$T$169:$T$218),\"\") & \" \" & IF($A337<=Daten!$B$8,LOOKUP($B337,Daten!$A$169:$A$218,Daten!$U$169:$U$218),\"\")","v":"48,4 Inhalt3Einh[48,4]"},null,{"$f":"IF($A337<=Daten!$B$8,LOOKUP($B337,Daten!$A$220:$A$269,Daten!$T$220:$T$269),\"\") & \" \" & IF($A337<=Daten!$B$8,LOOKUP($B337,Daten!$A$220:$A$269,Daten!$U$220:$U$269),\"\")","v":"48,5 Inhalt3Einh[48,5]"},null,{"$f":"IF($A337<=Daten!$B$8,LOOKUP($B337,Daten!$A$271:$A$320,Daten!$T$271:$T$320),\"\") & \" \" & IF($A337<=Daten!$B$8,LOOKUP($B337,Daten!$A$271:$A$320,Daten!$U$271:$U$320),\"\")","v":"48,6 Inhalt3Einh[48,6]"},null,{"$f":"IF($A337<=Daten!$B$8,LOOKUP($B337,Daten!$A$322:$A$371,Daten!$T$322:$T$371),\"\") & \" \" & IF($A337<=Daten!$B$8,LOOKUP($B337,Daten!$A$322:$A$371,Daten!$U$322:$U$371),\"\")","v":"48,7 Inhalt3Einh[48,7]"}]
[null,null,null,{"$f":"IF($A337<=Daten!$B$8,LOOKUP($B337,Daten!$A$16:$A$65,Daten!$V$16:$V$65),\"\") & \" \" & IF($A337<=Daten!$B$8,LOOKUP($B337,Daten!$A$16:$A$65,Daten!$W$16:$W$65),\"\")","v":"48,1 Inhalt4Einh[48,1]"},null,{"$f":"IF($A337<=Daten!$B$8,LOOKUP($B337,Daten!$A$57:$A$116,Daten!$V$57:$V$116),\"\") & \" \" & IF($A337<=Daten!$B$8,LOOKUP($B337,Daten!$A$57:$A$116,Daten!$W$57:$W$116),\"\")","v":"48,2 Inhalt4Einh[48,2]"},null,{"$f":"IF($A337<=Daten!$B$8,LOOKUP($B337,Daten!$A$118:$A$167,Daten!$V$118:$V$167),\"\") & \" \" & IF($A337<=Daten!$B$8,LOOKUP($B337,Daten!$A$118:$A$167,Daten!$W$118:$W$167),\"\")","v":"48,3 Inhalt4Einh[48,3]"},null,{"$f":"IF($A337<=Daten!$B$8,LOOKUP($B337,Daten!$A$169:$A$218,Daten!$V$169:$V$218),\"\") & \" \" & IF($A337<=Daten!$B$8,LOOKUP($B337,Daten!$A$169:$A$218,Daten!$W$169:$W$218),\"\")","v":"48,4 Inhalt4Einh[48,4]"},null,{"$f":"IF($A337<=Daten!$B$8,LOOKUP($B337,Daten!$A$220:$A$269,Daten!$V$220:$V$269),\"\") & \" \" & IF($A337<=Daten!$B$8,LOOKUP($B337,Daten!$A$220:$A$269,Daten!$W$220:$W$269),\"\")","v":"48,5 Inhalt4Einh[48,5]"},null,{"$f":"IF($A337<=Daten!$B$8,LOOKUP($B337,Daten!$A$271:$A$320,Daten!$V$271:$V$320),\"\") & \" \" & IF($A337<=Daten!$B$8,LOOKUP($B337,Daten!$A$271:$A$320,Daten!$W$271:$W$320),\"\")","v":"48,6 Inhalt4Einh[48,6]"},null,{"$f":"IF($A337<=Daten!$B$8,LOOKUP($B337,Daten!$A$322:$A$371,Daten!$V$322:$V$371),\"\") & \" \" & IF($A337<=Daten!$B$8,LOOKUP($B337,Daten!$A$322:$A$371,Daten!$W$322:$W$371),\"\")","v":"48,7 Inhalt4Einh[48,7]"}]
[null,null,null,{"$f":"IF($A337<=Daten!$B$8,LOOKUP($B337,Daten!$A$16:$A$65,Daten!$X$16:$X$65),\"\") & \" \" & IF($A337<=Daten!$B$8,LOOKUP($B337,Daten!$A$16:$A$65,Daten!$Y$16:$Y$65),\"\")","v":"48,1 Inhalt5Einh[48,1]"},null,{"$f":"IF($A337<=Daten!$B$8,LOOKUP($B337,Daten!$A$57:$A$116,Daten!$X$57:$X$116),\"\") & \" \" & IF($A337<=Daten!$B$8,LOOKUP($B337,Daten!$A$57:$A$116,Daten!$Y$57:$Y$116),\"\")","v":"48,2 Inhalt5Einh[48,2]"},null,{"$f":"IF($A337<=Daten!$B$8,LOOKUP($B337,Daten!$A$118:$A$167,Daten!$X$118:$X$167),\"\") & \" \" & IF($A337<=Daten!$B$8,LOOKUP($B337,Daten!$A$118:$A$167,Daten!$Y$118:$Y$167),\"\")","v":"48,3 Inhalt5Einh[48,3]"},null,{"$f":"IF($A337<=Daten!$B$8,LOOKUP($B337,Daten!$A$169:$A$218,Daten!$X$169:$X$218),\"\") & \" \" & IF($A337<=Daten!$B$8,LOOKUP($B337,Daten!$A$169:$A$218,Daten!$Y$169:$Y$218),\"\")","v":"48,4 Inhalt5Einh[48,4]"},null,{"$f":"IF($A337<=Daten!$B$8,LOOKUP($B337,Daten!$A$220:$A$269,Daten!$X$220:$X$269),\"\") & \" \" & IF($A337<=Daten!$B$8,LOOKUP($B337,Daten!$A$220:$A$269,Daten!$Y$220:$Y$269),\"\")","v":"48,5 Inhalt5Einh[48,5]"},null,{"$f":"IF($A337<=Daten!$B$8,LOOKUP($B337,Daten!$A$271:$A$320,Daten!$X$271:$X$320),\"\") & \" \" & IF($A337<=Daten!$B$8,LOOKUP($B337,Daten!$A$271:$A$320,Daten!$Y$271:$Y$320),\"\")","v":"48,6 Inhalt5Einh[48,6]"},null,{"$f":"IF($A337<=Daten!$B$8,LOOKUP($B337,Daten!$A$322:$A$371,Daten!$X$322:$X$371),\"\") & \" \" & IF($A337<=Daten!$B$8,LOOKUP($B337,Daten!$A$322:$A$371,Daten!$Y$322:$Y$371),\"\")","v":"48,7 Inhalt5Einh[48,7]"}]
[null,null,null,{"$f":"IF($A337<=Daten!$B$8,LOOKUP($B337,Daten!$A$16:$A$65,Daten!$Z$16:$Z$65),\"\") & \" \" & IF($A337<=Daten!$B$8,LOOKUP($B337,Daten!$A$16:$A$65,Daten!$AA$16:$AA$65),\"\")","v":"48,1 Inhalt6Einh[48,1]"},null,{"$f":"IF($A337<=Daten!$B$8,LOOKUP($B337,Daten!$A$57:$A$116,Daten!$Z$57:$Z$116),\"\") & \" \" & IF($A337<=Daten!$B$8,LOOKUP($B337,Daten!$A$57:$A$116,Daten!$AA$57:$AA$116),\"\")","v":"48,2 Inhalt6Einh[48,2]"},null,{"$f":"IF($A337<=Daten!$B$8,LOOKUP($B337,Daten!$A$118:$A$167,Daten!$Z$118:$Z$167),\"\") & \" \" & IF($A337<=Daten!$B$8,LOOKUP($B337,Daten!$A$118:$A$167,Daten!$AA$118:$AA$167),\"\")","v":"48,3 Inhalt6Einh[48,3]"},null,{"$f":"IF($A337<=Daten!$B$8,LOOKUP($B337,Daten!$A$169:$A$218,Daten!$Z$169:$Z$218),\"\") & \" \" & IF($A337<=Daten!$B$8,LOOKUP($B337,Daten!$A$169:$A$218,Daten!$AA$169:$AA$218),\"\")","v":"48,4 Inhalt6Einh[48,4]"},null,{"$f":"IF($A337<=Daten!$B$8,LOOKUP($B337,Daten!$A$220:$A$269,Daten!$Z$220:$Z$269),\"\") & \" \" & IF($A337<=Daten!$B$8,LOOKUP($B337,Daten!$A$220:$A$269,Daten!$AA$220:$AA$269),\"\")","v":"48,5 Inhalt6Einh[48,5]"},null,{"$f":"IF($A337<=Daten!$B$8,LOOKUP($B337,Daten!$A$271:$A$320,Daten!$Z$271:$Z$320),\"\") & \" \" & IF($A337<=Daten!$B$8,LOOKUP($B337,Daten!$A$271:$A$320,Daten!$AA$271:$AA$320),\"\")","v":"48,6 Inhalt6Einh[48,6]"},null,{"$f":"IF($A337<=Daten!$B$8,LOOKUP($B337,Daten!$A$322:$A$371,Daten!$Z$322:$Z$371),\"\") & \" \" & IF($A337<=Daten!$B$8,LOOKUP($B337,Daten!$A$322:$A$371,Daten!$AA$322:$AA$371),\"\")","v":"48,7 Inhalt6Einh[48,7]"}]
[null,{"$f":"IF(A337<=Daten!$B$8,\"Zusatzstoffe\",\"\")","v":"Zusatzstoffe"},{"$f":"IF($A337<=Daten!$B$8,LOOKUP($B337,Daten!$A$16:$A$65,Daten!$L$16:$L$65),\"\")","v":48.1},{"$f":"IF($A337<=Daten!$B$8,LOOKUP($B337,Daten!$A$16:$A$65,Daten!$D$16:$D$65),\"\")","v":48.1},{"$f":"IF($A337<=Daten!$B$8,LOOKUP($B337,Daten!$A$67:$A$116,Daten!$L$67:$L$116),\"\")","v":48.2},{"$f":"IF($A337<=Daten!$B$8,LOOKUP($B337,Daten!$A$16:$A$65,Daten!$D$67:$D$116),\"\")","v":48.2},{"$f":"IF($A337<=Daten!$B$8,LOOKUP($B337,Daten!$A$118:$A$167,Daten!$L$118:$L$167),\"\")","v":48.3},{"$f":"IF($A337<=Daten!$B$8,LOOKUP($B337,Daten!$A$118:$A$167,Daten!$D$118:$D$167),\"\")","v":48.3},{"$f":"IF($A337<=Daten!$B$8,LOOKUP($B337,Daten!$A$169:$A$218,Daten!$L$169:$L$218),\"\")","v":48.4},{"$f":"IF($A337<=Daten!$B$8,LOOKUP($B337,Daten!$A$169:$A$218,Daten!$D$169:$D$218),\"\")","v":48.4},{"$f":"IF($A337<=Daten!$B$8,LOOKUP($B337,Daten!$A$220:$A$269,Daten!$L$220:$L$269),\"\")","v":48.5},{"$f":"IF($A337<=Daten!$B$8,LOOKUP($B337,Daten!$A$220:$A$269,Daten!$D$220:$D$269),\"\")","v":48.5},{"$f":"IF($A337<=Daten!$B$8,LOOKUP($B337,Daten!$A$271:$A$320,Daten!$L$271:$L$320),\"\")","v":48.6},{"$f":"IF($A337<=Daten!$B$8,LOOKUP($B337,Daten!$A$271:$A$320,Daten!$D$271:$D$320),\"\")","v":48.6},{"$f":"IF($A337<=Daten!$B$8,LOOKUP($B337,Daten!$A$322:$A$371,Daten!$L$322:$L$371),\"\")","v":48.7},{"$f":"IF($A337<=Daten!$B$8,LOOKUP($B337,Daten!$A$322:$A$371,Daten!$D$322:$D$371),\"\")","v":48.7}]
[49,{"$f":"IF(A344<=Daten!$B$8,Daten!AX9,\"\")","v":"Menülinie 49"},{"$f":"IF(A344<=Daten!$B$8,LOOKUP(B344,Daten!$A$16:$A$65,Daten!$C$16:$C$65),\"\")","v":"Lang[49,1]"},{"$f":"IF($A344<=Daten!$B$8,LOOKUP($B344,Daten!$A$16:$A$65,Daten!$P$16:$P$65),\"\") & \" \" & IF($A344<=Daten!$B$8,LOOKUP($B344,Daten!$A$16:$A$65,Daten!$Q$16:$Q$65),\"\")","v":"49,1 Inhalt1Einh[49,1]"},{"$f":"IF($A344<=Daten!$B$8,LOOKUP($B344,Daten!$A$67:$A$116,Daten!$C$67:$C$116),\"\")","v":"Lang[49,2]"},{"$f":"IF($A344<=Daten!$B$8,LOOKUP($B344,Daten!$A$67:$A$116,Daten!$P$67:$P$116),\"\") & \" \" & IF($A344<=Daten!$B$8,LOOKUP($B344,Daten!$A$67:$A$116,Daten!$Q$67:$Q$116),\"\")","v":"49,2 Inhalt1Einh[49,2]"},{"$f":"IF($A344<=Daten!$B$8,LOOKUP($B344,Daten!$A$118:$A$167,Daten!$C$118:$C$167),\"\")","v":"Lang[49,3]"},{"$f":"IF($A344<=Daten!$B$8,LOOKUP($B344,Daten!$A$118:$A$167,Daten!$P$118:$P$167),\"\") & \" \" & IF($A344<=Daten!$B$8,LOOKUP($B344,Daten!$A$118:$A$167,Daten!$Q$118:$Q$167),\"\")","v":"49,3 Inhalt1Einh[49,3]"},{"$f":"IF($A344<=Daten!$B$8,LOOKUP($B344,Daten!$A$169:$A$218,Daten!$C$169:$C$218),\"\")","v":"Lang[49,4]"},{"$f":"IF($A344<=Daten!$B$8,LOOKUP($B344,Daten!$A$169:$A$218,Daten!$P$169:$P$218),\"\") & \" \" & IF($A344<=Daten!$B$8,LOOKUP($B344,Daten!$A$169:$A$218,Daten!$Q$169:$Q$218),\"\")","v":"49,4 Inhalt1Einh[49,4]"},{"$f":"IF($A344<=Daten!$B$8,LOOKUP($B344,Daten!$A$220:$A$269,Daten!$C$220:$C$269),\"\")","v":"Lang[49,5]"},{"$f":"IF($A344<=Daten!$B$8,LOOKUP($B344,Daten!$A$220:$A$269,Daten!$P$220:$P$269),\"\") & \" \" & IF($A344<=Daten!$B$8,LOOKUP($B344,Daten!$A$220:$A$269,Daten!$Q$220:$Q$269),\"\")","v":"49,5 Inhalt1Einh[49,5]"},{"$f":"IF($A344<=Daten!$B$8,LOOKUP($B344,Daten!$A$271:$A$320,Daten!$C$271:$C$320),\"\")","v":"Lang[49,6]"},{"$f":"IF($A344<=Daten!$B$8,LOOKUP($B344,Daten!$A$271:$A$320,Daten!$P$271:$P$320),\"\") & \" \" & IF($A344<=Daten!$B$8,LOOKUP($B344,Daten!$A$271:$A$320,Daten!$Q$271:$Q$320),\"\")","v":"49,6 Inhalt1Einh[49,6]"},{"$f":"IF($A344<=Daten!$B$8,LOOKUP($B344,Daten!$A$322:$A$371,Daten!$B$322:$C$371),\"\")","v":{"$error":"#N/A"}},{"$f":"IF($A344<=Daten!$B$8,LOOKUP($B344,Daten!$A$322:$A$371,Daten!$P$322:$P$371),\"\") & \" \" & IF($A344<=Daten!$B$8,LOOKUP($B344,Daten!$A$322:$A$371,Daten!$Q$322:$Q$371),\"\")","v":"49,7 Inhalt1Einh[49,7]"}]
[null,null,null,{"$f":"IF($A344<=Daten!$B$8,LOOKUP($B344,Daten!$A$16:$A$65,Daten!$R$16:$R$65),\"\") & \" \" & IF($A344<=Daten!$B$8,LOOKUP($B344,Daten!$A$16:$A$65,Daten!$S$16:$S$65),\"\")","v":"49,1 Inhalt2Einh[49,1]"},null,{"$f":"IF($A344<=Daten!$B$8,LOOKUP($B344,Daten!$A$67:$A$116,Daten!$R$67:$R$116),\"\") & \" \" & IF($A344<=Daten!$B$8,LOOKUP($B344,Daten!$A$67:$A$116,Daten!$S$67:$S$116),\"\")","v":"49,2 Inhalt2Einh[49,2]"},null,{"$f":"IF($A344<=Daten!$B$8,LOOKUP($B344,Daten!$A$118:$A$167,Daten!$R$118:$R$167),\"\") & \" \" & IF($A344<=Daten!$B$8,LOOKUP($B344,Daten!$A$118:$A$167,Daten!$S$118:$S$167),\"\")","v":"49,3 Inhalt2Einh[49,3]"},null,{"$f":"IF($A344<=Daten!$B$8,LOOKUP($B344,Daten!$A$169:$A$218,Daten!$R$169:$R$218),\"\") & \" \" & IF($A344<=Daten!$B$8,LOOKUP($B344,Daten!$A$169:$A$218,Daten!$S$169:$S$218),\"\")","v":"49,4 Inhalt2Einh[49,4]"},null,{"$f":"IF($A344<=Daten!$B$8,LOOKUP($B344,Daten!$A$220:$A$269,Daten!$R$220:$R$269),\"\") & \" \" & IF($A344<=Daten!$B$8,LOOKUP($B344,Daten!$A$220:$A$269,Daten!$S$220:$S$269),\"\")","v":"49,5 Inhalt2Einh[49,5]"},null,{"$f":"IF($A344<=Daten!$B$8,LOOKUP($B344,Daten!$A$271:$A$320,Daten!$R$271:$R$320),\"\") & \" \" & IF($A344<=Daten!$B$8,LOOKUP($B344,Daten!$A$271:$A$320,Daten!$S$271:$S$320),\"\")","v":"49,6 Inhalt2Einh[49,6]"},null,{"$f":"IF($A344<=Daten!$B$8,LOOKUP($B344,Daten!$A$322:$A$371,Daten!$R$322:$R$371),\"\") & \" \" & IF($A344<=Daten!$B$8,LOOKUP($B344,Daten!$A$322:$A$371,Daten!$S$322:$S$371),\"\")","v":"49,7 Inhalt2Einh[49,7]"}]
[null,null,null,{"$f":"IF($A344<=Daten!$B$8,LOOKUP($B344,Daten!$A$16:$A$65,Daten!$T$16:$T$65),\"\") & \" \" & IF($A344<=Daten!$B$8,LOOKUP($B344,Daten!$A$16:$A$65,Daten!$U$16:$U$65),\"\")","v":"49,1 Inhalt3Einh[49,1]"},null,{"$f":"IF($A344<=Daten!$B$8,LOOKUP($B344,Daten!$A$67:$A$116,Daten!$T$67:$T$116),\"\") & \" \" & IF($A344<=Daten!$B$8,LOOKUP($B344,Daten!$A$67:$A$116,Daten!$U$67:$U$116),\"\")","v":"49,2 Inhalt3Einh[49,2]"},null,{"$f":"IF($A344<=Daten!$B$8,LOOKUP($B344,Daten!$A$118:$A$167,Daten!$T$118:$T$167),\"\") & \" \" & IF($A344<=Daten!$B$8,LOOKUP($B344,Daten!$A$118:$A$167,Daten!$U$118:$U$167),\"\")","v":"49,3 Inhalt3Einh[49,3]"},null,{"$f":"IF($A344<=Daten!$B$8,LOOKUP($B344,Daten!$A$169:$A$218,Daten!$T$169:$T$218),\"\") & \" \" & IF($A344<=Daten!$B$8,LOOKUP($B344,Daten!$A$169:$A$218,Daten!$U$169:$U$218),\"\")","v":"49,4 Inhalt3Einh[49,4]"},null,{"$f":"IF($A344<=Daten!$B$8,LOOKUP($B344,Daten!$A$220:$A$269,Daten!$T$220:$T$269),\"\") & \" \" & IF($A344<=Daten!$B$8,LOOKUP($B344,Daten!$A$220:$A$269,Daten!$U$220:$U$269),\"\")","v":"49,5 Inhalt3Einh[49,5]"},null,{"$f":"IF($A344<=Daten!$B$8,LOOKUP($B344,Daten!$A$271:$A$320,Daten!$T$271:$T$320),\"\") & \" \" & IF($A344<=Daten!$B$8,LOOKUP($B344,Daten!$A$271:$A$320,Daten!$U$271:$U$320),\"\")","v":"49,6 Inhalt3Einh[49,6]"},null,{"$f":"IF($A344<=Daten!$B$8,LOOKUP($B344,Daten!$A$322:$A$371,Daten!$T$322:$T$371),\"\") & \" \" & IF($A344<=Daten!$B$8,LOOKUP($B344,Daten!$A$322:$A$371,Daten!$U$322:$U$371),\"\")","v":"49,7 Inhalt3Einh[49,7]"}]
[null,null,null,{"$f":"IF($A344<=Daten!$B$8,LOOKUP($B344,Daten!$A$16:$A$65,Daten!$V$16:$V$65),\"\") & \" \" & IF($A344<=Daten!$B$8,LOOKUP($B344,Daten!$A$16:$A$65,Daten!$W$16:$W$65),\"\")","v":"49,1 Inhalt4Einh[49,1]"},null,{"$f":"IF($A344<=Daten!$B$8,LOOKUP($B344,Daten!$A$67:$A$116,Daten!$V$67:$V$116),\"\") & \" \" & IF($A344<=Daten!$B$8,LOOKUP($B344,Daten!$A$67:$A$116,Daten!$W$67:$W$116),\"\")","v":"49,2 Inhalt4Einh[49,2]"},null,{"$f":"IF($A344<=Daten!$B$8,LOOKUP($B344,Daten!$A$118:$A$167,Daten!$V$118:$V$167),\"\") & \" \" & IF($A344<=Daten!$B$8,LOOKUP($B344,Daten!$A$118:$A$167,Daten!$W$118:$W$167),\"\")","v":"49,3 Inhalt4Einh[49,3]"},null,{"$f":"IF($A344<=Daten!$B$8,LOOKUP($B344,Daten!$A$169:$A$218,Daten!$V$169:$V$218),\"\") & \" \" & IF($A344<=Daten!$B$8,LOOKUP($B344,Daten!$A$169:$A$218,Daten!$W$169:$W$218),\"\")","v":"49,4 Inhalt4Einh[49,4]"},null,{"$f":"IF($A344<=Daten!$B$8,LOOKUP($B344,Daten!$A$220:$A$269,Daten!$V$220:$V$269),\"\") & \" \" & IF($A344<=Daten!$B$8,LOOKUP($B344,Daten!$A$220:$A$269,Daten!$W$220:$W$269),\"\")","v":"49,5 Inhalt4Einh[49,5]"},null,{"$f":"IF($A344<=Daten!$B$8,LOOKUP($B344,Daten!$A$271:$A$320,Daten!$V$271:$V$320),\"\") & \" \" & IF($A344<=Daten!$B$8,LOOKUP($B344,Daten!$A$271:$A$320,Daten!$W$271:$W$320),\"\")","v":"49,6 Inhalt4Einh[49,6]"},null,{"$f":"IF($A344<=Daten!$B$8,LOOKUP($B344,Daten!$A$322:$A$371,Daten!$V$322:$V$371),\"\") & \" \" & IF($A344<=Daten!$B$8,LOOKUP($B344,Daten!$A$322:$A$371,Daten!$W$322:$W$371),\"\")","v":"49,7 Inhalt4Einh[49,7]"}]
[null,null,null,{"$f":"IF($A344<=Daten!$B$8,LOOKUP($B344,Daten!$A$16:$A$65,Daten!$X$16:$X$65),\"\") & \" \" & IF($A344<=Daten!$B$8,LOOKUP($B344,Daten!$A$16:$A$65,Daten!$Y$16:$Y$65),\"\")","v":"49,1 Inhalt5Einh[49,1]"},null,{"$f":"IF($A344<=Daten!$B$8,LOOKUP($B344,Daten!$A$67:$A$116,Daten!$X$67:$X$116),\"\") & \" \" & IF($A344<=Daten!$B$8,LOOKUP($B344,Daten!$A$67:$A$116,Daten!$Y$67:$Y$116),\"\")","v":"49,2 Inhalt5Einh[49,2]"},null,{"$f":"IF($A344<=Daten!$B$8,LOOKUP($B344,Daten!$A$118:$A$167,Daten!$X$118:$X$167),\"\") & \" \" & IF($A344<=Daten!$B$8,LOOKUP($B344,Daten!$A$118:$A$167,Daten!$Y$118:$Y$167),\"\")","v":"49,3 Inhalt5Einh[49,3]"},null,{"$f":"IF($A344<=Daten!$B$8,LOOKUP($B344,Daten!$A$169:$A$218,Daten!$X$169:$X$218),\"\") & \" \" & IF($A344<=Daten!$B$8,LOOKUP($B344,Daten!$A$169:$A$218,Daten!$Y$169:$Y$218),\"\")","v":"49,4 Inhalt5Einh[49,4]"},null,{"$f":"IF($A344<=Daten!$B$8,LOOKUP($B344,Daten!$A$220:$A$269,Daten!$X$220:$X$269),\"\") & \" \" & IF($A344<=Daten!$B$8,LOOKUP($B344,Daten!$A$220:$A$269,Daten!$Y$220:$Y$269),\"\")","v":"49,5 Inhalt5Einh[49,5]"},null,{"$f":"IF($A344<=Daten!$B$8,LOOKUP($B344,Daten!$A$271:$A$320,Daten!$X$271:$X$320),\"\") & \" \" & IF($A344<=Daten!$B$8,LOOKUP($B344,Daten!$A$271:$A$320,Daten!$Y$271:$Y$320),\"\")","v":"49,6 Inhalt5Einh[49,6]"},null,{"$f":"IF($A344<=Daten!$B$8,LOOKUP($B344,Daten!$A$322:$A$371,Daten!$X$322:$X$371),\"\") & \" \" & IF($A344<=Daten!$B$8,LOOKUP($B344,Daten!$A$322:$A$371,Daten!$Y$322:$Y$371),\"\")","v":"49,7 Inhalt5Einh[49,7]"}]
[null,null,null,{"$f":"IF($A344<=Daten!$B$8,LOOKUP($B344,Daten!$A$16:$A$65,Daten!$Z$16:$Z$65),\"\") & \" \" & IF($A344<=Daten!$B$8,LOOKUP($B344,Daten!$A$16:$A$65,Daten!$AA$16:$AA$65),\"\")","v":"49,1 Inhalt6Einh[49,1]"},null,{"$f":"IF($A344<=Daten!$B$8,LOOKUP($B344,Daten!$A$67:$A$116,Daten!$Z$67:$Z$116),\"\") & \" \" & IF($A344<=Daten!$B$8,LOOKUP($B344,Daten!$A$67:$A$116,Daten!$AA$67:$AA$116),\"\")","v":"49,2 Inhalt6Einh[49,2]"},null,{"$f":"IF($A344<=Daten!$B$8,LOOKUP($B344,Daten!$A$118:$A$167,Daten!$Z$118:$Z$167),\"\") & \" \" & IF($A344<=Daten!$B$8,LOOKUP($B344,Daten!$A$118:$A$167,Daten!$AA$118:$AA$167),\"\")","v":"49,3 Inhalt6Einh[49,3]"},null,{"$f":"IF($A344<=Daten!$B$8,LOOKUP($B344,Daten!$A$169:$A$218,Daten!$Z$169:$Z$218),\"\") & \" \" & IF($A344<=Daten!$B$8,LOOKUP($B344,Daten!$A$169:$A$218,Daten!$AA$169:$AA$218),\"\")","v":"49,4 Inhalt6Einh[49,4]"},null,{"$f":"IF($A344<=Daten!$B$8,LOOKUP($B344,Daten!$A$220:$A$269,Daten!$Z$220:$Z$269),\"\") & \" \" & IF($A344<=Daten!$B$8,LOOKUP($B344,Daten!$A$220:$A$269,Daten!$AA$220:$AA$269),\"\")","v":"49,5 Inhalt6Einh[49,5]"},null,{"$f":"IF($A344<=Daten!$B$8,LOOKUP($B344,Daten!$A$271:$A$320,Daten!$Z$271:$Z$320),\"\") & \" \" & IF($A344<=Daten!$B$8,LOOKUP($B344,Daten!$A$271:$A$320,Daten!$AA$271:$AA$320),\"\")","v":"49,6 Inhalt6Einh[49,6]"},null,{"$f":"IF($A344<=Daten!$B$8,LOOKUP($B344,Daten!$A$322:$A$371,Daten!$Z$322:$Z$371),\"\") & \" \" & IF($A344<=Daten!$B$8,LOOKUP($B344,Daten!$A$322:$A$371,Daten!$AA$322:$AA$371),\"\")","v":"49,7 Inhalt6Einh[49,7]"}]
[null,{"$f":"IF(A344<=Daten!$B$8,\"Zusatzstoffe\",\"\")","v":"Zusatzstoffe"},{"$f":"IF($A344<=Daten!$B$8,LOOKUP($B344,Daten!$A$16:$A$65,Daten!$L$16:$L$65),\"\")","v":49.1},{"$f":"IF($A344<=Daten!$B$8,LOOKUP($B344,Daten!$A$16:$A$65,Daten!$D$16:$D$65),\"\")","v":49.1},{"$f":"IF($A344<=Daten!$B$8,LOOKUP($B344,Daten!$A$67:$A$116,Daten!$L$67:$L$116),\"\")","v":49.2},{"$f":"IF($A344<=Daten!$B$8,LOOKUP($B344,Daten!$A$16:$A$65,Daten!$D$67:$D$116),\"\")","v":49.2},{"$f":"IF($A344<=Daten!$B$8,LOOKUP($B344,Daten!$A$118:$A$167,Daten!$L$118:$L$167),\"\")","v":49.3},{"$f":"IF($A344<=Daten!$B$8,LOOKUP($B344,Daten!$A$118:$A$167,Daten!$D$118:$D$167),\"\")","v":49.3},{"$f":"IF($A344<=Daten!$B$8,LOOKUP($B344,Daten!$A$169:$A$218,Daten!$L$169:$L$218),\"\")","v":49.4},{"$f":"IF($A344<=Daten!$B$8,LOOKUP($B344,Daten!$A$169:$A$218,Daten!$D$169:$D$218),\"\")","v":49.4},{"$f":"IF($A344<=Daten!$B$8,LOOKUP($B344,Daten!$A$220:$A$269,Daten!$L$220:$L$269),\"\")","v":49.5},{"$f":"IF($A344<=Daten!$B$8,LOOKUP($B344,Daten!$A$220:$A$269,Daten!$D$220:$D$269),\"\")","v":49.5},{"$f":"IF($A344<=Daten!$B$8,LOOKUP($B344,Daten!$A$271:$A$320,Daten!$L$271:$L$320),\"\")","v":49.6},{"$f":"IF($A344<=Daten!$B$8,LOOKUP($B344,Daten!$A$271:$A$320,Daten!$D$271:$D$320),\"\")","v":49.6},{"$f":"IF($A344<=Daten!$B$8,LOOKUP($B344,Daten!$A$322:$A$371,Daten!$L$322:$L$371),\"\")","v":49.7},{"$f":"IF($A344<=Daten!$B$8,LOOKUP($B344,Daten!$A$322:$A$371,Daten!$D$322:$D$371),\"\")","v":49.7}]
[50,{"$f":"IF(A351<=Daten!$B$8,Daten!AY9,\"\")","v":"Menülinie 50"},{"$f":"IF(A351<=Daten!$B$8,LOOKUP(B351,Daten!$A$16:$A$65,Daten!$C$16:$C$65),\"\")","v":"Lang[50,1]"},{"$f":"IF($A351<=Daten!$B$8,LOOKUP($B351,Daten!$A$16:$A$65,Daten!$P$16:$P$65),\"\") & \" \" & IF($A351<=Daten!$B$8,LOOKUP($B351,Daten!$A$16:$A$65,Daten!$Q$16:$Q$65),\"\")","v":"50,1 Inhalt1Einh[50,1]"},{"$f":"IF($A351<=Daten!$B$8,LOOKUP($B351,Daten!$A$67:$A$116,Daten!$C$67:$C$116),\"\")","v":"Lang[50,2]"},{"$f":"IF($A351<=Daten!$B$8,LOOKUP($B351,Daten!$A$67:$A$116,Daten!$P$67:$P$116),\"\") & \" \" & IF($A351<=Daten!$B$8,LOOKUP($B351,Daten!$A$67:$A$116,Daten!$Q$67:$Q$116),\"\")","v":"50,2 Inhalt1Einh[50,2]"},{"$f":"IF($A351<=Daten!$B$8,LOOKUP($B351,Daten!$A$118:$A$167,Daten!$C$118:$C$167),\"\")","v":"Lang[50,3]"},{"$f":"IF($A351<=Daten!$B$8,LOOKUP($B351,Daten!$A$118:$A$167,Daten!$P$118:$P$167),\"\") & \" \" & IF($A351<=Daten!$B$8,LOOKUP($B351,Daten!$A$118:$A$167,Daten!$Q$118:$Q$167),\"\")","v":"50,3 Inhalt1Einh[50,3]"},{"$f":"IF($A351<=Daten!$B$8,LOOKUP($B351,Daten!$A$169:$A$218,Daten!$C$169:$C$218),\"\")","v":"Lang[50,4]"},{"$f":"IF($A351<=Daten!$B$8,LOOKUP($B351,Daten!$A$169:$A$218,Daten!$P$169:$P$218),\"\") & \" \" & IF($A351<=Daten!$B$8,LOOKUP($B351,Daten!$A$169:$A$218,Daten!$Q$169:$Q$218),\"\")","v":"50,4 Inhalt1Einh[50,4]"},{"$f":"IF($A351<=Daten!$B$8,LOOKUP($B351,Daten!$A$220:$A$269,Daten!$C$220:$C$269),\"\")","v":"Lang[50,5]"},{"$f":"IF($A351<=Daten!$B$8,LOOKUP($B351,Daten!$A$220:$A$269,Daten!$P$220:$P$269),\"\") & \" \" & IF($A351<=Daten!$B$8,LOOKUP($B351,Daten!$A$220:$A$269,Daten!$Q$220:$Q$269),\"\")","v":"50,5 Inhalt1Einh[50,5]"},{"$f":"IF($A351<=Daten!$B$8,LOOKUP($B351,Daten!$A$271:$A$320,Daten!$C$271:$C$320),\"\")","v":"Lang[50,6]"},{"$f":"IF($A351<=Daten!$B$8,LOOKUP($B351,Daten!$A$271:$A$320,Daten!$P$271:$P$320),\"\") & \" \" & IF($A351<=Daten!$B$8,LOOKUP($B351,Daten!$A$271:$A$320,Daten!$Q$271:$Q$320),\"\")","v":"50,6 Inhalt1Einh[50,6]"},{"$f":"IF($A351<=Daten!$B$8,LOOKUP($B351,Daten!$A$322:$A$371,Daten!$B$322:$C$371),\"\")","v":{"$error":"#N/A"}},{"$f":"IF($A351<=Daten!$B$8,LOOKUP($B351,Daten!$A$322:$A$371,Daten!$P$322:$P$371),\"\") & \" \" & IF($A351<=Daten!$B$8,LOOKUP($B351,Daten!$A$322:$A$371,Daten!$Q$322:$Q$371),\"\")","v":"50,7 Inhalt1Einh[50,7]"}]
[null,null,null,{"$f":"IF($A351<=Daten!$B$8,LOOKUP($B351,Daten!$A$16:$A$65,Daten!$R$16:$R$65),\"\") & \" \" & IF($A351<=Daten!$B$8,LOOKUP($B351,Daten!$A$16:$A$65,Daten!$S$16:$S$65),\"\")","v":"50,1 Inhalt2Einh[50,1]"},null,{"$f":"IF($A351<=Daten!$B$8,LOOKUP($B351,Daten!$A$67:$A$116,Daten!$R$67:$R$116),\"\") & \" \" & IF($A351<=Daten!$B$8,LOOKUP($B351,Daten!$A$67:$A$116,Daten!$S$67:$S$116),\"\")","v":"50,2 Inhalt2Einh[50,2]"},null,{"$f":"IF($A351<=Daten!$B$8,LOOKUP($B351,Daten!$A$118:$A$167,Daten!$R$118:$R$167),\"\") & \" \" & IF($A351<=Daten!$B$8,LOOKUP($B351,Daten!$A$118:$A$167,Daten!$S$118:$S$167),\"\")","v":"50,3 Inhalt2Einh[50,3]"},null,{"$f":"IF($A351<=Daten!$B$8,LOOKUP($B351,Daten!$A$169:$A$218,Daten!$R$169:$R$218),\"\") & \" \" & IF($A351<=Daten!$B$8,LOOKUP($B351,Daten!$A$169:$A$218,Daten!$S$169:$S$218),\"\")","v":"50,4 Inhalt2Einh[50,4]"},null,{"$f":"IF($A351<=Daten!$B$8,LOOKUP($B351,Daten!$A$220:$A$269,Daten!$R$220:$R$269),\"\") & \" \" & IF($A351<=Daten!$B$8,LOOKUP($B351,Daten!$A$220:$A$269,Daten!$S$220:$S$269),\"\")","v":"50,5 Inhalt2Einh[50,5]"},null,{"$f":"IF($A351<=Daten!$B$8,LOOKUP($B351,Daten!$A$271:$A$320,Daten!$R$271:$R$320),\"\") & \" \" & IF($A351<=Daten!$B$8,LOOKUP($B351,Daten!$A$271:$A$320,Daten!$S$271:$S$320),\"\")","v":"50,6 Inhalt2Einh[50,6]"},null,{"$f":"IF($A351<=Daten!$B$8,LOOKUP($B351,Daten!$A$322:$A$371,Daten!$R$322:$R$371),\"\") & \" \" & IF($A351<=Daten!$B$8,LOOKUP($B351,Daten!$A$322:$A$371,Daten!$S$322:$S$371),\"\")","v":"50,7 Inhalt2Einh[50,7]"}]
[null,null,null,{"$f":"IF($A351<=Daten!$B$8,LOOKUP($B351,Daten!$A$16:$A$65,Daten!$T$16:$T$65),\"\") & \" \" & IF($A351<=Daten!$B$8,LOOKUP($B351,Daten!$A$16:$A$65,Daten!$U$16:$U$65),\"\")","v":"50,1 Inhalt3Einh[50,1]"},null,{"$f":"IF($A351<=Daten!$B$8,LOOKUP($B351,Daten!$A$67:$A$116,Daten!$T$67:$T$116),\"\") & \" \" & IF($A351<=Daten!$B$8,LOOKUP($B351,Daten!$A$67:$A$116,Daten!$U$67:$U$116),\"\")","v":"50,2 Inhalt3Einh[50,2]"},null,{"$f":"IF($A351<=Daten!$B$8,LOOKUP($B351,Daten!$A$118:$A$167,Daten!$T$118:$T$167),\"\") & \" \" & IF($A351<=Daten!$B$8,LOOKUP($B351,Daten!$A$118:$A$167,Daten!$U$118:$U$167),\"\")","v":"50,3 Inhalt3Einh[50,3]"},null,{"$f":"IF($A351<=Daten!$B$8,LOOKUP($B351,Daten!$A$169:$A$218,Daten!$T$169:$T$218),\"\") & \" \" & IF($A351<=Daten!$B$8,LOOKUP($B351,Daten!$A$169:$A$218,Daten!$U$169:$U$218),\"\")","v":"50,4 Inhalt3Einh[50,4]"},null,{"$f":"IF($A351<=Daten!$B$8,LOOKUP($B351,Daten!$A$220:$A$269,Daten!$T$220:$T$269),\"\") & \" \" & IF($A351<=Daten!$B$8,LOOKUP($B351,Daten!$A$220:$A$269,Daten!$U$220:$U$269),\"\")","v":"50,5 Inhalt3Einh[50,5]"},null,{"$f":"IF($A351<=Daten!$B$8,LOOKUP($B351,Daten!$A$271:$A$320,Daten!$T$271:$T$320),\"\") & \" \" & IF($A351<=Daten!$B$8,LOOKUP($B351,Daten!$A$271:$A$320,Daten!$U$271:$U$320),\"\")","v":"50,6 Inhalt3Einh[50,6]"},null,{"$f":"IF($A351<=Daten!$B$8,LOOKUP($B351,Daten!$A$322:$A$371,Daten!$T$322:$T$371),\"\") & \" \" & IF($A351<=Daten!$B$8,LOOKUP($B351,Daten!$A$322:$A$371,Daten!$U$322:$U$371),\"\")","v":"50,7 Inhalt3Einh[50,7]"}]
[null,null,null,{"$f":"IF($A351<=Daten!$B$8,LOOKUP($B351,Daten!$A$16:$A$65,Daten!$V$16:$V$65),\"\") & \" \" & IF($A351<=Daten!$B$8,LOOKUP($B351,Daten!$A$16:$A$65,Daten!$W$16:$W$65),\"\")","v":"50,1 Inhalt4Einh[50,1]"},null,{"$f":"IF($A351<=Daten!$B$8,LOOKUP($B351,Daten!$A$67:$A$116,Daten!$V$67:$V$116),\"\") & \" \" & IF($A351<=Daten!$B$8,LOOKUP($B351,Daten!$A$67:$A$116,Daten!$W$67:$W$116),\"\")","v":"50,2 Inhalt4Einh[50,2]"},null,{"$f":"IF($A351<=Daten!$B$8,LOOKUP($B351,Daten!$A$118:$A$167,Daten!$V$118:$V$167),\"\") & \" \" & IF($A351<=Daten!$B$8,LOOKUP($B351,Daten!$A$118:$A$167,Daten!$W$118:$W$167),\"\")","v":"50,3 Inhalt4Einh[50,3]"},null,{"$f":"IF($A351<=Daten!$B$8,LOOKUP($B351,Daten!$A$169:$A$218,Daten!$V$169:$V$218),\"\") & \" \" & IF($A351<=Daten!$B$8,LOOKUP($B351,Daten!$A$169:$A$218,Daten!$W$169:$W$218),\"\")","v":"50,4 Inhalt4Einh[50,4]"},null,{"$f":"IF($A351<=Daten!$B$8,LOOKUP($B351,Daten!$A$220:$A$269,Daten!$V$220:$V$269),\"\") & \" \" & IF($A351<=Daten!$B$8,LOOKUP($B351,Daten!$A$220:$A$269,Daten!$W$220:$W$269),\"\")","v":"50,5 Inhalt4Einh[50,5]"},null,{"$f":"IF($A351<=Daten!$B$8,LOOKUP($B351,Daten!$A$271:$A$320,Daten!$V$271:$V$320),\"\") & \" \" & IF($A351<=Daten!$B$8,LOOKUP($B351,Daten!$A$271:$A$320,Daten!$W$271:$W$320),\"\")","v":"50,6 Inhalt4Einh[50,6]"},null,{"$f":"IF($A351<=Daten!$B$8,LOOKUP($B351,Daten!$A$322:$A$371,Daten!$V$322:$V$371),\"\") & \" \" & IF($A351<=Daten!$B$8,LOOKUP($B351,Daten!$A$322:$A$371,Daten!$W$322:$W$371),\"\")","v":"50,7 Inhalt4Einh[50,7]"}]
[null,null,null,{"$f":"IF($A351<=Daten!$B$8,LOOKUP($B351,Daten!$A$16:$A$65,Daten!$X$16:$X$65),\"\") & \" \" & IF($A351<=Daten!$B$8,LOOKUP($B351,Daten!$A$16:$A$65,Daten!$Y$16:$Y$65),\"\")","v":"50,1 Inhalt5Einh[50,1]"},null,{"$f":"IF($A351<=Daten!$B$8,LOOKUP($B351,Daten!$A$67:$A$116,Daten!$X$67:$X$116),\"\") & \" \" & IF($A351<=Daten!$B$8,LOOKUP($B351,Daten!$A$67:$A$116,Daten!$Y$67:$Y$116),\"\")","v":"50,2 Inhalt5Einh[50,2]"},null,{"$f":"IF($A351<=Daten!$B$8,LOOKUP($B351,Daten!$A$118:$A$167,Daten!$X$118:$X$167),\"\") & \" \" & IF($A351<=Daten!$B$8,LOOKUP($B351,Daten!$A$118:$A$167,Daten!$Y$118:$Y$167),\"\")","v":"50,3 Inhalt5Einh[50,3]"},null,{"$f":"IF($A351<=Daten!$B$8,LOOKUP($B351,Daten!$A$169:$A$218,Daten!$X$169:$X$218),\"\") & \" \" & IF($A351<=Daten!$B$8,LOOKUP($B351,Daten!$A$169:$A$218,Daten!$Y$169:$Y$218),\"\")","v":"50,4 Inhalt5Einh[50,4]"},null,{"$f":"IF($A351<=Daten!$B$8,LOOKUP($B351,Daten!$A$220:$A$269,Daten!$X$220:$X$269),\"\") & \" \" & IF($A351<=Daten!$B$8,LOOKUP($B351,Daten!$A$220:$A$269,Daten!$Y$220:$Y$269),\"\")","v":"50,5 Inhalt5Einh[50,5]"},null,{"$f":"IF($A351<=Daten!$B$8,LOOKUP($B351,Daten!$A$271:$A$320,Daten!$X$271:$X$320),\"\") & \" \" & IF($A351<=Daten!$B$8,LOOKUP($B351,Daten!$A$271:$A$320,Daten!$Y$271:$Y$320),\"\")","v":"50,6 Inhalt5Einh[50,6]"},null,{"$f":"IF($A351<=Daten!$B$8,LOOKUP($B351,Daten!$A$322:$A$371,Daten!$X$322:$X$371),\"\") & \" \" & IF($A351<=Daten!$B$8,LOOKUP($B351,Daten!$A$322:$A$371,Daten!$Y$322:$Y$371),\"\")","v":"50,7 Inhalt5Einh[50,7]"}]
[null,null,null,{"$f":"IF($A351<=Daten!$B$8,LOOKUP($B351,Daten!$A$16:$A$65,Daten!$Z$16:$Z$65),\"\") & \" \" & IF($A351<=Daten!$B$8,LOOKUP($B351,Daten!$A$16:$A$65,Daten!$AA$16:$AA$65),\"\")","v":"50,1 Inhalt6Einh[50,1]"},null,{"$f":"IF($A351<=Daten!$B$8,LOOKUP($B351,Daten!$A$67:$A$116,Daten!$Z$67:$Z$116),\"\") & \" \" & IF($A351<=Daten!$B$8,LOOKUP($B351,Daten!$A$67:$A$116,Daten!$AA$67:$AA$116),\"\")","v":"50,2 Inhalt6Einh[50,2]"},null,{"$f":"IF($A351<=Daten!$B$8,LOOKUP($B351,Daten!$A$118:$A$167,Daten!$Z$118:$Z$167),\"\") & \" \" & IF($A351<=Daten!$B$8,LOOKUP($B351,Daten!$A$118:$A$167,Daten!$AA$118:$AA$167),\"\")","v":"50,3 Inhalt6Einh[50,3]"},null,{"$f":"IF($A351<=Daten!$B$8,LOOKUP($B351,Daten!$A$169:$A$218,Daten!$Z$169:$Z$218),\"\") & \" \" & IF($A351<=Daten!$B$8,LOOKUP($B351,Daten!$A$169:$A$218,Daten!$AA$169:$AA$218),\"\")","v":"50,4 Inhalt6Einh[50,4]"},null,{"$f":"IF($A351<=Daten!$B$8,LOOKUP($B351,Daten!$A$220:$A$269,Daten!$Z$220:$Z$269),\"\") & \" \" & IF($A351<=Daten!$B$8,LOOKUP($B351,Daten!$A$220:$A$269,Daten!$AA$220:$AA$269),\"\")","v":"50,5 Inhalt6Einh[50,5]"},null,{"$f":"IF($A351<=Daten!$B$8,LOOKUP($B351,Daten!$A$271:$A$320,Daten!$Z$271:$Z$320),\"\") & \" \" & IF($A351<=Daten!$B$8,LOOKUP($B351,Daten!$A$271:$A$320,Daten!$AA$271:$AA$320),\"\")","v":"50,6 Inhalt6Einh[50,6]"},null,{"$f":"IF($A351<=Daten!$B$8,LOOKUP($B351,Daten!$A$322:$A$371,Daten!$Z$322:$Z$371),\"\") & \" \" & IF($A351<=Daten!$B$8,LOOKUP($B351,Daten!$A$322:$A$371,Daten!$AA$322:$AA$371),\"\")","v":"50,7 Inhalt6Einh[50,7]"}]
[null,{"$f":"IF(A351<=Daten!$B$8,\"Zusatzstoffe\",\"\")","v":"Zusatzstoffe"},{"$f":"IF($A351<=Daten!$B$8,LOOKUP($B351,Daten!$A$16:$A$65,Daten!$L$16:$L$65),\"\")","v":50.1},{"$f":"IF($A351<=Daten!$B$8,LOOKUP($B351,Daten!$A$16:$A$65,Daten!$D$16:$D$65),\"\")","v":50.1},{"$f":"IF($A351<=Daten!$B$8,LOOKUP($B351,Daten!$A$67:$A$116,Daten!$L$67:$L$116),\"\")","v":50.2},{"$f":"IF($A351<=Daten!$B$8,LOOKUP($B351,Daten!$A$16:$A$65,Daten!$D$67:$D$116),\"\")","v":50.2},{"$f":"IF($A351<=Daten!$B$8,LOOKUP($B351,Daten!$A$118:$A$167,Daten!$L$118:$L$167),\"\")","v":50.3},{"$f":"IF($A351<=Daten!$B$8,LOOKUP($B351,Daten!$A$118:$A$167,Daten!$D$118:$D$167),\"\")","v":50.3},{"$f":"IF($A351<=Daten!$B$8,LOOKUP($B351,Daten!$A$169:$A$218,Daten!$L$169:$L$218),\"\")","v":50.4},{"$f":"IF($A351<=Daten!$B$8,LOOKUP($B351,Daten!$A$169:$A$218,Daten!$D$169:$D$218),\"\")","v":50.4},{"$f":"IF($A351<=Daten!$B$8,LOOKUP($B351,Daten!$A$220:$A$269,Daten!$L$220:$L$269),\"\")","v":50.5},{"$f":"IF($A351<=Daten!$B$8,LOOKUP($B351,Daten!$A$220:$A$269,Daten!$D$220:$D$269),\"\")","v":50.5},{"$f":"IF($A351<=Daten!$B$8,LOOKUP($B351,Daten!$A$271:$A$320,Daten!$L$271:$L$320),\"\")","v":50.6},{"$f":"IF($A351<=Daten!$B$8,LOOKUP($B351,Daten!$A$271:$A$320,Daten!$D$271:$D$320),\"\")","v":50.6},{"$f":"IF($A351<=Daten!$B$8,LOOKUP($B351,Daten!$A$322:$A$371,Daten!$L$322:$L$371),\"\")","v":50.7},{"$f":"IF($A351<=Daten!$B$8,LOOKUP($B351,Daten!$A$322:$A$371,Daten!$D$322:$D$371),\"\")","v":50.7}]
[]
[null,"Legende der Inhaltsstoffe",{"$f":"IF(ISBLANK(Daten!B$7),\"\",Daten!B$7)","v":"Inhalt1Name"},{"$f":"IF(ISBLANK(Daten!K$16),\"\",Daten!K$16)","v":1},null,"Legende der Zusatzstoffe und Allergene"]
[null,null,{"$f":"IF(ISBLANK(Daten!C$7),\"\",Daten!C$7)","v":"Inhalt2Name"},{"$f":"IF(ISBLANK(Daten!P$16),\"\",Daten!P$16)","v":1.1000000000000001},null,{"$f":"Daten!B5","v":"Legende der Zusatzstoffe (Textfeld)"}]
[null,null,{"$f":"IF(ISBLANK(Daten!D$7),\"\",Daten!D$7)","v":"Inhalt3Name"},{"$f":"IF(ISBLANK(Daten!R$16),\"\",Daten!R$16)","v":1.1000000000000001},null,null,null,null,null,null,null,null,null,null,null,"erstellt durch"]
[null,null,{"$f":"IF(ISBLANK(Daten!E$7),\"\",Daten!E$7)","v":"Inhalt4Name"},{"$f":"IF(ISBLANK(Daten!T$16),\"\",Daten!T$16)","v":1.1000000000000001}]
[null,null,{"$f":"IF(ISBLANK(Daten!F$7),\"\",Daten!F$7)","v":"Inhalt5Name"},{"$f":"IF(ISBLANK(Daten!V$16),\"\",Daten!V$16)","v":1.1000000000000001}]
[null,null,{"$f":"IF(ISBLANK(Daten!G$7),\"\",Daten!G$7)","v":"Inhalt6Name"},{"$f":"IF(ISBLANK(Daten!X$16),\"\",Daten!X$16)","v":1.1000000000000001}]

{"sheet":"Komponenten","index":3,"n_rows":100,"n_cols":52,"rows_kept":100,"cut":false,"hidden":false,"merged":[]}
["Nährwertangaben der Komponenten"]
[{"$f":"IF(ISBLANK(DatenKomponenten!A2),\"\",DatenKomponenten!A2)","v":""},{"$f":"IF(ISBLANK(DatenKomponenten!B2),\"\",DatenKomponenten!B2)","v":""},{"$f":"IF(ISBLANK(DatenKomponenten!C2),\"\",DatenKomponenten!C2)","v":""},{"$f":"IF(ISBLANK(DatenKomponenten!D2),\"\",DatenKomponenten!D2)","v":""},{"$f":"IF(ISBLANK(DatenKomponenten!E2),\"\",DatenKomponenten!E2)","v":""},{"$f":"IF(ISBLANK(DatenKomponenten!F2),\"\",DatenKomponenten!F2)","v":""},{"$f":"IF(ISBLANK(DatenKomponenten!G2),\"\",DatenKomponenten!G2)","v":""},{"$f":"IF(ISBLANK(DatenKomponenten!H2),\"\",DatenKomponenten!H2)","v":""},{"$f":"IF(ISBLANK(DatenKomponenten!I2),\"\",DatenKomponenten!I2)","v":""},{"$f":"IF(ISBLANK(DatenKomponenten!J2),\"\",DatenKomponenten!J2)","v":""},{"$f":"IF(ISBLANK(DatenKomponenten!K2),\"\",DatenKomponenten!K2)","v":""},{"$f":"IF(ISBLANK(DatenKomponenten!L2),\"\",DatenKomponenten!L2)","v":""},{"$f":"IF(ISBLANK(DatenKomponenten!M2),\"\",DatenKomponenten!M2)","v":""},{"$f":"IF(ISBLANK(DatenKomponenten!N2),\"\",DatenKomponenten!N2)","v":""},{"$f":"IF(ISBLANK(DatenKomponenten!O2),\"\",DatenKomponenten!O2)","v":""},{"$f":"IF(ISBLANK(DatenKomponenten!P2),\"\",DatenKomponenten!P2)","v":""},{"$f":"IF(ISBLANK(DatenKomponenten!Q2),\"\",DatenKomponenten!Q2)","v":""},{"$f":"IF(ISBLANK(DatenKomponenten!R2),\"\",DatenKomponenten!R2)","v":""},{"$f":"IF(ISBLANK(DatenKomponenten!S2),\"\",DatenKomponenten!S2)","v":""},{"$f":"IF(ISBLANK(DatenKomponenten!T2),\"\",DatenKomponenten!T2)","v":""},{"$f":"IF(ISBLANK(DatenKomponenten!U2),\"\",DatenKomponenten!U2)","v":""},{"$f":"IF(ISBLANK(DatenKomponenten!V2),\"\",DatenKomponenten!V2)","v":""},{"$f":"IF(ISBLANK(DatenKomponenten!W2),\"\",DatenKomponenten!W2)","v":""},{"$f":"IF(ISBLANK(DatenKomponenten!X2),\"\",DatenKomponenten!X2)","v":""},{"$f":"IF(ISBLANK(DatenKomponenten!Y2),\"\",DatenKomponenten!Y2)","v":""},{"$f":"IF(ISBLANK(DatenKomponenten!Z2),\"\",DatenKomponenten!Z2)","v":""},{"$f":"IF(ISBLANK(DatenKomponenten!AA2),\"\",DatenKomponenten!AA2)","v":""},{"$f":"IF(ISBLANK(DatenKomponenten!AB2),\"\",DatenKomponenten!AB2)","v":""},{"$f":"IF(ISBLANK(DatenKomponenten!AC2),\"\",DatenKomponenten!AC2)","v":""},{"$f":"IF(ISBLANK(DatenKomponenten!AD2),\"\",DatenKomponenten!AD2)","v":""},{"$f":"IF(ISBLANK(DatenKomponenten!AE2),\"\",DatenKomponenten!AE2)","v":""},{"$f":"IF(ISBLANK(DatenKomponenten!AF2),\"\",DatenKomponenten!AF2)","v":""},{"$f":"IF(ISBLANK(DatenKomponenten!AG2),\"\",DatenKomponenten!AG2)","v":""},{"$f":"IF(ISBLANK(DatenKomponenten!AH2),\"\",DatenKomponenten!AH2)","v":""},{"$f":"IF(ISBLANK(DatenKomponenten!AI2),\"\",DatenKomponenten!AI2)","v":""},{"$f":"IF(ISBLANK(DatenKomponenten!AJ2),\"\",DatenKomponenten!AJ2)","v":""},{"$f":"IF(ISBLANK(DatenKomponenten!AK2),\"\",DatenKomponenten!AK2)","v":""},{"$f":"IF(ISBLANK(DatenKomponenten!AL2),\"\",DatenKomponenten!AL2)","v":""},{"$f":"IF(ISBLANK(DatenKomponenten!AM2),\"\",DatenKomponenten!AM2)","v":""},{"$f":"IF(ISBLANK(DatenKomponenten!AN2),\"\",DatenKomponenten!AN2)","v":""},{"$f":"IF(ISBLANK(DatenKomponenten!AO2),\"\",DatenKomponenten!AO2)","v":""},{"$f":"IF(ISBLANK(DatenKomponenten!AP2),\"\",DatenKomponenten!AP2)","v":""},{"$f":"IF(ISBLANK(DatenKomponenten!AQ2),\"\",DatenKomponenten!AQ2)","v":""},{"$f":"IF(ISBLANK(DatenKomponenten!AR2),\"\",DatenKomponenten!AR2)","v":""},{"$f":"IF(ISBLANK(DatenKomponenten!AS2),\"\",DatenKomponenten!AS2)","v":""},{"$f":"IF(ISBLANK(DatenKomponenten!AT2),\"\",DatenKomponenten!AT2)","v":""},{"$f":"IF(ISBLANK(DatenKomponenten!AU2),\"\",DatenKomponenten!AU2)","v":""},{"$f":"IF(ISBLANK(DatenKomponenten!AV2),\"\",DatenKomponenten!AV2)","v":""},{"$f":"IF(ISBLANK(DatenKomponenten!AW2),\"\",DatenKomponenten!AW2)","v":""},{"$f":"IF(ISBLANK(DatenKomponenten!AX2),\"\",DatenKomponenten!AX2)","v":""},{"$f":"IF(ISBLANK(DatenKomponenten!AY2),\"\",DatenKomponenten!AY2)","v":""},{"$f":"IF(ISBLANK(DatenKomponenten!AZ2),\"\",DatenKomponenten!AZ2)","v":""}]
[{"$f":"IF(ISBLANK(DatenKomponenten!A3),\"\",DatenKomponenten!A3)","v":""},{"$f":"IF(ISBLANK(DatenKomponenten!B3),\"\",DatenKomponenten!B3)","v":""},{"$f":"IF(ISBLANK(DatenKomponenten!C3),\"\",DatenKomponenten!C3)","v":""},{"$f":"IF(ISBLANK(DatenKomponenten!D3),\"\",DatenKomponenten!D3)","v":""},{"$f":"IF(ISBLANK(DatenKomponenten!E3),\"\",DatenKomponenten!E3)","v":""},{"$f":"IF(ISBLANK(DatenKomponenten!F3),\"\",DatenKomponenten!F3)","v":""},{"$f":"IF(ISBLANK(DatenKomponenten!G3),\"\",DatenKomponenten!G3)","v":""},{"$f":"IF(ISBLANK(DatenKomponenten!H3),\"\",DatenKomponenten!H3)","v":""},{"$f":"IF(ISBLANK(DatenKomponenten!I3),\"\",DatenKomponenten!I3)","v":""},{"$f":"IF(ISBLANK(DatenKomponenten!J3),\"\",DatenKomponenten!J3)","v":""},{"$f":"IF(ISBLANK(DatenKomponenten!K3),\"\",DatenKomponenten!K3)","v":""},{"$f":"IF(ISBLANK(DatenKomponenten!L3),\"\",DatenKomponenten!L3)","v":""},{"$f":"IF(ISBLANK(DatenKomponenten!M3),\"\",DatenKomponenten!M3)","v":""},{"$f":"IF(ISBLANK(DatenKomponenten!N3),\"\",DatenKomponenten!N3)","v":""},{"$f":"IF(ISBLANK(DatenKomponenten!O3),\"\",DatenKomponenten!O3)","v":""},{"$f":"IF(ISBLANK(DatenKomponenten!P3),\"\",DatenKomponenten!P3)","v":""},{"$f":"IF(ISBLANK(DatenKomponenten!Q3),\"\",DatenKomponenten!Q3)","v":""},{"$f":"IF(ISBLANK(DatenKomponenten!R3),\"\",DatenKomponenten!R3)","v":""},{"$f":"IF(ISBLANK(DatenKomponenten!S3),\"\",DatenKomponenten!S3)","v":""},{"$f":"IF(ISBLANK(DatenKomponenten!T3),\"\",DatenKomponenten!T3)","v":""},{"$f":"IF(ISBLANK(DatenKomponenten!U3),\"\",DatenKomponenten!U3)","v":""},{"$f":"IF(ISBLANK(DatenKomponenten!V3),\"\",DatenKomponenten!V3)","v":""},{"$f":"IF(ISBLANK(DatenKomponenten!W3),\"\",DatenKomponenten!W3)","v":""},{"$f":"IF(ISBLANK(DatenKomponenten!X3),\"\",DatenKomponenten!X3)","v":""},{"$f":"IF(ISBLANK(DatenKomponenten!Y3),\"\",DatenKomponenten!Y3)","v":""},{"$f":"IF(ISBLANK(DatenKomponenten!Z3),\"\",DatenKomponenten!Z3)","v":""},{"$f":"IF(ISBLANK(DatenKomponenten!AA3),\"\",DatenKomponenten!AA3)","v":""},{"$f":"IF(ISBLANK(DatenKomponenten!AB3),\"\",DatenKomponenten!AB3)","v":""},{"$f":"IF(ISBLANK(DatenKomponenten!AC3),\"\",DatenKomponenten!AC3)","v":""},{"$f":"IF(ISBLANK(DatenKomponenten!AD3),\"\",DatenKomponenten!AD3)","v":""},{"$f":"IF(ISBLANK(DatenKomponenten!AE3),\"\",DatenKomponenten!AE3)","v":""},{"$f":"IF(ISBLANK(DatenKomponenten!AF3),\"\",DatenKomponenten!AF3)","v":""},{"$f":"IF(ISBLANK(DatenKomponenten!AG3),\"\",DatenKomponenten!AG3)","v":""},{"$f":"IF(ISBLANK(DatenKomponenten!AH3),\"\",DatenKomponenten!AH3)","v":""},{"$f":"IF(ISBLANK(DatenKomponenten!AI3),\"\",DatenKomponenten!AI3)","v":""},{"$f":"IF(ISBLANK(DatenKomponenten!AJ3),\"\",DatenKomponenten!AJ3)","v":""},{"$f":"IF(ISBLANK(DatenKomponenten!AK3),\"\",DatenKomponenten!AK3)","v":""},{"$f":"IF(ISBLANK(DatenKomponenten!AL3),\"\",DatenKomponenten!AL3)","v":""},{"$f":"IF(ISBLANK(DatenKomponenten!AM3),\"\",DatenKomponenten!AM3)","v":""},{"$f":"IF(ISBLANK(DatenKomponenten!AN3),\"\",DatenKomponenten!AN3)","v":""},{"$f":"IF(ISBLANK(DatenKomponenten!AO3),\"\",DatenKomponenten!AO3)","v":""},{"$f":"IF(ISBLANK(DatenKomponenten!AP3),\"\",DatenKomponenten!AP3)","v":""},{"$f":"IF(ISBLANK(DatenKomponenten!AQ3),\"\",DatenKomponenten!AQ3)","v":""},{"$f":"IF(ISBLANK(DatenKomponenten!AR3),\"\",DatenKomponenten!AR3)","v":""},{"$f":"IF(ISBLANK(DatenKomponenten!AS3),\"\",DatenKomponenten!AS3)","v":""},{"$f":"IF(ISBLANK(DatenKomponenten!AT3),\"\",DatenKomponenten!AT3)","v":""},{"$f":"IF(ISBLANK(DatenKomponenten!AU3),\"\",DatenKomponenten!AU3)","v":""},{"$f":"IF(ISBLANK(DatenKomponenten!AV3),\"\",DatenKomponenten!AV3)","v":""},{"$f":"IF(ISBLANK(DatenKomponenten!AW3),\"\",DatenKomponenten!AW3)","v":""},{"$f":"IF(ISBLANK(DatenKomponenten!AX3),\"\",DatenKomponenten!AX3)","v":""},{"$f":"IF(ISBLANK(DatenKomponenten!AY3),\"\",DatenKomponenten!AY3)","v":""},{"$f":"IF(ISBLANK(DatenKomponenten!AZ3),\"\",DatenKomponenten!AZ3)","v":""}]
[{"$f":"IF(ISBLANK(DatenKomponenten!A4),\"\",DatenKomponenten!A4)","v":""},{"$f":"IF(ISBLANK(DatenKomponenten!B4),\"\",DatenKomponenten!B4)","v":""},{"$f":"IF(ISBLANK(DatenKomponenten!C4),\"\",DatenKomponenten!C4)","v":""},{"$f":"IF(ISBLANK(DatenKomponenten!D4),\"\",DatenKomponenten!D4)","v":""},{"$f":"IF(ISBLANK(DatenKomponenten!E4),\"\",DatenKomponenten!E4)","v":""},{"$f":"IF(ISBLANK(DatenKomponenten!F4),\"\",DatenKomponenten!F4)","v":""},{"$f":"IF(ISBLANK(DatenKomponenten!G4),\"\",DatenKomponenten!G4)","v":""},{"$f":"IF(ISBLANK(DatenKomponenten!H4),\"\",DatenKomponenten!H4)","v":""},{"$f":"IF(ISBLANK(DatenKomponenten!I4),\"\",DatenKomponenten!I4)","v":""},{"$f":"IF(ISBLANK(DatenKomponenten!J4),\"\",DatenKomponenten!J4)","v":""},{"$f":"IF(ISBLANK(DatenKomponenten!K4),\"\",DatenKomponenten!K4)","v":""},{"$f":"IF(ISBLANK(DatenKomponenten!L4),\"\",DatenKomponenten!L4)","v":""},{"$f":"IF(ISBLANK(DatenKomponenten!M4),\"\",DatenKomponenten!M4)","v":""},{"$f":"IF(ISBLANK(DatenKomponenten!N4),\"\",DatenKomponenten!N4)","v":""},{"$f":"IF(ISBLANK(DatenKomponenten!O4),\"\",DatenKomponenten!O4)","v":""},{"$f":"IF(ISBLANK(DatenKomponenten!P4),\"\",DatenKomponenten!P4)","v":""},{"$f":"IF(ISBLANK(DatenKomponenten!Q4),\"\",DatenKomponenten!Q4)","v":""},{"$f":"IF(ISBLANK(DatenKomponenten!R4),\"\",DatenKomponenten!R4)","v":""},{"$f":"IF(ISBLANK(DatenKomponenten!S4),\"\",DatenKomponenten!S4)","v":""},{"$f":"IF(ISBLANK(DatenKomponenten!T4),\"\",DatenKomponenten!T4)","v":""},{"$f":"IF(ISBLANK(DatenKomponenten!U4),\"\",DatenKomponenten!U4)","v":""},{"$f":"IF(ISBLANK(DatenKomponenten!V4),\"\",DatenKomponenten!V4)","v":""},{"$f":"IF(ISBLANK(DatenKomponenten!W4),\"\",DatenKomponenten!W4)","v":""},{"$f":"IF(ISBLANK(DatenKomponenten!X4),\"\",DatenKomponenten!X4)","v":""},{"$f":"IF(ISBLANK(DatenKomponenten!Y4),\"\",DatenKomponenten!Y4)","v":""},{"$f":"IF(ISBLANK(DatenKomponenten!Z4),\"\",DatenKomponenten!Z4)","v":""},{"$f":"IF(ISBLANK(DatenKomponenten!AA4),\"\",DatenKomponenten!AA4)","v":""},{"$f":"IF(ISBLANK(DatenKomponenten!AB4),\"\",DatenKomponenten!AB4)","v":""},{"$f":"IF(ISBLANK(DatenKomponenten!AC4),\"\",DatenKomponenten!AC4)","v":""},{"$f":"IF(ISBLANK(DatenKomponenten!AD4),\"\",DatenKomponenten!AD4)","v":""},{"$f":"IF(ISBLANK(DatenKomponenten!AE4),\"\",DatenKomponenten!AE4)","v":""},{"$f":"IF(ISBLANK(DatenKomponenten!AF4),\"\",DatenKomponenten!AF4)","v":""},{"$f":"IF(ISBLANK(DatenKomponenten!AG4),\"\",DatenKomponenten!AG4)","v":""},{"$f":"IF(ISBLANK(DatenKomponenten!AH4),\"\",DatenKomponenten!AH4)","v":""},{"$f":"IF(ISBLANK(DatenKomponenten!AI4),\"\",DatenKomponenten!AI4)","v":""},{"$f":"IF(ISBLANK(DatenKomponenten!AJ4),\"\",DatenKomponenten!AJ4)","v":""},{"$f":"IF(ISBLANK(DatenKomponenten!AK4),\"\",DatenKomponenten!AK4)","v":""},{"$f":"IF(ISBLANK(DatenKomponenten!AL4),\"\",DatenKomponenten!AL4)","v":""},{"$f":"IF(ISBLANK(DatenKomponenten!AM4),\"\",DatenKomponenten!AM4)","v":""},{"$f":"IF(ISBLANK(DatenKomponenten!AN4),\"\",DatenKomponenten!AN4)","v":""},{"$f":"IF(ISBLANK(DatenKomponenten!AO4),\"\",DatenKomponenten!AO4)","v":""},{"$f":"IF(ISBLANK(DatenKomponenten!AP4),\"\",DatenKomponenten!AP4)","v":""},{"$f":"IF(ISBLANK(DatenKomponenten!AQ4),\"\",DatenKomponenten!AQ4)","v":""},{"$f":"IF(ISBLANK(DatenKomponenten!AR4),\"\",DatenKomponenten!AR4)","v":""},{"$f":"IF(ISBLANK(DatenKomponenten!AS4),\"\",DatenKomponenten!AS4)","v":""},{"$f":"IF(ISBLANK(DatenKomponenten!AT4),\"\",DatenKomponenten!AT4)","v":""},{"$f":"IF(ISBLANK(DatenKomponenten!AU4),\"\",DatenKomponenten!AU4)","v":""},{"$f":"IF(ISBLANK(DatenKomponenten!AV4),\"\",DatenKomponenten!AV4)","v":""},{"$f":"IF(ISBLANK(DatenKomponenten!AW4),\"\",DatenKomponenten!AW4)","v":""},{"$f":"IF(ISBLANK(DatenKomponenten!AX4),\"\",DatenKomponenten!AX4)","v":""},{"$f":"IF(ISBLANK(DatenKomponenten!AY4),\"\",DatenKomponenten!AY4)","v":""},{"$f":"IF(ISBLANK(DatenKomponenten!AZ4),\"\",DatenKomponenten!AZ4)","v":""}]
[{"$f":"IF(ISBLANK(DatenKomponenten!A5),\"\",DatenKomponenten!A5)","v":""},{"$f":"IF(ISBLANK(DatenKomponenten!B5),\"\",DatenKomponenten!B5)","v":""},{"$f":"IF(ISBLANK(DatenKomponenten!C5),\"\",DatenKomponenten!C5)","v":""},{"$f":"IF(ISBLANK(DatenKomponenten!D5),\"\",DatenKomponenten!D5)","v":""},{"$f":"IF(ISBLANK(DatenKomponenten!E5),\"\",DatenKomponenten!E5)","v":""},{"$f":"IF(ISBLANK(DatenKomponenten!F5),\"\",DatenKomponenten!F5)","v":""},{"$f":"IF(ISBLANK(DatenKomponenten!G5),\"\",DatenKomponenten!G5)","v":""},{"$f":"IF(ISBLANK(DatenKomponenten!H5),\"\",DatenKomponenten!H5)","v":""},{"$f":"IF(ISBLANK(DatenKomponenten!I5),\"\",DatenKomponenten!I5)","v":""},{"$f":"IF(ISBLANK(DatenKomponenten!J5),\"\",DatenKomponenten!J5)","v":""},{"$f":"IF(ISBLANK(DatenKomponenten!K5),\"\",DatenKomponenten!K5)","v":""},{"$f":"IF(ISBLANK(DatenKomponenten!L5),\"\",DatenKomponenten!L5)","v":""},{"$f":"IF(ISBLANK(DatenKomponenten!M5),\"\",DatenKomponenten!M5)","v":""},{"$f":"IF(ISBLANK(DatenKomponenten!N5),\"\",DatenKomponenten!N5)","v":""},{"$f":"IF(ISBLANK(DatenKomponenten!O5),\"\",DatenKomponenten!O5)","v":""},{"$f":"IF(ISBLANK(DatenKomponenten!P5),\"\",DatenKomponenten!P5)","v":""},{"$f":"IF(ISBLANK(DatenKomponenten!Q5),\"\",DatenKomponenten!Q5)","v":""},{"$f":"IF(ISBLANK(DatenKomponenten!R5),\"\",DatenKomponenten!R5)","v":""},{"$f":"IF(ISBLANK(DatenKomponenten!S5),\"\",DatenKomponenten!S5)","v":""},{"$f":"IF(ISBLANK(DatenKomponenten!T5),\"\",DatenKomponenten!T5)","v":""},{"$f":"IF(ISBLANK(DatenKomponenten!U5),\"\",DatenKomponenten!U5)","v":""},{"$f":"IF(ISBLANK(DatenKomponenten!V5),\"\",DatenKomponenten!V5)","v":""},{"$f":"IF(ISBLANK(DatenKomponenten!W5),\"\",DatenKomponenten!W5)","v":""},{"$f":"IF(ISBLANK(DatenKomponenten!X5),\"\",DatenKomponenten!X5)","v":""},{"$f":"IF(ISBLANK(DatenKomponenten!Y5),\"\",DatenKomponenten!Y5)","v":""},{"$f":"IF(ISBLANK(DatenKomponenten!Z5),\"\",DatenKomponenten!Z5)","v":""},{"$f":"IF(ISBLANK(DatenKomponenten!AA5),\"\",DatenKomponenten!AA5)","v":""},{"$f":"IF(ISBLANK(DatenKomponenten!AB5),\"\",DatenKomponenten!AB5)","v":""},{"$f":"IF(ISBLANK(DatenKomponenten!AC5),\"\",DatenKomponenten!AC5)","v":""},{"$f":"IF(ISBLANK(DatenKomponenten!AD5),\"\",DatenKomponenten!AD5)","v":""},{"$f":"IF(ISBLANK(DatenKomponenten!AE5),\"\",DatenKomponenten!AE5)","v":""},{"$f":"IF(ISBLANK(DatenKomponenten!AF5),\"\",DatenKomponenten!AF5)","v":""},{"$f":"IF(ISBLANK(DatenKomponenten!AG5),\"\",DatenKomponenten!AG5)","v":""},{"$f":"IF(ISBLANK(DatenKomponenten!AH5),\"\",DatenKomponenten!AH5)","v":""},{"$f":"IF(ISBLANK(DatenKomponenten!AI5),\"\",DatenKomponenten!AI5)","v":""},{"$f":"IF(ISBLANK(DatenKomponenten!AJ5),\"\",DatenKomponenten!AJ5)","v":""},{"$f":"IF(ISBLANK(DatenKomponenten!AK5),\"\",DatenKomponenten!AK5)","v":""},{"$f":"IF(ISBLANK(DatenKomponenten!AL5),\"\",DatenKomponenten!AL5)","v":""},{"$f":"IF(ISBLANK(DatenKomponenten!AM5),\"\",DatenKomponenten!AM5)","v":""},{"$f":"IF(ISBLANK(DatenKomponenten!AN5),\"\",DatenKomponenten!AN5)","v":""},{"$f":"IF(ISBLANK(DatenKomponenten!AO5),\"\",DatenKomponenten!AO5)","v":""},{"$f":"IF(ISBLANK(DatenKomponenten!AP5),\"\",DatenKomponenten!AP5)","v":""},{"$f":"IF(ISBLANK(DatenKomponenten!AQ5),\"\",DatenKomponenten!AQ5)","v":""},{"$f":"IF(ISBLANK(DatenKomponenten!AR5),\"\",DatenKomponenten!AR5)","v":""},{"$f":"IF(ISBLANK(DatenKomponenten!AS5),\"\",DatenKomponenten!AS5)","v":""},{"$f":"IF(ISBLANK(DatenKomponenten!AT5),\"\",DatenKomponenten!AT5)","v":""},{"$f":"IF(ISBLANK(DatenKomponenten!AU5),\"\",DatenKomponenten!AU5)","v":""},{"$f":"IF(ISBLANK(DatenKomponenten!AV5),\"\",DatenKomponenten!AV5)","v":""},{"$f":"IF(ISBLANK(DatenKomponenten!AW5),\"\",DatenKomponenten!AW5)","v":""},{"$f":"IF(ISBLANK(DatenKomponenten!AX5),\"\",DatenKomponenten!AX5)","v":""},{"$f":"IF(ISBLANK(DatenKomponenten!AY5),\"\",DatenKomponenten!AY5)","v":""},{"$f":"IF(ISBLANK(DatenKomponenten!AZ5),\"\",DatenKomponenten!AZ5)","v":""}]
[{"$f":"IF(ISBLANK(DatenKomponenten!A6),\"\",DatenKomponenten!A6)","v":""},{"$f":"IF(ISBLANK(DatenKomponenten!B6),\"\",DatenKomponenten!B6)","v":""},{"$f":"IF(ISBLANK(DatenKomponenten!C6),\"\",DatenKomponenten!C6)","v":""},{"$f":"IF(ISBLANK(DatenKomponenten!D6),\"\",DatenKomponenten!D6)","v":""},{"$f":"IF(ISBLANK(DatenKomponenten!E6),\"\",DatenKomponenten!E6)","v":""},{"$f":"IF(ISBLANK(DatenKomponenten!F6),\"\",DatenKomponenten!F6)","v":""},{"$f":"IF(ISBLANK(DatenKomponenten!G6),\"\",DatenKomponenten!G6)","v":""},{"$f":"IF(ISBLANK(DatenKomponenten!H6),\"\",DatenKomponenten!H6)","v":""},{"$f":"IF(ISBLANK(DatenKomponenten!I6),\"\",DatenKomponenten!I6)","v":""},{"$f":"IF(ISBLANK(DatenKomponenten!J6),\"\",DatenKomponenten!J6)","v":""},{"$f":"IF(ISBLANK(DatenKomponenten!K6),\"\",DatenKomponenten!K6)","v":""},{"$f":"IF(ISBLANK(DatenKomponenten!L6),\"\",DatenKomponenten!L6)","v":""},{"$f":"IF(ISBLANK(DatenKomponenten!M6),\"\",DatenKomponenten!M6)","v":""},{"$f":"IF(ISBLANK(DatenKomponenten!N6),\"\",DatenKomponenten!N6)","v":""},{"$f":"IF(ISBLANK(DatenKomponenten!O6),\"\",DatenKomponenten!O6)","v":""},{"$f":"IF(ISBLANK(DatenKomponenten!P6),\"\",DatenKomponenten!P6)","v":""},{"$f":"IF(ISBLANK(DatenKomponenten!Q6),\"\",DatenKomponenten!Q6)","v":""},{"$f":"IF(ISBLANK(DatenKomponenten!R6),\"\",DatenKomponenten!R6)","v":""},{"$f":"IF(ISBLANK(DatenKomponenten!S6),\"\",DatenKomponenten!S6)","v":""},{"$f":"IF(ISBLANK(DatenKomponenten!T6),\"\",DatenKomponenten!T6)","v":""},{"$f":"IF(ISBLANK(DatenKomponenten!U6),\"\",DatenKomponenten!U6)","v":""},{"$f":"IF(ISBLANK(DatenKomponenten!V6),\"\",DatenKomponenten!V6)","v":""},{"$f":"IF(ISBLANK(DatenKomponenten!W6),\"\",DatenKomponenten!W6)","v":""},{"$f":"IF(ISBLANK(DatenKomponenten!X6),\"\",DatenKomponenten!X6)","v":""},{"$f":"IF(ISBLANK(DatenKomponenten!Y6),\"\",DatenKomponenten!Y6)","v":""},{"$f":"IF(ISBLANK(DatenKomponenten!Z6),\"\",DatenKomponenten!Z6)","v":""},{"$f":"IF(ISBLANK(DatenKomponenten!AA6),\"\",DatenKomponenten!AA6)","v":""},{"$f":"IF(ISBLANK(DatenKomponenten!AB6),\"\",DatenKomponenten!AB6)","v":""},{"$f":"IF(ISBLANK(DatenKomponenten!AC6),\"\",DatenKomponenten!AC6)","v":""},{"$f":"IF(ISBLANK(DatenKomponenten!AD6),\"\",DatenKomponenten!AD6)","v":""},{"$f":"IF(ISBLANK(DatenKomponenten!AE6),\"\",DatenKomponenten!AE6)","v":""},{"$f":"IF(ISBLANK(DatenKomponenten!AF6),\"\",DatenKomponenten!AF6)","v":""},{"$f":"IF(ISBLANK(DatenKomponenten!AG6),\"\",DatenKomponenten!AG6)","v":""},{"$f":"IF(ISBLANK(DatenKomponenten!AH6),\"\",DatenKomponenten!AH6)","v":""},{"$f":"IF(ISBLANK(DatenKomponenten!AI6),\"\",DatenKomponenten!AI6)","v":""},{"$f":"IF(ISBLANK(DatenKomponenten!AJ6),\"\",DatenKomponenten!AJ6)","v":""},{"$f":"IF(ISBLANK(DatenKomponenten!AK6),\"\",DatenKomponenten!AK6)","v":""},{"$f":"IF(ISBLANK(DatenKomponenten!AL6),\"\",DatenKomponenten!AL6)","v":""},{"$f":"IF(ISBLANK(DatenKomponenten!AM6),\"\",DatenKomponenten!AM6)","v":""},{"$f":"IF(ISBLANK(DatenKomponenten!AN6),\"\",DatenKomponenten!AN6)","v":""},{"$f":"IF(ISBLANK(DatenKomponenten!AO6),\"\",DatenKomponenten!AO6)","v":""},{"$f":"IF(ISBLANK(DatenKomponenten!AP6),\"\",DatenKomponenten!AP6)","v":""},{"$f":"IF(ISBLANK(DatenKomponenten!AQ6),\"\",DatenKomponenten!AQ6)","v":""},{"$f":"IF(ISBLANK(DatenKomponenten!AR6),\"\",DatenKomponenten!AR6)","v":""},{"$f":"IF(ISBLANK(DatenKomponenten!AS6),\"\",DatenKomponenten!AS6)","v":""},{"$f":"IF(ISBLANK(DatenKomponenten!AT6),\"\",DatenKomponenten!AT6)","v":""},{"$f":"IF(ISBLANK(DatenKomponenten!AU6),\"\",DatenKomponenten!AU6)","v":""},{"$f":"IF(ISBLANK(DatenKomponenten!AV6),\"\",DatenKomponenten!AV6)","v":""},{"$f":"IF(ISBLANK(DatenKomponenten!AW6),\"\",DatenKomponenten!AW6)","v":""},{"$f":"IF(ISBLANK(DatenKomponenten!AX6),\"\",DatenKomponenten!AX6)","v":""},{"$f":"IF(ISBLANK(DatenKomponenten!AY6),\"\",DatenKomponenten!AY6)","v":""},{"$f":"IF(ISBLANK(DatenKomponenten!AZ6),\"\",DatenKomponenten!AZ6)","v":""}]
[{"$f":"IF(ISBLANK(DatenKomponenten!A7),\"\",DatenKomponenten!A7)","v":""},{"$f":"IF(ISBLANK(DatenKomponenten!B7),\"\",DatenKomponenten!B7)","v":""},{"$f":"IF(ISBLANK(DatenKomponenten!C7),\"\",DatenKomponenten!C7)","v":""},{"$f":"IF(ISBLANK(DatenKomponenten!D7),\"\",DatenKomponenten!D7)","v":""},{"$f":"IF(ISBLANK(DatenKomponenten!E7),\"\",DatenKomponenten!E7)","v":""},{"$f":"IF(ISBLANK(DatenKomponenten!F7),\"\",DatenKomponenten!F7)","v":""},{"$f":"IF(ISBLANK(DatenKomponenten!G7),\"\",DatenKomponenten!G7)","v":""},{"$f":"IF(ISBLANK(DatenKomponenten!H7),\"\",DatenKomponenten!H7)","v":""},{"$f":"IF(ISBLANK(DatenKomponenten!I7),\"\",DatenKomponenten!I7)","v":""},{"$f":"IF(ISBLANK(DatenKomponenten!J7),\"\",DatenKomponenten!J7)","v":""},{"$f":"IF(ISBLANK(DatenKomponenten!K7),\"\",DatenKomponenten!K7)","v":""},{"$f":"IF(ISBLANK(DatenKomponenten!L7),\"\",DatenKomponenten!L7)","v":""},{"$f":"IF(ISBLANK(DatenKomponenten!M7),\"\",DatenKomponenten!M7)","v":""},{"$f":"IF(ISBLANK(DatenKomponenten!N7),\"\",DatenKomponenten!N7)","v":""},{"$f":"IF(ISBLANK(DatenKomponenten!O7),\"\",DatenKomponenten!O7)","v":""},{"$f":"IF(ISBLANK(DatenKomponenten!P7),\"\",DatenKomponenten!P7)","v":""},{"$f":"IF(ISBLANK(DatenKomponenten!Q7),\"\",DatenKomponenten!Q7)","v":""},{"$f":"IF(ISBLANK(DatenKomponenten!R7),\"\",DatenKomponenten!R7)","v":""},{"$f":"IF(ISBLANK(DatenKomponenten!S7),\"\",DatenKomponenten!S7)","v":""},{"$f":"IF(ISBLANK(DatenKomponenten!T7),\"\",DatenKomponenten!T7)","v":""},{"$f":"IF(ISBLANK(DatenKomponenten!U7),\"\",DatenKomponenten!U7)","v":""},{"$f":"IF(ISBLANK(DatenKomponenten!V7),\"\",DatenKomponenten!V7)","v":""},{"$f":"IF(ISBLANK(DatenKomponenten!W7),\"\",DatenKomponenten!W7)","v":""},{"$f":"IF(ISBLANK(DatenKomponenten!X7),\"\",DatenKomponenten!X7)","v":""},{"$f":"IF(ISBLANK(DatenKomponenten!Y7),\"\",DatenKomponenten!Y7)","v":""},{"$f":"IF(ISBLANK(DatenKomponenten!Z7),\"\",DatenKomponenten!Z7)","v":""},{"$f":"IF(ISBLANK(DatenKomponenten!AA7),\"\",DatenKomponenten!AA7)","v":""},{"$f":"IF(ISBLANK(DatenKomponenten!AB7),\"\",DatenKomponenten!AB7)","v":""},{"$f":"IF(ISBLANK(DatenKomponenten!AC7),\"\",DatenKomponenten!AC7)","v":""},{"$f":"IF(ISBLANK(DatenKomponenten!AD7),\"\",DatenKomponenten!AD7)","v":""},{"$f":"IF(ISBLANK(DatenKomponenten!AE7),\"\",DatenKomponenten!AE7)","v":""},{"$f":"IF(ISBLANK(DatenKomponenten!AF7),\"\",DatenKomponenten!AF7)","v":""},{"$f":"IF(ISBLANK(DatenKomponenten!AG7),\"\",DatenKomponenten!AG7)","v":""},{"$f":"IF(ISBLANK(DatenKomponenten!AH7),\"\",DatenKomponenten!AH7)","v":""},{"$f":"IF(ISBLANK(DatenKomponenten!AI7),\"\",DatenKomponenten!AI7)","v":""},{"$f":"IF(ISBLANK(DatenKomponenten!AJ7),\"\",DatenKomponenten!AJ7)","v":""},{"$f":"IF(ISBLANK(DatenKomponenten!AK7),\"\",DatenKomponenten!AK7)","v":""},{"$f":"IF(ISBLANK(DatenKomponenten!AL7),\"\",DatenKomponenten!AL7)","v":""},{"$f":"IF(ISBLANK(DatenKomponenten!AM7),\"\",DatenKomponenten!AM7)","v":""},{"$f":"IF(ISBLANK(DatenKomponenten!AN7),\"\",DatenKomponenten!AN7)","v":""},{"$f":"IF(ISBLANK(DatenKomponenten!AO7),\"\",DatenKomponenten!AO7)","v":""},{"$f":"IF(ISBLANK(DatenKomponenten!AP7),\"\",DatenKomponenten!AP7)","v":""},{"$f":"IF(ISBLANK(DatenKomponenten!AQ7),\"\",DatenKomponenten!AQ7)","v":""},{"$f":"IF(ISBLANK(DatenKomponenten!AR7),\"\",DatenKomponenten!AR7)","v":""},{"$f":"IF(ISBLANK(DatenKomponenten!AS7),\"\",DatenKomponenten!AS7)","v":""},{"$f":"IF(ISBLANK(DatenKomponenten!AT7),\"\",DatenKomponenten!AT7)","v":""},{"$f":"IF(ISBLANK(DatenKomponenten!AU7),\"\",DatenKomponenten!AU7)","v":""},{"$f":"IF(ISBLANK(DatenKomponenten!AV7),\"\",DatenKomponenten!AV7)","v":""},{"$f":"IF(ISBLANK(DatenKomponenten!AW7),\"\",DatenKomponenten!AW7)","v":""},{"$f":"IF(ISBLANK(DatenKomponenten!AX7),\"\",DatenKomponenten!AX7)","v":""},{"$f":"IF(ISBLANK(DatenKomponenten!AY7),\"\",DatenKomponenten!AY7)","v":""},{"$f":"IF(ISBLANK(DatenKomponenten!AZ7),\"\",DatenKomponenten!AZ7)","v":""}]
[{"$f":"IF(ISBLANK(DatenKomponenten!A8),\"\",DatenKomponenten!A8)","v":""},{"$f":"IF(ISBLANK(DatenKomponenten!B8),\"\",DatenKomponenten!B8)","v":""},{"$f":"IF(ISBLANK(DatenKomponenten!C8),\"\",DatenKomponenten!C8)","v":""},{"$f":"IF(ISBLANK(DatenKomponenten!D8),\"\",DatenKomponenten!D8)","v":""},{"$f":"IF(ISBLANK(DatenKomponenten!E8),\"\",DatenKomponenten!E8)","v":""},{"$f":"IF(ISBLANK(DatenKomponenten!F8),\"\",DatenKomponenten!F8)","v":""},{"$f":"IF(ISBLANK(DatenKomponenten!G8),\"\",DatenKomponenten!G8)","v":""},{"$f":"IF(ISBLANK(DatenKomponenten!H8),\"\",DatenKomponenten!H8)","v":""},{"$f":"IF(ISBLANK(DatenKomponenten!I8),\"\",DatenKomponenten!I8)","v":""},{"$f":"IF(ISBLANK(DatenKomponenten!J8),\"\",DatenKomponenten!J8)","v":""},{"$f":"IF(ISBLANK(DatenKomponenten!K8),\"\",DatenKomponenten!K8)","v":""},{"$f":"IF(ISBLANK(DatenKomponenten!L8),\"\",DatenKomponenten!L8)","v":""},{"$f":"IF(ISBLANK(DatenKomponenten!M8),\"\",DatenKomponenten!M8)","v":""},{"$f":"IF(ISBLANK(DatenKomponenten!N8),\"\",DatenKomponenten!N8)","v":""},{"$f":"IF(ISBLANK(DatenKomponenten!O8),\"\",DatenKomponenten!O8)","v":""},{"$f":"IF(ISBLANK(DatenKomponenten!P8),\"\",DatenKomponenten!P8)","v":""},{"$f":"IF(ISBLANK(DatenKomponenten!Q8),\"\",DatenKomponenten!Q8)","v":""},{"$f":"IF(ISBLANK(DatenKomponenten!R8),\"\",DatenKomponenten!R8)","v":""},{"$f":"IF(ISBLANK(DatenKomponenten!S8),\"\",DatenKomponenten!S8)","v":""},{"$f":"IF(ISBLANK(DatenKomponenten!T8),\"\",DatenKomponenten!T8)","v":""},{"$f":"IF(ISBLANK(DatenKomponenten!U8),\"\",DatenKomponenten!U8)","v":""},{"$f":"IF(ISBLANK(DatenKomponenten!V8),\"\",DatenKomponenten!V8)","v":""},{"$f":"IF(ISBLANK(DatenKomponenten!W8),\"\",DatenKomponenten!W8)","v":""},{"$f":"IF(ISBLANK(DatenKomponenten!X8),\"\",DatenKomponenten!X8)","v":""},{"$f":"IF(ISBLANK(DatenKomponenten!Y8),\"\",DatenKomponenten!Y8)","v":""},{"$f":"IF(ISBLANK(DatenKomponenten!Z8),\"\",DatenKomponenten!Z8)","v":""},{"$f":"IF(ISBLANK(DatenKomponenten!AA8),\"\",DatenKomponenten!AA8)","v":""},{"$f":"IF(ISBLANK(DatenKomponenten!AB8),\"\",DatenKomponenten!AB8)","v":""},{"$f":"IF(ISBLANK(DatenKomponenten!AC8),\"\",DatenKomponenten!AC8)","v":""},{"$f":"IF(ISBLANK(DatenKomponenten!AD8),\"\",DatenKomponenten!AD8)","v":""},{"$f":"IF(ISBLANK(DatenKomponenten!AE8),\"\",DatenKomponenten!AE8)","v":""},{"$f":"IF(ISBLANK(DatenKomponenten!AF8),\"\",DatenKomponenten!AF8)","v":""},{"$f":"IF(ISBLANK(DatenKomponenten!AG8),\"\",DatenKomponenten!AG8)","v":""},{"$f":"IF(ISBLANK(DatenKomponenten!AH8),\"\",DatenKomponenten!AH8)","v":""},{"$f":"IF(ISBLANK(DatenKomponenten!AI8),\"\",DatenKomponenten!AI8)","v":""},{"$f":"IF(ISBLANK(DatenKomponenten!AJ8),\"\",DatenKomponenten!AJ8)","v":""},{"$f":"IF(ISBLANK(DatenKomponenten!AK8),\"\",DatenKomponenten!AK8)","v":""},{"$f":"IF(ISBLANK(DatenKomponenten!AL8),\"\",DatenKomponenten!AL8)","v":""},{"$f":"IF(ISBLANK(DatenKomponenten!AM8),\"\",DatenKomponenten!AM8)","v":""},{"$f":"IF(ISBLANK(DatenKomponenten!AN8),\"\",DatenKomponenten!AN8)","v":""},{"$f":"IF(ISBLANK(DatenKomponenten!AO8),\"\",DatenKomponenten!AO8)","v":""},{"$f":"IF(ISBLANK(DatenKomponenten!AP8),\"\",DatenKomponenten!AP8)","v":""},{"$f":"IF(ISBLANK(DatenKomponenten!AQ8),\"\",DatenKomponenten!AQ8)","v":""},{"$f":"IF(ISBLANK(DatenKomponenten!AR8),\"\",DatenKomponenten!AR8)","v":""},{"$f":"IF(ISBLANK(DatenKomponenten!AS8),\"\",DatenKomponenten!AS8)","v":""},{"$f":"IF(ISBLANK(DatenKomponenten!AT8),\"\",DatenKomponenten!AT8)","v":""},{"$f":"IF(ISBLANK(DatenKomponenten!AU8),\"\",DatenKomponenten!AU8)","v":""},{"$f":"IF(ISBLANK(DatenKomponenten!AV8),\"\",DatenKomponenten!AV8)","v":""},{"$f":"IF(ISBLANK(DatenKomponenten!AW8),\"\",DatenKomponenten!AW8)","v":""},{"$f":"IF(ISBLANK(DatenKomponenten!AX8),\"\",DatenKomponenten!AX8)","v":""},{"$f":"IF(ISBLANK(DatenKomponenten!AY8),\"\",DatenKomponenten!AY8)","v":""},{"$f":"IF(ISBLANK(DatenKomponenten!AZ8),\"\",DatenKomponenten!AZ8)","v":""}]
[{"$f":"IF(ISBLANK(DatenKomponenten!A9),\"\",DatenKomponenten!A9)","v":""},{"$f":"IF(ISBLANK(DatenKomponenten!B9),\"\",DatenKomponenten!B9)","v":""},{"$f":"IF(ISBLANK(DatenKomponenten!C9),\"\",DatenKomponenten!C9)","v":""},{"$f":"IF(ISBLANK(DatenKomponenten!D9),\"\",DatenKomponenten!D9)","v":""},{"$f":"IF(ISBLANK(DatenKomponenten!E9),\"\",DatenKomponenten!E9)","v":""},{"$f":"IF(ISBLANK(DatenKomponenten!F9),\"\",DatenKomponenten!F9)","v":""},{"$f":"IF(ISBLANK(DatenKomponenten!G9),\"\",DatenKomponenten!G9)","v":""},{"$f":"IF(ISBLANK(DatenKomponenten!H9),\"\",DatenKomponenten!H9)","v":""},{"$f":"IF(ISBLANK(DatenKomponenten!I9),\"\",DatenKomponenten!I9)","v":""},{"$f":"IF(ISBLANK(DatenKomponenten!J9),\"\",DatenKomponenten!J9)","v":""},{"$f":"IF(ISBLANK(DatenKomponenten!K9),\"\",DatenKomponenten!K9)","v":""},{"$f":"IF(ISBLANK(DatenKomponenten!L9),\"\",DatenKomponenten!L9)","v":""},{"$f":"IF(ISBLANK(DatenKomponenten!M9),\"\",DatenKomponenten!M9)","v":""},{"$f":"IF(ISBLANK(DatenKomponenten!N9),\"\",DatenKomponenten!N9)","v":""},{"$f":"IF(ISBLANK(DatenKomponenten!O9),\"\",DatenKomponenten!O9)","v":""},{"$f":"IF(ISBLANK(DatenKomponenten!P9),\"\",DatenKomponenten!P9)","v":""},{"$f":"IF(ISBLANK(DatenKomponenten!Q9),\"\",DatenKomponenten!Q9)","v":""},{"$f":"IF(ISBLANK(DatenKomponenten!R9),\"\",DatenKomponenten!R9)","v":""},{"$f":"IF(ISBLANK(DatenKomponenten!S9),\"\",DatenKomponenten!S9)","v":""},{"$f":"IF(ISBLANK(DatenKomponenten!T9),\"\",DatenKomponenten!T9)","v":""},{"$f":"IF(ISBLANK(DatenKomponenten!U9),\"\",DatenKomponenten!U9)","v":""},{"$f":"IF(ISBLANK(DatenKomponenten!V9),\"\",DatenKomponenten!V9)","v":""},{"$f":"IF(ISBLANK(DatenKomponenten!W9),\"\",DatenKomponenten!W9)","v":""},{"$f":"IF(ISBLANK(DatenKomponenten!X9),\"\",DatenKomponenten!X9)","v":""},{"$f":"IF(ISBLANK(DatenKomponenten!Y9),\"\",DatenKomponenten!Y9)","v":""},{"$f":"IF(ISBLANK(DatenKomponenten!Z9),\"\",DatenKomponenten!Z9)","v":""},{"$f":"IF(ISBLANK(DatenKomponenten!AA9),\"\",DatenKomponenten!AA9)","v":""},{"$f":"IF(ISBLANK(DatenKomponenten!AB9),\"\",DatenKomponenten!AB9)","v":""},{"$f":"IF(ISBLANK(DatenKomponenten!AC9),\"\",DatenKomponenten!AC9)","v":""},{"$f":"IF(ISBLANK(DatenKomponenten!AD9),\"\",DatenKomponenten!AD9)","v":""},{"$f":"IF(ISBLANK(DatenKomponenten!AE9),\"\",DatenKomponenten!AE9)","v":""},{"$f":"IF(ISBLANK(DatenKomponenten!AF9),\"\",DatenKomponenten!AF9)","v":""},{"$f":"IF(ISBLANK(DatenKomponenten!AG9),\"\",DatenKomponenten!AG9)","v":""},{"$f":"IF(ISBLANK(DatenKomponenten!AH9),\"\",DatenKomponenten!AH9)","v":""},{"$f":"IF(ISBLANK(DatenKomponenten!AI9),\"\",DatenKomponenten!AI9)","v":""},{"$f":"IF(ISBLANK(DatenKomponenten!AJ9),\"\",DatenKomponenten!AJ9)","v":""},{"$f":"IF(ISBLANK(DatenKomponenten!AK9),\"\",DatenKomponenten!AK9)","v":""},{"$f":"IF(ISBLANK(DatenKomponenten!AL9),\"\",DatenKomponenten!AL9)","v":""},{"$f":"IF(ISBLANK(DatenKomponenten!AM9),\"\",DatenKomponenten!AM9)","v":""},{"$f":"IF(ISBLANK(DatenKomponenten!AN9),\"\",DatenKomponenten!AN9)","v":""},{"$f":"IF(ISBLANK(DatenKomponenten!AO9),\"\",DatenKomponenten!AO9)","v":""},{"$f":"IF(ISBLANK(DatenKomponenten!AP9),\"\",DatenKomponenten!AP9)","v":""},{"$f":"IF(ISBLANK(DatenKomponenten!AQ9),\"\",DatenKomponenten!AQ9)","v":""},{"$f":"IF(ISBLANK(DatenKomponenten!AR9),\"\",DatenKomponenten!AR9)","v":""},{"$f":"IF(ISBLANK(DatenKomponenten!AS9),\"\",DatenKomponenten!AS9)","v":""},{"$f":"IF(ISBLANK(DatenKomponenten!AT9),\"\",DatenKomponenten!AT9)","v":""},{"$f":"IF(ISBLANK(DatenKomponenten!AU9),\"\",DatenKomponenten!AU9)","v":""},{"$f":"IF(ISBLANK(DatenKomponenten!AV9),\"\",DatenKomponenten!AV9)","v":""},{"$f":"IF(ISBLANK(DatenKomponenten!AW9),\"\",DatenKomponenten!AW9)","v":""},{"$f":"IF(ISBLANK(DatenKomponenten!AX9),\"\",DatenKomponenten!AX9)","v":""},{"$f":"IF(ISBLANK(DatenKomponenten!AY9),\"\",DatenKomponenten!AY9)","v":""},{"$f":"IF(ISBLANK(DatenKomponenten!AZ9),\"\",DatenKomponenten!AZ9)","v":""}]
[{"$f":"IF(ISBLANK(DatenKomponenten!A10),\"\",DatenKomponenten!A10)","v":""},{"$f":"IF(ISBLANK(DatenKomponenten!B10),\"\",DatenKomponenten!B10)","v":""},{"$f":"IF(ISBLANK(DatenKomponenten!C10),\"\",DatenKomponenten!C10)","v":""},{"$f":"IF(ISBLANK(DatenKomponenten!D10),\"\",DatenKomponenten!D10)","v":""},{"$f":"IF(ISBLANK(DatenKomponenten!E10),\"\",DatenKomponenten!E10)","v":""},{"$f":"IF(ISBLANK(DatenKomponenten!F10),\"\",DatenKomponenten!F10)","v":""},{"$f":"IF(ISBLANK(DatenKomponenten!G10),\"\",DatenKomponenten!G10)","v":""},{"$f":"IF(ISBLANK(DatenKomponenten!H10),\"\",DatenKomponenten!H10)","v":""},{"$f":"IF(ISBLANK(DatenKomponenten!I10),\"\",DatenKomponenten!I10)","v":""},{"$f":"IF(ISBLANK(DatenKomponenten!J10),\"\",DatenKomponenten!J10)","v":""},{"$f":"IF(ISBLANK(DatenKomponenten!K10),\"\",DatenKomponenten!K10)","v":""},{"$f":"IF(ISBLANK(DatenKomponenten!L10),\"\",DatenKomponenten!L10)","v":""},{"$f":"IF(ISBLANK(DatenKomponenten!M10),\"\",DatenKomponenten!M10)","v":""},{"$f":"IF(ISBLANK(DatenKomponenten!N10),\"\",DatenKomponenten!N10)","v":""},{"$f":"IF(ISBLANK(DatenKomponenten!O10),\"\",DatenKomponenten!O10)","v":""},{"$f":"IF(ISBLANK(DatenKomponenten!P10),\"\",DatenKomponenten!P10)","v":""},{"$f":"IF(ISBLANK(DatenKomponenten!Q10),\"\",DatenKomponenten!Q10)","v":""},{"$f":"IF(ISBLANK(DatenKomponenten!R10),\"\",DatenKomponenten!R10)","v":""},{"$f":"IF(ISBLANK(DatenKomponenten!S10),\"\",DatenKomponenten!S10)","v":""},{"$f":"IF(ISBLANK(DatenKomponenten!T10),\"\",DatenKomponenten!T10)","v":""},{"$f":"IF(ISBLANK(DatenKomponenten!U10),\"\",DatenKomponenten!U10)","v":""},{"$f":"IF(ISBLANK(DatenKomponenten!V10),\"\",DatenKomponenten!V10)","v":""},{"$f":"IF(ISBLANK(DatenKomponenten!W10),\"\",DatenKomponenten!W10)","v":""},{"$f":"IF(ISBLANK(DatenKomponenten!X10),\"\",DatenKomponenten!X10)","v":""},{"$f":"IF(ISBLANK(DatenKomponenten!Y10),\"\",DatenKomponenten!Y10)","v":""},{"$f":"IF(ISBLANK(DatenKomponenten!Z10),\"\",DatenKomponenten!Z10)","v":""},{"$f":"IF(ISBLANK(DatenKomponenten!AA10),\"\",DatenKomponenten!AA10)","v":""},{"$f":"IF(ISBLANK(DatenKomponenten!AB10),\"\",DatenKomponenten!AB10)","v":""},{"$f":"IF(ISBLANK(DatenKomponenten!AC10),\"\",DatenKomponenten!AC10)","v":""},{"$f":"IF(ISBLANK(DatenKomponenten!AD10),\"\",DatenKomponenten!AD10)","v":""},{"$f":"IF(ISBLANK(DatenKomponenten!AE10),\"\",DatenKomponenten!AE10)","v":""},{"$f":"IF(ISBLANK(DatenKomponenten!AF10),\"\",DatenKomponenten!AF10)","v":""},{"$f":"IF(ISBLANK(DatenKomponenten!AG10),\"\",DatenKomponenten!AG10)","v":""},{"$f":"IF(ISBLANK(DatenKomponenten!AH10),\"\",DatenKomponenten!AH10)","v":""},{"$f":"IF(ISBLANK(DatenKomponenten!AI10),\"\",DatenKomponenten!AI10)","v":""},{"$f":"IF(ISBLANK(DatenKomponenten!AJ10),\"\",DatenKomponenten!AJ10)","v":""},{"$f":"IF(ISBLANK(DatenKomponenten!AK10),\"\",DatenKomponenten!AK10)","v":""},{"$f":"IF(ISBLANK(DatenKomponenten!AL10),\"\",DatenKomponenten!AL10)","v":""},{"$f":"IF(ISBLANK(DatenKomponenten!AM10),\"\",DatenKomponenten!AM10)","v":""},{"$f":"IF(ISBLANK(DatenKomponenten!AN10),\"\",DatenKomponenten!AN10)","v":""},{"$f":"IF(ISBLANK(DatenKomponenten!AO10),\"\",DatenKomponenten!AO10)","v":""},{"$f":"IF(ISBLANK(DatenKomponenten!AP10),\"\",DatenKomponenten!AP10)","v":""},{"$f":"IF(ISBLANK(DatenKomponenten!AQ10),\"\",DatenKomponenten!AQ10)","v":""},{"$f":"IF(ISBLANK(DatenKomponenten!AR10),\"\",DatenKomponenten!AR10)","v":""},{"$f":"IF(ISBLANK(DatenKomponenten!AS10),\"\",DatenKomponenten!AS10)","v":""},{"$f":"IF(ISBLANK(DatenKomponenten!AT10),\"\",DatenKomponenten!AT10)","v":""},{"$f":"IF(ISBLANK(DatenKomponenten!AU10),\"\",DatenKomponenten!AU10)","v":""},{"$f":"IF(ISBLANK(DatenKomponenten!AV10),\"\",DatenKomponenten!AV10)","v":""},{"$f":"IF(ISBLANK(DatenKomponenten!AW10),\"\",DatenKomponenten!AW10)","v":""},{"$f":"IF(ISBLANK(DatenKomponenten!AX10),\"\",DatenKomponenten!AX10)","v":""},{"$f":"IF(ISBLANK(DatenKomponenten!AY10),\"\",DatenKomponenten!AY10)","v":""},{"$f":"IF(ISBLANK(DatenKomponenten!AZ10),\"\",DatenKomponenten!AZ10)","v":""}]
[{"$f":"IF(ISBLANK(DatenKomponenten!A11),\"\",DatenKomponenten!A11)","v":""},{"$f":"IF(ISBLANK(DatenKomponenten!B11),\"\",DatenKomponenten!B11)","v":""},{"$f":"IF(ISBLANK(DatenKomponenten!C11),\"\",DatenKomponenten!C11)","v":""},{"$f":"IF(ISBLANK(DatenKomponenten!D11),\"\",DatenKomponenten!D11)","v":""},{"$f":"IF(ISBLANK(DatenKomponenten!E11),\"\",DatenKomponenten!E11)","v":""},{"$f":"IF(ISBLANK(DatenKomponenten!F11),\"\",DatenKomponenten!F11)","v":""},{"$f":"IF(ISBLANK(DatenKomponenten!G11),\"\",DatenKomponenten!G11)","v":""},{"$f":"IF(ISBLANK(DatenKomponenten!H11),\"\",DatenKomponenten!H11)","v":""},{"$f":"IF(ISBLANK(DatenKomponenten!I11),\"\",DatenKomponenten!I11)","v":""},{"$f":"IF(ISBLANK(DatenKomponenten!J11),\"\",DatenKomponenten!J11)","v":""},{"$f":"IF(ISBLANK(DatenKomponenten!K11),\"\",DatenKomponenten!K11)","v":""},{"$f":"IF(ISBLANK(DatenKomponenten!L11),\"\",DatenKomponenten!L11)","v":""},{"$f":"IF(ISBLANK(DatenKomponenten!M11),\"\",DatenKomponenten!M11)","v":""},{"$f":"IF(ISBLANK(DatenKomponenten!N11),\"\",DatenKomponenten!N11)","v":""},{"$f":"IF(ISBLANK(DatenKomponenten!O11),\"\",DatenKomponenten!O11)","v":""},{"$f":"IF(ISBLANK(DatenKomponenten!P11),\"\",DatenKomponenten!P11)","v":""},{"$f":"IF(ISBLANK(DatenKomponenten!Q11),\"\",DatenKomponenten!Q11)","v":""},{"$f":"IF(ISBLANK(DatenKomponenten!R11),\"\",DatenKomponenten!R11)","v":""},{"$f":"IF(ISBLANK(DatenKomponenten!S11),\"\",DatenKomponenten!S11)","v":""},{"$f":"IF(ISBLANK(DatenKomponenten!T11),\"\",DatenKomponenten!T11)","v":""},{"$f":"IF(ISBLANK(DatenKomponenten!U11),\"\",DatenKomponenten!U11)","v":""},{"$f":"IF(ISBLANK(DatenKomponenten!V11),\"\",DatenKomponenten!V11)","v":""},{"$f":"IF(ISBLANK(DatenKomponenten!W11),\"\",DatenKomponenten!W11)","v":""},{"$f":"IF(ISBLANK(DatenKomponenten!X11),\"\",DatenKomponenten!X11)","v":""},{"$f":"IF(ISBLANK(DatenKomponenten!Y11),\"\",DatenKomponenten!Y11)","v":""},{"$f":"IF(ISBLANK(DatenKomponenten!Z11),\"\",DatenKomponenten!Z11)","v":""},{"$f":"IF(ISBLANK(DatenKomponenten!AA11),\"\",DatenKomponenten!AA11)","v":""},{"$f":"IF(ISBLANK(DatenKomponenten!AB11),\"\",DatenKomponenten!AB11)","v":""},{"$f":"IF(ISBLANK(DatenKomponenten!AC11),\"\",DatenKomponenten!AC11)","v":""},{"$f":"IF(ISBLANK(DatenKomponenten!AD11),\"\",DatenKomponenten!AD11)","v":""},{"$f":"IF(ISBLANK(DatenKomponenten!AE11),\"\",DatenKomponenten!AE11)","v":""},{"$f":"IF(ISBLANK(DatenKomponenten!AF11),\"\",DatenKomponenten!AF11)","v":""},{"$f":"IF(ISBLANK(DatenKomponenten!AG11),\"\",DatenKomponenten!AG11)","v":""},{"$f":"IF(ISBLANK(DatenKomponenten!AH11),\"\",DatenKomponenten!AH11)","v":""},{"$f":"IF(ISBLANK(DatenKomponenten!AI11),\"\",DatenKomponenten!AI11)","v":""},{"$f":"IF(ISBLANK(DatenKomponenten!AJ11),\"\",DatenKomponenten!AJ11)","v":""},{"$f":"IF(ISBLANK(DatenKomponenten!AK11),\"\",DatenKomponenten!AK11)","v":""},{"$f":"IF(ISBLANK(DatenKomponenten!AL11),\"\",DatenKomponenten!AL11)","v":""},{"$f":"IF(ISBLANK(DatenKomponenten!AM11),\"\",DatenKomponenten!AM11)","v":""},{"$f":"IF(ISBLANK(DatenKomponenten!AN11),\"\",DatenKomponenten!AN11)","v":""},{"$f":"IF(ISBLANK(DatenKomponenten!AO11),\"\",DatenKomponenten!AO11)","v":""},{"$f":"IF(ISBLANK(DatenKomponenten!AP11),\"\",DatenKomponenten!AP11)","v":""},{"$f":"IF(ISBLANK(DatenKomponenten!AQ11),\"\",DatenKomponenten!AQ11)","v":""},{"$f":"IF(ISBLANK(DatenKomponenten!AR11),\"\",DatenKomponenten!AR11)","v":""},{"$f":"IF(ISBLANK(DatenKomponenten!AS11),\"\",DatenKomponenten!AS11)","v":""},{"$f":"IF(ISBLANK(DatenKomponenten!AT11),\"\",DatenKomponenten!AT11)","v":""},{"$f":"IF(ISBLANK(DatenKomponenten!AU11),\"\",DatenKomponenten!AU11)","v":""},{"$f":"IF(ISBLANK(DatenKomponenten!AV11),\"\",DatenKomponenten!AV11)","v":""},{"$f":"IF(ISBLANK(DatenKomponenten!AW11),\"\",DatenKomponenten!AW11)","v":""},{"$f":"IF(ISBLANK(DatenKomponenten!AX11),\"\",DatenKomponenten!AX11)","v":""},{"$f":"IF(ISBLANK(DatenKomponenten!AY11),\"\",DatenKomponenten!AY11)","v":""},{"$f":"IF(ISBLANK(DatenKomponenten!AZ11),\"\",DatenKomponenten!AZ11)","v":""}]
[{"$f":"IF(ISBLANK(DatenKomponenten!A12),\"\",DatenKomponenten!A12)","v":""},{"$f":"IF(ISBLANK(DatenKomponenten!B12),\"\",DatenKomponenten!B12)","v":""},{"$f":"IF(ISBLANK(DatenKomponenten!C12),\"\",DatenKomponenten!C12)","v":""},{"$f":"IF(ISBLANK(DatenKomponenten!D12),\"\",DatenKomponenten!D12)","v":""},{"$f":"IF(ISBLANK(DatenKomponenten!E12),\"\",DatenKomponenten!E12)","v":""},{"$f":"IF(ISBLANK(DatenKomponenten!F12),\"\",DatenKomponenten!F12)","v":""},{"$f":"IF(ISBLANK(DatenKomponenten!G12),\"\",DatenKomponenten!G12)","v":""},{"$f":"IF(ISBLANK(DatenKomponenten!H12),\"\",DatenKomponenten!H12)","v":""},{"$f":"IF(ISBLANK(DatenKomponenten!I12),\"\",DatenKomponenten!I12)","v":""},{"$f":"IF(ISBLANK(DatenKomponenten!J12),\"\",DatenKomponenten!J12)","v":""},{"$f":"IF(ISBLANK(DatenKomponenten!K12),\"\",DatenKomponenten!K12)","v":""},{"$f":"IF(ISBLANK(DatenKomponenten!L12),\"\",DatenKomponenten!L12)","v":""},{"$f":"IF(ISBLANK(DatenKomponenten!M12),\"\",DatenKomponenten!M12)","v":""},{"$f":"IF(ISBLANK(DatenKomponenten!N12),\"\",DatenKomponenten!N12)","v":""},{"$f":"IF(ISBLANK(DatenKomponenten!O12),\"\",DatenKomponenten!O12)","v":""},{"$f":"IF(ISBLANK(DatenKomponenten!P12),\"\",DatenKomponenten!P12)","v":""},{"$f":"IF(ISBLANK(DatenKomponenten!Q12),\"\",DatenKomponenten!Q12)","v":""},{"$f":"IF(ISBLANK(DatenKomponenten!R12),\"\",DatenKomponenten!R12)","v":""},{"$f":"IF(ISBLANK(DatenKomponenten!S12),\"\",DatenKomponenten!S12)","v":""},{"$f":"IF(ISBLANK(DatenKomponenten!T12),\"\",DatenKomponenten!T12)","v":""},{"$f":"IF(ISBLANK(DatenKomponenten!U12),\"\",DatenKomponenten!U12)","v":""},{"$f":"IF(ISBLANK(DatenKomponenten!V12),\"\",DatenKomponenten!V12)","v":""},{"$f":"IF(ISBLANK(DatenKomponenten!W12),\"\",DatenKomponenten!W12)","v":""},{"$f":"IF(ISBLANK(DatenKomponenten!X12),\"\",DatenKomponenten!X12)","v":""},{"$f":"IF(ISBLANK(DatenKomponenten!Y12),\"\",DatenKomponenten!Y12)","v":""},{"$f":"IF(ISBLANK(DatenKomponenten!Z12),\"\",DatenKomponenten!Z12)","v":""},{"$f":"IF(ISBLANK(DatenKomponenten!AA12),\"\",DatenKomponenten!AA12)","v":""},{"$f":"IF(ISBLANK(DatenKomponenten!AB12),\"\",DatenKomponenten!AB12)","v":""},{"$f":"IF(ISBLANK(DatenKomponenten!AC12),\"\",DatenKomponenten!AC12)","v":""},{"$f":"IF(ISBLANK(DatenKomponenten!AD12),\"\",DatenKomponenten!AD12)","v":""},{"$f":"IF(ISBLANK(DatenKomponenten!AE12),\"\",DatenKomponenten!AE12)","v":""},{"$f":"IF(ISBLANK(DatenKomponenten!AF12),\"\",DatenKomponenten!AF12)","v":""},{"$f":"IF(ISBLANK(DatenKomponenten!AG12),\"\",DatenKomponenten!AG12)","v":""},{"$f":"IF(ISBLANK(DatenKomponenten!AH12),\"\",DatenKomponenten!AH12)","v":""},{"$f":"IF(ISBLANK(DatenKomponenten!AI12),\"\",DatenKomponenten!AI12)","v":""},{"$f":"IF(ISBLANK(DatenKomponenten!AJ12),\"\",DatenKomponenten!AJ12)","v":""},{"$f":"IF(ISBLANK(DatenKomponenten!AK12),\"\",DatenKomponenten!AK12)","v":""},{"$f":"IF(ISBLANK(DatenKomponenten!AL12),\"\",DatenKomponenten!AL12)","v":""},{"$f":"IF(ISBLANK(DatenKomponenten!AM12),\"\",DatenKomponenten!AM12)","v":""},{"$f":"IF(ISBLANK(DatenKomponenten!AN12),\"\",DatenKomponenten!AN12)","v":""},{"$f":"IF(ISBLANK(DatenKomponenten!AO12),\"\",DatenKomponenten!AO12)","v":""},{"$f":"IF(ISBLANK(DatenKomponenten!AP12),\"\",DatenKomponenten!AP12)","v":""},{"$f":"IF(ISBLANK(DatenKomponenten!AQ12),\"\",DatenKomponenten!AQ12)","v":""},{"$f":"IF(ISBLANK(DatenKomponenten!AR12),\"\",DatenKomponenten!AR12)","v":""},{"$f":"IF(ISBLANK(DatenKomponenten!AS12),\"\",DatenKomponenten!AS12)","v":""},{"$f":"IF(ISBLANK(DatenKomponenten!AT12),\"\",DatenKomponenten!AT12)","v":""},{"$f":"IF(ISBLANK(DatenKomponenten!AU12),\"\",DatenKomponenten!AU12)","v":""},{"$f":"IF(ISBLANK(DatenKomponenten!AV12),\"\",DatenKomponenten!AV12)","v":""},{"$f":"IF(ISBLANK(DatenKomponenten!AW12),\"\",DatenKomponenten!AW12)","v":""},{"$f":"IF(ISBLANK(DatenKomponenten!AX12),\"\",DatenKomponenten!AX12)","v":""},{"$f":"IF(ISBLANK(DatenKomponenten!AY12),\"\",DatenKomponenten!AY12)","v":""},{"$f":"IF(ISBLANK(DatenKomponenten!AZ12),\"\",DatenKomponenten!AZ12)","v":""}]
[{"$f":"IF(ISBLANK(DatenKomponenten!A13),\"\",DatenKomponenten!A13)","v":""},{"$f":"IF(ISBLANK(DatenKomponenten!B13),\"\",DatenKomponenten!B13)","v":""},{"$f":"IF(ISBLANK(DatenKomponenten!C13),\"\",DatenKomponenten!C13)","v":""},{"$f":"IF(ISBLANK(DatenKomponenten!D13),\"\",DatenKomponenten!D13)","v":""},{"$f":"IF(ISBLANK(DatenKomponenten!E13),\"\",DatenKomponenten!E13)","v":""},{"$f":"IF(ISBLANK(DatenKomponenten!F13),\"\",DatenKomponenten!F13)","v":""},{"$f":"IF(ISBLANK(DatenKomponenten!G13),\"\",DatenKomponenten!G13)","v":""},{"$f":"IF(ISBLANK(DatenKomponenten!H13),\"\",DatenKomponenten!H13)","v":""},{"$f":"IF(ISBLANK(DatenKomponenten!I13),\"\",DatenKomponenten!I13)","v":""},{"$f":"IF(ISBLANK(DatenKomponenten!J13),\"\",DatenKomponenten!J13)","v":""},{"$f":"IF(ISBLANK(DatenKomponenten!K13),\"\",DatenKomponenten!K13)","v":""},{"$f":"IF(ISBLANK(DatenKomponenten!L13),\"\",DatenKomponenten!L13)","v":""},{"$f":"IF(ISBLANK(DatenKomponenten!M13),\"\",DatenKomponenten!M13)","v":""},{"$f":"IF(ISBLANK(DatenKomponenten!N13),\"\",DatenKomponenten!N13)","v":""},{"$f":"IF(ISBLANK(DatenKomponenten!O13),\"\",DatenKomponenten!O13)","v":""},{"$f":"IF(ISBLANK(DatenKomponenten!P13),\"\",DatenKomponenten!P13)","v":""},{"$f":"IF(ISBLANK(DatenKomponenten!Q13),\"\",DatenKomponenten!Q13)","v":""},{"$f":"IF(ISBLANK(DatenKomponenten!R13),\"\",DatenKomponenten!R13)","v":""},{"$f":"IF(ISBLANK(DatenKomponenten!S13),\"\",DatenKomponenten!S13)","v":""},{"$f":"IF(ISBLANK(DatenKomponenten!T13),\"\",DatenKomponenten!T13)","v":""},{"$f":"IF(ISBLANK(DatenKomponenten!U13),\"\",DatenKomponenten!U13)","v":""},{"$f":"IF(ISBLANK(DatenKomponenten!V13),\"\",DatenKomponenten!V13)","v":""},{"$f":"IF(ISBLANK(DatenKomponenten!W13),\"\",DatenKomponenten!W13)","v":""},{"$f":"IF(ISBLANK(DatenKomponenten!X13),\"\",DatenKomponenten!X13)","v":""},{"$f":"IF(ISBLANK(DatenKomponenten!Y13),\"\",DatenKomponenten!Y13)","v":""},{"$f":"IF(ISBLANK(DatenKomponenten!Z13),\"\",DatenKomponenten!Z13)","v":""},{"$f":"IF(ISBLANK(DatenKomponenten!AA13),\"\",DatenKomponenten!AA13)","v":""},{"$f":"IF(ISBLANK(DatenKomponenten!AB13),\"\",DatenKomponenten!AB13)","v":""},{"$f":"IF(ISBLANK(DatenKomponenten!AC13),\"\",DatenKomponenten!AC13)","v":""},{"$f":"IF(ISBLANK(DatenKomponenten!AD13),\"\",DatenKomponenten!AD13)","v":""},{"$f":"IF(ISBLANK(DatenKomponenten!AE13),\"\",DatenKomponenten!AE13)","v":""},{"$f":"IF(ISBLANK(DatenKomponenten!AF13),\"\",DatenKomponenten!AF13)","v":""},{"$f":"IF(ISBLANK(DatenKomponenten!AG13),\"\",DatenKomponenten!AG13)","v":""},{"$f":"IF(ISBLANK(DatenKomponenten!AH13),\"\",DatenKomponenten!AH13)","v":""},{"$f":"IF(ISBLANK(DatenKomponenten!AI13),\"\",DatenKomponenten!AI13)","v":""},{"$f":"IF(ISBLANK(DatenKomponenten!AJ13),\"\",DatenKomponenten!AJ13)","v":""},{"$f":"IF(ISBLANK(DatenKomponenten!AK13),\"\",DatenKomponenten!AK13)","v":""},{"$f":"IF(ISBLANK(DatenKomponenten!AL13),\"\",DatenKomponenten!AL13)","v":""},{"$f":"IF(ISBLANK(DatenKomponenten!AM13),\"\",DatenKomponenten!AM13)","v":""},{"$f":"IF(ISBLANK(DatenKomponenten!AN13),\"\",DatenKomponenten!AN13)","v":""},{"$f":"IF(ISBLANK(DatenKomponenten!AO13),\"\",DatenKomponenten!AO13)","v":""},{"$f":"IF(ISBLANK(DatenKomponenten!AP13),\"\",DatenKomponenten!AP13)","v":""},{"$f":"IF(ISBLANK(DatenKomponenten!AQ13),\"\",DatenKomponenten!AQ13)","v":""},{"$f":"IF(ISBLANK(DatenKomponenten!AR13),\"\",DatenKomponenten!AR13)","v":""},{"$f":"IF(ISBLANK(DatenKomponenten!AS13),\"\",DatenKomponenten!AS13)","v":""},{"$f":"IF(ISBLANK(DatenKomponenten!AT13),\"\",DatenKomponenten!AT13)","v":""},{"$f":"IF(ISBLANK(DatenKomponenten!AU13),\"\",DatenKomponenten!AU13)","v":""},{"$f":"IF(ISBLANK(DatenKomponenten!AV13),\"\",DatenKomponenten!AV13)","v":""},{"$f":"IF(ISBLANK(DatenKomponenten!AW13),\"\",DatenKomponenten!AW13)","v":""},{"$f":"IF(ISBLANK(DatenKomponenten!AX13),\"\",DatenKomponenten!AX13)","v":""},{"$f":"IF(ISBLANK(DatenKomponenten!AY13),\"\",DatenKomponenten!AY13)","v":""},{"$f":"IF(ISBLANK(DatenKomponenten!AZ13),\"\",DatenKomponenten!AZ13)","v":""}]
[{"$f":"IF(ISBLANK(DatenKomponenten!A14),\"\",DatenKomponenten!A14)","v":""},{"$f":"IF(ISBLANK(DatenKomponenten!B14),\"\",DatenKomponenten!B14)","v":""},{"$f":"IF(ISBLANK(DatenKomponenten!C14),\"\",DatenKomponenten!C14)","v":""},{"$f":"IF(ISBLANK(DatenKomponenten!D14),\"\",DatenKomponenten!D14)","v":""},{"$f":"IF(ISBLANK(DatenKomponenten!E14),\"\",DatenKomponenten!E14)","v":""},{"$f":"IF(ISBLANK(DatenKomponenten!F14),\"\",DatenKomponenten!F14)","v":""},{"$f":"IF(ISBLANK(DatenKomponenten!G14),\"\",DatenKomponenten!G14)","v":""},{"$f":"IF(ISBLANK(DatenKomponenten!H14),\"\",DatenKomponenten!H14)","v":""},{"$f":"IF(ISBLANK(DatenKomponenten!I14),\"\",DatenKomponenten!I14)","v":""},{"$f":"IF(ISBLANK(DatenKomponenten!J14),\"\",DatenKomponenten!J14)","v":""},{"$f":"IF(ISBLANK(DatenKomponenten!K14),\"\",DatenKomponenten!K14)","v":""},{"$f":"IF(ISBLANK(DatenKomponenten!L14),\"\",DatenKomponenten!L14)","v":""},{"$f":"IF(ISBLANK(DatenKomponenten!M14),\"\",DatenKomponenten!M14)","v":""},{"$f":"IF(ISBLANK(DatenKomponenten!N14),\"\",DatenKomponenten!N14)","v":""},{"$f":"IF(ISBLANK(DatenKomponenten!O14),\"\",DatenKomponenten!O14)","v":""},{"$f":"IF(ISBLANK(DatenKomponenten!P14),\"\",DatenKomponenten!P14)","v":""},{"$f":"IF(ISBLANK(DatenKomponenten!Q14),\"\",DatenKomponenten!Q14)","v":""},{"$f":"IF(ISBLANK(DatenKomponenten!R14),\"\",DatenKomponenten!R14)","v":""},{"$f":"IF(ISBLANK(DatenKomponenten!S14),\"\",DatenKomponenten!S14)","v":""},{"$f":"IF(ISBLANK(DatenKomponenten!T14),\"\",DatenKomponenten!T14)","v":""},{"$f":"IF(ISBLANK(DatenKomponenten!U14),\"\",DatenKomponenten!U14)","v":""},{"$f":"IF(ISBLANK(DatenKomponenten!V14),\"\",DatenKomponenten!V14)","v":""},{"$f":"IF(ISBLANK(DatenKomponenten!W14),\"\",DatenKomponenten!W14)","v":""},{"$f":"IF(ISBLANK(DatenKomponenten!X14),\"\",DatenKomponenten!X14)","v":""},{"$f":"IF(ISBLANK(DatenKomponenten!Y14),\"\",DatenKomponenten!Y14)","v":""},{"$f":"IF(ISBLANK(DatenKomponenten!Z14),\"\",DatenKomponenten!Z14)","v":""},{"$f":"IF(ISBLANK(DatenKomponenten!AA14),\"\",DatenKomponenten!AA14)","v":""},{"$f":"IF(ISBLANK(DatenKomponenten!AB14),\"\",DatenKomponenten!AB14)","v":""},{"$f":"IF(ISBLANK(DatenKomponenten!AC14),\"\",DatenKomponenten!AC14)","v":""},{"$f":"IF(ISBLANK(DatenKomponenten!AD14),\"\",DatenKomponenten!AD14)","v":""},{"$f":"IF(ISBLANK(DatenKomponenten!AE14),\"\",DatenKomponenten!AE14)","v":""},{"$f":"IF(ISBLANK(DatenKomponenten!AF14),\"\",DatenKomponenten!AF14)","v":""},{"$f":"IF(ISBLANK(DatenKomponenten!AG14),\"\",DatenKomponenten!AG14)","v":""},{"$f":"IF(ISBLANK(DatenKomponenten!AH14),\"\",DatenKomponenten!AH14)","v":""},{"$f":"IF(ISBLANK(DatenKomponenten!AI14),\"\",DatenKomponenten!AI14)","v":""},{"$f":"IF(ISBLANK(DatenKomponenten!AJ14),\"\",DatenKomponenten!AJ14)","v":""},{"$f":"IF(ISBLANK(DatenKomponenten!AK14),\"\",DatenKomponenten!AK14)","v":""},{"$f":"IF(ISBLANK(DatenKomponenten!AL14),\"\",DatenKomponenten!AL14)","v":""},{"$f":"IF(ISBLANK(DatenKomponenten!AM14),\"\",DatenKomponenten!AM14)","v":""},{"$f":"IF(ISBLANK(DatenKomponenten!AN14),\"\",DatenKomponenten!AN14)","v":""},{"$f":"IF(ISBLANK(DatenKomponenten!AO14),\"\",DatenKomponenten!AO14)","v":""},{"$f":"IF(ISBLANK(DatenKomponenten!AP14),\"\",DatenKomponenten!AP14)","v":""},{"$f":"IF(ISBLANK(DatenKomponenten!AQ14),\"\",DatenKomponenten!AQ14)","v":""},{"$f":"IF(ISBLANK(DatenKomponenten!AR14),\"\",DatenKomponenten!AR14)","v":""},{"$f":"IF(ISBLANK(DatenKomponenten!AS14),\"\",DatenKomponenten!AS14)","v":""},{"$f":"IF(ISBLANK(DatenKomponenten!AT14),\"\",DatenKomponenten!AT14)","v":""},{"$f":"IF(ISBLANK(DatenKomponenten!AU14),\"\",DatenKomponenten!AU14)","v":""},{"$f":"IF(ISBLANK(DatenKomponenten!AV14),\"\",DatenKomponenten!AV14)","v":""},{"$f":"IF(ISBLANK(DatenKomponenten!AW14),\"\",DatenKomponenten!AW14)","v":""},{"$f":"IF(ISBLANK(DatenKomponenten!AX14),\"\",DatenKomponenten!AX14)","v":""},{"$f":"IF(ISBLANK(DatenKomponenten!AY14),\"\",DatenKomponenten!AY14)","v":""},{"$f":"IF(ISBLANK(DatenKomponenten!AZ14),\"\",DatenKomponenten!AZ14)","v":""}]
[{"$f":"IF(ISBLANK(DatenKomponenten!A15),\"\",DatenKomponenten!A15)","v":""},{"$f":"IF(ISBLANK(DatenKomponenten!B15),\"\",DatenKomponenten!B15)","v":""},{"$f":"IF(ISBLANK(DatenKomponenten!C15),\"\",DatenKomponenten!C15)","v":""},{"$f":"IF(ISBLANK(DatenKomponenten!D15),\"\",DatenKomponenten!D15)","v":""},{"$f":"IF(ISBLANK(DatenKomponenten!E15),\"\",DatenKomponenten!E15)","v":""},{"$f":"IF(ISBLANK(DatenKomponenten!F15),\"\",DatenKomponenten!F15)","v":""},{"$f":"IF(ISBLANK(DatenKomponenten!G15),\"\",DatenKomponenten!G15)","v":""},{"$f":"IF(ISBLANK(DatenKomponenten!H15),\"\",DatenKomponenten!H15)","v":""},{"$f":"IF(ISBLANK(DatenKomponenten!I15),\"\",DatenKomponenten!I15)","v":""},{"$f":"IF(ISBLANK(DatenKomponenten!J15),\"\",DatenKomponenten!J15)","v":""},{"$f":"IF(ISBLANK(DatenKomponenten!K15),\"\",DatenKomponenten!K15)","v":""},{"$f":"IF(ISBLANK(DatenKomponenten!L15),\"\",DatenKomponenten!L15)","v":""},{"$f":"IF(ISBLANK(DatenKomponenten!M15),\"\",DatenKomponenten!M15)","v":""},{"$f":"IF(ISBLANK(DatenKomponenten!N15),\"\",DatenKomponenten!N15)","v":""},{"$f":"IF(ISBLANK(DatenKomponenten!O15),\"\",DatenKomponenten!O15)","v":""},{"$f":"IF(ISBLANK(DatenKomponenten!P15),\"\",DatenKomponenten!P15)","v":""},{"$f":"IF(ISBLANK(DatenKomponenten!Q15),\"\",DatenKomponenten!Q15)","v":""},{"$f":"IF(ISBLANK(DatenKomponenten!R15),\"\",DatenKomponenten!R15)","v":""},{"$f":"IF(ISBLANK(DatenKomponenten!S15),\"\",DatenKomponenten!S15)","v":""},{"$f":"IF(ISBLANK(DatenKomponenten!T15),\"\",DatenKomponenten!T15)","v":""},{"$f":"IF(ISBLANK(DatenKomponenten!U15),\"\",DatenKomponenten!U15)","v":""},{"$f":"IF(ISBLANK(DatenKomponenten!V15),\"\",DatenKomponenten!V15)","v":""},{"$f":"IF(ISBLANK(DatenKomponenten!W15),\"\",DatenKomponenten!W15)","v":""},{"$f":"IF(ISBLANK(DatenKomponenten!X15),\"\",DatenKomponenten!X15)","v":""},{"$f":"IF(ISBLANK(DatenKomponenten!Y15),\"\",DatenKomponenten!Y15)","v":""},{"$f":"IF(ISBLANK(DatenKomponenten!Z15),\"\",DatenKomponenten!Z15)","v":""},{"$f":"IF(ISBLANK(DatenKomponenten!AA15),\"\",DatenKomponenten!AA15)","v":""},{"$f":"IF(ISBLANK(DatenKomponenten!AB15),\"\",DatenKomponenten!AB15)","v":""},{"$f":"IF(ISBLANK(DatenKomponenten!AC15),\"\",DatenKomponenten!AC15)","v":""},{"$f":"IF(ISBLANK(DatenKomponenten!AD15),\"\",DatenKomponenten!AD15)","v":""},{"$f":"IF(ISBLANK(DatenKomponenten!AE15),\"\",DatenKomponenten!AE15)","v":""},{"$f":"IF(ISBLANK(DatenKomponenten!AF15),\"\",DatenKomponenten!AF15)","v":""},{"$f":"IF(ISBLANK(DatenKomponenten!AG15),\"\",DatenKomponenten!AG15)","v":""},{"$f":"IF(ISBLANK(DatenKomponenten!AH15),\"\",DatenKomponenten!AH15)","v":""},{"$f":"IF(ISBLANK(DatenKomponenten!AI15),\"\",DatenKomponenten!AI15)","v":""},{"$f":"IF(ISBLANK(DatenKomponenten!AJ15),\"\",DatenKomponenten!AJ15)","v":""},{"$f":"IF(ISBLANK(DatenKomponenten!AK15),\"\",DatenKomponenten!AK15)","v":""},{"$f":"IF(ISBLANK(DatenKomponenten!AL15),\"\",DatenKomponenten!AL15)","v":""},{"$f":"IF(ISBLANK(DatenKomponenten!AM15),\"\",DatenKomponenten!AM15)","v":""},{"$f":"IF(ISBLANK(DatenKomponenten!AN15),\"\",DatenKomponenten!AN15)","v":""},{"$f":"IF(ISBLANK(DatenKomponenten!AO15),\"\",DatenKomponenten!AO15)","v":""},{"$f":"IF(ISBLANK(DatenKomponenten!AP15),\"\",DatenKomponenten!AP15)","v":""},{"$f":"IF(ISBLANK(DatenKomponenten!AQ15),\"\",DatenKomponenten!AQ15)","v":""},{"$f":"IF(ISBLANK(DatenKomponenten!AR15),\"\",DatenKomponenten!AR15)","v":""},{"$f":"IF(ISBLANK(DatenKomponenten!AS15),\"\",DatenKomponenten!AS15)","v":""},{"$f":"IF(ISBLANK(DatenKomponenten!AT15),\"\",DatenKomponenten!AT15)","v":""},{"$f":"IF(ISBLANK(DatenKomponenten!AU15),\"\",DatenKomponenten!AU15)","v":""},{"$f":"IF(ISBLANK(DatenKomponenten!AV15),\"\",DatenKomponenten!AV15)","v":""},{"$f":"IF(ISBLANK(DatenKomponenten!AW15),\"\",DatenKomponenten!AW15)","v":""},{"$f":"IF(ISBLANK(DatenKomponenten!AX15),\"\",DatenKomponenten!AX15)","v":""},{"$f":"IF(ISBLANK(DatenKomponenten!AY15),\"\",DatenKomponenten!AY15)","v":""},{"$f":"IF(ISBLANK(DatenKomponenten!AZ15),\"\",DatenKomponenten!AZ15)","v":""}]
[{"$f":"IF(ISBLANK(DatenKomponenten!A16),\"\",DatenKomponenten!A16)","v":""},{"$f":"IF(ISBLANK(DatenKomponenten!B16),\"\",DatenKomponenten!B16)","v":""},{"$f":"IF(ISBLANK(DatenKomponenten!C16),\"\",DatenKomponenten!C16)","v":""},{"$f":"IF(ISBLANK(DatenKomponenten!D16),\"\",DatenKomponenten!D16)","v":""},{"$f":"IF(ISBLANK(DatenKomponenten!E16),\"\",DatenKomponenten!E16)","v":""},{"$f":"IF(ISBLANK(DatenKomponenten!F16),\"\",DatenKomponenten!F16)","v":""},{"$f":"IF(ISBLANK(DatenKomponenten!G16),\"\",DatenKomponenten!G16)","v":""},{"$f":"IF(ISBLANK(DatenKomponenten!H16),\"\",DatenKomponenten!H16)","v":""},{"$f":"IF(ISBLANK(DatenKomponenten!I16),\"\",DatenKomponenten!I16)","v":""},{"$f":"IF(ISBLANK(DatenKomponenten!J16),\"\",DatenKomponenten!J16)","v":""},{"$f":"IF(ISBLANK(DatenKomponenten!K16),\"\",DatenKomponenten!K16)","v":""},{"$f":"IF(ISBLANK(DatenKomponenten!L16),\"\",DatenKomponenten!L16)","v":""},{"$f":"IF(ISBLANK(DatenKomponenten!M16),\"\",DatenKomponenten!M16)","v":""},{"$f":"IF(ISBLANK(DatenKomponenten!N16),\"\",DatenKomponenten!N16)","v":""},{"$f":"IF(ISBLANK(DatenKomponenten!O16),\"\",DatenKomponenten!O16)","v":""},{"$f":"IF(ISBLANK(DatenKomponenten!P16),\"\",DatenKomponenten!P16)","v":""},{"$f":"IF(ISBLANK(DatenKomponenten!Q16),\"\",DatenKomponenten!Q16)","v":""},{"$f":"IF(ISBLANK(DatenKomponenten!R16),\"\",DatenKomponenten!R16)","v":""},{"$f":"IF(ISBLANK(DatenKomponenten!S16),\"\",DatenKomponenten!S16)","v":""},{"$f":"IF(ISBLANK(DatenKomponenten!T16),\"\",DatenKomponenten!T16)","v":""},{"$f":"IF(ISBLANK(DatenKomponenten!U16),\"\",DatenKomponenten!U16)","v":""},{"$f":"IF(ISBLANK(DatenKomponenten!V16),\"\",DatenKomponenten!V16)","v":""},{"$f":"IF(ISBLANK(DatenKomponenten!W16),\"\",DatenKomponenten!W16)","v":""},{"$f":"IF(ISBLANK(DatenKomponenten!X16),\"\",DatenKomponenten!X16)","v":""},{"$f":"IF(ISBLANK(DatenKomponenten!Y16),\"\",DatenKomponenten!Y16)","v":""},{"$f":"IF(ISBLANK(DatenKomponenten!Z16),\"\",DatenKomponenten!Z16)","v":""},{"$f":"IF(ISBLANK(DatenKomponenten!AA16),\"\",DatenKomponenten!AA16)","v":""},{"$f":"IF(ISBLANK(DatenKomponenten!AB16),\"\",DatenKomponenten!AB16)","v":""},{"$f":"IF(ISBLANK(DatenKomponenten!AC16),\"\",DatenKomponenten!AC16)","v":""},{"$f":"IF(ISBLANK(DatenKomponenten!AD16),\"\",DatenKomponenten!AD16)","v":""},{"$f":"IF(ISBLANK(DatenKomponenten!AE16),\"\",DatenKomponenten!AE16)","v":""},{"$f":"IF(ISBLANK(DatenKomponenten!AF16),\"\",DatenKomponenten!AF16)","v":""},{"$f":"IF(ISBLANK(DatenKomponenten!AG16),\"\",DatenKomponenten!AG16)","v":""},{"$f":"IF(ISBLANK(DatenKomponenten!AH16),\"\",DatenKomponenten!AH16)","v":""},{"$f":"IF(ISBLANK(DatenKomponenten!AI16),\"\",DatenKomponenten!AI16)","v":""},{"$f":"IF(ISBLANK(DatenKomponenten!AJ16),\"\",DatenKomponenten!AJ16)","v":""},{"$f":"IF(ISBLANK(DatenKomponenten!AK16),\"\",DatenKomponenten!AK16)","v":""},{"$f":"IF(ISBLANK(DatenKomponenten!AL16),\"\",DatenKomponenten!AL16)","v":""},{"$f":"IF(ISBLANK(DatenKomponenten!AM16),\"\",DatenKomponenten!AM16)","v":""},{"$f":"IF(ISBLANK(DatenKomponenten!AN16),\"\",DatenKomponenten!AN16)","v":""},{"$f":"IF(ISBLANK(DatenKomponenten!AO16),\"\",DatenKomponenten!AO16)","v":""},{"$f":"IF(ISBLANK(DatenKomponenten!AP16),\"\",DatenKomponenten!AP16)","v":""},{"$f":"IF(ISBLANK(DatenKomponenten!AQ16),\"\",DatenKomponenten!AQ16)","v":""},{"$f":"IF(ISBLANK(DatenKomponenten!AR16),\"\",DatenKomponenten!AR16)","v":""},{"$f":"IF(ISBLANK(DatenKomponenten!AS16),\"\",DatenKomponenten!AS16)","v":""},{"$f":"IF(ISBLANK(DatenKomponenten!AT16),\"\",DatenKomponenten!AT16)","v":""},{"$f":"IF(ISBLANK(DatenKomponenten!AU16),\"\",DatenKomponenten!AU16)","v":""},{"$f":"IF(ISBLANK(DatenKomponenten!AV16),\"\",DatenKomponenten!AV16)","v":""},{"$f":"IF(ISBLANK(DatenKomponenten!AW16),\"\",DatenKomponenten!AW16)","v":""},{"$f":"IF(ISBLANK(DatenKomponenten!AX16),\"\",DatenKomponenten!AX16)","v":""},{"$f":"IF(ISBLANK(DatenKomponenten!AY16),\"\",DatenKomponenten!AY16)","v":""},{"$f":"IF(ISBLANK(DatenKomponenten!AZ16),\"\",DatenKomponenten!AZ16)","v":""}]
[{"$f":"IF(ISBLANK(DatenKomponenten!A17),\"\",DatenKomponenten!A17)","v":""},{"$f":"IF(ISBLANK(DatenKomponenten!B17),\"\",DatenKomponenten!B17)","v":""},{"$f":"IF(ISBLANK(DatenKomponenten!C17),\"\",DatenKomponenten!C17)","v":""},{"$f":"IF(ISBLANK(DatenKomponenten!D17),\"\",DatenKomponenten!D17)","v":""},{"$f":"IF(ISBLANK(DatenKomponenten!E17),\"\",DatenKomponenten!E17)","v":""},{"$f":"IF(ISBLANK(DatenKomponenten!F17),\"\",DatenKomponenten!F17)","v":""},{"$f":"IF(ISBLANK(DatenKomponenten!G17),\"\",DatenKomponenten!G17)","v":""},{"$f":"IF(ISBLANK(DatenKomponenten!H17),\"\",DatenKomponenten!H17)","v":""},{"$f":"IF(ISBLANK(DatenKomponenten!I17),\"\",DatenKomponenten!I17)","v":""},{"$f":"IF(ISBLANK(DatenKomponenten!J17),\"\",DatenKomponenten!J17)","v":""},{"$f":"IF(ISBLANK(DatenKomponenten!K17),\"\",DatenKomponenten!K17)","v":""},{"$f":"IF(ISBLANK(DatenKomponenten!L17),\"\",DatenKomponenten!L17)","v":""},{"$f":"IF(ISBLANK(DatenKomponenten!M17),\"\",DatenKomponenten!M17)","v":""},{"$f":"IF(ISBLANK(DatenKomponenten!N17),\"\",DatenKomponenten!N17)","v":""},{"$f":"IF(ISBLANK(DatenKomponenten!O17),\"\",DatenKomponenten!O17)","v":""},{"$f":"IF(ISBLANK(DatenKomponenten!P17),\"\",DatenKomponenten!P17)","v":""},{"$f":"IF(ISBLANK(DatenKomponenten!Q17),\"\",DatenKomponenten!Q17)","v":""},{"$f":"IF(ISBLANK(DatenKomponenten!R17),\"\",DatenKomponenten!R17)","v":""},{"$f":"IF(ISBLANK(DatenKomponenten!S17),\"\",DatenKomponenten!S17)","v":""},{"$f":"IF(ISBLANK(DatenKomponenten!T17),\"\",DatenKomponenten!T17)","v":""},{"$f":"IF(ISBLANK(DatenKomponenten!U17),\"\",DatenKomponenten!U17)","v":""},{"$f":"IF(ISBLANK(DatenKomponenten!V17),\"\",DatenKomponenten!V17)","v":""},{"$f":"IF(ISBLANK(DatenKomponenten!W17),\"\",DatenKomponenten!W17)","v":""},{"$f":"IF(ISBLANK(DatenKomponenten!X17),\"\",DatenKomponenten!X17)","v":""},{"$f":"IF(ISBLANK(DatenKomponenten!Y17),\"\",DatenKomponenten!Y17)","v":""},{"$f":"IF(ISBLANK(DatenKomponenten!Z17),\"\",DatenKomponenten!Z17)","v":""},{"$f":"IF(ISBLANK(DatenKomponenten!AA17),\"\",DatenKomponenten!AA17)","v":""},{"$f":"IF(ISBLANK(DatenKomponenten!AB17),\"\",DatenKomponenten!AB17)","v":""},{"$f":"IF(ISBLANK(DatenKomponenten!AC17),\"\",DatenKomponenten!AC17)","v":""},{"$f":"IF(ISBLANK(DatenKomponenten!AD17),\"\",DatenKomponenten!AD17)","v":""},{"$f":"IF(ISBLANK(DatenKomponenten!AE17),\"\",DatenKomponenten!AE17)","v":""},{"$f":"IF(ISBLANK(DatenKomponenten!AF17),\"\",DatenKomponenten!AF17)","v":""},{"$f":"IF(ISBLANK(DatenKomponenten!AG17),\"\",DatenKomponenten!AG17)","v":""},{"$f":"IF(ISBLANK(DatenKomponenten!AH17),\"\",DatenKomponenten!AH17)","v":""},{"$f":"IF(ISBLANK(DatenKomponenten!AI17),\"\",DatenKomponenten!AI17)","v":""},{"$f":"IF(ISBLANK(DatenKomponenten!AJ17),\"\",DatenKomponenten!AJ17)","v":""},{"$f":"IF(ISBLANK(DatenKomponenten!AK17),\"\",DatenKomponenten!AK17)","v":""},{"$f":"IF(ISBLANK(DatenKomponenten!AL17),\"\",DatenKomponenten!AL17)","v":""},{"$f":"IF(ISBLANK(DatenKomponenten!AM17),\"\",DatenKomponenten!AM17)","v":""},{"$f":"IF(ISBLANK(DatenKomponenten!AN17),\"\",DatenKomponenten!AN17)","v":""},{"$f":"IF(ISBLANK(DatenKomponenten!AO17),\"\",DatenKomponenten!AO17)","v":""},{"$f":"IF(ISBLANK(DatenKomponenten!AP17),\"\",DatenKomponenten!AP17)","v":""},{"$f":"IF(ISBLANK(DatenKomponenten!AQ17),\"\",DatenKomponenten!AQ17)","v":""},{"$f":"IF(ISBLANK(DatenKomponenten!AR17),\"\",DatenKomponenten!AR17)","v":""},{"$f":"IF(ISBLANK(DatenKomponenten!AS17),\"\",DatenKomponenten!AS17)","v":""},{"$f":"IF(ISBLANK(DatenKomponenten!AT17),\"\",DatenKomponenten!AT17)","v":""},{"$f":"IF(ISBLANK(DatenKomponenten!AU17),\"\",DatenKomponenten!AU17)","v":""},{"$f":"IF(ISBLANK(DatenKomponenten!AV17),\"\",DatenKomponenten!AV17)","v":""},{"$f":"IF(ISBLANK(DatenKomponenten!AW17),\"\",DatenKomponenten!AW17)","v":""},{"$f":"IF(ISBLANK(DatenKomponenten!AX17),\"\",DatenKomponenten!AX17)","v":""},{"$f":"IF(ISBLANK(DatenKomponenten!AY17),\"\",DatenKomponenten!AY17)","v":""},{"$f":"IF(ISBLANK(DatenKomponenten!AZ17),\"\",DatenKomponenten!AZ17)","v":""}]
[{"$f":"IF(ISBLANK(DatenKomponenten!A18),\"\",DatenKomponenten!A18)","v":""},{"$f":"IF(ISBLANK(DatenKomponenten!B18),\"\",DatenKomponenten!B18)","v":""},{"$f":"IF(ISBLANK(DatenKomponenten!C18),\"\",DatenKomponenten!C18)","v":""},{"$f":"IF(ISBLANK(DatenKomponenten!D18),\"\",DatenKomponenten!D18)","v":""},{"$f":"IF(ISBLANK(DatenKomponenten!E18),\"\",DatenKomponenten!E18)","v":""},{"$f":"IF(ISBLANK(DatenKomponenten!F18),\"\",DatenKomponenten!F18)","v":""},{"$f":"IF(ISBLANK(DatenKomponenten!G18),\"\",DatenKomponenten!G18)","v":""},{"$f":"IF(ISBLANK(DatenKomponenten!H18),\"\",DatenKomponenten!H18)","v":""},{"$f":"IF(ISBLANK(DatenKomponenten!I18),\"\",DatenKomponenten!I18)","v":""},{"$f":"IF(ISBLANK(DatenKomponenten!J18),\"\",DatenKomponenten!J18)","v":""},{"$f":"IF(ISBLANK(DatenKomponenten!K18),\"\",DatenKomponenten!K18)","v":""},{"$f":"IF(ISBLANK(DatenKomponenten!L18),\"\",DatenKomponenten!L18)","v":""},{"$f":"IF(ISBLANK(DatenKomponenten!M18),\"\",DatenKomponenten!M18)","v":""},{"$f":"IF(ISBLANK(DatenKomponenten!N18),\"\",DatenKomponenten!N18)","v":""},{"$f":"IF(ISBLANK(DatenKomponenten!O18),\"\",DatenKomponenten!O18)","v":""},{"$f":"IF(ISBLANK(DatenKomponenten!P18),\"\",DatenKomponenten!P18)","v":""},{"$f":"IF(ISBLANK(DatenKomponenten!Q18),\"\",DatenKomponenten!Q18)","v":""},{"$f":"IF(ISBLANK(DatenKomponenten!R18),\"\",DatenKomponenten!R18)","v":""},{"$f":"IF(ISBLANK(DatenKomponenten!S18),\"\",DatenKomponenten!S18)","v":""},{"$f":"IF(ISBLANK(DatenKomponenten!T18),\"\",DatenKomponenten!T18)","v":""},{"$f":"IF(ISBLANK(DatenKomponenten!U18),\"\",DatenKomponenten!U18)","v":""},{"$f":"IF(ISBLANK(DatenKomponenten!V18),\"\",DatenKomponenten!V18)","v":""},{"$f":"IF(ISBLANK(DatenKomponenten!W18),\"\",DatenKomponenten!W18)","v":""},{"$f":"IF(ISBLANK(DatenKomponenten!X18),\"\",DatenKomponenten!X18)","v":""},{"$f":"IF(ISBLANK(DatenKomponenten!Y18),\"\",DatenKomponenten!Y18)","v":""},{"$f":"IF(ISBLANK(DatenKomponenten!Z18),\"\",DatenKomponenten!Z18)","v":""},{"$f":"IF(ISBLANK(DatenKomponenten!AA18),\"\",DatenKomponenten!AA18)","v":""},{"$f":"IF(ISBLANK(DatenKomponenten!AB18),\"\",DatenKomponenten!AB18)","v":""},{"$f":"IF(ISBLANK(DatenKomponenten!AC18),\"\",DatenKomponenten!AC18)","v":""},{"$f":"IF(ISBLANK(DatenKomponenten!AD18),\"\",DatenKomponenten!AD18)","v":""},{"$f":"IF(ISBLANK(DatenKomponenten!AE18),\"\",DatenKomponenten!AE18)","v":""},{"$f":"IF(ISBLANK(DatenKomponenten!AF18),\"\",DatenKomponenten!AF18)","v":""},{"$f":"IF(ISBLANK(DatenKomponenten!AG18),\"\",DatenKomponenten!AG18)","v":""},{"$f":"IF(ISBLANK(DatenKomponenten!AH18),\"\",DatenKomponenten!AH18)","v":""},{"$f":"IF(ISBLANK(DatenKomponenten!AI18),\"\",DatenKomponenten!AI18)","v":""},{"$f":"IF(ISBLANK(DatenKomponenten!AJ18),\"\",DatenKomponenten!AJ18)","v":""},{"$f":"IF(ISBLANK(DatenKomponenten!AK18),\"\",DatenKomponenten!AK18)","v":""},{"$f":"IF(ISBLANK(DatenKomponenten!AL18),\"\",DatenKomponenten!AL18)","v":""},{"$f":"IF(ISBLANK(DatenKomponenten!AM18),\"\",DatenKomponenten!AM18)","v":""},{"$f":"IF(ISBLANK(DatenKomponenten!AN18),\"\",DatenKomponenten!AN18)","v":""},{"$f":"IF(ISBLANK(DatenKomponenten!AO18),\"\",DatenKomponenten!AO18)","v":""},{"$f":"IF(ISBLANK(DatenKomponenten!AP18),\"\",DatenKomponenten!AP18)","v":""},{"$f":"IF(ISBLANK(DatenKomponenten!AQ18),\"\",DatenKomponenten!AQ18)","v":""},{"$f":"IF(ISBLANK(DatenKomponenten!AR18),\"\",DatenKomponenten!AR18)","v":""},{"$f":"IF(ISBLANK(DatenKomponenten!AS18),\"\",DatenKomponenten!AS18)","v":""},{"$f":"IF(ISBLANK(DatenKomponenten!AT18),\"\",DatenKomponenten!AT18)","v":""},{"$f":"IF(ISBLANK(DatenKomponenten!AU18),\"\",DatenKomponenten!AU18)","v":""},{"$f":"IF(ISBLANK(DatenKomponenten!AV18),\"\",DatenKomponenten!AV18)","v":""},{"$f":"IF(ISBLANK(DatenKomponenten!AW18),\"\",DatenKomponenten!AW18)","v":""},{"$f":"IF(ISBLANK(DatenKomponenten!AX18),\"\",DatenKomponenten!AX18)","v":""},{"$f":"IF(ISBLANK(DatenKomponenten!AY18),\"\",DatenKomponenten!AY18)","v":""},{"$f":"IF(ISBLANK(DatenKomponenten!AZ18),\"\",DatenKomponenten!AZ18)","v":""}]
[{"$f":"IF(ISBLANK(DatenKomponenten!A19),\"\",DatenKomponenten!A19)","v":""},{"$f":"IF(ISBLANK(DatenKomponenten!B19),\"\",DatenKomponenten!B19)","v":""},{"$f":"IF(ISBLANK(DatenKomponenten!C19),\"\",DatenKomponenten!C19)","v":""},{"$f":"IF(ISBLANK(DatenKomponenten!D19),\"\",DatenKomponenten!D19)","v":""},{"$f":"IF(ISBLANK(DatenKomponenten!E19),\"\",DatenKomponenten!E19)","v":""},{"$f":"IF(ISBLANK(DatenKomponenten!F19),\"\",DatenKomponenten!F19)","v":""},{"$f":"IF(ISBLANK(DatenKomponenten!G19),\"\",DatenKomponenten!G19)","v":""},{"$f":"IF(ISBLANK(DatenKomponenten!H19),\"\",DatenKomponenten!H19)","v":""},{"$f":"IF(ISBLANK(DatenKomponenten!I19),\"\",DatenKomponenten!I19)","v":""},{"$f":"IF(ISBLANK(DatenKomponenten!J19),\"\",DatenKomponenten!J19)","v":""},{"$f":"IF(ISBLANK(DatenKomponenten!K19),\"\",DatenKomponenten!K19)","v":""},{"$f":"IF(ISBLANK(DatenKomponenten!L19),\"\",DatenKomponenten!L19)","v":""},{"$f":"IF(ISBLANK(DatenKomponenten!M19),\"\",DatenKomponenten!M19)","v":""},{"$f":"IF(ISBLANK(DatenKomponenten!N19),\"\",DatenKomponenten!N19)","v":""},{"$f":"IF(ISBLANK(DatenKomponenten!O19),\"\",DatenKomponenten!O19)","v":""},{"$f":"IF(ISBLANK(DatenKomponenten!P19),\"\",DatenKomponenten!P19)","v":""},{"$f":"IF(ISBLANK(DatenKomponenten!Q19),\"\",DatenKomponenten!Q19)","v":""},{"$f":"IF(ISBLANK(DatenKomponenten!R19),\"\",DatenKomponenten!R19)","v":""},{"$f":"IF(ISBLANK(DatenKomponenten!S19),\"\",DatenKomponenten!S19)","v":""},{"$f":"IF(ISBLANK(DatenKomponenten!T19),\"\",DatenKomponenten!T19)","v":""},{"$f":"IF(ISBLANK(DatenKomponenten!U19),\"\",DatenKomponenten!U19)","v":""},{"$f":"IF(ISBLANK(DatenKomponenten!V19),\"\",DatenKomponenten!V19)","v":""},{"$f":"IF(ISBLANK(DatenKomponenten!W19),\"\",DatenKomponenten!W19)","v":""},{"$f":"IF(ISBLANK(DatenKomponenten!X19),\"\",DatenKomponenten!X19)","v":""},{"$f":"IF(ISBLANK(DatenKomponenten!Y19),\"\",DatenKomponenten!Y19)","v":""},{"$f":"IF(ISBLANK(DatenKomponenten!Z19),\"\",DatenKomponenten!Z19)","v":""},{"$f":"IF(ISBLANK(DatenKomponenten!AA19),\"\",DatenKomponenten!AA19)","v":""},{"$f":"IF(ISBLANK(DatenKomponenten!AB19),\"\",DatenKomponenten!AB19)","v":""},{"$f":"IF(ISBLANK(DatenKomponenten!AC19),\"\",DatenKomponenten!AC19)","v":""},{"$f":"IF(ISBLANK(DatenKomponenten!AD19),\"\",DatenKomponenten!AD19)","v":""},{"$f":"IF(ISBLANK(DatenKomponenten!AE19),\"\",DatenKomponenten!AE19)","v":""},{"$f":"IF(ISBLANK(DatenKomponenten!AF19),\"\",DatenKomponenten!AF19)","v":""},{"$f":"IF(ISBLANK(DatenKomponenten!AG19),\"\",DatenKomponenten!AG19)","v":""},{"$f":"IF(ISBLANK(DatenKomponenten!AH19),\"\",DatenKomponenten!AH19)","v":""},{"$f":"IF(ISBLANK(DatenKomponenten!AI19),\"\",DatenKomponenten!AI19)","v":""},{"$f":"IF(ISBLANK(DatenKomponenten!AJ19),\"\",DatenKomponenten!AJ19)","v":""},{"$f":"IF(ISBLANK(DatenKomponenten!AK19),\"\",DatenKomponenten!AK19)","v":""},{"$f":"IF(ISBLANK(DatenKomponenten!AL19),\"\",DatenKomponenten!AL19)","v":""},{"$f":"IF(ISBLANK(DatenKomponenten!AM19),\"\",DatenKomponenten!AM19)","v":""},{"$f":"IF(ISBLANK(DatenKomponenten!AN19),\"\",DatenKomponenten!AN19)","v":""},{"$f":"IF(ISBLANK(DatenKomponenten!AO19),\"\",DatenKomponenten!AO19)","v":""},{"$f":"IF(ISBLANK(DatenKomponenten!AP19),\"\",DatenKomponenten!AP19)","v":""},{"$f":"IF(ISBLANK(DatenKomponenten!AQ19),\"\",DatenKomponenten!AQ19)","v":""},{"$f":"IF(ISBLANK(DatenKomponenten!AR19),\"\",DatenKomponenten!AR19)","v":""},{"$f":"IF(ISBLANK(DatenKomponenten!AS19),\"\",DatenKomponenten!AS19)","v":""},{"$f":"IF(ISBLANK(DatenKomponenten!AT19),\"\",DatenKomponenten!AT19)","v":""},{"$f":"IF(ISBLANK(DatenKomponenten!AU19),\"\",DatenKomponenten!AU19)","v":""},{"$f":"IF(ISBLANK(DatenKomponenten!AV19),\"\",DatenKomponenten!AV19)","v":""},{"$f":"IF(ISBLANK(DatenKomponenten!AW19),\"\",DatenKomponenten!AW19)","v":""},{"$f":"IF(ISBLANK(DatenKomponenten!AX19),\"\",DatenKomponenten!AX19)","v":""},{"$f":"IF(ISBLANK(DatenKomponenten!AY19),\"\",DatenKomponenten!AY19)","v":""},{"$f":"IF(ISBLANK(DatenKomponenten!AZ19),\"\",DatenKomponenten!AZ19)","v":""}]
[{"$f":"IF(ISBLANK(DatenKomponenten!A20),\"\",DatenKomponenten!A20)","v":""},{"$f":"IF(ISBLANK(DatenKomponenten!B20),\"\",DatenKomponenten!B20)","v":""},{"$f":"IF(ISBLANK(DatenKomponenten!C20),\"\",DatenKomponenten!C20)","v":""},{"$f":"IF(ISBLANK(DatenKomponenten!D20),\"\",DatenKomponenten!D20)","v":""},{"$f":"IF(ISBLANK(DatenKomponenten!E20),\"\",DatenKomponenten!E20)","v":""},{"$f":"IF(ISBLANK(DatenKomponenten!F20),\"\",DatenKomponenten!F20)","v":""},{"$f":"IF(ISBLANK(DatenKomponenten!G20),\"\",DatenKomponenten!G20)","v":""},{"$f":"IF(ISBLANK(DatenKomponenten!H20),\"\",DatenKomponenten!H20)","v":""},{"$f":"IF(ISBLANK(DatenKomponenten!I20),\"\",DatenKomponenten!I20)","v":""},{"$f":"IF(ISBLANK(DatenKomponenten!J20),\"\",DatenKomponenten!J20)","v":""},{"$f":"IF(ISBLANK(DatenKomponenten!K20),\"\",DatenKomponenten!K20)","v":""},{"$f":"IF(ISBLANK(DatenKomponenten!L20),\"\",DatenKomponenten!L20)","v":""},{"$f":"IF(ISBLANK(DatenKomponenten!M20),\"\",DatenKomponenten!M20)","v":""},{"$f":"IF(ISBLANK(DatenKomponenten!N20),\"\",DatenKomponenten!N20)","v":""},{"$f":"IF(ISBLANK(DatenKomponenten!O20),\"\",DatenKomponenten!O20)","v":""},{"$f":"IF(ISBLANK(DatenKomponenten!P20),\"\",DatenKomponenten!P20)","v":""},{"$f":"IF(ISBLANK(DatenKomponenten!Q20),\"\",DatenKomponenten!Q20)","v":""},{"$f":"IF(ISBLANK(DatenKomponenten!R20),\"\",DatenKomponenten!R20)","v":""},{"$f":"IF(ISBLANK(DatenKomponenten!S20),\"\",DatenKomponenten!S20)","v":""},{"$f":"IF(ISBLANK(DatenKomponenten!T20),\"\",DatenKomponenten!T20)","v":""},{"$f":"IF(ISBLANK(DatenKomponenten!U20),\"\",DatenKomponenten!U20)","v":""},{"$f":"IF(ISBLANK(DatenKomponenten!V20),\"\",DatenKomponenten!V20)","v":""},{"$f":"IF(ISBLANK(DatenKomponenten!W20),\"\",DatenKomponenten!W20)","v":""},{"$f":"IF(ISBLANK(DatenKomponenten!X20),\"\",DatenKomponenten!X20)","v":""},{"$f":"IF(ISBLANK(DatenKomponenten!Y20),\"\",DatenKomponenten!Y20)","v":""},{"$f":"IF(ISBLANK(DatenKomponenten!Z20),\"\",DatenKomponenten!Z20)","v":""},{"$f":"IF(ISBLANK(DatenKomponenten!AA20),\"\",DatenKomponenten!AA20)","v":""},{"$f":"IF(ISBLANK(DatenKomponenten!AB20),\"\",DatenKomponenten!AB20)","v":""},{"$f":"IF(ISBLANK(DatenKomponenten!AC20),\"\",DatenKomponenten!AC20)","v":""},{"$f":"IF(ISBLANK(DatenKomponenten!AD20),\"\",DatenKomponenten!AD20)","v":""},{"$f":"IF(ISBLANK(DatenKomponenten!AE20),\"\",DatenKomponenten!AE20)","v":""},{"$f":"IF(ISBLANK(DatenKomponenten!AF20),\"\",DatenKomponenten!AF20)","v":""},{"$f":"IF(ISBLANK(DatenKomponenten!AG20),\"\",DatenKomponenten!AG20)","v":""},{"$f":"IF(ISBLANK(DatenKomponenten!AH20),\"\",DatenKomponenten!AH20)","v":""},{"$f":"IF(ISBLANK(DatenKomponenten!AI20),\"\",DatenKomponenten!AI20)","v":""},{"$f":"IF(ISBLANK(DatenKomponenten!AJ20),\"\",DatenKomponenten!AJ20)","v":""},{"$f":"IF(ISBLANK(DatenKomponenten!AK20),\"\",DatenKomponenten!AK20)","v":""},{"$f":"IF(ISBLANK(DatenKomponenten!AL20),\"\",DatenKomponenten!AL20)","v":""},{"$f":"IF(ISBLANK(DatenKomponenten!AM20),\"\",DatenKomponenten!AM20)","v":""},{"$f":"IF(ISBLANK(DatenKomponenten!AN20),\"\",DatenKomponenten!AN20)","v":""},{"$f":"IF(ISBLANK(DatenKomponenten!AO20),\"\",DatenKomponenten!AO20)","v":""},{"$f":"IF(ISBLANK(DatenKomponenten!AP20),\"\",DatenKomponenten!AP20)","v":""},{"$f":"IF(ISBLANK(DatenKomponenten!AQ20),\"\",DatenKomponenten!AQ20)","v":""},{"$f":"IF(ISBLANK(DatenKomponenten!AR20),\"\",DatenKomponenten!AR20)","v":""},{"$f":"IF(ISBLANK(DatenKomponenten!AS20),\"\",DatenKomponenten!AS20)","v":""},{"$f":"IF(ISBLANK(DatenKomponenten!AT20),\"\",DatenKomponenten!AT20)","v":""},{"$f":"IF(ISBLANK(DatenKomponenten!AU20),\"\",DatenKomponenten!AU20)","v":""},{"$f":"IF(ISBLANK(DatenKomponenten!AV20),\"\",DatenKomponenten!AV20)","v":""},{"$f":"IF(ISBLANK(DatenKomponenten!AW20),\"\",DatenKomponenten!AW20)","v":""},{"$f":"IF(ISBLANK(DatenKomponenten!AX20),\"\",DatenKomponenten!AX20)","v":""},{"$f":"IF(ISBLANK(DatenKomponenten!AY20),\"\",DatenKomponenten!AY20)","v":""},{"$f":"IF(ISBLANK(DatenKomponenten!AZ20),\"\",DatenKomponenten!AZ20)","v":""}]
[{"$f":"IF(ISBLANK(DatenKomponenten!A21),\"\",DatenKomponenten!A21)","v":""},{"$f":"IF(ISBLANK(DatenKomponenten!B21),\"\",DatenKomponenten!B21)","v":""},{"$f":"IF(ISBLANK(DatenKomponenten!C21),\"\",DatenKomponenten!C21)","v":""},{"$f":"IF(ISBLANK(DatenKomponenten!D21),\"\",DatenKomponenten!D21)","v":""},{"$f":"IF(ISBLANK(DatenKomponenten!E21),\"\",DatenKomponenten!E21)","v":""},{"$f":"IF(ISBLANK(DatenKomponenten!F21),\"\",DatenKomponenten!F21)","v":""},{"$f":"IF(ISBLANK(DatenKomponenten!G21),\"\",DatenKomponenten!G21)","v":""},{"$f":"IF(ISBLANK(DatenKomponenten!H21),\"\",DatenKomponenten!H21)","v":""},{"$f":"IF(ISBLANK(DatenKomponenten!I21),\"\",DatenKomponenten!I21)","v":""},{"$f":"IF(ISBLANK(DatenKomponenten!J21),\"\",DatenKomponenten!J21)","v":""},{"$f":"IF(ISBLANK(DatenKomponenten!K21),\"\",DatenKomponenten!K21)","v":""},{"$f":"IF(ISBLANK(DatenKomponenten!L21),\"\",DatenKomponenten!L21)","v":""},{"$f":"IF(ISBLANK(DatenKomponenten!M21),\"\",DatenKomponenten!M21)","v":""},{"$f":"IF(ISBLANK(DatenKomponenten!N21),\"\",DatenKomponenten!N21)","v":""},{"$f":"IF(ISBLANK(DatenKomponenten!O21),\"\",DatenKomponenten!O21)","v":""},{"$f":"IF(ISBLANK(DatenKomponenten!P21),\"\",DatenKomponenten!P21)","v":""},{"$f":"IF(ISBLANK(DatenKomponenten!Q21),\"\",DatenKomponenten!Q21)","v":""},{"$f":"IF(ISBLANK(DatenKomponenten!R21),\"\",DatenKomponenten!R21)","v":""},{"$f":"IF(ISBLANK(DatenKomponenten!S21),\"\",DatenKomponenten!S21)","v":""},{"$f":"IF(ISBLANK(DatenKomponenten!T21),\"\",DatenKomponenten!T21)","v":""},{"$f":"IF(ISBLANK(DatenKomponenten!U21),\"\",DatenKomponenten!U21)","v":""},{"$f":"IF(ISBLANK(DatenKomponenten!V21),\"\",DatenKomponenten!V21)","v":""},{"$f":"IF(ISBLANK(DatenKomponenten!W21),\"\",DatenKomponenten!W21)","v":""},{"$f":"IF(ISBLANK(DatenKomponenten!X21),\"\",DatenKomponenten!X21)","v":""},{"$f":"IF(ISBLANK(DatenKomponenten!Y21),\"\",DatenKomponenten!Y21)","v":""},{"$f":"IF(ISBLANK(DatenKomponenten!Z21),\"\",DatenKomponenten!Z21)","v":""},{"$f":"IF(ISBLANK(DatenKomponenten!AA21),\"\",DatenKomponenten!AA21)","v":""},{"$f":"IF(ISBLANK(DatenKomponenten!AB21),\"\",DatenKomponenten!AB21)","v":""},{"$f":"IF(ISBLANK(DatenKomponenten!AC21),\"\",DatenKomponenten!AC21)","v":""},{"$f":"IF(ISBLANK(DatenKomponenten!AD21),\"\",DatenKomponenten!AD21)","v":""},{"$f":"IF(ISBLANK(DatenKomponenten!AE21),\"\",DatenKomponenten!AE21)","v":""},{"$f":"IF(ISBLANK(DatenKomponenten!AF21),\"\",DatenKomponenten!AF21)","v":""},{"$f":"IF(ISBLANK(DatenKomponenten!AG21),\"\",DatenKomponenten!AG21)","v":""},{"$f":"IF(ISBLANK(DatenKomponenten!AH21),\"\",DatenKomponenten!AH21)","v":""},{"$f":"IF(ISBLANK(DatenKomponenten!AI21),\"\",DatenKomponenten!AI21)","v":""},{"$f":"IF(ISBLANK(DatenKomponenten!AJ21),\"\",DatenKomponenten!AJ21)","v":""},{"$f":"IF(ISBLANK(DatenKomponenten!AK21),\"\",DatenKomponenten!AK21)","v":""},{"$f":"IF(ISBLANK(DatenKomponenten!AL21),\"\",DatenKomponenten!AL21)","v":""},{"$f":"IF(ISBLANK(DatenKomponenten!AM21),\"\",DatenKomponenten!AM21)","v":""},{"$f":"IF(ISBLANK(DatenKomponenten!AN21),\"\",DatenKomponenten!AN21)","v":""},{"$f":"IF(ISBLANK(DatenKomponenten!AO21),\"\",DatenKomponenten!AO21)","v":""},{"$f":"IF(ISBLANK(DatenKomponenten!AP21),\"\",DatenKomponenten!AP21)","v":""},{"$f":"IF(ISBLANK(DatenKomponenten!AQ21),\"\",DatenKomponenten!AQ21)","v":""},{"$f":"IF(ISBLANK(DatenKomponenten!AR21),\"\",DatenKomponenten!AR21)","v":""},{"$f":"IF(ISBLANK(DatenKomponenten!AS21),\"\",DatenKomponenten!AS21)","v":""},{"$f":"IF(ISBLANK(DatenKomponenten!AT21),\"\",DatenKomponenten!AT21)","v":""},{"$f":"IF(ISBLANK(DatenKomponenten!AU21),\"\",DatenKomponenten!AU21)","v":""},{"$f":"IF(ISBLANK(DatenKomponenten!AV21),\"\",DatenKomponenten!AV21)","v":""},{"$f":"IF(ISBLANK(DatenKomponenten!AW21),\"\",DatenKomponenten!AW21)","v":""},{"$f":"IF(ISBLANK(DatenKomponenten!AX21),\"\",DatenKomponenten!AX21)","v":""},{"$f":"IF(ISBLANK(DatenKomponenten!AY21),\"\",DatenKomponenten!AY21)","v":""},{"$f":"IF(ISBLANK(DatenKomponenten!AZ21),\"\",DatenKomponenten!AZ21)","v":""}]
[{"$f":"IF(ISBLANK(DatenKomponenten!A22),\"\",DatenKomponenten!A22)","v":""},{"$f":"IF(ISBLANK(DatenKomponenten!B22),\"\",DatenKomponenten!B22)","v":""},{"$f":"IF(ISBLANK(DatenKomponenten!C22),\"\",DatenKomponenten!C22)","v":""},{"$f":"IF(ISBLANK(DatenKomponenten!D22),\"\",DatenKomponenten!D22)","v":""},{"$f":"IF(ISBLANK(DatenKomponenten!E22),\"\",DatenKomponenten!E22)","v":""},{"$f":"IF(ISBLANK(DatenKomponenten!F22),\"\",DatenKomponenten!F22)","v":""},{"$f":"IF(ISBLANK(DatenKomponenten!G22),\"\",DatenKomponenten!G22)","v":""},{"$f":"IF(ISBLANK(DatenKomponenten!H22),\"\",DatenKomponenten!H22)","v":""},{"$f":"IF(ISBLANK(DatenKomponenten!I22),\"\",DatenKomponenten!I22)","v":""},{"$f":"IF(ISBLANK(DatenKomponenten!J22),\"\",DatenKomponenten!J22)","v":""},{"$f":"IF(ISBLANK(DatenKomponenten!K22),\"\",DatenKomponenten!K22)","v":""},{"$f":"IF(ISBLANK(DatenKomponenten!L22),\"\",DatenKomponenten!L22)","v":""},{"$f":"IF(ISBLANK(DatenKomponenten!M22),\"\",DatenKomponenten!M22)","v":""},{"$f":"IF(ISBLANK(DatenKomponenten!N22),\"\",DatenKomponenten!N22)","v":""},{"$f":"IF(ISBLANK(DatenKomponenten!O22),\"\",DatenKomponenten!O22)","v":""},{"$f":"IF(ISBLANK(DatenKomponenten!P22),\"\",DatenKomponenten!P22)","v":""},{"$f":"IF(ISBLANK(DatenKomponenten!Q22),\"\",DatenKomponenten!Q22)","v":""},{"$f":"IF(ISBLANK(DatenKomponenten!R22),\"\",DatenKomponenten!R22)","v":""},{"$f":"IF(ISBLANK(DatenKomponenten!S22),\"\",DatenKomponenten!S22)","v":""},{"$f":"IF(ISBLANK(DatenKomponenten!T22),\"\",DatenKomponenten!T22)","v":""},{"$f":"IF(ISBLANK(DatenKomponenten!U22),\"\",DatenKomponenten!U22)","v":""},{"$f":"IF(ISBLANK(DatenKomponenten!V22),\"\",DatenKomponenten!V22)","v":""},{"$f":"IF(ISBLANK(DatenKomponenten!W22),\"\",DatenKomponenten!W22)","v":""},{"$f":"IF(ISBLANK(DatenKomponenten!X22),\"\",DatenKomponenten!X22)","v":""},{"$f":"IF(ISBLANK(DatenKomponenten!Y22),\"\",DatenKomponenten!Y22)","v":""},{"$f":"IF(ISBLANK(DatenKomponenten!Z22),\"\",DatenKomponenten!Z22)","v":""},{"$f":"IF(ISBLANK(DatenKomponenten!AA22),\"\",DatenKomponenten!AA22)","v":""},{"$f":"IF(ISBLANK(DatenKomponenten!AB22),\"\",DatenKomponenten!AB22)","v":""},{"$f":"IF(ISBLANK(DatenKomponenten!AC22),\"\",DatenKomponenten!AC22)","v":""},{"$f":"IF(ISBLANK(DatenKomponenten!AD22),\"\",DatenKomponenten!AD22)","v":""},{"$f":"IF(ISBLANK(DatenKomponenten!AE22),\"\",DatenKomponenten!AE22)","v":""},{"$f":"IF(ISBLANK(DatenKomponenten!AF22),\"\",DatenKomponenten!AF22)","v":""},{"$f":"IF(ISBLANK(DatenKomponenten!AG22),\"\",DatenKomponenten!AG22)","v":""},{"$f":"IF(ISBLANK(DatenKomponenten!AH22),\"\",DatenKomponenten!AH22)","v":""},{"$f":"IF(ISBLANK(DatenKomponenten!AI22),\"\",DatenKomponenten!AI22)","v":""},{"$f":"IF(ISBLANK(DatenKomponenten!AJ22),\"\",DatenKomponenten!AJ22)","v":""},{"$f":"IF(ISBLANK(DatenKomponenten!AK22),\"\",DatenKomponenten!AK22)","v":""},{"$f":"IF(ISBLANK(DatenKomponenten!AL22),\"\",DatenKomponenten!AL22)","v":""},{"$f":"IF(ISBLANK(DatenKomponenten!AM22),\"\",DatenKomponenten!AM22)","v":""},{"$f":"IF(ISBLANK(DatenKomponenten!AN22),\"\",DatenKomponenten!AN22)","v":""},{"$f":"IF(ISBLANK(DatenKomponenten!AO22),\"\",DatenKomponenten!AO22)","v":""},{"$f":"IF(ISBLANK(DatenKomponenten!AP22),\"\",DatenKomponenten!AP22)","v":""},{"$f":"IF(ISBLANK(DatenKomponenten!AQ22),\"\",DatenKomponenten!AQ22)","v":""},{"$f":"IF(ISBLANK(DatenKomponenten!AR22),\"\",DatenKomponenten!AR22)","v":""},{"$f":"IF(ISBLANK(DatenKomponenten!AS22),\"\",DatenKomponenten!AS22)","v":""},{"$f":"IF(ISBLANK(DatenKomponenten!AT22),\"\",DatenKomponenten!AT22)","v":""},{"$f":"IF(ISBLANK(DatenKomponenten!AU22),\"\",DatenKomponenten!AU22)","v":""},{"$f":"IF(ISBLANK(DatenKomponenten!AV22),\"\",DatenKomponenten!AV22)","v":""},{"$f":"IF(ISBLANK(DatenKomponenten!AW22),\"\",DatenKomponenten!AW22)","v":""},{"$f":"IF(ISBLANK(DatenKomponenten!AX22),\"\",DatenKomponenten!AX22)","v":""},{"$f":"IF(ISBLANK(DatenKomponenten!AY22),\"\",DatenKomponenten!AY22)","v":""},{"$f":"IF(ISBLANK(DatenKomponenten!AZ22),\"\",DatenKomponenten!AZ22)","v":""}]
[{"$f":"IF(ISBLANK(DatenKomponenten!A23),\"\",DatenKomponenten!A23)","v":""},{"$f":"IF(ISBLANK(DatenKomponenten!B23),\"\",DatenKomponenten!B23)","v":""},{"$f":"IF(ISBLANK(DatenKomponenten!C23),\"\",DatenKomponenten!C23)","v":""},{"$f":"IF(ISBLANK(DatenKomponenten!D23),\"\",DatenKomponenten!D23)","v":""},{"$f":"IF(ISBLANK(DatenKomponenten!E23),\"\",DatenKomponenten!E23)","v":""},{"$f":"IF(ISBLANK(DatenKomponenten!F23),\"\",DatenKomponenten!F23)","v":""},{"$f":"IF(ISBLANK(DatenKomponenten!G23),\"\",DatenKomponenten!G23)","v":""},{"$f":"IF(ISBLANK(DatenKomponenten!H23),\"\",DatenKomponenten!H23)","v":""},{"$f":"IF(ISBLANK(DatenKomponenten!I23),\"\",DatenKomponenten!I23)","v":""},{"$f":"IF(ISBLANK(DatenKomponenten!J23),\"\",DatenKomponenten!J23)","v":""},{"$f":"IF(ISBLANK(DatenKomponenten!K23),\"\",DatenKomponenten!K23)","v":""},{"$f":"IF(ISBLANK(DatenKomponenten!L23),\"\",DatenKomponenten!L23)","v":""},{"$f":"IF(ISBLANK(DatenKomponenten!M23),\"\",DatenKomponenten!M23)","v":""},{"$f":"IF(ISBLANK(DatenKomponenten!N23),\"\",DatenKomponenten!N23)","v":""},{"$f":"IF(ISBLANK(DatenKomponenten!O23),\"\",DatenKomponenten!O23)","v":""},{"$f":"IF(ISBLANK(DatenKomponenten!P23),\"\",DatenKomponenten!P23)","v":""},{"$f":"IF(ISBLANK(DatenKomponenten!Q23),\"\",DatenKomponenten!Q23)","v":""},{"$f":"IF(ISBLANK(DatenKomponenten!R23),\"\",DatenKomponenten!R23)","v":""},{"$f":"IF(ISBLANK(DatenKomponenten!S23),\"\",DatenKomponenten!S23)","v":""},{"$f":"IF(ISBLANK(DatenKomponenten!T23),\"\",DatenKomponenten!T23)","v":""},{"$f":"IF(ISBLANK(DatenKomponenten!U23),\"\",DatenKomponenten!U23)","v":""},{"$f":"IF(ISBLANK(DatenKomponenten!V23),\"\",DatenKomponenten!V23)","v":""},{"$f":"IF(ISBLANK(DatenKomponenten!W23),\"\",DatenKomponenten!W23)","v":""},{"$f":"IF(ISBLANK(DatenKomponenten!X23),\"\",DatenKomponenten!X23)","v":""},{"$f":"IF(ISBLANK(DatenKomponenten!Y23),\"\",DatenKomponenten!Y23)","v":""},{"$f":"IF(ISBLANK(DatenKomponenten!Z23),\"\",DatenKomponenten!Z23)","v":""},{"$f":"IF(ISBLANK(DatenKomponenten!AA23),\"\",DatenKomponenten!AA23)","v":""},{"$f":"IF(ISBLANK(DatenKomponenten!AB23),\"\",DatenKomponenten!AB23)","v":""},{"$f":"IF(ISBLANK(DatenKomponenten!AC23),\"\",DatenKomponenten!AC23)","v":""},{"$f":"IF(ISBLANK(DatenKomponenten!AD23),\"\",DatenKomponenten!AD23)","v":""},{"$f":"IF(ISBLANK(DatenKomponenten!AE23),\"\",DatenKomponenten!AE23)","v":""},{"$f":"IF(ISBLANK(DatenKomponenten!AF23),\"\",DatenKomponenten!AF23)","v":""},{"$f":"IF(ISBLANK(DatenKomponenten!AG23),\"\",DatenKomponenten!AG23)","v":""},{"$f":"IF(ISBLANK(DatenKomponenten!AH23),\"\",DatenKomponenten!AH23)","v":""},{"$f":"IF(ISBLANK(DatenKomponenten!AI23),\"\",DatenKomponenten!AI23)","v":""},{"$f":"IF(ISBLANK(DatenKomponenten!AJ23),\"\",DatenKomponenten!AJ23)","v":""},{"$f":"IF(ISBLANK(DatenKomponenten!AK23),\"\",DatenKomponenten!AK23)","v":""},{"$f":"IF(ISBLANK(DatenKomponenten!AL23),\"\",DatenKomponenten!AL23)","v":""},{"$f":"IF(ISBLANK(DatenKomponenten!AM23),\"\",DatenKomponenten!AM23)","v":""},{"$f":"IF(ISBLANK(DatenKomponenten!AN23),\"\",DatenKomponenten!AN23)","v":""},{"$f":"IF(ISBLANK(DatenKomponenten!AO23),\"\",DatenKomponenten!AO23)","v":""},{"$f":"IF(ISBLANK(DatenKomponenten!AP23),\"\",DatenKomponenten!AP23)","v":""},{"$f":"IF(ISBLANK(DatenKomponenten!AQ23),\"\",DatenKomponenten!AQ23)","v":""},{"$f":"IF(ISBLANK(DatenKomponenten!AR23),\"\",DatenKomponenten!AR23)","v":""},{"$f":"IF(ISBLANK(DatenKomponenten!AS23),\"\",DatenKomponenten!AS23)","v":""},{"$f":"IF(ISBLANK(DatenKomponenten!AT23),\"\",DatenKomponenten!AT23)","v":""},{"$f":"IF(ISBLANK(DatenKomponenten!AU23),\"\",DatenKomponenten!AU23)","v":""},{"$f":"IF(ISBLANK(DatenKomponenten!AV23),\"\",DatenKomponenten!AV23)","v":""},{"$f":"IF(ISBLANK(DatenKomponenten!AW23),\"\",DatenKomponenten!AW23)","v":""},{"$f":"IF(ISBLANK(DatenKomponenten!AX23),\"\",DatenKomponenten!AX23)","v":""},{"$f":"IF(ISBLANK(DatenKomponenten!AY23),\"\",DatenKomponenten!AY23)","v":""},{"$f":"IF(ISBLANK(DatenKomponenten!AZ23),\"\",DatenKomponenten!AZ23)","v":""}]
[{"$f":"IF(ISBLANK(DatenKomponenten!A24),\"\",DatenKomponenten!A24)","v":""},{"$f":"IF(ISBLANK(DatenKomponenten!B24),\"\",DatenKomponenten!B24)","v":""},{"$f":"IF(ISBLANK(DatenKomponenten!C24),\"\",DatenKomponenten!C24)","v":""},{"$f":"IF(ISBLANK(DatenKomponenten!D24),\"\",DatenKomponenten!D24)","v":""},{"$f":"IF(ISBLANK(DatenKomponenten!E24),\"\",DatenKomponenten!E24)","v":""},{"$f":"IF(ISBLANK(DatenKomponenten!F24),\"\",DatenKomponenten!F24)","v":""},{"$f":"IF(ISBLANK(DatenKomponenten!G24),\"\",DatenKomponenten!G24)","v":""},{"$f":"IF(ISBLANK(DatenKomponenten!H24),\"\",DatenKomponenten!H24)","v":""},{"$f":"IF(ISBLANK(DatenKomponenten!I24),\"\",DatenKomponenten!I24)","v":""},{"$f":"IF(ISBLANK(DatenKomponenten!J24),\"\",DatenKomponenten!J24)","v":""},{"$f":"IF(ISBLANK(DatenKomponenten!K24),\"\",DatenKomponenten!K24)","v":""},{"$f":"IF(ISBLANK(DatenKomponenten!L24),\"\",DatenKomponenten!L24)","v":""},{"$f":"IF(ISBLANK(DatenKomponenten!M24),\"\",DatenKomponenten!M24)","v":""},{"$f":"IF(ISBLANK(DatenKomponenten!N24),\"\",DatenKomponenten!N24)","v":""},{"$f":"IF(ISBLANK(DatenKomponenten!O24),\"\",DatenKomponenten!O24)","v":""},{"$f":"IF(ISBLANK(DatenKomponenten!P24),\"\",DatenKomponenten!P24)","v":""},{"$f":"IF(ISBLANK(DatenKomponenten!Q24),\"\",DatenKomponenten!Q24)","v":""},{"$f":"IF(ISBLANK(DatenKomponenten!R24),\"\",DatenKomponenten!R24)","v":""},{"$f":"IF(ISBLANK(DatenKomponenten!S24),\"\",DatenKomponenten!S24)","v":""},{"$f":"IF(ISBLANK(DatenKomponenten!T24),\"\",DatenKomponenten!T24)","v":""},{"$f":"IF(ISBLANK(DatenKomponenten!U24),\"\",DatenKomponenten!U24)","v":""},{"$f":"IF(ISBLANK(DatenKomponenten!V24),\"\",DatenKomponenten!V24)","v":""},{"$f":"IF(ISBLANK(DatenKomponenten!W24),\"\",DatenKomponenten!W24)","v":""},{"$f":"IF(ISBLANK(DatenKomponenten!X24),\"\",DatenKomponenten!X24)","v":""},{"$f":"IF(ISBLANK(DatenKomponenten!Y24),\"\",DatenKomponenten!Y24)","v":""},{"$f":"IF(ISBLANK(DatenKomponenten!Z24),\"\",DatenKomponenten!Z24)","v":""},{"$f":"IF(ISBLANK(DatenKomponenten!AA24),\"\",DatenKomponenten!AA24)","v":""},{"$f":"IF(ISBLANK(DatenKomponenten!AB24),\"\",DatenKomponenten!AB24)","v":""},{"$f":"IF(ISBLANK(DatenKomponenten!AC24),\"\",DatenKomponenten!AC24)","v":""},{"$f":"IF(ISBLANK(DatenKomponenten!AD24),\"\",DatenKomponenten!AD24)","v":""},{"$f":"IF(ISBLANK(DatenKomponenten!AE24),\"\",DatenKomponenten!AE24)","v":""},{"$f":"IF(ISBLANK(DatenKomponenten!AF24),\"\",DatenKomponenten!AF24)","v":""},{"$f":"IF(ISBLANK(DatenKomponenten!AG24),\"\",DatenKomponenten!AG24)","v":""},{"$f":"IF(ISBLANK(DatenKomponenten!AH24),\"\",DatenKomponenten!AH24)","v":""},{"$f":"IF(ISBLANK(DatenKomponenten!AI24),\"\",DatenKomponenten!AI24)","v":""},{"$f":"IF(ISBLANK(DatenKomponenten!AJ24),\"\",DatenKomponenten!AJ24)","v":""},{"$f":"IF(ISBLANK(DatenKomponenten!AK24),\"\",DatenKomponenten!AK24)","v":""},{"$f":"IF(ISBLANK(DatenKomponenten!AL24),\"\",DatenKomponenten!AL24)","v":""},{"$f":"IF(ISBLANK(DatenKomponenten!AM24),\"\",DatenKomponenten!AM24)","v":""},{"$f":"IF(ISBLANK(DatenKomponenten!AN24),\"\",DatenKomponenten!AN24)","v":""},{"$f":"IF(ISBLANK(DatenKomponenten!AO24),\"\",DatenKomponenten!AO24)","v":""},{"$f":"IF(ISBLANK(DatenKomponenten!AP24),\"\",DatenKomponenten!AP24)","v":""},{"$f":"IF(ISBLANK(DatenKomponenten!AQ24),\"\",DatenKomponenten!AQ24)","v":""},{"$f":"IF(ISBLANK(DatenKomponenten!AR24),\"\",DatenKomponenten!AR24)","v":""},{"$f":"IF(ISBLANK(DatenKomponenten!AS24),\"\",DatenKomponenten!AS24)","v":""},{"$f":"IF(ISBLANK(DatenKomponenten!AT24),\"\",DatenKomponenten!AT24)","v":""},{"$f":"IF(ISBLANK(DatenKomponenten!AU24),\"\",DatenKomponenten!AU24)","v":""},{"$f":"IF(ISBLANK(DatenKomponenten!AV24),\"\",DatenKomponenten!AV24)","v":""},{"$f":"IF(ISBLANK(DatenKomponenten!AW24),\"\",DatenKomponenten!AW24)","v":""},{"$f":"IF(ISBLANK(DatenKomponenten!AX24),\"\",DatenKomponenten!AX24)","v":""},{"$f":"IF(ISBLANK(DatenKomponenten!AY24),\"\",DatenKomponenten!AY24)","v":""},{"$f":"IF(ISBLANK(DatenKomponenten!AZ24),\"\",DatenKomponenten!AZ24)","v":""}]
[{"$f":"IF(ISBLANK(DatenKomponenten!A25),\"\",DatenKomponenten!A25)","v":""},{"$f":"IF(ISBLANK(DatenKomponenten!B25),\"\",DatenKomponenten!B25)","v":""},{"$f":"IF(ISBLANK(DatenKomponenten!C25),\"\",DatenKomponenten!C25)","v":""},{"$f":"IF(ISBLANK(DatenKomponenten!D25),\"\",DatenKomponenten!D25)","v":""},{"$f":"IF(ISBLANK(DatenKomponenten!E25),\"\",DatenKomponenten!E25)","v":""},{"$f":"IF(ISBLANK(DatenKomponenten!F25),\"\",DatenKomponenten!F25)","v":""},{"$f":"IF(ISBLANK(DatenKomponenten!G25),\"\",DatenKomponenten!G25)","v":""},{"$f":"IF(ISBLANK(DatenKomponenten!H25),\"\",DatenKomponenten!H25)","v":""},{"$f":"IF(ISBLANK(DatenKomponenten!I25),\"\",DatenKomponenten!I25)","v":""},{"$f":"IF(ISBLANK(DatenKomponenten!J25),\"\",DatenKomponenten!J25)","v":""},{"$f":"IF(ISBLANK(DatenKomponenten!K25),\"\",DatenKomponenten!K25)","v":""},{"$f":"IF(ISBLANK(DatenKomponenten!L25),\"\",DatenKomponenten!L25)","v":""},{"$f":"IF(ISBLANK(DatenKomponenten!M25),\"\",DatenKomponenten!M25)","v":""},{"$f":"IF(ISBLANK(DatenKomponenten!N25),\"\",DatenKomponenten!N25)","v":""},{"$f":"IF(ISBLANK(DatenKomponenten!O25),\"\",DatenKomponenten!O25)","v":""},{"$f":"IF(ISBLANK(DatenKomponenten!P25),\"\",DatenKomponenten!P25)","v":""},{"$f":"IF(ISBLANK(DatenKomponenten!Q25),\"\",DatenKomponenten!Q25)","v":""},{"$f":"IF(ISBLANK(DatenKomponenten!R25),\"\",DatenKomponenten!R25)","v":""},{"$f":"IF(ISBLANK(DatenKomponenten!S25),\"\",DatenKomponenten!S25)","v":""},{"$f":"IF(ISBLANK(DatenKomponenten!T25),\"\",DatenKomponenten!T25)","v":""},{"$f":"IF(ISBLANK(DatenKomponenten!U25),\"\",DatenKomponenten!U25)","v":""},{"$f":"IF(ISBLANK(DatenKomponenten!V25),\"\",DatenKomponenten!V25)","v":""},{"$f":"IF(ISBLANK(DatenKomponenten!W25),\"\",DatenKomponenten!W25)","v":""},{"$f":"IF(ISBLANK(DatenKomponenten!X25),\"\",DatenKomponenten!X25)","v":""},{"$f":"IF(ISBLANK(DatenKomponenten!Y25),\"\",DatenKomponenten!Y25)","v":""},{"$f":"IF(ISBLANK(DatenKomponenten!Z25),\"\",DatenKomponenten!Z25)","v":""},{"$f":"IF(ISBLANK(DatenKomponenten!AA25),\"\",DatenKomponenten!AA25)","v":""},{"$f":"IF(ISBLANK(DatenKomponenten!AB25),\"\",DatenKomponenten!AB25)","v":""},{"$f":"IF(ISBLANK(DatenKomponenten!AC25),\"\",DatenKomponenten!AC25)","v":""},{"$f":"IF(ISBLANK(DatenKomponenten!AD25),\"\",DatenKomponenten!AD25)","v":""},{"$f":"IF(ISBLANK(DatenKomponenten!AE25),\"\",DatenKomponenten!AE25)","v":""},{"$f":"IF(ISBLANK(DatenKomponenten!AF25),\"\",DatenKomponenten!AF25)","v":""},{"$f":"IF(ISBLANK(DatenKomponenten!AG25),\"\",DatenKomponenten!AG25)","v":""},{"$f":"IF(ISBLANK(DatenKomponenten!AH25),\"\",DatenKomponenten!AH25)","v":""},{"$f":"IF(ISBLANK(DatenKomponenten!AI25),\"\",DatenKomponenten!AI25)","v":""},{"$f":"IF(ISBLANK(DatenKomponenten!AJ25),\"\",DatenKomponenten!AJ25)","v":""},{"$f":"IF(ISBLANK(DatenKomponenten!AK25),\"\",DatenKomponenten!AK25)","v":""},{"$f":"IF(ISBLANK(DatenKomponenten!AL25),\"\",DatenKomponenten!AL25)","v":""},{"$f":"IF(ISBLANK(DatenKomponenten!AM25),\"\",DatenKomponenten!AM25)","v":""},{"$f":"IF(ISBLANK(DatenKomponenten!AN25),\"\",DatenKomponenten!AN25)","v":""},{"$f":"IF(ISBLANK(DatenKomponenten!AO25),\"\",DatenKomponenten!AO25)","v":""},{"$f":"IF(ISBLANK(DatenKomponenten!AP25),\"\",DatenKomponenten!AP25)","v":""},{"$f":"IF(ISBLANK(DatenKomponenten!AQ25),\"\",DatenKomponenten!AQ25)","v":""},{"$f":"IF(ISBLANK(DatenKomponenten!AR25),\"\",DatenKomponenten!AR25)","v":""},{"$f":"IF(ISBLANK(DatenKomponenten!AS25),\"\",DatenKomponenten!AS25)","v":""},{"$f":"IF(ISBLANK(DatenKomponenten!AT25),\"\",DatenKomponenten!AT25)","v":""},{"$f":"IF(ISBLANK(DatenKomponenten!AU25),\"\",DatenKomponenten!AU25)","v":""},{"$f":"IF(ISBLANK(DatenKomponenten!AV25),\"\",DatenKomponenten!AV25)","v":""},{"$f":"IF(ISBLANK(DatenKomponenten!AW25),\"\",DatenKomponenten!AW25)","v":""},{"$f":"IF(ISBLANK(DatenKomponenten!AX25),\"\",DatenKomponenten!AX25)","v":""},{"$f":"IF(ISBLANK(DatenKomponenten!AY25),\"\",DatenKomponenten!AY25)","v":""},{"$f":"IF(ISBLANK(DatenKomponenten!AZ25),\"\",DatenKomponenten!AZ25)","v":""}]
[{"$f":"IF(ISBLANK(DatenKomponenten!A26),\"\",DatenKomponenten!A26)","v":""},{"$f":"IF(ISBLANK(DatenKomponenten!B26),\"\",DatenKomponenten!B26)","v":""},{"$f":"IF(ISBLANK(DatenKomponenten!C26),\"\",DatenKomponenten!C26)","v":""},{"$f":"IF(ISBLANK(DatenKomponenten!D26),\"\",DatenKomponenten!D26)","v":""},{"$f":"IF(ISBLANK(DatenKomponenten!E26),\"\",DatenKomponenten!E26)","v":""},{"$f":"IF(ISBLANK(DatenKomponenten!F26),\"\",DatenKomponenten!F26)","v":""},{"$f":"IF(ISBLANK(DatenKomponenten!G26),\"\",DatenKomponenten!G26)","v":""},{"$f":"IF(ISBLANK(DatenKomponenten!H26),\"\",DatenKomponenten!H26)","v":""},{"$f":"IF(ISBLANK(DatenKomponenten!I26),\"\",DatenKomponenten!I26)","v":""},{"$f":"IF(ISBLANK(DatenKomponenten!J26),\"\",DatenKomponenten!J26)","v":""},{"$f":"IF(ISBLANK(DatenKomponenten!K26),\"\",DatenKomponenten!K26)","v":""},{"$f":"IF(ISBLANK(DatenKomponenten!L26),\"\",DatenKomponenten!L26)","v":""},{"$f":"IF(ISBLANK(DatenKomponenten!M26),\"\",DatenKomponenten!M26)","v":""},{"$f":"IF(ISBLANK(DatenKomponenten!N26),\"\",DatenKomponenten!N26)","v":""},{"$f":"IF(ISBLANK(DatenKomponenten!O26),\"\",DatenKomponenten!O26)","v":""},{"$f":"IF(ISBLANK(DatenKomponenten!P26),\"\",DatenKomponenten!P26)","v":""},{"$f":"IF(ISBLANK(DatenKomponenten!Q26),\"\",DatenKomponenten!Q26)","v":""},{"$f":"IF(ISBLANK(DatenKomponenten!R26),\"\",DatenKomponenten!R26)","v":""},{"$f":"IF(ISBLANK(DatenKomponenten!S26),\"\",DatenKomponenten!S26)","v":""},{"$f":"IF(ISBLANK(DatenKomponenten!T26),\"\",DatenKomponenten!T26)","v":""},{"$f":"IF(ISBLANK(DatenKomponenten!U26),\"\",DatenKomponenten!U26)","v":""},{"$f":"IF(ISBLANK(DatenKomponenten!V26),\"\",DatenKomponenten!V26)","v":""},{"$f":"IF(ISBLANK(DatenKomponenten!W26),\"\",DatenKomponenten!W26)","v":""},{"$f":"IF(ISBLANK(DatenKomponenten!X26),\"\",DatenKomponenten!X26)","v":""},{"$f":"IF(ISBLANK(DatenKomponenten!Y26),\"\",DatenKomponenten!Y26)","v":""},{"$f":"IF(ISBLANK(DatenKomponenten!Z26),\"\",DatenKomponenten!Z26)","v":""},{"$f":"IF(ISBLANK(DatenKomponenten!AA26),\"\",DatenKomponenten!AA26)","v":""},{"$f":"IF(ISBLANK(DatenKomponenten!AB26),\"\",DatenKomponenten!AB26)","v":""},{"$f":"IF(ISBLANK(DatenKomponenten!AC26),\"\",DatenKomponenten!AC26)","v":""},{"$f":"IF(ISBLANK(DatenKomponenten!AD26),\"\",DatenKomponenten!AD26)","v":""},{"$f":"IF(ISBLANK(DatenKomponenten!AE26),\"\",DatenKomponenten!AE26)","v":""},{"$f":"IF(ISBLANK(DatenKomponenten!AF26),\"\",DatenKomponenten!AF26)","v":""},{"$f":"IF(ISBLANK(DatenKomponenten!AG26),\"\",DatenKomponenten!AG26)","v":""},{"$f":"IF(ISBLANK(DatenKomponenten!AH26),\"\",DatenKomponenten!AH26)","v":""},{"$f":"IF(ISBLANK(DatenKomponenten!AI26),\"\",DatenKomponenten!AI26)","v":""},{"$f":"IF(ISBLANK(DatenKomponenten!AJ26),\"\",DatenKomponenten!AJ26)","v":""},{"$f":"IF(ISBLANK(DatenKomponenten!AK26),\"\",DatenKomponenten!AK26)","v":""},{"$f":"IF(ISBLANK(DatenKomponenten!AL26),\"\",DatenKomponenten!AL26)","v":""},{"$f":"IF(ISBLANK(DatenKomponenten!AM26),\"\",DatenKomponenten!AM26)","v":""},{"$f":"IF(ISBLANK(DatenKomponenten!AN26),\"\",DatenKomponenten!AN26)","v":""},{"$f":"IF(ISBLANK(DatenKomponenten!AO26),\"\",DatenKomponenten!AO26)","v":""},{"$f":"IF(ISBLANK(DatenKomponenten!AP26),\"\",DatenKomponenten!AP26)","v":""},{"$f":"IF(ISBLANK(DatenKomponenten!AQ26),\"\",DatenKomponenten!AQ26)","v":""},{"$f":"IF(ISBLANK(DatenKomponenten!AR26),\"\",DatenKomponenten!AR26)","v":""},{"$f":"IF(ISBLANK(DatenKomponenten!AS26),\"\",DatenKomponenten!AS26)","v":""},{"$f":"IF(ISBLANK(DatenKomponenten!AT26),\"\",DatenKomponenten!AT26)","v":""},{"$f":"IF(ISBLANK(DatenKomponenten!AU26),\"\",DatenKomponenten!AU26)","v":""},{"$f":"IF(ISBLANK(DatenKomponenten!AV26),\"\",DatenKomponenten!AV26)","v":""},{"$f":"IF(ISBLANK(DatenKomponenten!AW26),\"\",DatenKomponenten!AW26)","v":""},{"$f":"IF(ISBLANK(DatenKomponenten!AX26),\"\",DatenKomponenten!AX26)","v":""},{"$f":"IF(ISBLANK(DatenKomponenten!AY26),\"\",DatenKomponenten!AY26)","v":""},{"$f":"IF(ISBLANK(DatenKomponenten!AZ26),\"\",DatenKomponenten!AZ26)","v":""}]
[{"$f":"IF(ISBLANK(DatenKomponenten!A27),\"\",DatenKomponenten!A27)","v":""},{"$f":"IF(ISBLANK(DatenKomponenten!B27),\"\",DatenKomponenten!B27)","v":""},{"$f":"IF(ISBLANK(DatenKomponenten!C27),\"\",DatenKomponenten!C27)","v":""},{"$f":"IF(ISBLANK(DatenKomponenten!D27),\"\",DatenKomponenten!D27)","v":""},{"$f":"IF(ISBLANK(DatenKomponenten!E27),\"\",DatenKomponenten!E27)","v":""},{"$f":"IF(ISBLANK(DatenKomponenten!F27),\"\",DatenKomponenten!F27)","v":""},{"$f":"IF(ISBLANK(DatenKomponenten!G27),\"\",DatenKomponenten!G27)","v":""},{"$f":"IF(ISBLANK(DatenKomponenten!H27),\"\",DatenKomponenten!H27)","v":""},{"$f":"IF(ISBLANK(DatenKomponenten!I27),\"\",DatenKomponenten!I27)","v":""},{"$f":"IF(ISBLANK(DatenKomponenten!J27),\"\",DatenKomponenten!J27)","v":""},{"$f":"IF(ISBLANK(DatenKomponenten!K27),\"\",DatenKomponenten!K27)","v":""},{"$f":"IF(ISBLANK(DatenKomponenten!L27),\"\",DatenKomponenten!L27)","v":""},{"$f":"IF(ISBLANK(DatenKomponenten!M27),\"\",DatenKomponenten!M27)","v":""},{"$f":"IF(ISBLANK(DatenKomponenten!N27),\"\",DatenKomponenten!N27)","v":""},{"$f":"IF(ISBLANK(DatenKomponenten!O27),\"\",DatenKomponenten!O27)","v":""},{"$f":"IF(ISBLANK(DatenKomponenten!P27),\"\",DatenKomponenten!P27)","v":""},{"$f":"IF(ISBLANK(DatenKomponenten!Q27),\"\",DatenKomponenten!Q27)","v":""},{"$f":"IF(ISBLANK(DatenKomponenten!R27),\"\",DatenKomponenten!R27)","v":""},{"$f":"IF(ISBLANK(DatenKomponenten!S27),\"\",DatenKomponenten!S27)","v":""},{"$f":"IF(ISBLANK(DatenKomponenten!T27),\"\",DatenKomponenten!T27)","v":""},{"$f":"IF(ISBLANK(DatenKomponenten!U27),\"\",DatenKomponenten!U27)","v":""},{"$f":"IF(ISBLANK(DatenKomponenten!V27),\"\",DatenKomponenten!V27)","v":""},{"$f":"IF(ISBLANK(DatenKomponenten!W27),\"\",DatenKomponenten!W27)","v":""},{"$f":"IF(ISBLANK(DatenKomponenten!X27),\"\",DatenKomponenten!X27)","v":""},{"$f":"IF(ISBLANK(DatenKomponenten!Y27),\"\",DatenKomponenten!Y27)","v":""},{"$f":"IF(ISBLANK(DatenKomponenten!Z27),\"\",DatenKomponenten!Z27)","v":""},{"$f":"IF(ISBLANK(DatenKomponenten!AA27),\"\",DatenKomponenten!AA27)","v":""},{"$f":"IF(ISBLANK(DatenKomponenten!AB27),\"\",DatenKomponenten!AB27)","v":""},{"$f":"IF(ISBLANK(DatenKomponenten!AC27),\"\",DatenKomponenten!AC27)","v":""},{"$f":"IF(ISBLANK(DatenKomponenten!AD27),\"\",DatenKomponenten!AD27)","v":""},{"$f":"IF(ISBLANK(DatenKomponenten!AE27),\"\",DatenKomponenten!AE27)","v":""},{"$f":"IF(ISBLANK(DatenKomponenten!AF27),\"\",DatenKomponenten!AF27)","v":""},{"$f":"IF(ISBLANK(DatenKomponenten!AG27),\"\",DatenKomponenten!AG27)","v":""},{"$f":"IF(ISBLANK(DatenKomponenten!AH27),\"\",DatenKomponenten!AH27)","v":""},{"$f":"IF(ISBLANK(DatenKomponenten!AI27),\"\",DatenKomponenten!AI27)","v":""},{"$f":"IF(ISBLANK(DatenKomponenten!AJ27),\"\",DatenKomponenten!AJ27)","v":""},{"$f":"IF(ISBLANK(DatenKomponenten!AK27),\"\",DatenKomponenten!AK27)","v":""},{"$f":"IF(ISBLANK(DatenKomponenten!AL27),\"\",DatenKomponenten!AL27)","v":""},{"$f":"IF(ISBLANK(DatenKomponenten!AM27),\"\",DatenKomponenten!AM27)","v":""},{"$f":"IF(ISBLANK(DatenKomponenten!AN27),\"\",DatenKomponenten!AN27)","v":""},{"$f":"IF(ISBLANK(DatenKomponenten!AO27),\"\",DatenKomponenten!AO27)","v":""},{"$f":"IF(ISBLANK(DatenKomponenten!AP27),\"\",DatenKomponenten!AP27)","v":""},{"$f":"IF(ISBLANK(DatenKomponenten!AQ27),\"\",DatenKomponenten!AQ27)","v":""},{"$f":"IF(ISBLANK(DatenKomponenten!AR27),\"\",DatenKomponenten!AR27)","v":""},{"$f":"IF(ISBLANK(DatenKomponenten!AS27),\"\",DatenKomponenten!AS27)","v":""},{"$f":"IF(ISBLANK(DatenKomponenten!AT27),\"\",DatenKomponenten!AT27)","v":""},{"$f":"IF(ISBLANK(DatenKomponenten!AU27),\"\",DatenKomponenten!AU27)","v":""},{"$f":"IF(ISBLANK(DatenKomponenten!AV27),\"\",DatenKomponenten!AV27)","v":""},{"$f":"IF(ISBLANK(DatenKomponenten!AW27),\"\",DatenKomponenten!AW27)","v":""},{"$f":"IF(ISBLANK(DatenKomponenten!AX27),\"\",DatenKomponenten!AX27)","v":""},{"$f":"IF(ISBLANK(DatenKomponenten!AY27),\"\",DatenKomponenten!AY27)","v":""},{"$f":"IF(ISBLANK(DatenKomponenten!AZ27),\"\",DatenKomponenten!AZ27)","v":""}]
[{"$f":"IF(ISBLANK(DatenKomponenten!A28),\"\",DatenKomponenten!A28)","v":""},{"$f":"IF(ISBLANK(DatenKomponenten!B28),\"\",DatenKomponenten!B28)","v":""},{"$f":"IF(ISBLANK(DatenKomponenten!C28),\"\",DatenKomponenten!C28)","v":""},{"$f":"IF(ISBLANK(DatenKomponenten!D28),\"\",DatenKomponenten!D28)","v":""},{"$f":"IF(ISBLANK(DatenKomponenten!E28),\"\",DatenKomponenten!E28)","v":""},{"$f":"IF(ISBLANK(DatenKomponenten!F28),\"\",DatenKomponenten!F28)","v":""},{"$f":"IF(ISBLANK(DatenKomponenten!G28),\"\",DatenKomponenten!G28)","v":""},{"$f":"IF(ISBLANK(DatenKomponenten!H28),\"\",DatenKomponenten!H28)","v":""},{"$f":"IF(ISBLANK(DatenKomponenten!I28),\"\",DatenKomponenten!I28)","v":""},{"$f":"IF(ISBLANK(DatenKomponenten!J28),\"\",DatenKomponenten!J28)","v":""},{"$f":"IF(ISBLANK(DatenKomponenten!K28),\"\",DatenKomponenten!K28)","v":""},{"$f":"IF(ISBLANK(DatenKomponenten!L28),\"\",DatenKomponenten!L28)","v":""},{"$f":"IF(ISBLANK(DatenKomponenten!M28),\"\",DatenKomponenten!M28)","v":""},{"$f":"IF(ISBLANK(DatenKomponenten!N28),\"\",DatenKomponenten!N28)","v":""},{"$f":"IF(ISBLANK(DatenKomponenten!O28),\"\",DatenKomponenten!O28)","v":""},{"$f":"IF(ISBLANK(DatenKomponenten!P28),\"\",DatenKomponenten!P28)","v":""},{"$f":"IF(ISBLANK(DatenKomponenten!Q28),\"\",DatenKomponenten!Q28)","v":""},{"$f":"IF(ISBLANK(DatenKomponenten!R28),\"\",DatenKomponenten!R28)","v":""},{"$f":"IF(ISBLANK(DatenKomponenten!S28),\"\",DatenKomponenten!S28)","v":""},{"$f":"IF(ISBLANK(DatenKomponenten!T28),\"\",DatenKomponenten!T28)","v":""},{"$f":"IF(ISBLANK(DatenKomponenten!U28),\"\",DatenKomponenten!U28)","v":""},{"$f":"IF(ISBLANK(DatenKomponenten!V28),\"\",DatenKomponenten!V28)","v":""},{"$f":"IF(ISBLANK(DatenKomponenten!W28),\"\",DatenKomponenten!W28)","v":""},{"$f":"IF(ISBLANK(DatenKomponenten!X28),\"\",DatenKomponenten!X28)","v":""},{"$f":"IF(ISBLANK(DatenKomponenten!Y28),\"\",DatenKomponenten!Y28)","v":""},{"$f":"IF(ISBLANK(DatenKomponenten!Z28),\"\",DatenKomponenten!Z28)","v":""},{"$f":"IF(ISBLANK(DatenKomponenten!AA28),\"\",DatenKomponenten!AA28)","v":""},{"$f":"IF(ISBLANK(DatenKomponenten!AB28),\"\",DatenKomponenten!AB28)","v":""},{"$f":"IF(ISBLANK(DatenKomponenten!AC28),\"\",DatenKomponenten!AC28)","v":""},{"$f":"IF(ISBLANK(DatenKomponenten!AD28),\"\",DatenKomponenten!AD28)","v":""},{"$f":"IF(ISBLANK(DatenKomponenten!AE28),\"\",DatenKomponenten!AE28)","v":""},{"$f":"IF(ISBLANK(DatenKomponenten!AF28),\"\",DatenKomponenten!AF28)","v":""},{"$f":"IF(ISBLANK(DatenKomponenten!AG28),\"\",DatenKomponenten!AG28)","v":""},{"$f":"IF(ISBLANK(DatenKomponenten!AH28),\"\",DatenKomponenten!AH28)","v":""},{"$f":"IF(ISBLANK(DatenKomponenten!AI28),\"\",DatenKomponenten!AI28)","v":""},{"$f":"IF(ISBLANK(DatenKomponenten!AJ28),\"\",DatenKomponenten!AJ28)","v":""},{"$f":"IF(ISBLANK(DatenKomponenten!AK28),\"\",DatenKomponenten!AK28)","v":""},{"$f":"IF(ISBLANK(DatenKomponenten!AL28),\"\",DatenKomponenten!AL28)","v":""},{"$f":"IF(ISBLANK(DatenKomponenten!AM28),\"\",DatenKomponenten!AM28)","v":""},{"$f":"IF(ISBLANK(DatenKomponenten!AN28),\"\",DatenKomponenten!AN28)","v":""},{"$f":"IF(ISBLANK(DatenKomponenten!AO28),\"\",DatenKomponenten!AO28)","v":""},{"$f":"IF(ISBLANK(DatenKomponenten!AP28),\"\",DatenKomponenten!AP28)","v":""},{"$f":"IF(ISBLANK(DatenKomponenten!AQ28),\"\",DatenKomponenten!AQ28)","v":""},{"$f":"IF(ISBLANK(DatenKomponenten!AR28),\"\",DatenKomponenten!AR28)","v":""},{"$f":"IF(ISBLANK(DatenKomponenten!AS28),\"\",DatenKomponenten!AS28)","v":""},{"$f":"IF(ISBLANK(DatenKomponenten!AT28),\"\",DatenKomponenten!AT28)","v":""},{"$f":"IF(ISBLANK(DatenKomponenten!AU28),\"\",DatenKomponenten!AU28)","v":""},{"$f":"IF(ISBLANK(DatenKomponenten!AV28),\"\",DatenKomponenten!AV28)","v":""},{"$f":"IF(ISBLANK(DatenKomponenten!AW28),\"\",DatenKomponenten!AW28)","v":""},{"$f":"IF(ISBLANK(DatenKomponenten!AX28),\"\",DatenKomponenten!AX28)","v":""},{"$f":"IF(ISBLANK(DatenKomponenten!AY28),\"\",DatenKomponenten!AY28)","v":""},{"$f":"IF(ISBLANK(DatenKomponenten!AZ28),\"\",DatenKomponenten!AZ28)","v":""}]
[{"$f":"IF(ISBLANK(DatenKomponenten!A29),\"\",DatenKomponenten!A29)","v":""},{"$f":"IF(ISBLANK(DatenKomponenten!B29),\"\",DatenKomponenten!B29)","v":""},{"$f":"IF(ISBLANK(DatenKomponenten!C29),\"\",DatenKomponenten!C29)","v":""},{"$f":"IF(ISBLANK(DatenKomponenten!D29),\"\",DatenKomponenten!D29)","v":""},{"$f":"IF(ISBLANK(DatenKomponenten!E29),\"\",DatenKomponenten!E29)","v":""},{"$f":"IF(ISBLANK(DatenKomponenten!F29),\"\",DatenKomponenten!F29)","v":""},{"$f":"IF(ISBLANK(DatenKomponenten!G29),\"\",DatenKomponenten!G29)","v":""},{"$f":"IF(ISBLANK(DatenKomponenten!H29),\"\",DatenKomponenten!H29)","v":""},{"$f":"IF(ISBLANK(DatenKomponenten!I29),\"\",DatenKomponenten!I29)","v":""},{"$f":"IF(ISBLANK(DatenKomponenten!J29),\"\",DatenKomponenten!J29)","v":""},{"$f":"IF(ISBLANK(DatenKomponenten!K29),\"\",DatenKomponenten!K29)","v":""},{"$f":"IF(ISBLANK(DatenKomponenten!L29),\"\",DatenKomponenten!L29)","v":""},{"$f":"IF(ISBLANK(DatenKomponenten!M29),\"\",DatenKomponenten!M29)","v":""},{"$f":"IF(ISBLANK(DatenKomponenten!N29),\"\",DatenKomponenten!N29)","v":""},{"$f":"IF(ISBLANK(DatenKomponenten!O29),\"\",DatenKomponenten!O29)","v":""},{"$f":"IF(ISBLANK(DatenKomponenten!P29),\"\",DatenKomponenten!P29)","v":""},{"$f":"IF(ISBLANK(DatenKomponenten!Q29),\"\",DatenKomponenten!Q29)","v":""},{"$f":"IF(ISBLANK(DatenKomponenten!R29),\"\",DatenKomponenten!R29)","v":""},{"$f":"IF(ISBLANK(DatenKomponenten!S29),\"\",DatenKomponenten!S29)","v":""},{"$f":"IF(ISBLANK(DatenKomponenten!T29),\"\",DatenKomponenten!T29)","v":""},{"$f":"IF(ISBLANK(DatenKomponenten!U29),\"\",DatenKomponenten!U29)","v":""},{"$f":"IF(ISBLANK(DatenKomponenten!V29),\"\",DatenKomponenten!V29)","v":""},{"$f":"IF(ISBLANK(DatenKomponenten!W29),\"\",DatenKomponenten!W29)","v":""},{"$f":"IF(ISBLANK(DatenKomponenten!X29),\"\",DatenKomponenten!X29)","v":""},{"$f":"IF(ISBLANK(DatenKomponenten!Y29),\"\",DatenKomponenten!Y29)","v":""},{"$f":"IF(ISBLANK(DatenKomponenten!Z29),\"\",DatenKomponenten!Z29)","v":""},{"$f":"IF(ISBLANK(DatenKomponenten!AA29),\"\",DatenKomponenten!AA29)","v":""},{"$f":"IF(ISBLANK(DatenKomponenten!AB29),\"\",DatenKomponenten!AB29)","v":""},{"$f":"IF(ISBLANK(DatenKomponenten!AC29),\"\",DatenKomponenten!AC29)","v":""},{"$f":"IF(ISBLANK(DatenKomponenten!AD29),\"\",DatenKomponenten!AD29)","v":""},{"$f":"IF(ISBLANK(DatenKomponenten!AE29),\"\",DatenKomponenten!AE29)","v":""},{"$f":"IF(ISBLANK(DatenKomponenten!AF29),\"\",DatenKomponenten!AF29)","v":""},{"$f":"IF(ISBLANK(DatenKomponenten!AG29),\"\",DatenKomponenten!AG29)","v":""},{"$f":"IF(ISBLANK(DatenKomponenten!AH29),\"\",DatenKomponenten!AH29)","v":""},{"$f":"IF(ISBLANK(DatenKomponenten!AI29),\"\",DatenKomponenten!AI29)","v":""},{"$f":"IF(ISBLANK(DatenKomponenten!AJ29),\"\",DatenKomponenten!AJ29)","v":""},{"$f":"IF(ISBLANK(DatenKomponenten!AK29),\"\",DatenKomponenten!AK29)","v":""},{"$f":"IF(ISBLANK(DatenKomponenten!AL29),\"\",DatenKomponenten!AL29)","v":""},{"$f":"IF(ISBLANK(DatenKomponenten!AM29),\"\",DatenKomponenten!AM29)","v":""},{"$f":"IF(ISBLANK(DatenKomponenten!AN29),\"\",DatenKomponenten!AN29)","v":""},{"$f":"IF(ISBLANK(DatenKomponenten!AO29),\"\",DatenKomponenten!AO29)","v":""},{"$f":"IF(ISBLANK(DatenKomponenten!AP29),\"\",DatenKomponenten!AP29)","v":""},{"$f":"IF(ISBLANK(DatenKomponenten!AQ29),\"\",DatenKomponenten!AQ29)","v":""},{"$f":"IF(ISBLANK(DatenKomponenten!AR29),\"\",DatenKomponenten!AR29)","v":""},{"$f":"IF(ISBLANK(DatenKomponenten!AS29),\"\",DatenKomponenten!AS29)","v":""},{"$f":"IF(ISBLANK(DatenKomponenten!AT29),\"\",DatenKomponenten!AT29)","v":""},{"$f":"IF(ISBLANK(DatenKomponenten!AU29),\"\",DatenKomponenten!AU29)","v":""},{"$f":"IF(ISBLANK(DatenKomponenten!AV29),\"\",DatenKomponenten!AV29)","v":""},{"$f":"IF(ISBLANK(DatenKomponenten!AW29),\"\",DatenKomponenten!AW29)","v":""},{"$f":"IF(ISBLANK(DatenKomponenten!AX29),\"\",DatenKomponenten!AX29)","v":""},{"$f":"IF(ISBLANK(DatenKomponenten!AY29),\"\",DatenKomponenten!AY29)","v":""},{"$f":"IF(ISBLANK(DatenKomponenten!AZ29),\"\",DatenKomponenten!AZ29)","v":""}]
[{"$f":"IF(ISBLANK(DatenKomponenten!A30),\"\",DatenKomponenten!A30)","v":""},{"$f":"IF(ISBLANK(DatenKomponenten!B30),\"\",DatenKomponenten!B30)","v":""},{"$f":"IF(ISBLANK(DatenKomponenten!C30),\"\",DatenKomponenten!C30)","v":""},{"$f":"IF(ISBLANK(DatenKomponenten!D30),\"\",DatenKomponenten!D30)","v":""},{"$f":"IF(ISBLANK(DatenKomponenten!E30),\"\",DatenKomponenten!E30)","v":""},{"$f":"IF(ISBLANK(DatenKomponenten!F30),\"\",DatenKomponenten!F30)","v":""},{"$f":"IF(ISBLANK(DatenKomponenten!G30),\"\",DatenKomponenten!G30)","v":""},{"$f":"IF(ISBLANK(DatenKomponenten!H30),\"\",DatenKomponenten!H30)","v":""},{"$f":"IF(ISBLANK(DatenKomponenten!I30),\"\",DatenKomponenten!I30)","v":""},{"$f":"IF(ISBLANK(DatenKomponenten!J30),\"\",DatenKomponenten!J30)","v":""},{"$f":"IF(ISBLANK(DatenKomponenten!K30),\"\",DatenKomponenten!K30)","v":""},{"$f":"IF(ISBLANK(DatenKomponenten!L30),\"\",DatenKomponenten!L30)","v":""},{"$f":"IF(ISBLANK(DatenKomponenten!M30),\"\",DatenKomponenten!M30)","v":""},{"$f":"IF(ISBLANK(DatenKomponenten!N30),\"\",DatenKomponenten!N30)","v":""},{"$f":"IF(ISBLANK(DatenKomponenten!O30),\"\",DatenKomponenten!O30)","v":""},{"$f":"IF(ISBLANK(DatenKomponenten!P30),\"\",DatenKomponenten!P30)","v":""},{"$f":"IF(ISBLANK(DatenKomponenten!Q30),\"\",DatenKomponenten!Q30)","v":""},{"$f":"IF(ISBLANK(DatenKomponenten!R30),\"\",DatenKomponenten!R30)","v":""},{"$f":"IF(ISBLANK(DatenKomponenten!S30),\"\",DatenKomponenten!S30)","v":""},{"$f":"IF(ISBLANK(DatenKomponenten!T30),\"\",DatenKomponenten!T30)","v":""},{"$f":"IF(ISBLANK(DatenKomponenten!U30),\"\",DatenKomponenten!U30)","v":""},{"$f":"IF(ISBLANK(DatenKomponenten!V30),\"\",DatenKomponenten!V30)","v":""},{"$f":"IF(ISBLANK(DatenKomponenten!W30),\"\",DatenKomponenten!W30)","v":""},{"$f":"IF(ISBLANK(DatenKomponenten!X30),\"\",DatenKomponenten!X30)","v":""},{"$f":"IF(ISBLANK(DatenKomponenten!Y30),\"\",DatenKomponenten!Y30)","v":""},{"$f":"IF(ISBLANK(DatenKomponenten!Z30),\"\",DatenKomponenten!Z30)","v":""},{"$f":"IF(ISBLANK(DatenKomponenten!AA30),\"\",DatenKomponenten!AA30)","v":""},{"$f":"IF(ISBLANK(DatenKomponenten!AB30),\"\",DatenKomponenten!AB30)","v":""},{"$f":"IF(ISBLANK(DatenKomponenten!AC30),\"\",DatenKomponenten!AC30)","v":""},{"$f":"IF(ISBLANK(DatenKomponenten!AD30),\"\",DatenKomponenten!AD30)","v":""},{"$f":"IF(ISBLANK(DatenKomponenten!AE30),\"\",DatenKomponenten!AE30)","v":""},{"$f":"IF(ISBLANK(DatenKomponenten!AF30),\"\",DatenKomponenten!AF30)","v":""},{"$f":"IF(ISBLANK(DatenKomponenten!AG30),\"\",DatenKomponenten!AG30)","v":""},{"$f":"IF(ISBLANK(DatenKomponenten!AH30),\"\",DatenKomponenten!AH30)","v":""},{"$f":"IF(ISBLANK(DatenKomponenten!AI30),\"\",DatenKomponenten!AI30)","v":""},{"$f":"IF(ISBLANK(DatenKomponenten!AJ30),\"\",DatenKomponenten!AJ30)","v":""},{"$f":"IF(ISBLANK(DatenKomponenten!AK30),\"\",DatenKomponenten!AK30)","v":""},{"$f":"IF(ISBLANK(DatenKomponenten!AL30),\"\",DatenKomponenten!AL30)","v":""},{"$f":"IF(ISBLANK(DatenKomponenten!AM30),\"\",DatenKomponenten!AM30)","v":""},{"$f":"IF(ISBLANK(DatenKomponenten!AN30),\"\",DatenKomponenten!AN30)","v":""},{"$f":"IF(ISBLANK(DatenKomponenten!AO30),\"\",DatenKomponenten!AO30)","v":""},{"$f":"IF(ISBLANK(DatenKomponenten!AP30),\"\",DatenKomponenten!AP30)","v":""},{"$f":"IF(ISBLANK(DatenKomponenten!AQ30),\"\",DatenKomponenten!AQ30)","v":""},{"$f":"IF(ISBLANK(DatenKomponenten!AR30),\"\",DatenKomponenten!AR30)","v":""},{"$f":"IF(ISBLANK(DatenKomponenten!AS30),\"\",DatenKomponenten!AS30)","v":""},{"$f":"IF(ISBLANK(DatenKomponenten!AT30),\"\",DatenKomponenten!AT30)","v":""},{"$f":"IF(ISBLANK(DatenKomponenten!AU30),\"\",DatenKomponenten!AU30)","v":""},{"$f":"IF(ISBLANK(DatenKomponenten!AV30),\"\",DatenKomponenten!AV30)","v":""},{"$f":"IF(ISBLANK(DatenKomponenten!AW30),\"\",DatenKomponenten!AW30)","v":""},{"$f":"IF(ISBLANK(DatenKomponenten!AX30),\"\",DatenKomponenten!AX30)","v":""},{"$f":"IF(ISBLANK(DatenKomponenten!AY30),\"\",DatenKomponenten!AY30)","v":""},{"$f":"IF(ISBLANK(DatenKomponenten!AZ30),\"\",DatenKomponenten!AZ30)","v":""}]
[{"$f":"IF(ISBLANK(DatenKomponenten!A31),\"\",DatenKomponenten!A31)","v":""},{"$f":"IF(ISBLANK(DatenKomponenten!B31),\"\",DatenKomponenten!B31)","v":""},{"$f":"IF(ISBLANK(DatenKomponenten!C31),\"\",DatenKomponenten!C31)","v":""},{"$f":"IF(ISBLANK(DatenKomponenten!D31),\"\",DatenKomponenten!D31)","v":""},{"$f":"IF(ISBLANK(DatenKomponenten!E31),\"\",DatenKomponenten!E31)","v":""},{"$f":"IF(ISBLANK(DatenKomponenten!F31),\"\",DatenKomponenten!F31)","v":""},{"$f":"IF(ISBLANK(DatenKomponenten!G31),\"\",DatenKomponenten!G31)","v":""},{"$f":"IF(ISBLANK(DatenKomponenten!H31),\"\",DatenKomponenten!H31)","v":""},{"$f":"IF(ISBLANK(DatenKomponenten!I31),\"\",DatenKomponenten!I31)","v":""},{"$f":"IF(ISBLANK(DatenKomponenten!J31),\"\",DatenKomponenten!J31)","v":""},{"$f":"IF(ISBLANK(DatenKomponenten!K31),\"\",DatenKomponenten!K31)","v":""},{"$f":"IF(ISBLANK(DatenKomponenten!L31),\"\",DatenKomponenten!L31)","v":""},{"$f":"IF(ISBLANK(DatenKomponenten!M31),\"\",DatenKomponenten!M31)","v":""},{"$f":"IF(ISBLANK(DatenKomponenten!N31),\"\",DatenKomponenten!N31)","v":""},{"$f":"IF(ISBLANK(DatenKomponenten!O31),\"\",DatenKomponenten!O31)","v":""},{"$f":"IF(ISBLANK(DatenKomponenten!P31),\"\",DatenKomponenten!P31)","v":""},{"$f":"IF(ISBLANK(DatenKomponenten!Q31),\"\",DatenKomponenten!Q31)","v":""},{"$f":"IF(ISBLANK(DatenKomponenten!R31),\"\",DatenKomponenten!R31)","v":""},{"$f":"IF(ISBLANK(DatenKomponenten!S31),\"\",DatenKomponenten!S31)","v":""},{"$f":"IF(ISBLANK(DatenKomponenten!T31),\"\",DatenKomponenten!T31)","v":""},{"$f":"IF(ISBLANK(DatenKomponenten!U31),\"\",DatenKomponenten!U31)","v":""},{"$f":"IF(ISBLANK(DatenKomponenten!V31),\"\",DatenKomponenten!V31)","v":""},{"$f":"IF(ISBLANK(DatenKomponenten!W31),\"\",DatenKomponenten!W31)","v":""},{"$f":"IF(ISBLANK(DatenKomponenten!X31),\"\",DatenKomponenten!X31)","v":""},{"$f":"IF(ISBLANK(DatenKomponenten!Y31),\"\",DatenKomponenten!Y31)","v":""},{"$f":"IF(ISBLANK(DatenKomponenten!Z31),\"\",DatenKomponenten!Z31)","v":""},{"$f":"IF(ISBLANK(DatenKomponenten!AA31),\"\",DatenKomponenten!AA31)","v":""},{"$f":"IF(ISBLANK(DatenKomponenten!AB31),\"\",DatenKomponenten!AB31)","v":""},{"$f":"IF(ISBLANK(DatenKomponenten!AC31),\"\",DatenKomponenten!AC31)","v":""},{"$f":"IF(ISBLANK(DatenKomponenten!AD31),\"\",DatenKomponenten!AD31)","v":""},{"$f":"IF(ISBLANK(DatenKomponenten!AE31),\"\",DatenKomponenten!AE31)","v":""},{"$f":"IF(ISBLANK(DatenKomponenten!AF31),\"\",DatenKomponenten!AF31)","v":""},{"$f":"IF(ISBLANK(DatenKomponenten!AG31),\"\",DatenKomponenten!AG31)","v":""},{"$f":"IF(ISBLANK(DatenKomponenten!AH31),\"\",DatenKomponenten!AH31)","v":""},{"$f":"IF(ISBLANK(DatenKomponenten!AI31),\"\",DatenKomponenten!AI31)","v":""},{"$f":"IF(ISBLANK(DatenKomponenten!AJ31),\"\",DatenKomponenten!AJ31)","v":""},{"$f":"IF(ISBLANK(DatenKomponenten!AK31),\"\",DatenKomponenten!AK31)","v":""},{"$f":"IF(ISBLANK(DatenKomponenten!AL31),\"\",DatenKomponenten!AL31)","v":""},{"$f":"IF(ISBLANK(DatenKomponenten!AM31),\"\",DatenKomponenten!AM31)","v":""},{"$f":"IF(ISBLANK(DatenKomponenten!AN31),\"\",DatenKomponenten!AN31)","v":""},{"$f":"IF(ISBLANK(DatenKomponenten!AO31),\"\",DatenKomponenten!AO31)","v":""},{"$f":"IF(ISBLANK(DatenKomponenten!AP31),\"\",DatenKomponenten!AP31)","v":""},{"$f":"IF(ISBLANK(DatenKomponenten!AQ31),\"\",DatenKomponenten!AQ31)","v":""},{"$f":"IF(ISBLANK(DatenKomponenten!AR31),\"\",DatenKomponenten!AR31)","v":""},{"$f":"IF(ISBLANK(DatenKomponenten!AS31),\"\",DatenKomponenten!AS31)","v":""},{"$f":"IF(ISBLANK(DatenKomponenten!AT31),\"\",DatenKomponenten!AT31)","v":""},{"$f":"IF(ISBLANK(DatenKomponenten!AU31),\"\",DatenKomponenten!AU31)","v":""},{"$f":"IF(ISBLANK(DatenKomponenten!AV31),\"\",DatenKomponenten!AV31)","v":""},{"$f":"IF(ISBLANK(DatenKomponenten!AW31),\"\",DatenKomponenten!AW31)","v":""},{"$f":"IF(ISBLANK(DatenKomponenten!AX31),\"\",DatenKomponenten!AX31)","v":""},{"$f":"IF(ISBLANK(DatenKomponenten!AY31),\"\",DatenKomponenten!AY31)","v":""},{"$f":"IF(ISBLANK(DatenKomponenten!AZ31),\"\",DatenKomponenten!AZ31)","v":""}]
[{"$f":"IF(ISBLANK(DatenKomponenten!A32),\"\",DatenKomponenten!A32)","v":""},{"$f":"IF(ISBLANK(DatenKomponenten!B32),\"\",DatenKomponenten!B32)","v":""},{"$f":"IF(ISBLANK(DatenKomponenten!C32),\"\",DatenKomponenten!C32)","v":""},{"$f":"IF(ISBLANK(DatenKomponenten!D32),\"\",DatenKomponenten!D32)","v":""},{"$f":"IF(ISBLANK(DatenKomponenten!E32),\"\",DatenKomponenten!E32)","v":""},{"$f":"IF(ISBLANK(DatenKomponenten!F32),\"\",DatenKomponenten!F32)","v":""},{"$f":"IF(ISBLANK(DatenKomponenten!G32),\"\",DatenKomponenten!G32)","v":""},{"$f":"IF(ISBLANK(DatenKomponenten!H32),\"\",DatenKomponenten!H32)","v":""},{"$f":"IF(ISBLANK(DatenKomponenten!I32),\"\",DatenKomponenten!I32)","v":""},{"$f":"IF(ISBLANK(DatenKomponenten!J32),\"\",DatenKomponenten!J32)","v":""},{"$f":"IF(ISBLANK(DatenKomponenten!K32),\"\",DatenKomponenten!K32)","v":""},{"$f":"IF(ISBLANK(DatenKomponenten!L32),\"\",DatenKomponenten!L32)","v":""},{"$f":"IF(ISBLANK(DatenKomponenten!M32),\"\",DatenKomponenten!M32)","v":""},{"$f":"IF(ISBLANK(DatenKomponenten!N32),\"\",DatenKomponenten!N32)","v":""},{"$f":"IF(ISBLANK(DatenKomponenten!O32),\"\",DatenKomponenten!O32)","v":""},{"$f":"IF(ISBLANK(DatenKomponenten!P32),\"\",DatenKomponenten!P32)","v":""},{"$f":"IF(ISBLANK(DatenKomponenten!Q32),\"\",DatenKomponenten!Q32)","v":""},{"$f":"IF(ISBLANK(DatenKomponenten!R32),\"\",DatenKomponenten!R32)","v":""},{"$f":"IF(ISBLANK(DatenKomponenten!S32),\"\",DatenKomponenten!S32)","v":""},{"$f":"IF(ISBLANK(DatenKomponenten!T32),\"\",DatenKomponenten!T32)","v":""},{"$f":"IF(ISBLANK(DatenKomponenten!U32),\"\",DatenKomponenten!U32)","v":""},{"$f":"IF(ISBLANK(DatenKomponenten!V32),\"\",DatenKomponenten!V32)","v":""},{"$f":"IF(ISBLANK(DatenKomponenten!W32),\"\",DatenKomponenten!W32)","v":""},{"$f":"IF(ISBLANK(DatenKomponenten!X32),\"\",DatenKomponenten!X32)","v":""},{"$f":"IF(ISBLANK(DatenKomponenten!Y32),\"\",DatenKomponenten!Y32)","v":""},{"$f":"IF(ISBLANK(DatenKomponenten!Z32),\"\",DatenKomponenten!Z32)","v":""},{"$f":"IF(ISBLANK(DatenKomponenten!AA32),\"\",DatenKomponenten!AA32)","v":""},{"$f":"IF(ISBLANK(DatenKomponenten!AB32),\"\",DatenKomponenten!AB32)","v":""},{"$f":"IF(ISBLANK(DatenKomponenten!AC32),\"\",DatenKomponenten!AC32)","v":""},{"$f":"IF(ISBLANK(DatenKomponenten!AD32),\"\",DatenKomponenten!AD32)","v":""},{"$f":"IF(ISBLANK(DatenKomponenten!AE32),\"\",DatenKomponenten!AE32)","v":""},{"$f":"IF(ISBLANK(DatenKomponenten!AF32),\"\",DatenKomponenten!AF32)","v":""},{"$f":"IF(ISBLANK(DatenKomponenten!AG32),\"\",DatenKomponenten!AG32)","v":""},{"$f":"IF(ISBLANK(DatenKomponenten!AH32),\"\",DatenKomponenten!AH32)","v":""},{"$f":"IF(ISBLANK(DatenKomponenten!AI32),\"\",DatenKomponenten!AI32)","v":""},{"$f":"IF(ISBLANK(DatenKomponenten!AJ32),\"\",DatenKomponenten!AJ32)","v":""},{"$f":"IF(ISBLANK(DatenKomponenten!AK32),\"\",DatenKomponenten!AK32)","v":""},{"$f":"IF(ISBLANK(DatenKomponenten!AL32),\"\",DatenKomponenten!AL32)","v":""},{"$f":"IF(ISBLANK(DatenKomponenten!AM32),\"\",DatenKomponenten!AM32)","v":""},{"$f":"IF(ISBLANK(DatenKomponenten!AN32),\"\",DatenKomponenten!AN32)","v":""},{"$f":"IF(ISBLANK(DatenKomponenten!AO32),\"\",DatenKomponenten!AO32)","v":""},{"$f":"IF(ISBLANK(DatenKomponenten!AP32),\"\",DatenKomponenten!AP32)","v":""},{"$f":"IF(ISBLANK(DatenKomponenten!AQ32),\"\",DatenKomponenten!AQ32)","v":""},{"$f":"IF(ISBLANK(DatenKomponenten!AR32),\"\",DatenKomponenten!AR32)","v":""},{"$f":"IF(ISBLANK(DatenKomponenten!AS32),\"\",DatenKomponenten!AS32)","v":""},{"$f":"IF(ISBLANK(DatenKomponenten!AT32),\"\",DatenKomponenten!AT32)","v":""},{"$f":"IF(ISBLANK(DatenKomponenten!AU32),\"\",DatenKomponenten!AU32)","v":""},{"$f":"IF(ISBLANK(DatenKomponenten!AV32),\"\",DatenKomponenten!AV32)","v":""},{"$f":"IF(ISBLANK(DatenKomponenten!AW32),\"\",DatenKomponenten!AW32)","v":""},{"$f":"IF(ISBLANK(DatenKomponenten!AX32),\"\",DatenKomponenten!AX32)","v":""},{"$f":"IF(ISBLANK(DatenKomponenten!AY32),\"\",DatenKomponenten!AY32)","v":""},{"$f":"IF(ISBLANK(DatenKomponenten!AZ32),\"\",DatenKomponenten!AZ32)","v":""}]
[{"$f":"IF(ISBLANK(DatenKomponenten!A33),\"\",DatenKomponenten!A33)","v":""},{"$f":"IF(ISBLANK(DatenKomponenten!B33),\"\",DatenKomponenten!B33)","v":""},{"$f":"IF(ISBLANK(DatenKomponenten!C33),\"\",DatenKomponenten!C33)","v":""},{"$f":"IF(ISBLANK(DatenKomponenten!D33),\"\",DatenKomponenten!D33)","v":""},{"$f":"IF(ISBLANK(DatenKomponenten!E33),\"\",DatenKomponenten!E33)","v":""},{"$f":"IF(ISBLANK(DatenKomponenten!F33),\"\",DatenKomponenten!F33)","v":""},{"$f":"IF(ISBLANK(DatenKomponenten!G33),\"\",DatenKomponenten!G33)","v":""},{"$f":"IF(ISBLANK(DatenKomponenten!H33),\"\",DatenKomponenten!H33)","v":""},{"$f":"IF(ISBLANK(DatenKomponenten!I33),\"\",DatenKomponenten!I33)","v":""},{"$f":"IF(ISBLANK(DatenKomponenten!J33),\"\",DatenKomponenten!J33)","v":""},{"$f":"IF(ISBLANK(DatenKomponenten!K33),\"\",DatenKomponenten!K33)","v":""},{"$f":"IF(ISBLANK(DatenKomponenten!L33),\"\",DatenKomponenten!L33)","v":""},{"$f":"IF(ISBLANK(DatenKomponenten!M33),\"\",DatenKomponenten!M33)","v":""},{"$f":"IF(ISBLANK(DatenKomponenten!N33),\"\",DatenKomponenten!N33)","v":""},{"$f":"IF(ISBLANK(DatenKomponenten!O33),\"\",DatenKomponenten!O33)","v":""},{"$f":"IF(ISBLANK(DatenKomponenten!P33),\"\",DatenKomponenten!P33)","v":""},{"$f":"IF(ISBLANK(DatenKomponenten!Q33),\"\",DatenKomponenten!Q33)","v":""},{"$f":"IF(ISBLANK(DatenKomponenten!R33),\"\",DatenKomponenten!R33)","v":""},{"$f":"IF(ISBLANK(DatenKomponenten!S33),\"\",DatenKomponenten!S33)","v":""},{"$f":"IF(ISBLANK(DatenKomponenten!T33),\"\",DatenKomponenten!T33)","v":""},{"$f":"IF(ISBLANK(DatenKomponenten!U33),\"\",DatenKomponenten!U33)","v":""},{"$f":"IF(ISBLANK(DatenKomponenten!V33),\"\",DatenKomponenten!V33)","v":""},{"$f":"IF(ISBLANK(DatenKomponenten!W33),\"\",DatenKomponenten!W33)","v":""},{"$f":"IF(ISBLANK(DatenKomponenten!X33),\"\",DatenKomponenten!X33)","v":""},{"$f":"IF(ISBLANK(DatenKomponenten!Y33),\"\",DatenKomponenten!Y33)","v":""},{"$f":"IF(ISBLANK(DatenKomponenten!Z33),\"\",DatenKomponenten!Z33)","v":""},{"$f":"IF(ISBLANK(DatenKomponenten!AA33),\"\",DatenKomponenten!AA33)","v":""},{"$f":"IF(ISBLANK(DatenKomponenten!AB33),\"\",DatenKomponenten!AB33)","v":""},{"$f":"IF(ISBLANK(DatenKomponenten!AC33),\"\",DatenKomponenten!AC33)","v":""},{"$f":"IF(ISBLANK(DatenKomponenten!AD33),\"\",DatenKomponenten!AD33)","v":""},{"$f":"IF(ISBLANK(DatenKomponenten!AE33),\"\",DatenKomponenten!AE33)","v":""},{"$f":"IF(ISBLANK(DatenKomponenten!AF33),\"\",DatenKomponenten!AF33)","v":""},{"$f":"IF(ISBLANK(DatenKomponenten!AG33),\"\",DatenKomponenten!AG33)","v":""},{"$f":"IF(ISBLANK(DatenKomponenten!AH33),\"\",DatenKomponenten!AH33)","v":""},{"$f":"IF(ISBLANK(DatenKomponenten!AI33),\"\",DatenKomponenten!AI33)","v":""},{"$f":"IF(ISBLANK(DatenKomponenten!AJ33),\"\",DatenKomponenten!AJ33)","v":""},{"$f":"IF(ISBLANK(DatenKomponenten!AK33),\"\",DatenKomponenten!AK33)","v":""},{"$f":"IF(ISBLANK(DatenKomponenten!AL33),\"\",DatenKomponenten!AL33)","v":""},{"$f":"IF(ISBLANK(DatenKomponenten!AM33),\"\",DatenKomponenten!AM33)","v":""},{"$f":"IF(ISBLANK(DatenKomponenten!AN33),\"\",DatenKomponenten!AN33)","v":""},{"$f":"IF(ISBLANK(DatenKomponenten!AO33),\"\",DatenKomponenten!AO33)","v":""},{"$f":"IF(ISBLANK(DatenKomponenten!AP33),\"\",DatenKomponenten!AP33)","v":""},{"$f":"IF(ISBLANK(DatenKomponenten!AQ33),\"\",DatenKomponenten!AQ33)","v":""},{"$f":"IF(ISBLANK(DatenKomponenten!AR33),\"\",DatenKomponenten!AR33)","v":""},{"$f":"IF(ISBLANK(DatenKomponenten!AS33),\"\",DatenKomponenten!AS33)","v":""},{"$f":"IF(ISBLANK(DatenKomponenten!AT33),\"\",DatenKomponenten!AT33)","v":""},{"$f":"IF(ISBLANK(DatenKomponenten!AU33),\"\",DatenKomponenten!AU33)","v":""},{"$f":"IF(ISBLANK(DatenKomponenten!AV33),\"\",DatenKomponenten!AV33)","v":""},{"$f":"IF(ISBLANK(DatenKomponenten!AW33),\"\",DatenKomponenten!AW33)","v":""},{"$f":"IF(ISBLANK(DatenKomponenten!AX33),\"\",DatenKomponenten!AX33)","v":""},{"$f":"IF(ISBLANK(DatenKomponenten!AY33),\"\",DatenKomponenten!AY33)","v":""},{"$f":"IF(ISBLANK(DatenKomponenten!AZ33),\"\",DatenKomponenten!AZ33)","v":""}]
[{"$f":"IF(ISBLANK(DatenKomponenten!A34),\"\",DatenKomponenten!A34)","v":""},{"$f":"IF(ISBLANK(DatenKomponenten!B34),\"\",DatenKomponenten!B34)","v":""},{"$f":"IF(ISBLANK(DatenKomponenten!C34),\"\",DatenKomponenten!C34)","v":""},{"$f":"IF(ISBLANK(DatenKomponenten!D34),\"\",DatenKomponenten!D34)","v":""},{"$f":"IF(ISBLANK(DatenKomponenten!E34),\"\",DatenKomponenten!E34)","v":""},{"$f":"IF(ISBLANK(DatenKomponenten!F34),\"\",DatenKomponenten!F34)","v":""},{"$f":"IF(ISBLANK(DatenKomponenten!G34),\"\",DatenKomponenten!G34)","v":""},{"$f":"IF(ISBLANK(DatenKomponenten!H34),\"\",DatenKomponenten!H34)","v":""},{"$f":"IF(ISBLANK(DatenKomponenten!I34),\"\",DatenKomponenten!I34)","v":""},{"$f":"IF(ISBLANK(DatenKomponenten!J34),\"\",DatenKomponenten!J34)","v":""},{"$f":"IF(ISBLANK(DatenKomponenten!K34),\"\",DatenKomponenten!K34)","v":""},{"$f":"IF(ISBLANK(DatenKomponenten!L34),\"\",DatenKomponenten!L34)","v":""},{"$f":"IF(ISBLANK(DatenKomponenten!M34),\"\",DatenKomponenten!M34)","v":""},{"$f":"IF(ISBLANK(DatenKomponenten!N34),\"\",DatenKomponenten!N34)","v":""},{"$f":"IF(ISBLANK(DatenKomponenten!O34),\"\",DatenKomponenten!O34)","v":""},{"$f":"IF(ISBLANK(DatenKomponenten!P34),\"\",DatenKomponenten!P34)","v":""},{"$f":"IF(ISBLANK(DatenKomponenten!Q34),\"\",DatenKomponenten!Q34)","v":""},{"$f":"IF(ISBLANK(DatenKomponenten!R34),\"\",DatenKomponenten!R34)","v":""},{"$f":"IF(ISBLANK(DatenKomponenten!S34),\"\",DatenKomponenten!S34)","v":""},{"$f":"IF(ISBLANK(DatenKomponenten!T34),\"\",DatenKomponenten!T34)","v":""},{"$f":"IF(ISBLANK(DatenKomponenten!U34),\"\",DatenKomponenten!U34)","v":""},{"$f":"IF(ISBLANK(DatenKomponenten!V34),\"\",DatenKomponenten!V34)","v":""},{"$f":"IF(ISBLANK(DatenKomponenten!W34),\"\",DatenKomponenten!W34)","v":""},{"$f":"IF(ISBLANK(DatenKomponenten!X34),\"\",DatenKomponenten!X34)","v":""},{"$f":"IF(ISBLANK(DatenKomponenten!Y34),\"\",DatenKomponenten!Y34)","v":""},{"$f":"IF(ISBLANK(DatenKomponenten!Z34),\"\",DatenKomponenten!Z34)","v":""},{"$f":"IF(ISBLANK(DatenKomponenten!AA34),\"\",DatenKomponenten!AA34)","v":""},{"$f":"IF(ISBLANK(DatenKomponenten!AB34),\"\",DatenKomponenten!AB34)","v":""},{"$f":"IF(ISBLANK(DatenKomponenten!AC34),\"\",DatenKomponenten!AC34)","v":""},{"$f":"IF(ISBLANK(DatenKomponenten!AD34),\"\",DatenKomponenten!AD34)","v":""},{"$f":"IF(ISBLANK(DatenKomponenten!AE34),\"\",DatenKomponenten!AE34)","v":""},{"$f":"IF(ISBLANK(DatenKomponenten!AF34),\"\",DatenKomponenten!AF34)","v":""},{"$f":"IF(ISBLANK(DatenKomponenten!AG34),\"\",DatenKomponenten!AG34)","v":""},{"$f":"IF(ISBLANK(DatenKomponenten!AH34),\"\",DatenKomponenten!AH34)","v":""},{"$f":"IF(ISBLANK(DatenKomponenten!AI34),\"\",DatenKomponenten!AI34)","v":""},{"$f":"IF(ISBLANK(DatenKomponenten!AJ34),\"\",DatenKomponenten!AJ34)","v":""},{"$f":"IF(ISBLANK(DatenKomponenten!AK34),\"\",DatenKomponenten!AK34)","v":""},{"$f":"IF(ISBLANK(DatenKomponenten!AL34),\"\",DatenKomponenten!AL34)","v":""},{"$f":"IF(ISBLANK(DatenKomponenten!AM34),\"\",DatenKomponenten!AM34)","v":""},{"$f":"IF(ISBLANK(DatenKomponenten!AN34),\"\",DatenKomponenten!AN34)","v":""},{"$f":"IF(ISBLANK(DatenKomponenten!AO34),\"\",DatenKomponenten!AO34)","v":""},{"$f":"IF(ISBLANK(DatenKomponenten!AP34),\"\",DatenKomponenten!AP34)","v":""},{"$f":"IF(ISBLANK(DatenKomponenten!AQ34),\"\",DatenKomponenten!AQ34)","v":""},{"$f":"IF(ISBLANK(DatenKomponenten!AR34),\"\",DatenKomponenten!AR34)","v":""},{"$f":"IF(ISBLANK(DatenKomponenten!AS34),\"\",DatenKomponenten!AS34)","v":""},{"$f":"IF(ISBLANK(DatenKomponenten!AT34),\"\",DatenKomponenten!AT34)","v":""},{"$f":"IF(ISBLANK(DatenKomponenten!AU34),\"\",DatenKomponenten!AU34)","v":""},{"$f":"IF(ISBLANK(DatenKomponenten!AV34),\"\",DatenKomponenten!AV34)","v":""},{"$f":"IF(ISBLANK(DatenKomponenten!AW34),\"\",DatenKomponenten!AW34)","v":""},{"$f":"IF(ISBLANK(DatenKomponenten!AX34),\"\",DatenKomponenten!AX34)","v":""},{"$f":"IF(ISBLANK(DatenKomponenten!AY34),\"\",DatenKomponenten!AY34)","v":""},{"$f":"IF(ISBLANK(DatenKomponenten!AZ34),\"\",DatenKomponenten!AZ34)","v":""}]
[{"$f":"IF(ISBLANK(DatenKomponenten!A35),\"\",DatenKomponenten!A35)","v":""},{"$f":"IF(ISBLANK(DatenKomponenten!B35),\"\",DatenKomponenten!B35)","v":""},{"$f":"IF(ISBLANK(DatenKomponenten!C35),\"\",DatenKomponenten!C35)","v":""},{"$f":"IF(ISBLANK(DatenKomponenten!D35),\"\",DatenKomponenten!D35)","v":""},{"$f":"IF(ISBLANK(DatenKomponenten!E35),\"\",DatenKomponenten!E35)","v":""},{"$f":"IF(ISBLANK(DatenKomponenten!F35),\"\",DatenKomponenten!F35)","v":""},{"$f":"IF(ISBLANK(DatenKomponenten!G35),\"\",DatenKomponenten!G35)","v":""},{"$f":"IF(ISBLANK(DatenKomponenten!H35),\"\",DatenKomponenten!H35)","v":""},{"$f":"IF(ISBLANK(DatenKomponenten!I35),\"\",DatenKomponenten!I35)","v":""},{"$f":"IF(ISBLANK(DatenKomponenten!J35),\"\",DatenKomponenten!J35)","v":""},{"$f":"IF(ISBLANK(DatenKomponenten!K35),\"\",DatenKomponenten!K35)","v":""},{"$f":"IF(ISBLANK(DatenKomponenten!L35),\"\",DatenKomponenten!L35)","v":""},{"$f":"IF(ISBLANK(DatenKomponenten!M35),\"\",DatenKomponenten!M35)","v":""},{"$f":"IF(ISBLANK(DatenKomponenten!N35),\"\",DatenKomponenten!N35)","v":""},{"$f":"IF(ISBLANK(DatenKomponenten!O35),\"\",DatenKomponenten!O35)","v":""},{"$f":"IF(ISBLANK(DatenKomponenten!P35),\"\",DatenKomponenten!P35)","v":""},{"$f":"IF(ISBLANK(DatenKomponenten!Q35),\"\",DatenKomponenten!Q35)","v":""},{"$f":"IF(ISBLANK(DatenKomponenten!R35),\"\",DatenKomponenten!R35)","v":""},{"$f":"IF(ISBLANK(DatenKomponenten!S35),\"\",DatenKomponenten!S35)","v":""},{"$f":"IF(ISBLANK(DatenKomponenten!T35),\"\",DatenKomponenten!T35)","v":""},{"$f":"IF(ISBLANK(DatenKomponenten!U35),\"\",DatenKomponenten!U35)","v":""},{"$f":"IF(ISBLANK(DatenKomponenten!V35),\"\",DatenKomponenten!V35)","v":""},{"$f":"IF(ISBLANK(DatenKomponenten!W35),\"\",DatenKomponenten!W35)","v":""},{"$f":"IF(ISBLANK(DatenKomponenten!X35),\"\",DatenKomponenten!X35)","v":""},{"$f":"IF(ISBLANK(DatenKomponenten!Y35),\"\",DatenKomponenten!Y35)","v":""},{"$f":"IF(ISBLANK(DatenKomponenten!Z35),\"\",DatenKomponenten!Z35)","v":""},{"$f":"IF(ISBLANK(DatenKomponenten!AA35),\"\",DatenKomponenten!AA35)","v":""},{"$f":"IF(ISBLANK(DatenKomponenten!AB35),\"\",DatenKomponenten!AB35)","v":""},{"$f":"IF(ISBLANK(DatenKomponenten!AC35),\"\",DatenKomponenten!AC35)","v":""},{"$f":"IF(ISBLANK(DatenKomponenten!AD35),\"\",DatenKomponenten!AD35)","v":""},{"$f":"IF(ISBLANK(DatenKomponenten!AE35),\"\",DatenKomponenten!AE35)","v":""},{"$f":"IF(ISBLANK(DatenKomponenten!AF35),\"\",DatenKomponenten!AF35)","v":""},{"$f":"IF(ISBLANK(DatenKomponenten!AG35),\"\",DatenKomponenten!AG35)","v":""},{"$f":"IF(ISBLANK(DatenKomponenten!AH35),\"\",DatenKomponenten!AH35)","v":""},{"$f":"IF(ISBLANK(DatenKomponenten!AI35),\"\",DatenKomponenten!AI35)","v":""},{"$f":"IF(ISBLANK(DatenKomponenten!AJ35),\"\",DatenKomponenten!AJ35)","v":""},{"$f":"IF(ISBLANK(DatenKomponenten!AK35),\"\",DatenKomponenten!AK35)","v":""},{"$f":"IF(ISBLANK(DatenKomponenten!AL35),\"\",DatenKomponenten!AL35)","v":""},{"$f":"IF(ISBLANK(DatenKomponenten!AM35),\"\",DatenKomponenten!AM35)","v":""},{"$f":"IF(ISBLANK(DatenKomponenten!AN35),\"\",DatenKomponenten!AN35)","v":""},{"$f":"IF(ISBLANK(DatenKomponenten!AO35),\"\",DatenKomponenten!AO35)","v":""},{"$f":"IF(ISBLANK(DatenKomponenten!AP35),\"\",DatenKomponenten!AP35)","v":""},{"$f":"IF(ISBLANK(DatenKomponenten!AQ35),\"\",DatenKomponenten!AQ35)","v":""},{"$f":"IF(ISBLANK(DatenKomponenten!AR35),\"\",DatenKomponenten!AR35)","v":""},{"$f":"IF(ISBLANK(DatenKomponenten!AS35),\"\",DatenKomponenten!AS35)","v":""},{"$f":"IF(ISBLANK(DatenKomponenten!AT35),\"\",DatenKomponenten!AT35)","v":""},{"$f":"IF(ISBLANK(DatenKomponenten!AU35),\"\",DatenKomponenten!AU35)","v":""},{"$f":"IF(ISBLANK(DatenKomponenten!AV35),\"\",DatenKomponenten!AV35)","v":""},{"$f":"IF(ISBLANK(DatenKomponenten!AW35),\"\",DatenKomponenten!AW35)","v":""},{"$f":"IF(ISBLANK(DatenKomponenten!AX35),\"\",DatenKomponenten!AX35)","v":""},{"$f":"IF(ISBLANK(DatenKomponenten!AY35),\"\",DatenKomponenten!AY35)","v":""},{"$f":"IF(ISBLANK(DatenKomponenten!AZ35),\"\",DatenKomponenten!AZ35)","v":""}]
[{"$f":"IF(ISBLANK(DatenKomponenten!A36),\"\",DatenKomponenten!A36)","v":""},{"$f":"IF(ISBLANK(DatenKomponenten!B36),\"\",DatenKomponenten!B36)","v":""},{"$f":"IF(ISBLANK(DatenKomponenten!C36),\"\",DatenKomponenten!C36)","v":""},{"$f":"IF(ISBLANK(DatenKomponenten!D36),\"\",DatenKomponenten!D36)","v":""},{"$f":"IF(ISBLANK(DatenKomponenten!E36),\"\",DatenKomponenten!E36)","v":""},{"$f":"IF(ISBLANK(DatenKomponenten!F36),\"\",DatenKomponenten!F36)","v":""},{"$f":"IF(ISBLANK(DatenKomponenten!G36),\"\",DatenKomponenten!G36)","v":""},{"$f":"IF(ISBLANK(DatenKomponenten!H36),\"\",DatenKomponenten!H36)","v":""},{"$f":"IF(ISBLANK(DatenKomponenten!I36),\"\",DatenKomponenten!I36)","v":""},{"$f":"IF(ISBLANK(DatenKomponenten!J36),\"\",DatenKomponenten!J36)","v":""},{"$f":"IF(ISBLANK(DatenKomponenten!K36),\"\",DatenKomponenten!K36)","v":""},{"$f":"IF(ISBLANK(DatenKomponenten!L36),\"\",DatenKomponenten!L36)","v":""},{"$f":"IF(ISBLANK(DatenKomponenten!M36),\"\",DatenKomponenten!M36)","v":""},{"$f":"IF(ISBLANK(DatenKomponenten!N36),\"\",DatenKomponenten!N36)","v":""},{"$f":"IF(ISBLANK(DatenKomponenten!O36),\"\",DatenKomponenten!O36)","v":""},{"$f":"IF(ISBLANK(DatenKomponenten!P36),\"\",DatenKomponenten!P36)","v":""},{"$f":"IF(ISBLANK(DatenKomponenten!Q36),\"\",DatenKomponenten!Q36)","v":""},{"$f":"IF(ISBLANK(DatenKomponenten!R36),\"\",DatenKomponenten!R36)","v":""},{"$f":"IF(ISBLANK(DatenKomponenten!S36),\"\",DatenKomponenten!S36)","v":""},{"$f":"IF(ISBLANK(DatenKomponenten!T36),\"\",DatenKomponenten!T36)","v":""},{"$f":"IF(ISBLANK(DatenKomponenten!U36),\"\",DatenKomponenten!U36)","v":""},{"$f":"IF(ISBLANK(DatenKomponenten!V36),\"\",DatenKomponenten!V36)","v":""},{"$f":"IF(ISBLANK(DatenKomponenten!W36),\"\",DatenKomponenten!W36)","v":""},{"$f":"IF(ISBLANK(DatenKomponenten!X36),\"\",DatenKomponenten!X36)","v":""},{"$f":"IF(ISBLANK(DatenKomponenten!Y36),\"\",DatenKomponenten!Y36)","v":""},{"$f":"IF(ISBLANK(DatenKomponenten!Z36),\"\",DatenKomponenten!Z36)","v":""},{"$f":"IF(ISBLANK(DatenKomponenten!AA36),\"\",DatenKomponenten!AA36)","v":""},{"$f":"IF(ISBLANK(DatenKomponenten!AB36),\"\",DatenKomponenten!AB36)","v":""},{"$f":"IF(ISBLANK(DatenKomponenten!AC36),\"\",DatenKomponenten!AC36)","v":""},{"$f":"IF(ISBLANK(DatenKomponenten!AD36),\"\",DatenKomponenten!AD36)","v":""},{"$f":"IF(ISBLANK(DatenKomponenten!AE36),\"\",DatenKomponenten!AE36)","v":""},{"$f":"IF(ISBLANK(DatenKomponenten!AF36),\"\",DatenKomponenten!AF36)","v":""},{"$f":"IF(ISBLANK(DatenKomponenten!AG36),\"\",DatenKomponenten!AG36)","v":""},{"$f":"IF(ISBLANK(DatenKomponenten!AH36),\"\",DatenKomponenten!AH36)","v":""},{"$f":"IF(ISBLANK(DatenKomponenten!AI36),\"\",DatenKomponenten!AI36)","v":""},{"$f":"IF(ISBLANK(DatenKomponenten!AJ36),\"\",DatenKomponenten!AJ36)","v":""},{"$f":"IF(ISBLANK(DatenKomponenten!AK36),\"\",DatenKomponenten!AK36)","v":""},{"$f":"IF(ISBLANK(DatenKomponenten!AL36),\"\",DatenKomponenten!AL36)","v":""},{"$f":"IF(ISBLANK(DatenKomponenten!AM36),\"\",DatenKomponenten!AM36)","v":""},{"$f":"IF(ISBLANK(DatenKomponenten!AN36),\"\",DatenKomponenten!AN36)","v":""},{"$f":"IF(ISBLANK(DatenKomponenten!AO36),\"\",DatenKomponenten!AO36)","v":""},{"$f":"IF(ISBLANK(DatenKomponenten!AP36),\"\",DatenKomponenten!AP36)","v":""},{"$f":"IF(ISBLANK(DatenKomponenten!AQ36),\"\",DatenKomponenten!AQ36)","v":""},{"$f":"IF(ISBLANK(DatenKomponenten!AR36),\"\",DatenKomponenten!AR36)","v":""},{"$f":"IF(ISBLANK(DatenKomponenten!AS36),\"\",DatenKomponenten!AS36)","v":""},{"$f":"IF(ISBLANK(DatenKomponenten!AT36),\"\",DatenKomponenten!AT36)","v":""},{"$f":"IF(ISBLANK(DatenKomponenten!AU36),\"\",DatenKomponenten!AU36)","v":""},{"$f":"IF(ISBLANK(DatenKomponenten!AV36),\"\",DatenKomponenten!AV36)","v":""},{"$f":"IF(ISBLANK(DatenKomponenten!AW36),\"\",DatenKomponenten!AW36)","v":""},{"$f":"IF(ISBLANK(DatenKomponenten!AX36),\"\",DatenKomponenten!AX36)","v":""},{"$f":"IF(ISBLANK(DatenKomponenten!AY36),\"\",DatenKomponenten!AY36)","v":""},{"$f":"IF(ISBLANK(DatenKomponenten!AZ36),\"\",DatenKomponenten!AZ36)","v":""}]
[{"$f":"IF(ISBLANK(DatenKomponenten!A37),\"\",DatenKomponenten!A37)","v":""},{"$f":"IF(ISBLANK(DatenKomponenten!B37),\"\",DatenKomponenten!B37)","v":""},{"$f":"IF(ISBLANK(DatenKomponenten!C37),\"\",DatenKomponenten!C37)","v":""},{"$f":"IF(ISBLANK(DatenKomponenten!D37),\"\",DatenKomponenten!D37)","v":""},{"$f":"IF(ISBLANK(DatenKomponenten!E37),\"\",DatenKomponenten!E37)","v":""},{"$f":"IF(ISBLANK(DatenKomponenten!F37),\"\",DatenKomponenten!F37)","v":""},{"$f":"IF(ISBLANK(DatenKomponenten!G37),\"\",DatenKomponenten!G37)","v":""},{"$f":"IF(ISBLANK(DatenKomponenten!H37),\"\",DatenKomponenten!H37)","v":""},{"$f":"IF(ISBLANK(DatenKomponenten!I37),\"\",DatenKomponenten!I37)","v":""},{"$f":"IF(ISBLANK(DatenKomponenten!J37),\"\",DatenKomponenten!J37)","v":""},{"$f":"IF(ISBLANK(DatenKomponenten!K37),\"\",DatenKomponenten!K37)","v":""},{"$f":"IF(ISBLANK(DatenKomponenten!L37),\"\",DatenKomponenten!L37)","v":""},{"$f":"IF(ISBLANK(DatenKomponenten!M37),\"\",DatenKomponenten!M37)","v":""},{"$f":"IF(ISBLANK(DatenKomponenten!N37),\"\",DatenKomponenten!N37)","v":""},{"$f":"IF(ISBLANK(DatenKomponenten!O37),\"\",DatenKomponenten!O37)","v":""},{"$f":"IF(ISBLANK(DatenKomponenten!P37),\"\",DatenKomponenten!P37)","v":""},{"$f":"IF(ISBLANK(DatenKomponenten!Q37),\"\",DatenKomponenten!Q37)","v":""},{"$f":"IF(ISBLANK(DatenKomponenten!R37),\"\",DatenKomponenten!R37)","v":""},{"$f":"IF(ISBLANK(DatenKomponenten!S37),\"\",DatenKomponenten!S37)","v":""},{"$f":"IF(ISBLANK(DatenKomponenten!T37),\"\",DatenKomponenten!T37)","v":""},{"$f":"IF(ISBLANK(DatenKomponenten!U37),\"\",DatenKomponenten!U37)","v":""},{"$f":"IF(ISBLANK(DatenKomponenten!V37),\"\",DatenKomponenten!V37)","v":""},{"$f":"IF(ISBLANK(DatenKomponenten!W37),\"\",DatenKomponenten!W37)","v":""},{"$f":"IF(ISBLANK(DatenKomponenten!X37),\"\",DatenKomponenten!X37)","v":""},{"$f":"IF(ISBLANK(DatenKomponenten!Y37),\"\",DatenKomponenten!Y37)","v":""},{"$f":"IF(ISBLANK(DatenKomponenten!Z37),\"\",DatenKomponenten!Z37)","v":""},{"$f":"IF(ISBLANK(DatenKomponenten!AA37),\"\",DatenKomponenten!AA37)","v":""},{"$f":"IF(ISBLANK(DatenKomponenten!AB37),\"\",DatenKomponenten!AB37)","v":""},{"$f":"IF(ISBLANK(DatenKomponenten!AC37),\"\",DatenKomponenten!AC37)","v":""},{"$f":"IF(ISBLANK(DatenKomponenten!AD37),\"\",DatenKomponenten!AD37)","v":""},{"$f":"IF(ISBLANK(DatenKomponenten!AE37),\"\",DatenKomponenten!AE37)","v":""},{"$f":"IF(ISBLANK(DatenKomponenten!AF37),\"\",DatenKomponenten!AF37)","v":""},{"$f":"IF(ISBLANK(DatenKomponenten!AG37),\"\",DatenKomponenten!AG37)","v":""},{"$f":"IF(ISBLANK(DatenKomponenten!AH37),\"\",DatenKomponenten!AH37)","v":""},{"$f":"IF(ISBLANK(DatenKomponenten!AI37),\"\",DatenKomponenten!AI37)","v":""},{"$f":"IF(ISBLANK(DatenKomponenten!AJ37),\"\",DatenKomponenten!AJ37)","v":""},{"$f":"IF(ISBLANK(DatenKomponenten!AK37),\"\",DatenKomponenten!AK37)","v":""},{"$f":"IF(ISBLANK(DatenKomponenten!AL37),\"\",DatenKomponenten!AL37)","v":""},{"$f":"IF(ISBLANK(DatenKomponenten!AM37),\"\",DatenKomponenten!AM37)","v":""},{"$f":"IF(ISBLANK(DatenKomponenten!AN37),\"\",DatenKomponenten!AN37)","v":""},{"$f":"IF(ISBLANK(DatenKomponenten!AO37),\"\",DatenKomponenten!AO37)","v":""},{"$f":"IF(ISBLANK(DatenKomponenten!AP37),\"\",DatenKomponenten!AP37)","v":""},{"$f":"IF(ISBLANK(DatenKomponenten!AQ37),\"\",DatenKomponenten!AQ37)","v":""},{"$f":"IF(ISBLANK(DatenKomponenten!AR37),\"\",DatenKomponenten!AR37)","v":""},{"$f":"IF(ISBLANK(DatenKomponenten!AS37),\"\",DatenKomponenten!AS37)","v":""},{"$f":"IF(ISBLANK(DatenKomponenten!AT37),\"\",DatenKomponenten!AT37)","v":""},{"$f":"IF(ISBLANK(DatenKomponenten!AU37),\"\",DatenKomponenten!AU37)","v":""},{"$f":"IF(ISBLANK(DatenKomponenten!AV37),\"\",DatenKomponenten!AV37)","v":""},{"$f":"IF(ISBLANK(DatenKomponenten!AW37),\"\",DatenKomponenten!AW37)","v":""},{"$f":"IF(ISBLANK(DatenKomponenten!AX37),\"\",DatenKomponenten!AX37)","v":""},{"$f":"IF(ISBLANK(DatenKomponenten!AY37),\"\",DatenKomponenten!AY37)","v":""},{"$f":"IF(ISBLANK(DatenKomponenten!AZ37),\"\",DatenKomponenten!AZ37)","v":""}]
[{"$f":"IF(ISBLANK(DatenKomponenten!A38),\"\",DatenKomponenten!A38)","v":""},{"$f":"IF(ISBLANK(DatenKomponenten!B38),\"\",DatenKomponenten!B38)","v":""},{"$f":"IF(ISBLANK(DatenKomponenten!C38),\"\",DatenKomponenten!C38)","v":""},{"$f":"IF(ISBLANK(DatenKomponenten!D38),\"\",DatenKomponenten!D38)","v":""},{"$f":"IF(ISBLANK(DatenKomponenten!E38),\"\",DatenKomponenten!E38)","v":""},{"$f":"IF(ISBLANK(DatenKomponenten!F38),\"\",DatenKomponenten!F38)","v":""},{"$f":"IF(ISBLANK(DatenKomponenten!G38),\"\",DatenKomponenten!G38)","v":""},{"$f":"IF(ISBLANK(DatenKomponenten!H38),\"\",DatenKomponenten!H38)","v":""},{"$f":"IF(ISBLANK(DatenKomponenten!I38),\"\",DatenKomponenten!I38)","v":""},{"$f":"IF(ISBLANK(DatenKomponenten!J38),\"\",DatenKomponenten!J38)","v":""},{"$f":"IF(ISBLANK(DatenKomponenten!K38),\"\",DatenKomponenten!K38)","v":""},{"$f":"IF(ISBLANK(DatenKomponenten!L38),\"\",DatenKomponenten!L38)","v":""},{"$f":"IF(ISBLANK(DatenKomponenten!M38),\"\",DatenKomponenten!M38)","v":""},{"$f":"IF(ISBLANK(DatenKomponenten!N38),\"\",DatenKomponenten!N38)","v":""},{"$f":"IF(ISBLANK(DatenKomponenten!O38),\"\",DatenKomponenten!O38)","v":""},{"$f":"IF(ISBLANK(DatenKomponenten!P38),\"\",DatenKomponenten!P38)","v":""},{"$f":"IF(ISBLANK(DatenKomponenten!Q38),\"\",DatenKomponenten!Q38)","v":""},{"$f":"IF(ISBLANK(DatenKomponenten!R38),\"\",DatenKomponenten!R38)","v":""},{"$f":"IF(ISBLANK(DatenKomponenten!S38),\"\",DatenKomponenten!S38)","v":""},{"$f":"IF(ISBLANK(DatenKomponenten!T38),\"\",DatenKomponenten!T38)","v":""},{"$f":"IF(ISBLANK(DatenKomponenten!U38),\"\",DatenKomponenten!U38)","v":""},{"$f":"IF(ISBLANK(DatenKomponenten!V38),\"\",DatenKomponenten!V38)","v":""},{"$f":"IF(ISBLANK(DatenKomponenten!W38),\"\",DatenKomponenten!W38)","v":""},{"$f":"IF(ISBLANK(DatenKomponenten!X38),\"\",DatenKomponenten!X38)","v":""},{"$f":"IF(ISBLANK(DatenKomponenten!Y38),\"\",DatenKomponenten!Y38)","v":""},{"$f":"IF(ISBLANK(DatenKomponenten!Z38),\"\",DatenKomponenten!Z38)","v":""},{"$f":"IF(ISBLANK(DatenKomponenten!AA38),\"\",DatenKomponenten!AA38)","v":""},{"$f":"IF(ISBLANK(DatenKomponenten!AB38),\"\",DatenKomponenten!AB38)","v":""},{"$f":"IF(ISBLANK(DatenKomponenten!AC38),\"\",DatenKomponenten!AC38)","v":""},{"$f":"IF(ISBLANK(DatenKomponenten!AD38),\"\",DatenKomponenten!AD38)","v":""},{"$f":"IF(ISBLANK(DatenKomponenten!AE38),\"\",DatenKomponenten!AE38)","v":""},{"$f":"IF(ISBLANK(DatenKomponenten!AF38),\"\",DatenKomponenten!AF38)","v":""},{"$f":"IF(ISBLANK(DatenKomponenten!AG38),\"\",DatenKomponenten!AG38)","v":""},{"$f":"IF(ISBLANK(DatenKomponenten!AH38),\"\",DatenKomponenten!AH38)","v":""},{"$f":"IF(ISBLANK(DatenKomponenten!AI38),\"\",DatenKomponenten!AI38)","v":""},{"$f":"IF(ISBLANK(DatenKomponenten!AJ38),\"\",DatenKomponenten!AJ38)","v":""},{"$f":"IF(ISBLANK(DatenKomponenten!AK38),\"\",DatenKomponenten!AK38)","v":""},{"$f":"IF(ISBLANK(DatenKomponenten!AL38),\"\",DatenKomponenten!AL38)","v":""},{"$f":"IF(ISBLANK(DatenKomponenten!AM38),\"\",DatenKomponenten!AM38)","v":""},{"$f":"IF(ISBLANK(DatenKomponenten!AN38),\"\",DatenKomponenten!AN38)","v":""},{"$f":"IF(ISBLANK(DatenKomponenten!AO38),\"\",DatenKomponenten!AO38)","v":""},{"$f":"IF(ISBLANK(DatenKomponenten!AP38),\"\",DatenKomponenten!AP38)","v":""},{"$f":"IF(ISBLANK(DatenKomponenten!AQ38),\"\",DatenKomponenten!AQ38)","v":""},{"$f":"IF(ISBLANK(DatenKomponenten!AR38),\"\",DatenKomponenten!AR38)","v":""},{"$f":"IF(ISBLANK(DatenKomponenten!AS38),\"\",DatenKomponenten!AS38)","v":""},{"$f":"IF(ISBLANK(DatenKomponenten!AT38),\"\",DatenKomponenten!AT38)","v":""},{"$f":"IF(ISBLANK(DatenKomponenten!AU38),\"\",DatenKomponenten!AU38)","v":""},{"$f":"IF(ISBLANK(DatenKomponenten!AV38),\"\",DatenKomponenten!AV38)","v":""},{"$f":"IF(ISBLANK(DatenKomponenten!AW38),\"\",DatenKomponenten!AW38)","v":""},{"$f":"IF(ISBLANK(DatenKomponenten!AX38),\"\",DatenKomponenten!AX38)","v":""},{"$f":"IF(ISBLANK(DatenKomponenten!AY38),\"\",DatenKomponenten!AY38)","v":""},{"$f":"IF(ISBLANK(DatenKomponenten!AZ38),\"\",DatenKomponenten!AZ38)","v":""}]
[{"$f":"IF(ISBLANK(DatenKomponenten!A39),\"\",DatenKomponenten!A39)","v":""},{"$f":"IF(ISBLANK(DatenKomponenten!B39),\"\",DatenKomponenten!B39)","v":""},{"$f":"IF(ISBLANK(DatenKomponenten!C39),\"\",DatenKomponenten!C39)","v":""},{"$f":"IF(ISBLANK(DatenKomponenten!D39),\"\",DatenKomponenten!D39)","v":""},{"$f":"IF(ISBLANK(DatenKomponenten!E39),\"\",DatenKomponenten!E39)","v":""},{"$f":"IF(ISBLANK(DatenKomponenten!F39),\"\",DatenKomponenten!F39)","v":""},{"$f":"IF(ISBLANK(DatenKomponenten!G39),\"\",DatenKomponenten!G39)","v":""},{"$f":"IF(ISBLANK(DatenKomponenten!H39),\"\",DatenKomponenten!H39)","v":""},{"$f":"IF(ISBLANK(DatenKomponenten!I39),\"\",DatenKomponenten!I39)","v":""},{"$f":"IF(ISBLANK(DatenKomponenten!J39),\"\",DatenKomponenten!J39)","v":""},{"$f":"IF(ISBLANK(DatenKomponenten!K39),\"\",DatenKomponenten!K39)","v":""},{"$f":"IF(ISBLANK(DatenKomponenten!L39),\"\",DatenKomponenten!L39)","v":""},{"$f":"IF(ISBLANK(DatenKomponenten!M39),\"\",DatenKomponenten!M39)","v":""},{"$f":"IF(ISBLANK(DatenKomponenten!N39),\"\",DatenKomponenten!N39)","v":""},{"$f":"IF(ISBLANK(DatenKomponenten!O39),\"\",DatenKomponenten!O39)","v":""},{"$f":"IF(ISBLANK(DatenKomponenten!P39),\"\",DatenKomponenten!P39)","v":""},{"$f":"IF(ISBLANK(DatenKomponenten!Q39),\"\",DatenKomponenten!Q39)","v":""},{"$f":"IF(ISBLANK(DatenKomponenten!R39),\"\",DatenKomponenten!R39)","v":""},{"$f":"IF(ISBLANK(DatenKomponenten!S39),\"\",DatenKomponenten!S39)","v":""},{"$f":"IF(ISBLANK(DatenKomponenten!T39),\"\",DatenKomponenten!T39)","v":""},{"$f":"IF(ISBLANK(DatenKomponenten!U39),\"\",DatenKomponenten!U39)","v":""},{"$f":"IF(ISBLANK(DatenKomponenten!V39),\"\",DatenKomponenten!V39)","v":""},{"$f":"IF(ISBLANK(DatenKomponenten!W39),\"\",DatenKomponenten!W39)","v":""},{"$f":"IF(ISBLANK(DatenKomponenten!X39),\"\",DatenKomponenten!X39)","v":""},{"$f":"IF(ISBLANK(DatenKomponenten!Y39),\"\",DatenKomponenten!Y39)","v":""},{"$f":"IF(ISBLANK(DatenKomponenten!Z39),\"\",DatenKomponenten!Z39)","v":""},{"$f":"IF(ISBLANK(DatenKomponenten!AA39),\"\",DatenKomponenten!AA39)","v":""},{"$f":"IF(ISBLANK(DatenKomponenten!AB39),\"\",DatenKomponenten!AB39)","v":""},{"$f":"IF(ISBLANK(DatenKomponenten!AC39),\"\",DatenKomponenten!AC39)","v":""},{"$f":"IF(ISBLANK(DatenKomponenten!AD39),\"\",DatenKomponenten!AD39)","v":""},{"$f":"IF(ISBLANK(DatenKomponenten!AE39),\"\",DatenKomponenten!AE39)","v":""},{"$f":"IF(ISBLANK(DatenKomponenten!AF39),\"\",DatenKomponenten!AF39)","v":""},{"$f":"IF(ISBLANK(DatenKomponenten!AG39),\"\",DatenKomponenten!AG39)","v":""},{"$f":"IF(ISBLANK(DatenKomponenten!AH39),\"\",DatenKomponenten!AH39)","v":""},{"$f":"IF(ISBLANK(DatenKomponenten!AI39),\"\",DatenKomponenten!AI39)","v":""},{"$f":"IF(ISBLANK(DatenKomponenten!AJ39),\"\",DatenKomponenten!AJ39)","v":""},{"$f":"IF(ISBLANK(DatenKomponenten!AK39),\"\",DatenKomponenten!AK39)","v":""},{"$f":"IF(ISBLANK(DatenKomponenten!AL39),\"\",DatenKomponenten!AL39)","v":""},{"$f":"IF(ISBLANK(DatenKomponenten!AM39),\"\",DatenKomponenten!AM39)","v":""},{"$f":"IF(ISBLANK(DatenKomponenten!AN39),\"\",DatenKomponenten!AN39)","v":""},{"$f":"IF(ISBLANK(DatenKomponenten!AO39),\"\",DatenKomponenten!AO39)","v":""},{"$f":"IF(ISBLANK(DatenKomponenten!AP39),\"\",DatenKomponenten!AP39)","v":""},{"$f":"IF(ISBLANK(DatenKomponenten!AQ39),\"\",DatenKomponenten!AQ39)","v":""},{"$f":"IF(ISBLANK(DatenKomponenten!AR39),\"\",DatenKomponenten!AR39)","v":""},{"$f":"IF(ISBLANK(DatenKomponenten!AS39),\"\",DatenKomponenten!AS39)","v":""},{"$f":"IF(ISBLANK(DatenKomponenten!AT39),\"\",DatenKomponenten!AT39)","v":""},{"$f":"IF(ISBLANK(DatenKomponenten!AU39),\"\",DatenKomponenten!AU39)","v":""},{"$f":"IF(ISBLANK(DatenKomponenten!AV39),\"\",DatenKomponenten!AV39)","v":""},{"$f":"IF(ISBLANK(DatenKomponenten!AW39),\"\",DatenKomponenten!AW39)","v":""},{"$f":"IF(ISBLANK(DatenKomponenten!AX39),\"\",DatenKomponenten!AX39)","v":""},{"$f":"IF(ISBLANK(DatenKomponenten!AY39),\"\",DatenKomponenten!AY39)","v":""},{"$f":"IF(ISBLANK(DatenKomponenten!AZ39),\"\",DatenKomponenten!AZ39)","v":""}]
[{"$f":"IF(ISBLANK(DatenKomponenten!A40),\"\",DatenKomponenten!A40)","v":""},{"$f":"IF(ISBLANK(DatenKomponenten!B40),\"\",DatenKomponenten!B40)","v":""},{"$f":"IF(ISBLANK(DatenKomponenten!C40),\"\",DatenKomponenten!C40)","v":""},{"$f":"IF(ISBLANK(DatenKomponenten!D40),\"\",DatenKomponenten!D40)","v":""},{"$f":"IF(ISBLANK(DatenKomponenten!E40),\"\",DatenKomponenten!E40)","v":""},{"$f":"IF(ISBLANK(DatenKomponenten!F40),\"\",DatenKomponenten!F40)","v":""},{"$f":"IF(ISBLANK(DatenKomponenten!G40),\"\",DatenKomponenten!G40)","v":""},{"$f":"IF(ISBLANK(DatenKomponenten!H40),\"\",DatenKomponenten!H40)","v":""},{"$f":"IF(ISBLANK(DatenKomponenten!I40),\"\",DatenKomponenten!I40)","v":""},{"$f":"IF(ISBLANK(DatenKomponenten!J40),\"\",DatenKomponenten!J40)","v":""},{"$f":"IF(ISBLANK(DatenKomponenten!K40),\"\",DatenKomponenten!K40)","v":""},{"$f":"IF(ISBLANK(DatenKomponenten!L40),\"\",DatenKomponenten!L40)","v":""},{"$f":"IF(ISBLANK(DatenKomponenten!M40),\"\",DatenKomponenten!M40)","v":""},{"$f":"IF(ISBLANK(DatenKomponenten!N40),\"\",DatenKomponenten!N40)","v":""},{"$f":"IF(ISBLANK(DatenKomponenten!O40),\"\",DatenKomponenten!O40)","v":""},{"$f":"IF(ISBLANK(DatenKomponenten!P40),\"\",DatenKomponenten!P40)","v":""},{"$f":"IF(ISBLANK(DatenKomponenten!Q40),\"\",DatenKomponenten!Q40)","v":""},{"$f":"IF(ISBLANK(DatenKomponenten!R40),\"\",DatenKomponenten!R40)","v":""},{"$f":"IF(ISBLANK(DatenKomponenten!S40),\"\",DatenKomponenten!S40)","v":""},{"$f":"IF(ISBLANK(DatenKomponenten!T40),\"\",DatenKomponenten!T40)","v":""},{"$f":"IF(ISBLANK(DatenKomponenten!U40),\"\",DatenKomponenten!U40)","v":""},{"$f":"IF(ISBLANK(DatenKomponenten!V40),\"\",DatenKomponenten!V40)","v":""},{"$f":"IF(ISBLANK(DatenKomponenten!W40),\"\",DatenKomponenten!W40)","v":""},{"$f":"IF(ISBLANK(DatenKomponenten!X40),\"\",DatenKomponenten!X40)","v":""},{"$f":"IF(ISBLANK(DatenKomponenten!Y40),\"\",DatenKomponenten!Y40)","v":""},{"$f":"IF(ISBLANK(DatenKomponenten!Z40),\"\",DatenKomponenten!Z40)","v":""},{"$f":"IF(ISBLANK(DatenKomponenten!AA40),\"\",DatenKomponenten!AA40)","v":""},{"$f":"IF(ISBLANK(DatenKomponenten!AB40),\"\",DatenKomponenten!AB40)","v":""},{"$f":"IF(ISBLANK(DatenKomponenten!AC40),\"\",DatenKomponenten!AC40)","v":""},{"$f":"IF(ISBLANK(DatenKomponenten!AD40),\"\",DatenKomponenten!AD40)","v":""},{"$f":"IF(ISBLANK(DatenKomponenten!AE40),\"\",DatenKomponenten!AE40)","v":""},{"$f":"IF(ISBLANK(DatenKomponenten!AF40),\"\",DatenKomponenten!AF40)","v":""},{"$f":"IF(ISBLANK(DatenKomponenten!AG40),\"\",DatenKomponenten!AG40)","v":""},{"$f":"IF(ISBLANK(DatenKomponenten!AH40),\"\",DatenKomponenten!AH40)","v":""},{"$f":"IF(ISBLANK(DatenKomponenten!AI40),\"\",DatenKomponenten!AI40)","v":""},{"$f":"IF(ISBLANK(DatenKomponenten!AJ40),\"\",DatenKomponenten!AJ40)","v":""},{"$f":"IF(ISBLANK(DatenKomponenten!AK40),\"\",DatenKomponenten!AK40)","v":""},{"$f":"IF(ISBLANK(DatenKomponenten!AL40),\"\",DatenKomponenten!AL40)","v":""},{"$f":"IF(ISBLANK(DatenKomponenten!AM40),\"\",DatenKomponenten!AM40)","v":""},{"$f":"IF(ISBLANK(DatenKomponenten!AN40),\"\",DatenKomponenten!AN40)","v":""},{"$f":"IF(ISBLANK(DatenKomponenten!AO40),\"\",DatenKomponenten!AO40)","v":""},{"$f":"IF(ISBLANK(DatenKomponenten!AP40),\"\",DatenKomponenten!AP40)","v":""},{"$f":"IF(ISBLANK(DatenKomponenten!AQ40),\"\",DatenKomponenten!AQ40)","v":""},{"$f":"IF(ISBLANK(DatenKomponenten!AR40),\"\",DatenKomponenten!AR40)","v":""},{"$f":"IF(ISBLANK(DatenKomponenten!AS40),\"\",DatenKomponenten!AS40)","v":""},{"$f":"IF(ISBLANK(DatenKomponenten!AT40),\"\",DatenKomponenten!AT40)","v":""},{"$f":"IF(ISBLANK(DatenKomponenten!AU40),\"\",DatenKomponenten!AU40)","v":""},{"$f":"IF(ISBLANK(DatenKomponenten!AV40),\"\",DatenKomponenten!AV40)","v":""},{"$f":"IF(ISBLANK(DatenKomponenten!AW40),\"\",DatenKomponenten!AW40)","v":""},{"$f":"IF(ISBLANK(DatenKomponenten!AX40),\"\",DatenKomponenten!AX40)","v":""},{"$f":"IF(ISBLANK(DatenKomponenten!AY40),\"\",DatenKomponenten!AY40)","v":""},{"$f":"IF(ISBLANK(DatenKomponenten!AZ40),\"\",DatenKomponenten!AZ40)","v":""}]
[{"$f":"IF(ISBLANK(DatenKomponenten!A41),\"\",DatenKomponenten!A41)","v":""},{"$f":"IF(ISBLANK(DatenKomponenten!B41),\"\",DatenKomponenten!B41)","v":""},{"$f":"IF(ISBLANK(DatenKomponenten!C41),\"\",DatenKomponenten!C41)","v":""},{"$f":"IF(ISBLANK(DatenKomponenten!D41),\"\",DatenKomponenten!D41)","v":""},{"$f":"IF(ISBLANK(DatenKomponenten!E41),\"\",DatenKomponenten!E41)","v":""},{"$f":"IF(ISBLANK(DatenKomponenten!F41),\"\",DatenKomponenten!F41)","v":""},{"$f":"IF(ISBLANK(DatenKomponenten!G41),\"\",DatenKomponenten!G41)","v":""},{"$f":"IF(ISBLANK(DatenKomponenten!H41),\"\",DatenKomponenten!H41)","v":""},{"$f":"IF(ISBLANK(DatenKomponenten!I41),\"\",DatenKomponenten!I41)","v":""},{"$f":"IF(ISBLANK(DatenKomponenten!J41),\"\",DatenKomponenten!J41)","v":""},{"$f":"IF(ISBLANK(DatenKomponenten!K41),\"\",DatenKomponenten!K41)","v":""},{"$f":"IF(ISBLANK(DatenKomponenten!L41),\"\",DatenKomponenten!L41)","v":""},{"$f":"IF(ISBLANK(DatenKomponenten!M41),\"\",DatenKomponenten!M41)","v":""},{"$f":"IF(ISBLANK(DatenKomponenten!N41),\"\",DatenKomponenten!N41)","v":""},{"$f":"IF(ISBLANK(DatenKomponenten!O41),\"\",DatenKomponenten!O41)","v":""},{"$f":"IF(ISBLANK(DatenKomponenten!P41),\"\",DatenKomponenten!P41)","v":""},{"$f":"IF(ISBLANK(DatenKomponenten!Q41),\"\",DatenKomponenten!Q41)","v":""},{"$f":"IF(ISBLANK(DatenKomponenten!R41),\"\",DatenKomponenten!R41)","v":""},{"$f":"IF(ISBLANK(DatenKomponenten!S41),\"\",DatenKomponenten!S41)","v":""},{"$f":"IF(ISBLANK(DatenKomponenten!T41),\"\",DatenKomponenten!T41)","v":""},{"$f":"IF(ISBLANK(DatenKomponenten!U41),\"\",DatenKomponenten!U41)","v":""},{"$f":"IF(ISBLANK(DatenKomponenten!V41),\"\",DatenKomponenten!V41)","v":""},{"$f":"IF(ISBLANK(DatenKomponenten!W41),\"\",DatenKomponenten!W41)","v":""},{"$f":"IF(ISBLANK(DatenKomponenten!X41),\"\",DatenKomponenten!X41)","v":""},{"$f":"IF(ISBLANK(DatenKomponenten!Y41),\"\",DatenKomponenten!Y41)","v":""},{"$f":"IF(ISBLANK(DatenKomponenten!Z41),\"\",DatenKomponenten!Z41)","v":""},{"$f":"IF(ISBLANK(DatenKomponenten!AA41),\"\",DatenKomponenten!AA41)","v":""},{"$f":"IF(ISBLANK(DatenKomponenten!AB41),\"\",DatenKomponenten!AB41)","v":""},{"$f":"IF(ISBLANK(DatenKomponenten!AC41),\"\",DatenKomponenten!AC41)","v":""},{"$f":"IF(ISBLANK(DatenKomponenten!AD41),\"\",DatenKomponenten!AD41)","v":""},{"$f":"IF(ISBLANK(DatenKomponenten!AE41),\"\",DatenKomponenten!AE41)","v":""},{"$f":"IF(ISBLANK(DatenKomponenten!AF41),\"\",DatenKomponenten!AF41)","v":""},{"$f":"IF(ISBLANK(DatenKomponenten!AG41),\"\",DatenKomponenten!AG41)","v":""},{"$f":"IF(ISBLANK(DatenKomponenten!AH41),\"\",DatenKomponenten!AH41)","v":""},{"$f":"IF(ISBLANK(DatenKomponenten!AI41),\"\",DatenKomponenten!AI41)","v":""},{"$f":"IF(ISBLANK(DatenKomponenten!AJ41),\"\",DatenKomponenten!AJ41)","v":""},{"$f":"IF(ISBLANK(DatenKomponenten!AK41),\"\",DatenKomponenten!AK41)","v":""},{"$f":"IF(ISBLANK(DatenKomponenten!AL41),\"\",DatenKomponenten!AL41)","v":""},{"$f":"IF(ISBLANK(DatenKomponenten!AM41),\"\",DatenKomponenten!AM41)","v":""},{"$f":"IF(ISBLANK(DatenKomponenten!AN41),\"\",DatenKomponenten!AN41)","v":""},{"$f":"IF(ISBLANK(DatenKomponenten!AO41),\"\",DatenKomponenten!AO41)","v":""},{"$f":"IF(ISBLANK(DatenKomponenten!AP41),\"\",DatenKomponenten!AP41)","v":""},{"$f":"IF(ISBLANK(DatenKomponenten!AQ41),\"\",DatenKomponenten!AQ41)","v":""},{"$f":"IF(ISBLANK(DatenKomponenten!AR41),\"\",DatenKomponenten!AR41)","v":""},{"$f":"IF(ISBLANK(DatenKomponenten!AS41),\"\",DatenKomponenten!AS41)","v":""},{"$f":"IF(ISBLANK(DatenKomponenten!AT41),\"\",DatenKomponenten!AT41)","v":""},{"$f":"IF(ISBLANK(DatenKomponenten!AU41),\"\",DatenKomponenten!AU41)","v":""},{"$f":"IF(ISBLANK(DatenKomponenten!AV41),\"\",DatenKomponenten!AV41)","v":""},{"$f":"IF(ISBLANK(DatenKomponenten!AW41),\"\",DatenKomponenten!AW41)","v":""},{"$f":"IF(ISBLANK(DatenKomponenten!AX41),\"\",DatenKomponenten!AX41)","v":""},{"$f":"IF(ISBLANK(DatenKomponenten!AY41),\"\",DatenKomponenten!AY41)","v":""},{"$f":"IF(ISBLANK(DatenKomponenten!AZ41),\"\",DatenKomponenten!AZ41)","v":""}]
[{"$f":"IF(ISBLANK(DatenKomponenten!A42),\"\",DatenKomponenten!A42)","v":""},{"$f":"IF(ISBLANK(DatenKomponenten!B42),\"\",DatenKomponenten!B42)","v":""},{"$f":"IF(ISBLANK(DatenKomponenten!C42),\"\",DatenKomponenten!C42)","v":""},{"$f":"IF(ISBLANK(DatenKomponenten!D42),\"\",DatenKomponenten!D42)","v":""},{"$f":"IF(ISBLANK(DatenKomponenten!E42),\"\",DatenKomponenten!E42)","v":""},{"$f":"IF(ISBLANK(DatenKomponenten!F42),\"\",DatenKomponenten!F42)","v":""},{"$f":"IF(ISBLANK(DatenKomponenten!G42),\"\",DatenKomponenten!G42)","v":""},{"$f":"IF(ISBLANK(DatenKomponenten!H42),\"\",DatenKomponenten!H42)","v":""},{"$f":"IF(ISBLANK(DatenKomponenten!I42),\"\",DatenKomponenten!I42)","v":""},{"$f":"IF(ISBLANK(DatenKomponenten!J42),\"\",DatenKomponenten!J42)","v":""},{"$f":"IF(ISBLANK(DatenKomponenten!K42),\"\",DatenKomponenten!K42)","v":""},{"$f":"IF(ISBLANK(DatenKomponenten!L42),\"\",DatenKomponenten!L42)","v":""},{"$f":"IF(ISBLANK(DatenKomponenten!M42),\"\",DatenKomponenten!M42)","v":""},{"$f":"IF(ISBLANK(DatenKomponenten!N42),\"\",DatenKomponenten!N42)","v":""},{"$f":"IF(ISBLANK(DatenKomponenten!O42),\"\",DatenKomponenten!O42)","v":""},{"$f":"IF(ISBLANK(DatenKomponenten!P42),\"\",DatenKomponenten!P42)","v":""},{"$f":"IF(ISBLANK(DatenKomponenten!Q42),\"\",DatenKomponenten!Q42)","v":""},{"$f":"IF(ISBLANK(DatenKomponenten!R42),\"\",DatenKomponenten!R42)","v":""},{"$f":"IF(ISBLANK(DatenKomponenten!S42),\"\",DatenKomponenten!S42)","v":""},{"$f":"IF(ISBLANK(DatenKomponenten!T42),\"\",DatenKomponenten!T42)","v":""},{"$f":"IF(ISBLANK(DatenKomponenten!U42),\"\",DatenKomponenten!U42)","v":""},{"$f":"IF(ISBLANK(DatenKomponenten!V42),\"\",DatenKomponenten!V42)","v":""},{"$f":"IF(ISBLANK(DatenKomponenten!W42),\"\",DatenKomponenten!W42)","v":""},{"$f":"IF(ISBLANK(DatenKomponenten!X42),\"\",DatenKomponenten!X42)","v":""},{"$f":"IF(ISBLANK(DatenKomponenten!Y42),\"\",DatenKomponenten!Y42)","v":""},{"$f":"IF(ISBLANK(DatenKomponenten!Z42),\"\",DatenKomponenten!Z42)","v":""},{"$f":"IF(ISBLANK(DatenKomponenten!AA42),\"\",DatenKomponenten!AA42)","v":""},{"$f":"IF(ISBLANK(DatenKomponenten!AB42),\"\",DatenKomponenten!AB42)","v":""},{"$f":"IF(ISBLANK(DatenKomponenten!AC42),\"\",DatenKomponenten!AC42)","v":""},{"$f":"IF(ISBLANK(DatenKomponenten!AD42),\"\",DatenKomponenten!AD42)","v":""},{"$f":"IF(ISBLANK(DatenKomponenten!AE42),\"\",DatenKomponenten!AE42)","v":""},{"$f":"IF(ISBLANK(DatenKomponenten!AF42),\"\",DatenKomponenten!AF42)","v":""},{"$f":"IF(ISBLANK(DatenKomponenten!AG42),\"\",DatenKomponenten!AG42)","v":""},{"$f":"IF(ISBLANK(DatenKomponenten!AH42),\"\",DatenKomponenten!AH42)","v":""},{"$f":"IF(ISBLANK(DatenKomponenten!AI42),\"\",DatenKomponenten!AI42)","v":""},{"$f":"IF(ISBLANK(DatenKomponenten!AJ42),\"\",DatenKomponenten!AJ42)","v":""},{"$f":"IF(ISBLANK(DatenKomponenten!AK42),\"\",DatenKomponenten!AK42)","v":""},{"$f":"IF(ISBLANK(DatenKomponenten!AL42),\"\",DatenKomponenten!AL42)","v":""},{"$f":"IF(ISBLANK(DatenKomponenten!AM42),\"\",DatenKomponenten!AM42)","v":""},{"$f":"IF(ISBLANK(DatenKomponenten!AN42),\"\",DatenKomponenten!AN42)","v":""},{"$f":"IF(ISBLANK(DatenKomponenten!AO42),\"\",DatenKomponenten!AO42)","v":""},{"$f":"IF(ISBLANK(DatenKomponenten!AP42),\"\",DatenKomponenten!AP42)","v":""},{"$f":"IF(ISBLANK(DatenKomponenten!AQ42),\"\",DatenKomponenten!AQ42)","v":""},{"$f":"IF(ISBLANK(DatenKomponenten!AR42),\"\",DatenKomponenten!AR42)","v":""},{"$f":"IF(ISBLANK(DatenKomponenten!AS42),\"\",DatenKomponenten!AS42)","v":""},{"$f":"IF(ISBLANK(DatenKomponenten!AT42),\"\",DatenKomponenten!AT42)","v":""},{"$f":"IF(ISBLANK(DatenKomponenten!AU42),\"\",DatenKomponenten!AU42)","v":""},{"$f":"IF(ISBLANK(DatenKomponenten!AV42),\"\",DatenKomponenten!AV42)","v":""},{"$f":"IF(ISBLANK(DatenKomponenten!AW42),\"\",DatenKomponenten!AW42)","v":""},{"$f":"IF(ISBLANK(DatenKomponenten!AX42),\"\",DatenKomponenten!AX42)","v":""},{"$f":"IF(ISBLANK(DatenKomponenten!AY42),\"\",DatenKomponenten!AY42)","v":""},{"$f":"IF(ISBLANK(DatenKomponenten!AZ42),\"\",DatenKomponenten!AZ42)","v":""}]
[{"$f":"IF(ISBLANK(DatenKomponenten!A43),\"\",DatenKomponenten!A43)","v":""},{"$f":"IF(ISBLANK(DatenKomponenten!B43),\"\",DatenKomponenten!B43)","v":""},{"$f":"IF(ISBLANK(DatenKomponenten!C43),\"\",DatenKomponenten!C43)","v":""},{"$f":"IF(ISBLANK(DatenKomponenten!D43),\"\",DatenKomponenten!D43)","v":""},{"$f":"IF(ISBLANK(DatenKomponenten!E43),\"\",DatenKomponenten!E43)","v":""},{"$f":"IF(ISBLANK(DatenKomponenten!F43),\"\",DatenKomponenten!F43)","v":""},{"$f":"IF(ISBLANK(DatenKomponenten!G43),\"\",DatenKomponenten!G43)","v":""},{"$f":"IF(ISBLANK(DatenKomponenten!H43),\"\",DatenKomponenten!H43)","v":""},{"$f":"IF(ISBLANK(DatenKomponenten!I43),\"\",DatenKomponenten!I43)","v":""},{"$f":"IF(ISBLANK(DatenKomponenten!J43),\"\",DatenKomponenten!J43)","v":""},{"$f":"IF(ISBLANK(DatenKomponenten!K43),\"\",DatenKomponenten!K43)","v":""},{"$f":"IF(ISBLANK(DatenKomponenten!L43),\"\",DatenKomponenten!L43)","v":""},{"$f":"IF(ISBLANK(DatenKomponenten!M43),\"\",DatenKomponenten!M43)","v":""},{"$f":"IF(ISBLANK(DatenKomponenten!N43),\"\",DatenKomponenten!N43)","v":""},{"$f":"IF(ISBLANK(DatenKomponenten!O43),\"\",DatenKomponenten!O43)","v":""},{"$f":"IF(ISBLANK(DatenKomponenten!P43),\"\",DatenKomponenten!P43)","v":""},{"$f":"IF(ISBLANK(DatenKomponenten!Q43),\"\",DatenKomponenten!Q43)","v":""},{"$f":"IF(ISBLANK(DatenKomponenten!R43),\"\",DatenKomponenten!R43)","v":""},{"$f":"IF(ISBLANK(DatenKomponenten!S43),\"\",DatenKomponenten!S43)","v":""},{"$f":"IF(ISBLANK(DatenKomponenten!T43),\"\",DatenKomponenten!T43)","v":""},{"$f":"IF(ISBLANK(DatenKomponenten!U43),\"\",DatenKomponenten!U43)","v":""},{"$f":"IF(ISBLANK(DatenKomponenten!V43),\"\",DatenKomponenten!V43)","v":""},{"$f":"IF(ISBLANK(DatenKomponenten!W43),\"\",DatenKomponenten!W43)","v":""},{"$f":"IF(ISBLANK(DatenKomponenten!X43),\"\",DatenKomponenten!X43)","v":""},{"$f":"IF(ISBLANK(DatenKomponenten!Y43),\"\",DatenKomponenten!Y43)","v":""},{"$f":"IF(ISBLANK(DatenKomponenten!Z43),\"\",DatenKomponenten!Z43)","v":""},{"$f":"IF(ISBLANK(DatenKomponenten!AA43),\"\",DatenKomponenten!AA43)","v":""},{"$f":"IF(ISBLANK(DatenKomponenten!AB43),\"\",DatenKomponenten!AB43)","v":""},{"$f":"IF(ISBLANK(DatenKomponenten!AC43),\"\",DatenKomponenten!AC43)","v":""},{"$f":"IF(ISBLANK(DatenKomponenten!AD43),\"\",DatenKomponenten!AD43)","v":""},{"$f":"IF(ISBLANK(DatenKomponenten!AE43),\"\",DatenKomponenten!AE43)","v":""},{"$f":"IF(ISBLANK(DatenKomponenten!AF43),\"\",DatenKomponenten!AF43)","v":""},{"$f":"IF(ISBLANK(DatenKomponenten!AG43),\"\",DatenKomponenten!AG43)","v":""},{"$f":"IF(ISBLANK(DatenKomponenten!AH43),\"\",DatenKomponenten!AH43)","v":""},{"$f":"IF(ISBLANK(DatenKomponenten!AI43),\"\",DatenKomponenten!AI43)","v":""},{"$f":"IF(ISBLANK(DatenKomponenten!AJ43),\"\",DatenKomponenten!AJ43)","v":""},{"$f":"IF(ISBLANK(DatenKomponenten!AK43),\"\",DatenKomponenten!AK43)","v":""},{"$f":"IF(ISBLANK(DatenKomponenten!AL43),\"\",DatenKomponenten!AL43)","v":""},{"$f":"IF(ISBLANK(DatenKomponenten!AM43),\"\",DatenKomponenten!AM43)","v":""},{"$f":"IF(ISBLANK(DatenKomponenten!AN43),\"\",DatenKomponenten!AN43)","v":""},{"$f":"IF(ISBLANK(DatenKomponenten!AO43),\"\",DatenKomponenten!AO43)","v":""},{"$f":"IF(ISBLANK(DatenKomponenten!AP43),\"\",DatenKomponenten!AP43)","v":""},{"$f":"IF(ISBLANK(DatenKomponenten!AQ43),\"\",DatenKomponenten!AQ43)","v":""},{"$f":"IF(ISBLANK(DatenKomponenten!AR43),\"\",DatenKomponenten!AR43)","v":""},{"$f":"IF(ISBLANK(DatenKomponenten!AS43),\"\",DatenKomponenten!AS43)","v":""},{"$f":"IF(ISBLANK(DatenKomponenten!AT43),\"\",DatenKomponenten!AT43)","v":""},{"$f":"IF(ISBLANK(DatenKomponenten!AU43),\"\",DatenKomponenten!AU43)","v":""},{"$f":"IF(ISBLANK(DatenKomponenten!AV43),\"\",DatenKomponenten!AV43)","v":""},{"$f":"IF(ISBLANK(DatenKomponenten!AW43),\"\",DatenKomponenten!AW43)","v":""},{"$f":"IF(ISBLANK(DatenKomponenten!AX43),\"\",DatenKomponenten!AX43)","v":""},{"$f":"IF(ISBLANK(DatenKomponenten!AY43),\"\",DatenKomponenten!AY43)","v":""},{"$f":"IF(ISBLANK(DatenKomponenten!AZ43),\"\",DatenKomponenten!AZ43)","v":""}]
[{"$f":"IF(ISBLANK(DatenKomponenten!A44),\"\",DatenKomponenten!A44)","v":""},{"$f":"IF(ISBLANK(DatenKomponenten!B44),\"\",DatenKomponenten!B44)","v":""},{"$f":"IF(ISBLANK(DatenKomponenten!C44),\"\",DatenKomponenten!C44)","v":""},{"$f":"IF(ISBLANK(DatenKomponenten!D44),\"\",DatenKomponenten!D44)","v":""},{"$f":"IF(ISBLANK(DatenKomponenten!E44),\"\",DatenKomponenten!E44)","v":""},{"$f":"IF(ISBLANK(DatenKomponenten!F44),\"\",DatenKomponenten!F44)","v":""},{"$f":"IF(ISBLANK(DatenKomponenten!G44),\"\",DatenKomponenten!G44)","v":""},{"$f":"IF(ISBLANK(DatenKomponenten!H44),\"\",DatenKomponenten!H44)","v":""},{"$f":"IF(ISBLANK(DatenKomponenten!I44),\"\",DatenKomponenten!I44)","v":""},{"$f":"IF(ISBLANK(DatenKomponenten!J44),\"\",DatenKomponenten!J44)","v":""},{"$f":"IF(ISBLANK(DatenKomponenten!K44),\"\",DatenKomponenten!K44)","v":""},{"$f":"IF(ISBLANK(DatenKomponenten!L44),\"\",DatenKomponenten!L44)","v":""},{"$f":"IF(ISBLANK(DatenKomponenten!M44),\"\",DatenKomponenten!M44)","v":""},{"$f":"IF(ISBLANK(DatenKomponenten!N44),\"\",DatenKomponenten!N44)","v":""},{"$f":"IF(ISBLANK(DatenKomponenten!O44),\"\",DatenKomponenten!O44)","v":""},{"$f":"IF(ISBLANK(DatenKomponenten!P44),\"\",DatenKomponenten!P44)","v":""},{"$f":"IF(ISBLANK(DatenKomponenten!Q44),\"\",DatenKomponenten!Q44)","v":""},{"$f":"IF(ISBLANK(DatenKomponenten!R44),\"\",DatenKomponenten!R44)","v":""},{"$f":"IF(ISBLANK(DatenKomponenten!S44),\"\",DatenKomponenten!S44)","v":""},{"$f":"IF(ISBLANK(DatenKomponenten!T44),\"\",DatenKomponenten!T44)","v":""},{"$f":"IF(ISBLANK(DatenKomponenten!U44),\"\",DatenKomponenten!U44)","v":""},{"$f":"IF(ISBLANK(DatenKomponenten!V44),\"\",DatenKomponenten!V44)","v":""},{"$f":"IF(ISBLANK(DatenKomponenten!W44),\"\",DatenKomponenten!W44)","v":""},{"$f":"IF(ISBLANK(DatenKomponenten!X44),\"\",DatenKomponenten!X44)","v":""},{"$f":"IF(ISBLANK(DatenKomponenten!Y44),\"\",DatenKomponenten!Y44)","v":""},{"$f":"IF(ISBLANK(DatenKomponenten!Z44),\"\",DatenKomponenten!Z44)","v":""},{"$f":"IF(ISBLANK(DatenKomponenten!AA44),\"\",DatenKomponenten!AA44)","v":""},{"$f":"IF(ISBLANK(DatenKomponenten!AB44),\"\",DatenKomponenten!AB44)","v":""},{"$f":"IF(ISBLANK(DatenKomponenten!AC44),\"\",DatenKomponenten!AC44)","v":""},{"$f":"IF(ISBLANK(DatenKomponenten!AD44),\"\",DatenKomponenten!AD44)","v":""},{"$f":"IF(ISBLANK(DatenKomponenten!AE44),\"\",DatenKomponenten!AE44)","v":""},{"$f":"IF(ISBLANK(DatenKomponenten!AF44),\"\",DatenKomponenten!AF44)","v":""},{"$f":"IF(ISBLANK(DatenKomponenten!AG44),\"\",DatenKomponenten!AG44)","v":""},{"$f":"IF(ISBLANK(DatenKomponenten!AH44),\"\",DatenKomponenten!AH44)","v":""},{"$f":"IF(ISBLANK(DatenKomponenten!AI44),\"\",DatenKomponenten!AI44)","v":""},{"$f":"IF(ISBLANK(DatenKomponenten!AJ44),\"\",DatenKomponenten!AJ44)","v":""},{"$f":"IF(ISBLANK(DatenKomponenten!AK44),\"\",DatenKomponenten!AK44)","v":""},{"$f":"IF(ISBLANK(DatenKomponenten!AL44),\"\",DatenKomponenten!AL44)","v":""},{"$f":"IF(ISBLANK(DatenKomponenten!AM44),\"\",DatenKomponenten!AM44)","v":""},{"$f":"IF(ISBLANK(DatenKomponenten!AN44),\"\",DatenKomponenten!AN44)","v":""},{"$f":"IF(ISBLANK(DatenKomponenten!AO44),\"\",DatenKomponenten!AO44)","v":""},{"$f":"IF(ISBLANK(DatenKomponenten!AP44),\"\",DatenKomponenten!AP44)","v":""},{"$f":"IF(ISBLANK(DatenKomponenten!AQ44),\"\",DatenKomponenten!AQ44)","v":""},{"$f":"IF(ISBLANK(DatenKomponenten!AR44),\"\",DatenKomponenten!AR44)","v":""},{"$f":"IF(ISBLANK(DatenKomponenten!AS44),\"\",DatenKomponenten!AS44)","v":""},{"$f":"IF(ISBLANK(DatenKomponenten!AT44),\"\",DatenKomponenten!AT44)","v":""},{"$f":"IF(ISBLANK(DatenKomponenten!AU44),\"\",DatenKomponenten!AU44)","v":""},{"$f":"IF(ISBLANK(DatenKomponenten!AV44),\"\",DatenKomponenten!AV44)","v":""},{"$f":"IF(ISBLANK(DatenKomponenten!AW44),\"\",DatenKomponenten!AW44)","v":""},{"$f":"IF(ISBLANK(DatenKomponenten!AX44),\"\",DatenKomponenten!AX44)","v":""},{"$f":"IF(ISBLANK(DatenKomponenten!AY44),\"\",DatenKomponenten!AY44)","v":""},{"$f":"IF(ISBLANK(DatenKomponenten!AZ44),\"\",DatenKomponenten!AZ44)","v":""}]
[{"$f":"IF(ISBLANK(DatenKomponenten!A45),\"\",DatenKomponenten!A45)","v":""},{"$f":"IF(ISBLANK(DatenKomponenten!B45),\"\",DatenKomponenten!B45)","v":""},{"$f":"IF(ISBLANK(DatenKomponenten!C45),\"\",DatenKomponenten!C45)","v":""},{"$f":"IF(ISBLANK(DatenKomponenten!D45),\"\",DatenKomponenten!D45)","v":""},{"$f":"IF(ISBLANK(DatenKomponenten!E45),\"\",DatenKomponenten!E45)","v":""},{"$f":"IF(ISBLANK(DatenKomponenten!F45),\"\",DatenKomponenten!F45)","v":""},{"$f":"IF(ISBLANK(DatenKomponenten!G45),\"\",DatenKomponenten!G45)","v":""},{"$f":"IF(ISBLANK(DatenKomponenten!H45),\"\",DatenKomponenten!H45)","v":""},{"$f":"IF(ISBLANK(DatenKomponenten!I45),\"\",DatenKomponenten!I45)","v":""},{"$f":"IF(ISBLANK(DatenKomponenten!J45),\"\",DatenKomponenten!J45)","v":""},{"$f":"IF(ISBLANK(DatenKomponenten!K45),\"\",DatenKomponenten!K45)","v":""},{"$f":"IF(ISBLANK(DatenKomponenten!L45),\"\",DatenKomponenten!L45)","v":""},{"$f":"IF(ISBLANK(DatenKomponenten!M45),\"\",DatenKomponenten!M45)","v":""},{"$f":"IF(ISBLANK(DatenKomponenten!N45),\"\",DatenKomponenten!N45)","v":""},{"$f":"IF(ISBLANK(DatenKomponenten!O45),\"\",DatenKomponenten!O45)","v":""},{"$f":"IF(ISBLANK(DatenKomponenten!P45),\"\",DatenKomponenten!P45)","v":""},{"$f":"IF(ISBLANK(DatenKomponenten!Q45),\"\",DatenKomponenten!Q45)","v":""},{"$f":"IF(ISBLANK(DatenKomponenten!R45),\"\",DatenKomponenten!R45)","v":""},{"$f":"IF(ISBLANK(DatenKomponenten!S45),\"\",DatenKomponenten!S45)","v":""},{"$f":"IF(ISBLANK(DatenKomponenten!T45),\"\",DatenKomponenten!T45)","v":""},{"$f":"IF(ISBLANK(DatenKomponenten!U45),\"\",DatenKomponenten!U45)","v":""},{"$f":"IF(ISBLANK(DatenKomponenten!V45),\"\",DatenKomponenten!V45)","v":""},{"$f":"IF(ISBLANK(DatenKomponenten!W45),\"\",DatenKomponenten!W45)","v":""},{"$f":"IF(ISBLANK(DatenKomponenten!X45),\"\",DatenKomponenten!X45)","v":""},{"$f":"IF(ISBLANK(DatenKomponenten!Y45),\"\",DatenKomponenten!Y45)","v":""},{"$f":"IF(ISBLANK(DatenKomponenten!Z45),\"\",DatenKomponenten!Z45)","v":""},{"$f":"IF(ISBLANK(DatenKomponenten!AA45),\"\",DatenKomponenten!AA45)","v":""},{"$f":"IF(ISBLANK(DatenKomponenten!AB45),\"\",DatenKomponenten!AB45)","v":""},{"$f":"IF(ISBLANK(DatenKomponenten!AC45),\"\",DatenKomponenten!AC45)","v":""},{"$f":"IF(ISBLANK(DatenKomponenten!AD45),\"\",DatenKomponenten!AD45)","v":""},{"$f":"IF(ISBLANK(DatenKomponenten!AE45),\"\",DatenKomponenten!AE45)","v":""},{"$f":"IF(ISBLANK(DatenKomponenten!AF45),\"\",DatenKomponenten!AF45)","v":""},{"$f":"IF(ISBLANK(DatenKomponenten!AG45),\"\",DatenKomponenten!AG45)","v":""},{"$f":"IF(ISBLANK(DatenKomponenten!AH45),\"\",DatenKomponenten!AH45)","v":""},{"$f":"IF(ISBLANK(DatenKomponenten!AI45),\"\",DatenKomponenten!AI45)","v":""},{"$f":"IF(ISBLANK(DatenKomponenten!AJ45),\"\",DatenKomponenten!AJ45)","v":""},{"$f":"IF(ISBLANK(DatenKomponenten!AK45),\"\",DatenKomponenten!AK45)","v":""},{"$f":"IF(ISBLANK(DatenKomponenten!AL45),\"\",DatenKomponenten!AL45)","v":""},{"$f":"IF(ISBLANK(DatenKomponenten!AM45),\"\",DatenKomponenten!AM45)","v":""},{"$f":"IF(ISBLANK(DatenKomponenten!AN45),\"\",DatenKomponenten!AN45)","v":""},{"$f":"IF(ISBLANK(DatenKomponenten!AO45),\"\",DatenKomponenten!AO45)","v":""},{"$f":"IF(ISBLANK(DatenKomponenten!AP45),\"\",DatenKomponenten!AP45)","v":""},{"$f":"IF(ISBLANK(DatenKomponenten!AQ45),\"\",DatenKomponenten!AQ45)","v":""},{"$f":"IF(ISBLANK(DatenKomponenten!AR45),\"\",DatenKomponenten!AR45)","v":""},{"$f":"IF(ISBLANK(DatenKomponenten!AS45),\"\",DatenKomponenten!AS45)","v":""},{"$f":"IF(ISBLANK(DatenKomponenten!AT45),\"\",DatenKomponenten!AT45)","v":""},{"$f":"IF(ISBLANK(DatenKomponenten!AU45),\"\",DatenKomponenten!AU45)","v":""},{"$f":"IF(ISBLANK(DatenKomponenten!AV45),\"\",DatenKomponenten!AV45)","v":""},{"$f":"IF(ISBLANK(DatenKomponenten!AW45),\"\",DatenKomponenten!AW45)","v":""},{"$f":"IF(ISBLANK(DatenKomponenten!AX45),\"\",DatenKomponenten!AX45)","v":""},{"$f":"IF(ISBLANK(DatenKomponenten!AY45),\"\",DatenKomponenten!AY45)","v":""},{"$f":"IF(ISBLANK(DatenKomponenten!AZ45),\"\",DatenKomponenten!AZ45)","v":""}]
[{"$f":"IF(ISBLANK(DatenKomponenten!A46),\"\",DatenKomponenten!A46)","v":""},{"$f":"IF(ISBLANK(DatenKomponenten!B46),\"\",DatenKomponenten!B46)","v":""},{"$f":"IF(ISBLANK(DatenKomponenten!C46),\"\",DatenKomponenten!C46)","v":""},{"$f":"IF(ISBLANK(DatenKomponenten!D46),\"\",DatenKomponenten!D46)","v":""},{"$f":"IF(ISBLANK(DatenKomponenten!E46),\"\",DatenKomponenten!E46)","v":""},{"$f":"IF(ISBLANK(DatenKomponenten!F46),\"\",DatenKomponenten!F46)","v":""},{"$f":"IF(ISBLANK(DatenKomponenten!G46),\"\",DatenKomponenten!G46)","v":""},{"$f":"IF(ISBLANK(DatenKomponenten!H46),\"\",DatenKomponenten!H46)","v":""},{"$f":"IF(ISBLANK(DatenKomponenten!I46),\"\",DatenKomponenten!I46)","v":""},{"$f":"IF(ISBLANK(DatenKomponenten!J46),\"\",DatenKomponenten!J46)","v":""},{"$f":"IF(ISBLANK(DatenKomponenten!K46),\"\",DatenKomponenten!K46)","v":""},{"$f":"IF(ISBLANK(DatenKomponenten!L46),\"\",DatenKomponenten!L46)","v":""},{"$f":"IF(ISBLANK(DatenKomponenten!M46),\"\",DatenKomponenten!M46)","v":""},{"$f":"IF(ISBLANK(DatenKomponenten!N46),\"\",DatenKomponenten!N46)","v":""},{"$f":"IF(ISBLANK(DatenKomponenten!O46),\"\",DatenKomponenten!O46)","v":""},{"$f":"IF(ISBLANK(DatenKomponenten!P46),\"\",DatenKomponenten!P46)","v":""},{"$f":"IF(ISBLANK(DatenKomponenten!Q46),\"\",DatenKomponenten!Q46)","v":""},{"$f":"IF(ISBLANK(DatenKomponenten!R46),\"\",DatenKomponenten!R46)","v":""},{"$f":"IF(ISBLANK(DatenKomponenten!S46),\"\",DatenKomponenten!S46)","v":""},{"$f":"IF(ISBLANK(DatenKomponenten!T46),\"\",DatenKomponenten!T46)","v":""},{"$f":"IF(ISBLANK(DatenKomponenten!U46),\"\",DatenKomponenten!U46)","v":""},{"$f":"IF(ISBLANK(DatenKomponenten!V46),\"\",DatenKomponenten!V46)","v":""},{"$f":"IF(ISBLANK(DatenKomponenten!W46),\"\",DatenKomponenten!W46)","v":""},{"$f":"IF(ISBLANK(DatenKomponenten!X46),\"\",DatenKomponenten!X46)","v":""},{"$f":"IF(ISBLANK(DatenKomponenten!Y46),\"\",DatenKomponenten!Y46)","v":""},{"$f":"IF(ISBLANK(DatenKomponenten!Z46),\"\",DatenKomponenten!Z46)","v":""},{"$f":"IF(ISBLANK(DatenKomponenten!AA46),\"\",DatenKomponenten!AA46)","v":""},{"$f":"IF(ISBLANK(DatenKomponenten!AB46),\"\",DatenKomponenten!AB46)","v":""},{"$f":"IF(ISBLANK(DatenKomponenten!AC46),\"\",DatenKomponenten!AC46)","v":""},{"$f":"IF(ISBLANK(DatenKomponenten!AD46),\"\",DatenKomponenten!AD46)","v":""},{"$f":"IF(ISBLANK(DatenKomponenten!AE46),\"\",DatenKomponenten!AE46)","v":""},{"$f":"IF(ISBLANK(DatenKomponenten!AF46),\"\",DatenKomponenten!AF46)","v":""},{"$f":"IF(ISBLANK(DatenKomponenten!AG46),\"\",DatenKomponenten!AG46)","v":""},{"$f":"IF(ISBLANK(DatenKomponenten!AH46),\"\",DatenKomponenten!AH46)","v":""},{"$f":"IF(ISBLANK(DatenKomponenten!AI46),\"\",DatenKomponenten!AI46)","v":""},{"$f":"IF(ISBLANK(DatenKomponenten!AJ46),\"\",DatenKomponenten!AJ46)","v":""},{"$f":"IF(ISBLANK(DatenKomponenten!AK46),\"\",DatenKomponenten!AK46)","v":""},{"$f":"IF(ISBLANK(DatenKomponenten!AL46),\"\",DatenKomponenten!AL46)","v":""},{"$f":"IF(ISBLANK(DatenKomponenten!AM46),\"\",DatenKomponenten!AM46)","v":""},{"$f":"IF(ISBLANK(DatenKomponenten!AN46),\"\",DatenKomponenten!AN46)","v":""},{"$f":"IF(ISBLANK(DatenKomponenten!AO46),\"\",DatenKomponenten!AO46)","v":""},{"$f":"IF(ISBLANK(DatenKomponenten!AP46),\"\",DatenKomponenten!AP46)","v":""},{"$f":"IF(ISBLANK(DatenKomponenten!AQ46),\"\",DatenKomponenten!AQ46)","v":""},{"$f":"IF(ISBLANK(DatenKomponenten!AR46),\"\",DatenKomponenten!AR46)","v":""},{"$f":"IF(ISBLANK(DatenKomponenten!AS46),\"\",DatenKomponenten!AS46)","v":""},{"$f":"IF(ISBLANK(DatenKomponenten!AT46),\"\",DatenKomponenten!AT46)","v":""},{"$f":"IF(ISBLANK(DatenKomponenten!AU46),\"\",DatenKomponenten!AU46)","v":""},{"$f":"IF(ISBLANK(DatenKomponenten!AV46),\"\",DatenKomponenten!AV46)","v":""},{"$f":"IF(ISBLANK(DatenKomponenten!AW46),\"\",DatenKomponenten!AW46)","v":""},{"$f":"IF(ISBLANK(DatenKomponenten!AX46),\"\",DatenKomponenten!AX46)","v":""},{"$f":"IF(ISBLANK(DatenKomponenten!AY46),\"\",DatenKomponenten!AY46)","v":""},{"$f":"IF(ISBLANK(DatenKomponenten!AZ46),\"\",DatenKomponenten!AZ46)","v":""}]
[{"$f":"IF(ISBLANK(DatenKomponenten!A47),\"\",DatenKomponenten!A47)","v":""},{"$f":"IF(ISBLANK(DatenKomponenten!B47),\"\",DatenKomponenten!B47)","v":""},{"$f":"IF(ISBLANK(DatenKomponenten!C47),\"\",DatenKomponenten!C47)","v":""},{"$f":"IF(ISBLANK(DatenKomponenten!D47),\"\",DatenKomponenten!D47)","v":""},{"$f":"IF(ISBLANK(DatenKomponenten!E47),\"\",DatenKomponenten!E47)","v":""},{"$f":"IF(ISBLANK(DatenKomponenten!F47),\"\",DatenKomponenten!F47)","v":""},{"$f":"IF(ISBLANK(DatenKomponenten!G47),\"\",DatenKomponenten!G47)","v":""},{"$f":"IF(ISBLANK(DatenKomponenten!H47),\"\",DatenKomponenten!H47)","v":""},{"$f":"IF(ISBLANK(DatenKomponenten!I47),\"\",DatenKomponenten!I47)","v":""},{"$f":"IF(ISBLANK(DatenKomponenten!J47),\"\",DatenKomponenten!J47)","v":""},{"$f":"IF(ISBLANK(DatenKomponenten!K47),\"\",DatenKomponenten!K47)","v":""},{"$f":"IF(ISBLANK(DatenKomponenten!L47),\"\",DatenKomponenten!L47)","v":""},{"$f":"IF(ISBLANK(DatenKomponenten!M47),\"\",DatenKomponenten!M47)","v":""},{"$f":"IF(ISBLANK(DatenKomponenten!N47),\"\",DatenKomponenten!N47)","v":""},{"$f":"IF(ISBLANK(DatenKomponenten!O47),\"\",DatenKomponenten!O47)","v":""},{"$f":"IF(ISBLANK(DatenKomponenten!P47),\"\",DatenKomponenten!P47)","v":""},{"$f":"IF(ISBLANK(DatenKomponenten!Q47),\"\",DatenKomponenten!Q47)","v":""},{"$f":"IF(ISBLANK(DatenKomponenten!R47),\"\",DatenKomponenten!R47)","v":""},{"$f":"IF(ISBLANK(DatenKomponenten!S47),\"\",DatenKomponenten!S47)","v":""},{"$f":"IF(ISBLANK(DatenKomponenten!T47),\"\",DatenKomponenten!T47)","v":""},{"$f":"IF(ISBLANK(DatenKomponenten!U47),\"\",DatenKomponenten!U47)","v":""},{"$f":"IF(ISBLANK(DatenKomponenten!V47),\"\",DatenKomponenten!V47)","v":""},{"$f":"IF(ISBLANK(DatenKomponenten!W47),\"\",DatenKomponenten!W47)","v":""},{"$f":"IF(ISBLANK(DatenKomponenten!X47),\"\",DatenKomponenten!X47)","v":""},{"$f":"IF(ISBLANK(DatenKomponenten!Y47),\"\",DatenKomponenten!Y47)","v":""},{"$f":"IF(ISBLANK(DatenKomponenten!Z47),\"\",DatenKomponenten!Z47)","v":""},{"$f":"IF(ISBLANK(DatenKomponenten!AA47),\"\",DatenKomponenten!AA47)","v":""},{"$f":"IF(ISBLANK(DatenKomponenten!AB47),\"\",DatenKomponenten!AB47)","v":""},{"$f":"IF(ISBLANK(DatenKomponenten!AC47),\"\",DatenKomponenten!AC47)","v":""},{"$f":"IF(ISBLANK(DatenKomponenten!AD47),\"\",DatenKomponenten!AD47)","v":""},{"$f":"IF(ISBLANK(DatenKomponenten!AE47),\"\",DatenKomponenten!AE47)","v":""},{"$f":"IF(ISBLANK(DatenKomponenten!AF47),\"\",DatenKomponenten!AF47)","v":""},{"$f":"IF(ISBLANK(DatenKomponenten!AG47),\"\",DatenKomponenten!AG47)","v":""},{"$f":"IF(ISBLANK(DatenKomponenten!AH47),\"\",DatenKomponenten!AH47)","v":""},{"$f":"IF(ISBLANK(DatenKomponenten!AI47),\"\",DatenKomponenten!AI47)","v":""},{"$f":"IF(ISBLANK(DatenKomponenten!AJ47),\"\",DatenKomponenten!AJ47)","v":""},{"$f":"IF(ISBLANK(DatenKomponenten!AK47),\"\",DatenKomponenten!AK47)","v":""},{"$f":"IF(ISBLANK(DatenKomponenten!AL47),\"\",DatenKomponenten!AL47)","v":""},{"$f":"IF(ISBLANK(DatenKomponenten!AM47),\"\",DatenKomponenten!AM47)","v":""},{"$f":"IF(ISBLANK(DatenKomponenten!AN47),\"\",DatenKomponenten!AN47)","v":""},{"$f":"IF(ISBLANK(DatenKomponenten!AO47),\"\",DatenKomponenten!AO47)","v":""},{"$f":"IF(ISBLANK(DatenKomponenten!AP47),\"\",DatenKomponenten!AP47)","v":""},{"$f":"IF(ISBLANK(DatenKomponenten!AQ47),\"\",DatenKomponenten!AQ47)","v":""},{"$f":"IF(ISBLANK(DatenKomponenten!AR47),\"\",DatenKomponenten!AR47)","v":""},{"$f":"IF(ISBLANK(DatenKomponenten!AS47),\"\",DatenKomponenten!AS47)","v":""},{"$f":"IF(ISBLANK(DatenKomponenten!AT47),\"\",DatenKomponenten!AT47)","v":""},{"$f":"IF(ISBLANK(DatenKomponenten!AU47),\"\",DatenKomponenten!AU47)","v":""},{"$f":"IF(ISBLANK(DatenKomponenten!AV47),\"\",DatenKomponenten!AV47)","v":""},{"$f":"IF(ISBLANK(DatenKomponenten!AW47),\"\",DatenKomponenten!AW47)","v":""},{"$f":"IF(ISBLANK(DatenKomponenten!AX47),\"\",DatenKomponenten!AX47)","v":""},{"$f":"IF(ISBLANK(DatenKomponenten!AY47),\"\",DatenKomponenten!AY47)","v":""},{"$f":"IF(ISBLANK(DatenKomponenten!AZ47),\"\",DatenKomponenten!AZ47)","v":""}]
[{"$f":"IF(ISBLANK(DatenKomponenten!A48),\"\",DatenKomponenten!A48)","v":""},{"$f":"IF(ISBLANK(DatenKomponenten!B48),\"\",DatenKomponenten!B48)","v":""},{"$f":"IF(ISBLANK(DatenKomponenten!C48),\"\",DatenKomponenten!C48)","v":""},{"$f":"IF(ISBLANK(DatenKomponenten!D48),\"\",DatenKomponenten!D48)","v":""},{"$f":"IF(ISBLANK(DatenKomponenten!E48),\"\",DatenKomponenten!E48)","v":""},{"$f":"IF(ISBLANK(DatenKomponenten!F48),\"\",DatenKomponenten!F48)","v":""},{"$f":"IF(ISBLANK(DatenKomponenten!G48),\"\",DatenKomponenten!G48)","v":""},{"$f":"IF(ISBLANK(DatenKomponenten!H48),\"\",DatenKomponenten!H48)","v":""},{"$f":"IF(ISBLANK(DatenKomponenten!I48),\"\",DatenKomponenten!I48)","v":""},{"$f":"IF(ISBLANK(DatenKomponenten!J48),\"\",DatenKomponenten!J48)","v":""},{"$f":"IF(ISBLANK(DatenKomponenten!K48),\"\",DatenKomponenten!K48)","v":""},{"$f":"IF(ISBLANK(DatenKomponenten!L48),\"\",DatenKomponenten!L48)","v":""},{"$f":"IF(ISBLANK(DatenKomponenten!M48),\"\",DatenKomponenten!M48)","v":""},{"$f":"IF(ISBLANK(DatenKomponenten!N48),\"\",DatenKomponenten!N48)","v":""},{"$f":"IF(ISBLANK(DatenKomponenten!O48),\"\",DatenKomponenten!O48)","v":""},{"$f":"IF(ISBLANK(DatenKomponenten!P48),\"\",DatenKomponenten!P48)","v":""},{"$f":"IF(ISBLANK(DatenKomponenten!Q48),\"\",DatenKomponenten!Q48)","v":""},{"$f":"IF(ISBLANK(DatenKomponenten!R48),\"\",DatenKomponenten!R48)","v":""},{"$f":"IF(ISBLANK(DatenKomponenten!S48),\"\",DatenKomponenten!S48)","v":""},{"$f":"IF(ISBLANK(DatenKomponenten!T48),\"\",DatenKomponenten!T48)","v":""},{"$f":"IF(ISBLANK(DatenKomponenten!U48),\"\",DatenKomponenten!U48)","v":""},{"$f":"IF(ISBLANK(DatenKomponenten!V48),\"\",DatenKomponenten!V48)","v":""},{"$f":"IF(ISBLANK(DatenKomponenten!W48),\"\",DatenKomponenten!W48)","v":""},{"$f":"IF(ISBLANK(DatenKomponenten!X48),\"\",DatenKomponenten!X48)","v":""},{"$f":"IF(ISBLANK(DatenKomponenten!Y48),\"\",DatenKomponenten!Y48)","v":""},{"$f":"IF(ISBLANK(DatenKomponenten!Z48),\"\",DatenKomponenten!Z48)","v":""},{"$f":"IF(ISBLANK(DatenKomponenten!AA48),\"\",DatenKomponenten!AA48)","v":""},{"$f":"IF(ISBLANK(DatenKomponenten!AB48),\"\",DatenKomponenten!AB48)","v":""},{"$f":"IF(ISBLANK(DatenKomponenten!AC48),\"\",DatenKomponenten!AC48)","v":""},{"$f":"IF(ISBLANK(DatenKomponenten!AD48),\"\",DatenKomponenten!AD48)","v":""},{"$f":"IF(ISBLANK(DatenKomponenten!AE48),\"\",DatenKomponenten!AE48)","v":""},{"$f":"IF(ISBLANK(DatenKomponenten!AF48),\"\",DatenKomponenten!AF48)","v":""},{"$f":"IF(ISBLANK(DatenKomponenten!AG48),\"\",DatenKomponenten!AG48)","v":""},{"$f":"IF(ISBLANK(DatenKomponenten!AH48),\"\",DatenKomponenten!AH48)","v":""},{"$f":"IF(ISBLANK(DatenKomponenten!AI48),\"\",DatenKomponenten!AI48)","v":""},{"$f":"IF(ISBLANK(DatenKomponenten!AJ48),\"\",DatenKomponenten!AJ48)","v":""},{"$f":"IF(ISBLANK(DatenKomponenten!AK48),\"\",DatenKomponenten!AK48)","v":""},{"$f":"IF(ISBLANK(DatenKomponenten!AL48),\"\",DatenKomponenten!AL48)","v":""},{"$f":"IF(ISBLANK(DatenKomponenten!AM48),\"\",DatenKomponenten!AM48)","v":""},{"$f":"IF(ISBLANK(DatenKomponenten!AN48),\"\",DatenKomponenten!AN48)","v":""},{"$f":"IF(ISBLANK(DatenKomponenten!AO48),\"\",DatenKomponenten!AO48)","v":""},{"$f":"IF(ISBLANK(DatenKomponenten!AP48),\"\",DatenKomponenten!AP48)","v":""},{"$f":"IF(ISBLANK(DatenKomponenten!AQ48),\"\",DatenKomponenten!AQ48)","v":""},{"$f":"IF(ISBLANK(DatenKomponenten!AR48),\"\",DatenKomponenten!AR48)","v":""},{"$f":"IF(ISBLANK(DatenKomponenten!AS48),\"\",DatenKomponenten!AS48)","v":""},{"$f":"IF(ISBLANK(DatenKomponenten!AT48),\"\",DatenKomponenten!AT48)","v":""},{"$f":"IF(ISBLANK(DatenKomponenten!AU48),\"\",DatenKomponenten!AU48)","v":""},{"$f":"IF(ISBLANK(DatenKomponenten!AV48),\"\",DatenKomponenten!AV48)","v":""},{"$f":"IF(ISBLANK(DatenKomponenten!AW48),\"\",DatenKomponenten!AW48)","v":""},{"$f":"IF(ISBLANK(DatenKomponenten!AX48),\"\",DatenKomponenten!AX48)","v":""},{"$f":"IF(ISBLANK(DatenKomponenten!AY48),\"\",DatenKomponenten!AY48)","v":""},{"$f":"IF(ISBLANK(DatenKomponenten!AZ48),\"\",DatenKomponenten!AZ48)","v":""}]
[{"$f":"IF(ISBLANK(DatenKomponenten!A49),\"\",DatenKomponenten!A49)","v":""},{"$f":"IF(ISBLANK(DatenKomponenten!B49),\"\",DatenKomponenten!B49)","v":""},{"$f":"IF(ISBLANK(DatenKomponenten!C49),\"\",DatenKomponenten!C49)","v":""},{"$f":"IF(ISBLANK(DatenKomponenten!D49),\"\",DatenKomponenten!D49)","v":""},{"$f":"IF(ISBLANK(DatenKomponenten!E49),\"\",DatenKomponenten!E49)","v":""},{"$f":"IF(ISBLANK(DatenKomponenten!F49),\"\",DatenKomponenten!F49)","v":""},{"$f":"IF(ISBLANK(DatenKomponenten!G49),\"\",DatenKomponenten!G49)","v":""},{"$f":"IF(ISBLANK(DatenKomponenten!H49),\"\",DatenKomponenten!H49)","v":""},{"$f":"IF(ISBLANK(DatenKomponenten!I49),\"\",DatenKomponenten!I49)","v":""},{"$f":"IF(ISBLANK(DatenKomponenten!J49),\"\",DatenKomponenten!J49)","v":""},{"$f":"IF(ISBLANK(DatenKomponenten!K49),\"\",DatenKomponenten!K49)","v":""},{"$f":"IF(ISBLANK(DatenKomponenten!L49),\"\",DatenKomponenten!L49)","v":""},{"$f":"IF(ISBLANK(DatenKomponenten!M49),\"\",DatenKomponenten!M49)","v":""},{"$f":"IF(ISBLANK(DatenKomponenten!N49),\"\",DatenKomponenten!N49)","v":""},{"$f":"IF(ISBLANK(DatenKomponenten!O49),\"\",DatenKomponenten!O49)","v":""},{"$f":"IF(ISBLANK(DatenKomponenten!P49),\"\",DatenKomponenten!P49)","v":""},{"$f":"IF(ISBLANK(DatenKomponenten!Q49),\"\",DatenKomponenten!Q49)","v":""},{"$f":"IF(ISBLANK(DatenKomponenten!R49),\"\",DatenKomponenten!R49)","v":""},{"$f":"IF(ISBLANK(DatenKomponenten!S49),\"\",DatenKomponenten!S49)","v":""},{"$f":"IF(ISBLANK(DatenKomponenten!T49),\"\",DatenKomponenten!T49)","v":""},{"$f":"IF(ISBLANK(DatenKomponenten!U49),\"\",DatenKomponenten!U49)","v":""},{"$f":"IF(ISBLANK(DatenKomponenten!V49),\"\",DatenKomponenten!V49)","v":""},{"$f":"IF(ISBLANK(DatenKomponenten!W49),\"\",DatenKomponenten!W49)","v":""},{"$f":"IF(ISBLANK(DatenKomponenten!X49),\"\",DatenKomponenten!X49)","v":""},{"$f":"IF(ISBLANK(DatenKomponenten!Y49),\"\",DatenKomponenten!Y49)","v":""},{"$f":"IF(ISBLANK(DatenKomponenten!Z49),\"\",DatenKomponenten!Z49)","v":""},{"$f":"IF(ISBLANK(DatenKomponenten!AA49),\"\",DatenKomponenten!AA49)","v":""},{"$f":"IF(ISBLANK(DatenKomponenten!AB49),\"\",DatenKomponenten!AB49)","v":""},{"$f":"IF(ISBLANK(DatenKomponenten!AC49),\"\",DatenKomponenten!AC49)","v":""},{"$f":"IF(ISBLANK(DatenKomponenten!AD49),\"\",DatenKomponenten!AD49)","v":""},{"$f":"IF(ISBLANK(DatenKomponenten!AE49),\"\",DatenKomponenten!AE49)","v":""},{"$f":"IF(ISBLANK(DatenKomponenten!AF49),\"\",DatenKomponenten!AF49)","v":""},{"$f":"IF(ISBLANK(DatenKomponenten!AG49),\"\",DatenKomponenten!AG49)","v":""},{"$f":"IF(ISBLANK(DatenKomponenten!AH49),\"\",DatenKomponenten!AH49)","v":""},{"$f":"IF(ISBLANK(DatenKomponenten!AI49),\"\",DatenKomponenten!AI49)","v":""},{"$f":"IF(ISBLANK(DatenKomponenten!AJ49),\"\",DatenKomponenten!AJ49)","v":""},{"$f":"IF(ISBLANK(DatenKomponenten!AK49),\"\",DatenKomponenten!AK49)","v":""},{"$f":"IF(ISBLANK(DatenKomponenten!AL49),\"\",DatenKomponenten!AL49)","v":""},{"$f":"IF(ISBLANK(DatenKomponenten!AM49),\"\",DatenKomponenten!AM49)","v":""},{"$f":"IF(ISBLANK(DatenKomponenten!AN49),\"\",DatenKomponenten!AN49)","v":""},{"$f":"IF(ISBLANK(DatenKomponenten!AO49),\"\",DatenKomponenten!AO49)","v":""},{"$f":"IF(ISBLANK(DatenKomponenten!AP49),\"\",DatenKomponenten!AP49)","v":""},{"$f":"IF(ISBLANK(DatenKomponenten!AQ49),\"\",DatenKomponenten!AQ49)","v":""},{"$f":"IF(ISBLANK(DatenKomponenten!AR49),\"\",DatenKomponenten!AR49)","v":""},{"$f":"IF(ISBLANK(DatenKomponenten!AS49),\"\",DatenKomponenten!AS49)","v":""},{"$f":"IF(ISBLANK(DatenKomponenten!AT49),\"\",DatenKomponenten!AT49)","v":""},{"$f":"IF(ISBLANK(DatenKomponenten!AU49),\"\",DatenKomponenten!AU49)","v":""},{"$f":"IF(ISBLANK(DatenKomponenten!AV49),\"\",DatenKomponenten!AV49)","v":""},{"$f":"IF(ISBLANK(DatenKomponenten!AW49),\"\",DatenKomponenten!AW49)","v":""},{"$f":"IF(ISBLANK(DatenKomponenten!AX49),\"\",DatenKomponenten!AX49)","v":""},{"$f":"IF(ISBLANK(DatenKomponenten!AY49),\"\",DatenKomponenten!AY49)","v":""},{"$f":"IF(ISBLANK(DatenKomponenten!AZ49),\"\",DatenKomponenten!AZ49)","v":""}]
[{"$f":"IF(ISBLANK(DatenKomponenten!A50),\"\",DatenKomponenten!A50)","v":""},{"$f":"IF(ISBLANK(DatenKomponenten!B50),\"\",DatenKomponenten!B50)","v":""},{"$f":"IF(ISBLANK(DatenKomponenten!C50),\"\",DatenKomponenten!C50)","v":""},{"$f":"IF(ISBLANK(DatenKomponenten!D50),\"\",DatenKomponenten!D50)","v":""},{"$f":"IF(ISBLANK(DatenKomponenten!E50),\"\",DatenKomponenten!E50)","v":""},{"$f":"IF(ISBLANK(DatenKomponenten!F50),\"\",DatenKomponenten!F50)","v":""},{"$f":"IF(ISBLANK(DatenKomponenten!G50),\"\",DatenKomponenten!G50)","v":""},{"$f":"IF(ISBLANK(DatenKomponenten!H50),\"\",DatenKomponenten!H50)","v":""},{"$f":"IF(ISBLANK(DatenKomponenten!I50),\"\",DatenKomponenten!I50)","v":""},{"$f":"IF(ISBLANK(DatenKomponenten!J50),\"\",DatenKomponenten!J50)","v":""},{"$f":"IF(ISBLANK(DatenKomponenten!K50),\"\",DatenKomponenten!K50)","v":""},{"$f":"IF(ISBLANK(DatenKomponenten!L50),\"\",DatenKomponenten!L50)","v":""},{"$f":"IF(ISBLANK(DatenKomponenten!M50),\"\",DatenKomponenten!M50)","v":""},{"$f":"IF(ISBLANK(DatenKomponenten!N50),\"\",DatenKomponenten!N50)","v":""},{"$f":"IF(ISBLANK(DatenKomponenten!O50),\"\",DatenKomponenten!O50)","v":""},{"$f":"IF(ISBLANK(DatenKomponenten!P50),\"\",DatenKomponenten!P50)","v":""},{"$f":"IF(ISBLANK(DatenKomponenten!Q50),\"\",DatenKomponenten!Q50)","v":""},{"$f":"IF(ISBLANK(DatenKomponenten!R50),\"\",DatenKomponenten!R50)","v":""},{"$f":"IF(ISBLANK(DatenKomponenten!S50),\"\",DatenKomponenten!S50)","v":""},{"$f":"IF(ISBLANK(DatenKomponenten!T50),\"\",DatenKomponenten!T50)","v":""},{"$f":"IF(ISBLANK(DatenKomponenten!U50),\"\",DatenKomponenten!U50)","v":""},{"$f":"IF(ISBLANK(DatenKomponenten!V50),\"\",DatenKomponenten!V50)","v":""},{"$f":"IF(ISBLANK(DatenKomponenten!W50),\"\",DatenKomponenten!W50)","v":""},{"$f":"IF(ISBLANK(DatenKomponenten!X50),\"\",DatenKomponenten!X50)","v":""},{"$f":"IF(ISBLANK(DatenKomponenten!Y50),\"\",DatenKomponenten!Y50)","v":""},{"$f":"IF(ISBLANK(DatenKomponenten!Z50),\"\",DatenKomponenten!Z50)","v":""},{"$f":"IF(ISBLANK(DatenKomponenten!AA50),\"\",DatenKomponenten!AA50)","v":""},{"$f":"IF(ISBLANK(DatenKomponenten!AB50),\"\",DatenKomponenten!AB50)","v":""},{"$f":"IF(ISBLANK(DatenKomponenten!AC50),\"\",DatenKomponenten!AC50)","v":""},{"$f":"IF(ISBLANK(DatenKomponenten!AD50),\"\",DatenKomponenten!AD50)","v":""},{"$f":"IF(ISBLANK(DatenKomponenten!AE50),\"\",DatenKomponenten!AE50)","v":""},{"$f":"IF(ISBLANK(DatenKomponenten!AF50),\"\",DatenKomponenten!AF50)","v":""},{"$f":"IF(ISBLANK(DatenKomponenten!AG50),\"\",DatenKomponenten!AG50)","v":""},{"$f":"IF(ISBLANK(DatenKomponenten!AH50),\"\",DatenKomponenten!AH50)","v":""},{"$f":"IF(ISBLANK(DatenKomponenten!AI50),\"\",DatenKomponenten!AI50)","v":""},{"$f":"IF(ISBLANK(DatenKomponenten!AJ50),\"\",DatenKomponenten!AJ50)","v":""},{"$f":"IF(ISBLANK(DatenKomponenten!AK50),\"\",DatenKomponenten!AK50)","v":""},{"$f":"IF(ISBLANK(DatenKomponenten!AL50),\"\",DatenKomponenten!AL50)","v":""},{"$f":"IF(ISBLANK(DatenKomponenten!AM50),\"\",DatenKomponenten!AM50)","v":""},{"$f":"IF(ISBLANK(DatenKomponenten!AN50),\"\",DatenKomponenten!AN50)","v":""},{"$f":"IF(ISBLANK(DatenKomponenten!AO50),\"\",DatenKomponenten!AO50)","v":""},{"$f":"IF(ISBLANK(DatenKomponenten!AP50),\"\",DatenKomponenten!AP50)","v":""},{"$f":"IF(ISBLANK(DatenKomponenten!AQ50),\"\",DatenKomponenten!AQ50)","v":""},{"$f":"IF(ISBLANK(DatenKomponenten!AR50),\"\",DatenKomponenten!AR50)","v":""},{"$f":"IF(ISBLANK(DatenKomponenten!AS50),\"\",DatenKomponenten!AS50)","v":""},{"$f":"IF(ISBLANK(DatenKomponenten!AT50),\"\",DatenKomponenten!AT50)","v":""},{"$f":"IF(ISBLANK(DatenKomponenten!AU50),\"\",DatenKomponenten!AU50)","v":""},{"$f":"IF(ISBLANK(DatenKomponenten!AV50),\"\",DatenKomponenten!AV50)","v":""},{"$f":"IF(ISBLANK(DatenKomponenten!AW50),\"\",DatenKomponenten!AW50)","v":""},{"$f":"IF(ISBLANK(DatenKomponenten!AX50),\"\",DatenKomponenten!AX50)","v":""},{"$f":"IF(ISBLANK(DatenKomponenten!AY50),\"\",DatenKomponenten!AY50)","v":""},{"$f":"IF(ISBLANK(DatenKomponenten!AZ50),\"\",DatenKomponenten!AZ50)","v":""}]
[{"$f":"IF(ISBLANK(DatenKomponenten!A51),\"\",DatenKomponenten!A51)","v":""},{"$f":"IF(ISBLANK(DatenKomponenten!B51),\"\",DatenKomponenten!B51)","v":""},{"$f":"IF(ISBLANK(DatenKomponenten!C51),\"\",DatenKomponenten!C51)","v":""},{"$f":"IF(ISBLANK(DatenKomponenten!D51),\"\",DatenKomponenten!D51)","v":""},{"$f":"IF(ISBLANK(DatenKomponenten!E51),\"\",DatenKomponenten!E51)","v":""},{"$f":"IF(ISBLANK(DatenKomponenten!F51),\"\",DatenKomponenten!F51)","v":""},{"$f":"IF(ISBLANK(DatenKomponenten!G51),\"\",DatenKomponenten!G51)","v":""},{"$f":"IF(ISBLANK(DatenKomponenten!H51),\"\",DatenKomponenten!H51)","v":""},{"$f":"IF(ISBLANK(DatenKomponenten!I51),\"\",DatenKomponenten!I51)","v":""},{"$f":"IF(ISBLANK(DatenKomponenten!J51),\"\",DatenKomponenten!J51)","v":""},{"$f":"IF(ISBLANK(DatenKomponenten!K51),\"\",DatenKomponenten!K51)","v":""},{"$f":"IF(ISBLANK(DatenKomponenten!L51),\"\",DatenKomponenten!L51)","v":""},{"$f":"IF(ISBLANK(DatenKomponenten!M51),\"\",DatenKomponenten!M51)","v":""},{"$f":"IF(ISBLANK(DatenKomponenten!N51),\"\",DatenKomponenten!N51)","v":""},{"$f":"IF(ISBLANK(DatenKomponenten!O51),\"\",DatenKomponenten!O51)","v":""},{"$f":"IF(ISBLANK(DatenKomponenten!P51),\"\",DatenKomponenten!P51)","v":""},{"$f":"IF(ISBLANK(DatenKomponenten!Q51),\"\",DatenKomponenten!Q51)","v":""},{"$f":"IF(ISBLANK(DatenKomponenten!R51),\"\",DatenKomponenten!R51)","v":""},{"$f":"IF(ISBLANK(DatenKomponenten!S51),\"\",DatenKomponenten!S51)","v":""},{"$f":"IF(ISBLANK(DatenKomponenten!T51),\"\",DatenKomponenten!T51)","v":""},{"$f":"IF(ISBLANK(DatenKomponenten!U51),\"\",DatenKomponenten!U51)","v":""},{"$f":"IF(ISBLANK(DatenKomponenten!V51),\"\",DatenKomponenten!V51)","v":""},{"$f":"IF(ISBLANK(DatenKomponenten!W51),\"\",DatenKomponenten!W51)","v":""},{"$f":"IF(ISBLANK(DatenKomponenten!X51),\"\",DatenKomponenten!X51)","v":""},{"$f":"IF(ISBLANK(DatenKomponenten!Y51),\"\",DatenKomponenten!Y51)","v":""},{"$f":"IF(ISBLANK(DatenKomponenten!Z51),\"\",DatenKomponenten!Z51)","v":""},{"$f":"IF(ISBLANK(DatenKomponenten!AA51),\"\",DatenKomponenten!AA51)","v":""},{"$f":"IF(ISBLANK(DatenKomponenten!AB51),\"\",DatenKomponenten!AB51)","v":""},{"$f":"IF(ISBLANK(DatenKomponenten!AC51),\"\",DatenKomponenten!AC51)","v":""},{"$f":"IF(ISBLANK(DatenKomponenten!AD51),\"\",DatenKomponenten!AD51)","v":""},{"$f":"IF(ISBLANK(DatenKomponenten!AE51),\"\",DatenKomponenten!AE51)","v":""},{"$f":"IF(ISBLANK(DatenKomponenten!AF51),\"\",DatenKomponenten!AF51)","v":""},{"$f":"IF(ISBLANK(DatenKomponenten!AG51),\"\",DatenKomponenten!AG51)","v":""},{"$f":"IF(ISBLANK(DatenKomponenten!AH51),\"\",DatenKomponenten!AH51)","v":""},{"$f":"IF(ISBLANK(DatenKomponenten!AI51),\"\",DatenKomponenten!AI51)","v":""},{"$f":"IF(ISBLANK(DatenKomponenten!AJ51),\"\",DatenKomponenten!AJ51)","v":""},{"$f":"IF(ISBLANK(DatenKomponenten!AK51),\"\",DatenKomponenten!AK51)","v":""},{"$f":"IF(ISBLANK(DatenKomponenten!AL51),\"\",DatenKomponenten!AL51)","v":""},{"$f":"IF(ISBLANK(DatenKomponenten!AM51),\"\",DatenKomponenten!AM51)","v":""},{"$f":"IF(ISBLANK(DatenKomponenten!AN51),\"\",DatenKomponenten!AN51)","v":""},{"$f":"IF(ISBLANK(DatenKomponenten!AO51),\"\",DatenKomponenten!AO51)","v":""},{"$f":"IF(ISBLANK(DatenKomponenten!AP51),\"\",DatenKomponenten!AP51)","v":""},{"$f":"IF(ISBLANK(DatenKomponenten!AQ51),\"\",DatenKomponenten!AQ51)","v":""},{"$f":"IF(ISBLANK(DatenKomponenten!AR51),\"\",DatenKomponenten!AR51)","v":""},{"$f":"IF(ISBLANK(DatenKomponenten!AS51),\"\",DatenKomponenten!AS51)","v":""},{"$f":"IF(ISBLANK(DatenKomponenten!AT51),\"\",DatenKomponenten!AT51)","v":""},{"$f":"IF(ISBLANK(DatenKomponenten!AU51),\"\",DatenKomponenten!AU51)","v":""},{"$f":"IF(ISBLANK(DatenKomponenten!AV51),\"\",DatenKomponenten!AV51)","v":""},{"$f":"IF(ISBLANK(DatenKomponenten!AW51),\"\",DatenKomponenten!AW51)","v":""},{"$f":"IF(ISBLANK(DatenKomponenten!AX51),\"\",DatenKomponenten!AX51)","v":""},{"$f":"IF(ISBLANK(DatenKomponenten!AY51),\"\",DatenKomponenten!AY51)","v":""},{"$f":"IF(ISBLANK(DatenKomponenten!AZ51),\"\",DatenKomponenten!AZ51)","v":""}]
[{"$f":"IF(ISBLANK(DatenKomponenten!A52),\"\",DatenKomponenten!A52)","v":""},{"$f":"IF(ISBLANK(DatenKomponenten!B52),\"\",DatenKomponenten!B52)","v":""},{"$f":"IF(ISBLANK(DatenKomponenten!C52),\"\",DatenKomponenten!C52)","v":""},{"$f":"IF(ISBLANK(DatenKomponenten!D52),\"\",DatenKomponenten!D52)","v":""},{"$f":"IF(ISBLANK(DatenKomponenten!E52),\"\",DatenKomponenten!E52)","v":""},{"$f":"IF(ISBLANK(DatenKomponenten!F52),\"\",DatenKomponenten!F52)","v":""},{"$f":"IF(ISBLANK(DatenKomponenten!G52),\"\",DatenKomponenten!G52)","v":""},{"$f":"IF(ISBLANK(DatenKomponenten!H52),\"\",DatenKomponenten!H52)","v":""},{"$f":"IF(ISBLANK(DatenKomponenten!I52),\"\",DatenKomponenten!I52)","v":""},{"$f":"IF(ISBLANK(DatenKomponenten!J52),\"\",DatenKomponenten!J52)","v":""},{"$f":"IF(ISBLANK(DatenKomponenten!K52),\"\",DatenKomponenten!K52)","v":""},{"$f":"IF(ISBLANK(DatenKomponenten!L52),\"\",DatenKomponenten!L52)","v":""},{"$f":"IF(ISBLANK(DatenKomponenten!M52),\"\",DatenKomponenten!M52)","v":""},{"$f":"IF(ISBLANK(DatenKomponenten!N52),\"\",DatenKomponenten!N52)","v":""},{"$f":"IF(ISBLANK(DatenKomponenten!O52),\"\",DatenKomponenten!O52)","v":""},{"$f":"IF(ISBLANK(DatenKomponenten!P52),\"\",DatenKomponenten!P52)","v":""},{"$f":"IF(ISBLANK(DatenKomponenten!Q52),\"\",DatenKomponenten!Q52)","v":""},{"$f":"IF(ISBLANK(DatenKomponenten!R52),\"\",DatenKomponenten!R52)","v":""},{"$f":"IF(ISBLANK(DatenKomponenten!S52),\"\",DatenKomponenten!S52)","v":""},{"$f":"IF(ISBLANK(DatenKomponenten!T52),\"\",DatenKomponenten!T52)","v":""},{"$f":"IF(ISBLANK(DatenKomponenten!U52),\"\",DatenKomponenten!U52)","v":""},{"$f":"IF(ISBLANK(DatenKomponenten!V52),\"\",DatenKomponenten!V52)","v":""},{"$f":"IF(ISBLANK(DatenKomponenten!W52),\"\",DatenKomponenten!W52)","v":""},{"$f":"IF(ISBLANK(DatenKomponenten!X52),\"\",DatenKomponenten!X52)","v":""},{"$f":"IF(ISBLANK(DatenKomponenten!Y52),\"\",DatenKomponenten!Y52)","v":""},{"$f":"IF(ISBLANK(DatenKomponenten!Z52),\"\",DatenKomponenten!Z52)","v":""},{"$f":"IF(ISBLANK(DatenKomponenten!AA52),\"\",DatenKomponenten!AA52)","v":""},{"$f":"IF(ISBLANK(DatenKomponenten!AB52),\"\",DatenKomponenten!AB52)","v":""},{"$f":"IF(ISBLANK(DatenKomponenten!AC52),\"\",DatenKomponenten!AC52)","v":""},{"$f":"IF(ISBLANK(DatenKomponenten!AD52),\"\",DatenKomponenten!AD52)","v":""},{"$f":"IF(ISBLANK(DatenKomponenten!AE52),\"\",DatenKomponenten!AE52)","v":""},{"$f":"IF(ISBLANK(DatenKomponenten!AF52),\"\",DatenKomponenten!AF52)","v":""},{"$f":"IF(ISBLANK(DatenKomponenten!AG52),\"\",DatenKomponenten!AG52)","v":""},{"$f":"IF(ISBLANK(DatenKomponenten!AH52),\"\",DatenKomponenten!AH52)","v":""},{"$f":"IF(ISBLANK(DatenKomponenten!AI52),\"\",DatenKomponenten!AI52)","v":""},{"$f":"IF(ISBLANK(DatenKomponenten!AJ52),\"\",DatenKomponenten!AJ52)","v":""},{"$f":"IF(ISBLANK(DatenKomponenten!AK52),\"\",DatenKomponenten!AK52)","v":""},{"$f":"IF(ISBLANK(DatenKomponenten!AL52),\"\",DatenKomponenten!AL52)","v":""},{"$f":"IF(ISBLANK(DatenKomponenten!AM52),\"\",DatenKomponenten!AM52)","v":""},{"$f":"IF(ISBLANK(DatenKomponenten!AN52),\"\",DatenKomponenten!AN52)","v":""},{"$f":"IF(ISBLANK(DatenKomponenten!AO52),\"\",DatenKomponenten!AO52)","v":""},{"$f":"IF(ISBLANK(DatenKomponenten!AP52),\"\",DatenKomponenten!AP52)","v":""},{"$f":"IF(ISBLANK(DatenKomponenten!AQ52),\"\",DatenKomponenten!AQ52)","v":""},{"$f":"IF(ISBLANK(DatenKomponenten!AR52),\"\",DatenKomponenten!AR52)","v":""},{"$f":"IF(ISBLANK(DatenKomponenten!AS52),\"\",DatenKomponenten!AS52)","v":""},{"$f":"IF(ISBLANK(DatenKomponenten!AT52),\"\",DatenKomponenten!AT52)","v":""},{"$f":"IF(ISBLANK(DatenKomponenten!AU52),\"\",DatenKomponenten!AU52)","v":""},{"$f":"IF(ISBLANK(DatenKomponenten!AV52),\"\",DatenKomponenten!AV52)","v":""},{"$f":"IF(ISBLANK(DatenKomponenten!AW52),\"\",DatenKomponenten!AW52)","v":""},{"$f":"IF(ISBLANK(DatenKomponenten!AX52),\"\",DatenKomponenten!AX52)","v":""},{"$f":"IF(ISBLANK(DatenKomponenten!AY52),\"\",DatenKomponenten!AY52)","v":""},{"$f":"IF(ISBLANK(DatenKomponenten!AZ52),\"\",DatenKomponenten!AZ52)","v":""}]
[{"$f":"IF(ISBLANK(DatenKomponenten!A53),\"\",DatenKomponenten!A53)","v":""},{"$f":"IF(ISBLANK(DatenKomponenten!B53),\"\",DatenKomponenten!B53)","v":""},{"$f":"IF(ISBLANK(DatenKomponenten!C53),\"\",DatenKomponenten!C53)","v":""},{"$f":"IF(ISBLANK(DatenKomponenten!D53),\"\",DatenKomponenten!D53)","v":""},{"$f":"IF(ISBLANK(DatenKomponenten!E53),\"\",DatenKomponenten!E53)","v":""},{"$f":"IF(ISBLANK(DatenKomponenten!F53),\"\",DatenKomponenten!F53)","v":""},{"$f":"IF(ISBLANK(DatenKomponenten!G53),\"\",DatenKomponenten!G53)","v":""},{"$f":"IF(ISBLANK(DatenKomponenten!H53),\"\",DatenKomponenten!H53)","v":""},{"$f":"IF(ISBLANK(DatenKomponenten!I53),\"\",DatenKomponenten!I53)","v":""},{"$f":"IF(ISBLANK(DatenKomponenten!J53),\"\",DatenKomponenten!J53)","v":""},{"$f":"IF(ISBLANK(DatenKomponenten!K53),\"\",DatenKomponenten!K53)","v":""},{"$f":"IF(ISBLANK(DatenKomponenten!L53),\"\",DatenKomponenten!L53)","v":""},{"$f":"IF(ISBLANK(DatenKomponenten!M53),\"\",DatenKomponenten!M53)","v":""},{"$f":"IF(ISBLANK(DatenKomponenten!N53),\"\",DatenKomponenten!N53)","v":""},{"$f":"IF(ISBLANK(DatenKomponenten!O53),\"\",DatenKomponenten!O53)","v":""},{"$f":"IF(ISBLANK(DatenKomponenten!P53),\"\",DatenKomponenten!P53)","v":""},{"$f":"IF(ISBLANK(DatenKomponenten!Q53),\"\",DatenKomponenten!Q53)","v":""},{"$f":"IF(ISBLANK(DatenKomponenten!R53),\"\",DatenKomponenten!R53)","v":""},{"$f":"IF(ISBLANK(DatenKomponenten!S53),\"\",DatenKomponenten!S53)","v":""},{"$f":"IF(ISBLANK(DatenKomponenten!T53),\"\",DatenKomponenten!T53)","v":""},{"$f":"IF(ISBLANK(DatenKomponenten!U53),\"\",DatenKomponenten!U53)","v":""},{"$f":"IF(ISBLANK(DatenKomponenten!V53),\"\",DatenKomponenten!V53)","v":""},{"$f":"IF(ISBLANK(DatenKomponenten!W53),\"\",DatenKomponenten!W53)","v":""},{"$f":"IF(ISBLANK(DatenKomponenten!X53),\"\",DatenKomponenten!X53)","v":""},{"$f":"IF(ISBLANK(DatenKomponenten!Y53),\"\",DatenKomponenten!Y53)","v":""},{"$f":"IF(ISBLANK(DatenKomponenten!Z53),\"\",DatenKomponenten!Z53)","v":""},{"$f":"IF(ISBLANK(DatenKomponenten!AA53),\"\",DatenKomponenten!AA53)","v":""},{"$f":"IF(ISBLANK(DatenKomponenten!AB53),\"\",DatenKomponenten!AB53)","v":""},{"$f":"IF(ISBLANK(DatenKomponenten!AC53),\"\",DatenKomponenten!AC53)","v":""},{"$f":"IF(ISBLANK(DatenKomponenten!AD53),\"\",DatenKomponenten!AD53)","v":""},{"$f":"IF(ISBLANK(DatenKomponenten!AE53),\"\",DatenKomponenten!AE53)","v":""},{"$f":"IF(ISBLANK(DatenKomponenten!AF53),\"\",DatenKomponenten!AF53)","v":""},{"$f":"IF(ISBLANK(DatenKomponenten!AG53),\"\",DatenKomponenten!AG53)","v":""},{"$f":"IF(ISBLANK(DatenKomponenten!AH53),\"\",DatenKomponenten!AH53)","v":""},{"$f":"IF(ISBLANK(DatenKomponenten!AI53),\"\",DatenKomponenten!AI53)","v":""},{"$f":"IF(ISBLANK(DatenKomponenten!AJ53),\"\",DatenKomponenten!AJ53)","v":""},{"$f":"IF(ISBLANK(DatenKomponenten!AK53),\"\",DatenKomponenten!AK53)","v":""},{"$f":"IF(ISBLANK(DatenKomponenten!AL53),\"\",DatenKomponenten!AL53)","v":""},{"$f":"IF(ISBLANK(DatenKomponenten!AM53),\"\",DatenKomponenten!AM53)","v":""},{"$f":"IF(ISBLANK(DatenKomponenten!AN53),\"\",DatenKomponenten!AN53)","v":""},{"$f":"IF(ISBLANK(DatenKomponenten!AO53),\"\",DatenKomponenten!AO53)","v":""},{"$f":"IF(ISBLANK(DatenKomponenten!AP53),\"\",DatenKomponenten!AP53)","v":""},{"$f":"IF(ISBLANK(DatenKomponenten!AQ53),\"\",DatenKomponenten!AQ53)","v":""},{"$f":"IF(ISBLANK(DatenKomponenten!AR53),\"\",DatenKomponenten!AR53)","v":""},{"$f":"IF(ISBLANK(DatenKomponenten!AS53),\"\",DatenKomponenten!AS53)","v":""},{"$f":"IF(ISBLANK(DatenKomponenten!AT53),\"\",DatenKomponenten!AT53)","v":""},{"$f":"IF(ISBLANK(DatenKomponenten!AU53),\"\",DatenKomponenten!AU53)","v":""},{"$f":"IF(ISBLANK(DatenKomponenten!AV53),\"\",DatenKomponenten!AV53)","v":""},{"$f":"IF(ISBLANK(DatenKomponenten!AW53),\"\",DatenKomponenten!AW53)","v":""},{"$f":"IF(ISBLANK(DatenKomponenten!AX53),\"\",DatenKomponenten!AX53)","v":""},{"$f":"IF(ISBLANK(DatenKomponenten!AY53),\"\",DatenKomponenten!AY53)","v":""},{"$f":"IF(ISBLANK(DatenKomponenten!AZ53),\"\",DatenKomponenten!AZ53)","v":""}]
[{"$f":"IF(ISBLANK(DatenKomponenten!A54),\"\",DatenKomponenten!A54)","v":""},{"$f":"IF(ISBLANK(DatenKomponenten!B54),\"\",DatenKomponenten!B54)","v":""},{"$f":"IF(ISBLANK(DatenKomponenten!C54),\"\",DatenKomponenten!C54)","v":""},{"$f":"IF(ISBLANK(DatenKomponenten!D54),\"\",DatenKomponenten!D54)","v":""},{"$f":"IF(ISBLANK(DatenKomponenten!E54),\"\",DatenKomponenten!E54)","v":""},{"$f":"IF(ISBLANK(DatenKomponenten!F54),\"\",DatenKomponenten!F54)","v":""},{"$f":"IF(ISBLANK(DatenKomponenten!G54),\"\",DatenKomponenten!G54)","v":""},{"$f":"IF(ISBLANK(DatenKomponenten!H54),\"\",DatenKomponenten!H54)","v":""},{"$f":"IF(ISBLANK(DatenKomponenten!I54),\"\",DatenKomponenten!I54)","v":""},{"$f":"IF(ISBLANK(DatenKomponenten!J54),\"\",DatenKomponenten!J54)","v":""},{"$f":"IF(ISBLANK(DatenKomponenten!K54),\"\",DatenKomponenten!K54)","v":""},{"$f":"IF(ISBLANK(DatenKomponenten!L54),\"\",DatenKomponenten!L54)","v":""},{"$f":"IF(ISBLANK(DatenKomponenten!M54),\"\",DatenKomponenten!M54)","v":""},{"$f":"IF(ISBLANK(DatenKomponenten!N54),\"\",DatenKomponenten!N54)","v":""},{"$f":"IF(ISBLANK(DatenKomponenten!O54),\"\",DatenKomponenten!O54)","v":""},{"$f":"IF(ISBLANK(DatenKomponenten!P54),\"\",DatenKomponenten!P54)","v":""},{"$f":"IF(ISBLANK(DatenKomponenten!Q54),\"\",DatenKomponenten!Q54)","v":""},{"$f":"IF(ISBLANK(DatenKomponenten!R54),\"\",DatenKomponenten!R54)","v":""},{"$f":"IF(ISBLANK(DatenKomponenten!S54),\"\",DatenKomponenten!S54)","v":""},{"$f":"IF(ISBLANK(DatenKomponenten!T54),\"\",DatenKomponenten!T54)","v":""},{"$f":"IF(ISBLANK(DatenKomponenten!U54),\"\",DatenKomponenten!U54)","v":""},{"$f":"IF(ISBLANK(DatenKomponenten!V54),\"\",DatenKomponenten!V54)","v":""},{"$f":"IF(ISBLANK(DatenKomponenten!W54),\"\",DatenKomponenten!W54)","v":""},{"$f":"IF(ISBLANK(DatenKomponenten!X54),\"\",DatenKomponenten!X54)","v":""},{"$f":"IF(ISBLANK(DatenKomponenten!Y54),\"\",DatenKomponenten!Y54)","v":""},{"$f":"IF(ISBLANK(DatenKomponenten!Z54),\"\",DatenKomponenten!Z54)","v":""},{"$f":"IF(ISBLANK(DatenKomponenten!AA54),\"\",DatenKomponenten!AA54)","v":""},{"$f":"IF(ISBLANK(DatenKomponenten!AB54),\"\",DatenKomponenten!AB54)","v":""},{"$f":"IF(ISBLANK(DatenKomponenten!AC54),\"\",DatenKomponenten!AC54)","v":""},{"$f":"IF(ISBLANK(DatenKomponenten!AD54),\"\",DatenKomponenten!AD54)","v":""},{"$f":"IF(ISBLANK(DatenKomponenten!AE54),\"\",DatenKomponenten!AE54)","v":""},{"$f":"IF(ISBLANK(DatenKomponenten!AF54),\"\",DatenKomponenten!AF54)","v":""},{"$f":"IF(ISBLANK(DatenKomponenten!AG54),\"\",DatenKomponenten!AG54)","v":""},{"$f":"IF(ISBLANK(DatenKomponenten!AH54),\"\",DatenKomponenten!AH54)","v":""},{"$f":"IF(ISBLANK(DatenKomponenten!AI54),\"\",DatenKomponenten!AI54)","v":""},{"$f":"IF(ISBLANK(DatenKomponenten!AJ54),\"\",DatenKomponenten!AJ54)","v":""},{"$f":"IF(ISBLANK(DatenKomponenten!AK54),\"\",DatenKomponenten!AK54)","v":""},{"$f":"IF(ISBLANK(DatenKomponenten!AL54),\"\",DatenKomponenten!AL54)","v":""},{"$f":"IF(ISBLANK(DatenKomponenten!AM54),\"\",DatenKomponenten!AM54)","v":""},{"$f":"IF(ISBLANK(DatenKomponenten!AN54),\"\",DatenKomponenten!AN54)","v":""},{"$f":"IF(ISBLANK(DatenKomponenten!AO54),\"\",DatenKomponenten!AO54)","v":""},{"$f":"IF(ISBLANK(DatenKomponenten!AP54),\"\",DatenKomponenten!AP54)","v":""},{"$f":"IF(ISBLANK(DatenKomponenten!AQ54),\"\",DatenKomponenten!AQ54)","v":""},{"$f":"IF(ISBLANK(DatenKomponenten!AR54),\"\",DatenKomponenten!AR54)","v":""},{"$f":"IF(ISBLANK(DatenKomponenten!AS54),\"\",DatenKomponenten!AS54)","v":""},{"$f":"IF(ISBLANK(DatenKomponenten!AT54),\"\",DatenKomponenten!AT54)","v":""},{"$f":"IF(ISBLANK(DatenKomponenten!AU54),\"\",DatenKomponenten!AU54)","v":""},{"$f":"IF(ISBLANK(DatenKomponenten!AV54),\"\",DatenKomponenten!AV54)","v":""},{"$f":"IF(ISBLANK(DatenKomponenten!AW54),\"\",DatenKomponenten!AW54)","v":""},{"$f":"IF(ISBLANK(DatenKomponenten!AX54),\"\",DatenKomponenten!AX54)","v":""},{"$f":"IF(ISBLANK(DatenKomponenten!AY54),\"\",DatenKomponenten!AY54)","v":""},{"$f":"IF(ISBLANK(DatenKomponenten!AZ54),\"\",DatenKomponenten!AZ54)","v":""}]
[{"$f":"IF(ISBLANK(DatenKomponenten!A55),\"\",DatenKomponenten!A55)","v":""},{"$f":"IF(ISBLANK(DatenKomponenten!B55),\"\",DatenKomponenten!B55)","v":""},{"$f":"IF(ISBLANK(DatenKomponenten!C55),\"\",DatenKomponenten!C55)","v":""},{"$f":"IF(ISBLANK(DatenKomponenten!D55),\"\",DatenKomponenten!D55)","v":""},{"$f":"IF(ISBLANK(DatenKomponenten!E55),\"\",DatenKomponenten!E55)","v":""},{"$f":"IF(ISBLANK(DatenKomponenten!F55),\"\",DatenKomponenten!F55)","v":""},{"$f":"IF(ISBLANK(DatenKomponenten!G55),\"\",DatenKomponenten!G55)","v":""},{"$f":"IF(ISBLANK(DatenKomponenten!H55),\"\",DatenKomponenten!H55)","v":""},{"$f":"IF(ISBLANK(DatenKomponenten!I55),\"\",DatenKomponenten!I55)","v":""},{"$f":"IF(ISBLANK(DatenKomponenten!J55),\"\",DatenKomponenten!J55)","v":""},{"$f":"IF(ISBLANK(DatenKomponenten!K55),\"\",DatenKomponenten!K55)","v":""},{"$f":"IF(ISBLANK(DatenKomponenten!L55),\"\",DatenKomponenten!L55)","v":""},{"$f":"IF(ISBLANK(DatenKomponenten!M55),\"\",DatenKomponenten!M55)","v":""},{"$f":"IF(ISBLANK(DatenKomponenten!N55),\"\",DatenKomponenten!N55)","v":""},{"$f":"IF(ISBLANK(DatenKomponenten!O55),\"\",DatenKomponenten!O55)","v":""},{"$f":"IF(ISBLANK(DatenKomponenten!P55),\"\",DatenKomponenten!P55)","v":""},{"$f":"IF(ISBLANK(DatenKomponenten!Q55),\"\",DatenKomponenten!Q55)","v":""},{"$f":"IF(ISBLANK(DatenKomponenten!R55),\"\",DatenKomponenten!R55)","v":""},{"$f":"IF(ISBLANK(DatenKomponenten!S55),\"\",DatenKomponenten!S55)","v":""},{"$f":"IF(ISBLANK(DatenKomponenten!T55),\"\",DatenKomponenten!T55)","v":""},{"$f":"IF(ISBLANK(DatenKomponenten!U55),\"\",DatenKomponenten!U55)","v":""},{"$f":"IF(ISBLANK(DatenKomponenten!V55),\"\",DatenKomponenten!V55)","v":""},{"$f":"IF(ISBLANK(DatenKomponenten!W55),\"\",DatenKomponenten!W55)","v":""},{"$f":"IF(ISBLANK(DatenKomponenten!X55),\"\",DatenKomponenten!X55)","v":""},{"$f":"IF(ISBLANK(DatenKomponenten!Y55),\"\",DatenKomponenten!Y55)","v":""},{"$f":"IF(ISBLANK(DatenKomponenten!Z55),\"\",DatenKomponenten!Z55)","v":""},{"$f":"IF(ISBLANK(DatenKomponenten!AA55),\"\",DatenKomponenten!AA55)","v":""},{"$f":"IF(ISBLANK(DatenKomponenten!AB55),\"\",DatenKomponenten!AB55)","v":""},{"$f":"IF(ISBLANK(DatenKomponenten!AC55),\"\",DatenKomponenten!AC55)","v":""},{"$f":"IF(ISBLANK(DatenKomponenten!AD55),\"\",DatenKomponenten!AD55)","v":""},{"$f":"IF(ISBLANK(DatenKomponenten!AE55),\"\",DatenKomponenten!AE55)","v":""},{"$f":"IF(ISBLANK(DatenKomponenten!AF55),\"\",DatenKomponenten!AF55)","v":""},{"$f":"IF(ISBLANK(DatenKomponenten!AG55),\"\",DatenKomponenten!AG55)","v":""},{"$f":"IF(ISBLANK(DatenKomponenten!AH55),\"\",DatenKomponenten!AH55)","v":""},{"$f":"IF(ISBLANK(DatenKomponenten!AI55),\"\",DatenKomponenten!AI55)","v":""},{"$f":"IF(ISBLANK(DatenKomponenten!AJ55),\"\",DatenKomponenten!AJ55)","v":""},{"$f":"IF(ISBLANK(DatenKomponenten!AK55),\"\",DatenKomponenten!AK55)","v":""},{"$f":"IF(ISBLANK(DatenKomponenten!AL55),\"\",DatenKomponenten!AL55)","v":""},{"$f":"IF(ISBLANK(DatenKomponenten!AM55),\"\",DatenKomponenten!AM55)","v":""},{"$f":"IF(ISBLANK(DatenKomponenten!AN55),\"\",DatenKomponenten!AN55)","v":""},{"$f":"IF(ISBLANK(DatenKomponenten!AO55),\"\",DatenKomponenten!AO55)","v":""},{"$f":"IF(ISBLANK(DatenKomponenten!AP55),\"\",DatenKomponenten!AP55)","v":""},{"$f":"IF(ISBLANK(DatenKomponenten!AQ55),\"\",DatenKomponenten!AQ55)","v":""},{"$f":"IF(ISBLANK(DatenKomponenten!AR55),\"\",DatenKomponenten!AR55)","v":""},{"$f":"IF(ISBLANK(DatenKomponenten!AS55),\"\",DatenKomponenten!AS55)","v":""},{"$f":"IF(ISBLANK(DatenKomponenten!AT55),\"\",DatenKomponenten!AT55)","v":""},{"$f":"IF(ISBLANK(DatenKomponenten!AU55),\"\",DatenKomponenten!AU55)","v":""},{"$f":"IF(ISBLANK(DatenKomponenten!AV55),\"\",DatenKomponenten!AV55)","v":""},{"$f":"IF(ISBLANK(DatenKomponenten!AW55),\"\",DatenKomponenten!AW55)","v":""},{"$f":"IF(ISBLANK(DatenKomponenten!AX55),\"\",DatenKomponenten!AX55)","v":""},{"$f":"IF(ISBLANK(DatenKomponenten!AY55),\"\",DatenKomponenten!AY55)","v":""},{"$f":"IF(ISBLANK(DatenKomponenten!AZ55),\"\",DatenKomponenten!AZ55)","v":""}]
[{"$f":"IF(ISBLANK(DatenKomponenten!A56),\"\",DatenKomponenten!A56)","v":""},{"$f":"IF(ISBLANK(DatenKomponenten!B56),\"\",DatenKomponenten!B56)","v":""},{"$f":"IF(ISBLANK(DatenKomponenten!C56),\"\",DatenKomponenten!C56)","v":""},{"$f":"IF(ISBLANK(DatenKomponenten!D56),\"\",DatenKomponenten!D56)","v":""},{"$f":"IF(ISBLANK(DatenKomponenten!E56),\"\",DatenKomponenten!E56)","v":""},{"$f":"IF(ISBLANK(DatenKomponenten!F56),\"\",DatenKomponenten!F56)","v":""},{"$f":"IF(ISBLANK(DatenKomponenten!G56),\"\",DatenKomponenten!G56)","v":""},{"$f":"IF(ISBLANK(DatenKomponenten!H56),\"\",DatenKomponenten!H56)","v":""},{"$f":"IF(ISBLANK(DatenKomponenten!I56),\"\",DatenKomponenten!I56)","v":""},{"$f":"IF(ISBLANK(DatenKomponenten!J56),\"\",DatenKomponenten!J56)","v":""},{"$f":"IF(ISBLANK(DatenKomponenten!K56),\"\",DatenKomponenten!K56)","v":""},{"$f":"IF(ISBLANK(DatenKomponenten!L56),\"\",DatenKomponenten!L56)","v":""},{"$f":"IF(ISBLANK(DatenKomponenten!M56),\"\",DatenKomponenten!M56)","v":""},{"$f":"IF(ISBLANK(DatenKomponenten!N56),\"\",DatenKomponenten!N56)","v":""},{"$f":"IF(ISBLANK(DatenKomponenten!O56),\"\",DatenKomponenten!O56)","v":""},{"$f":"IF(ISBLANK(DatenKomponenten!P56),\"\",DatenKomponenten!P56)","v":""},{"$f":"IF(ISBLANK(DatenKomponenten!Q56),\"\",DatenKomponenten!Q56)","v":""},{"$f":"IF(ISBLANK(DatenKomponenten!R56),\"\",DatenKomponenten!R56)","v":""},{"$f":"IF(ISBLANK(DatenKomponenten!S56),\"\",DatenKomponenten!S56)","v":""},{"$f":"IF(ISBLANK(DatenKomponenten!T56),\"\",DatenKomponenten!T56)","v":""},{"$f":"IF(ISBLANK(DatenKomponenten!U56),\"\",DatenKomponenten!U56)","v":""},{"$f":"IF(ISBLANK(DatenKomponenten!V56),\"\",DatenKomponenten!V56)","v":""},{"$f":"IF(ISBLANK(DatenKomponenten!W56),\"\",DatenKomponenten!W56)","v":""},{"$f":"IF(ISBLANK(DatenKomponenten!X56),\"\",DatenKomponenten!X56)","v":""},{"$f":"IF(ISBLANK(DatenKomponenten!Y56),\"\",DatenKomponenten!Y56)","v":""},{"$f":"IF(ISBLANK(DatenKomponenten!Z56),\"\",DatenKomponenten!Z56)","v":""},{"$f":"IF(ISBLANK(DatenKomponenten!AA56),\"\",DatenKomponenten!AA56)","v":""},{"$f":"IF(ISBLANK(DatenKomponenten!AB56),\"\",DatenKomponenten!AB56)","v":""},{"$f":"IF(ISBLANK(DatenKomponenten!AC56),\"\",DatenKomponenten!AC56)","v":""},{"$f":"IF(ISBLANK(DatenKomponenten!AD56),\"\",DatenKomponenten!AD56)","v":""},{"$f":"IF(ISBLANK(DatenKomponenten!AE56),\"\",DatenKomponenten!AE56)","v":""},{"$f":"IF(ISBLANK(DatenKomponenten!AF56),\"\",DatenKomponenten!AF56)","v":""},{"$f":"IF(ISBLANK(DatenKomponenten!AG56),\"\",DatenKomponenten!AG56)","v":""},{"$f":"IF(ISBLANK(DatenKomponenten!AH56),\"\",DatenKomponenten!AH56)","v":""},{"$f":"IF(ISBLANK(DatenKomponenten!AI56),\"\",DatenKomponenten!AI56)","v":""},{"$f":"IF(ISBLANK(DatenKomponenten!AJ56),\"\",DatenKomponenten!AJ56)","v":""},{"$f":"IF(ISBLANK(DatenKomponenten!AK56),\"\",DatenKomponenten!AK56)","v":""},{"$f":"IF(ISBLANK(DatenKomponenten!AL56),\"\",DatenKomponenten!AL56)","v":""},{"$f":"IF(ISBLANK(DatenKomponenten!AM56),\"\",DatenKomponenten!AM56)","v":""},{"$f":"IF(ISBLANK(DatenKomponenten!AN56),\"\",DatenKomponenten!AN56)","v":""},{"$f":"IF(ISBLANK(DatenKomponenten!AO56),\"\",DatenKomponenten!AO56)","v":""},{"$f":"IF(ISBLANK(DatenKomponenten!AP56),\"\",DatenKomponenten!AP56)","v":""},{"$f":"IF(ISBLANK(DatenKomponenten!AQ56),\"\",DatenKomponenten!AQ56)","v":""},{"$f":"IF(ISBLANK(DatenKomponenten!AR56),\"\",DatenKomponenten!AR56)","v":""},{"$f":"IF(ISBLANK(DatenKomponenten!AS56),\"\",DatenKomponenten!AS56)","v":""},{"$f":"IF(ISBLANK(DatenKomponenten!AT56),\"\",DatenKomponenten!AT56)","v":""},{"$f":"IF(ISBLANK(DatenKomponenten!AU56),\"\",DatenKomponenten!AU56)","v":""},{"$f":"IF(ISBLANK(DatenKomponenten!AV56),\"\",DatenKomponenten!AV56)","v":""},{"$f":"IF(ISBLANK(DatenKomponenten!AW56),\"\",DatenKomponenten!AW56)","v":""},{"$f":"IF(ISBLANK(DatenKomponenten!AX56),\"\",DatenKomponenten!AX56)","v":""},{"$f":"IF(ISBLANK(DatenKomponenten!AY56),\"\",DatenKomponenten!AY56)","v":""},{"$f":"IF(ISBLANK(DatenKomponenten!AZ56),\"\",DatenKomponenten!AZ56)","v":""}]
[{"$f":"IF(ISBLANK(DatenKomponenten!A57),\"\",DatenKomponenten!A57)","v":""},{"$f":"IF(ISBLANK(DatenKomponenten!B57),\"\",DatenKomponenten!B57)","v":""},{"$f":"IF(ISBLANK(DatenKomponenten!C57),\"\",DatenKomponenten!C57)","v":""},{"$f":"IF(ISBLANK(DatenKomponenten!D57),\"\",DatenKomponenten!D57)","v":""},{"$f":"IF(ISBLANK(DatenKomponenten!E57),\"\",DatenKomponenten!E57)","v":""},{"$f":"IF(ISBLANK(DatenKomponenten!F57),\"\",DatenKomponenten!F57)","v":""},{"$f":"IF(ISBLANK(DatenKomponenten!G57),\"\",DatenKomponenten!G57)","v":""},{"$f":"IF(ISBLANK(DatenKomponenten!H57),\"\",DatenKomponenten!H57)","v":""},{"$f":"IF(ISBLANK(DatenKomponenten!I57),\"\",DatenKomponenten!I57)","v":""},{"$f":"IF(ISBLANK(DatenKomponenten!J57),\"\",DatenKomponenten!J57)","v":""},{"$f":"IF(ISBLANK(DatenKomponenten!K57),\"\",DatenKomponenten!K57)","v":""},{"$f":"IF(ISBLANK(DatenKomponenten!L57),\"\",DatenKomponenten!L57)","v":""},{"$f":"IF(ISBLANK(DatenKomponenten!M57),\"\",DatenKomponenten!M57)","v":""},{"$f":"IF(ISBLANK(DatenKomponenten!N57),\"\",DatenKomponenten!N57)","v":""},{"$f":"IF(ISBLANK(DatenKomponenten!O57),\"\",DatenKomponenten!O57)","v":""},{"$f":"IF(ISBLANK(DatenKomponenten!P57),\"\",DatenKomponenten!P57)","v":""},{"$f":"IF(ISBLANK(DatenKomponenten!Q57),\"\",DatenKomponenten!Q57)","v":""},{"$f":"IF(ISBLANK(DatenKomponenten!R57),\"\",DatenKomponenten!R57)","v":""},{"$f":"IF(ISBLANK(DatenKomponenten!S57),\"\",DatenKomponenten!S57)","v":""},{"$f":"IF(ISBLANK(DatenKomponenten!T57),\"\",DatenKomponenten!T57)","v":""},{"$f":"IF(ISBLANK(DatenKomponenten!U57),\"\",DatenKomponenten!U57)","v":""},{"$f":"IF(ISBLANK(DatenKomponenten!V57),\"\",DatenKomponenten!V57)","v":""},{"$f":"IF(ISBLANK(DatenKomponenten!W57),\"\",DatenKomponenten!W57)","v":""},{"$f":"IF(ISBLANK(DatenKomponenten!X57),\"\",DatenKomponenten!X57)","v":""},{"$f":"IF(ISBLANK(DatenKomponenten!Y57),\"\",DatenKomponenten!Y57)","v":""},{"$f":"IF(ISBLANK(DatenKomponenten!Z57),\"\",DatenKomponenten!Z57)","v":""},{"$f":"IF(ISBLANK(DatenKomponenten!AA57),\"\",DatenKomponenten!AA57)","v":""},{"$f":"IF(ISBLANK(DatenKomponenten!AB57),\"\",DatenKomponenten!AB57)","v":""},{"$f":"IF(ISBLANK(DatenKomponenten!AC57),\"\",DatenKomponenten!AC57)","v":""},{"$f":"IF(ISBLANK(DatenKomponenten!AD57),\"\",DatenKomponenten!AD57)","v":""},{"$f":"IF(ISBLANK(DatenKomponenten!AE57),\"\",DatenKomponenten!AE57)","v":""},{"$f":"IF(ISBLANK(DatenKomponenten!AF57),\"\",DatenKomponenten!AF57)","v":""},{"$f":"IF(ISBLANK(DatenKomponenten!AG57),\"\",DatenKomponenten!AG57)","v":""},{"$f":"IF(ISBLANK(DatenKomponenten!AH57),\"\",DatenKomponenten!AH57)","v":""},{"$f":"IF(ISBLANK(DatenKomponenten!AI57),\"\",DatenKomponenten!AI57)","v":""},{"$f":"IF(ISBLANK(DatenKomponenten!AJ57),\"\",DatenKomponenten!AJ57)","v":""},{"$f":"IF(ISBLANK(DatenKomponenten!AK57),\"\",DatenKomponenten!AK57)","v":""},{"$f":"IF(ISBLANK(DatenKomponenten!AL57),\"\",DatenKomponenten!AL57)","v":""},{"$f":"IF(ISBLANK(DatenKomponenten!AM57),\"\",DatenKomponenten!AM57)","v":""},{"$f":"IF(ISBLANK(DatenKomponenten!AN57),\"\",DatenKomponenten!AN57)","v":""},{"$f":"IF(ISBLANK(DatenKomponenten!AO57),\"\",DatenKomponenten!AO57)","v":""},{"$f":"IF(ISBLANK(DatenKomponenten!AP57),\"\",DatenKomponenten!AP57)","v":""},{"$f":"IF(ISBLANK(DatenKomponenten!AQ57),\"\",DatenKomponenten!AQ57)","v":""},{"$f":"IF(ISBLANK(DatenKomponenten!AR57),\"\",DatenKomponenten!AR57)","v":""},{"$f":"IF(ISBLANK(DatenKomponenten!AS57),\"\",DatenKomponenten!AS57)","v":""},{"$f":"IF(ISBLANK(DatenKomponenten!AT57),\"\",DatenKomponenten!AT57)","v":""},{"$f":"IF(ISBLANK(DatenKomponenten!AU57),\"\",DatenKomponenten!AU57)","v":""},{"$f":"IF(ISBLANK(DatenKomponenten!AV57),\"\",DatenKomponenten!AV57)","v":""},{"$f":"IF(ISBLANK(DatenKomponenten!AW57),\"\",DatenKomponenten!AW57)","v":""},{"$f":"IF(ISBLANK(DatenKomponenten!AX57),\"\",DatenKomponenten!AX57)","v":""},{"$f":"IF(ISBLANK(DatenKomponenten!AY57),\"\",DatenKomponenten!AY57)","v":""},{"$f":"IF(ISBLANK(DatenKomponenten!AZ57),\"\",DatenKomponenten!AZ57)","v":""}]
[{"$f":"IF(ISBLANK(DatenKomponenten!A58),\"\",DatenKomponenten!A58)","v":""},{"$f":"IF(ISBLANK(DatenKomponenten!B58),\"\",DatenKomponenten!B58)","v":""},{"$f":"IF(ISBLANK(DatenKomponenten!C58),\"\",DatenKomponenten!C58)","v":""},{"$f":"IF(ISBLANK(DatenKomponenten!D58),\"\",DatenKomponenten!D58)","v":""},{"$f":"IF(ISBLANK(DatenKomponenten!E58),\"\",DatenKomponenten!E58)","v":""},{"$f":"IF(ISBLANK(DatenKomponenten!F58),\"\",DatenKomponenten!F58)","v":""},{"$f":"IF(ISBLANK(DatenKomponenten!G58),\"\",DatenKomponenten!G58)","v":""},{"$f":"IF(ISBLANK(DatenKomponenten!H58),\"\",DatenKomponenten!H58)","v":""},{"$f":"IF(ISBLANK(DatenKomponenten!I58),\"\",DatenKomponenten!I58)","v":""},{"$f":"IF(ISBLANK(DatenKomponenten!J58),\"\",DatenKomponenten!J58)","v":""},{"$f":"IF(ISBLANK(DatenKomponenten!K58),\"\",DatenKomponenten!K58)","v":""},{"$f":"IF(ISBLANK(DatenKomponenten!L58),\"\",DatenKomponenten!L58)","v":""},{"$f":"IF(ISBLANK(DatenKomponenten!M58),\"\",DatenKomponenten!M58)","v":""},{"$f":"IF(ISBLANK(DatenKomponenten!N58),\"\",DatenKomponenten!N58)","v":""},{"$f":"IF(ISBLANK(DatenKomponenten!O58),\"\",DatenKomponenten!O58)","v":""},{"$f":"IF(ISBLANK(DatenKomponenten!P58),\"\",DatenKomponenten!P58)","v":""},{"$f":"IF(ISBLANK(DatenKomponenten!Q58),\"\",DatenKomponenten!Q58)","v":""},{"$f":"IF(ISBLANK(DatenKomponenten!R58),\"\",DatenKomponenten!R58)","v":""},{"$f":"IF(ISBLANK(DatenKomponenten!S58),\"\",DatenKomponenten!S58)","v":""},{"$f":"IF(ISBLANK(DatenKomponenten!T58),\"\",DatenKomponenten!T58)","v":""},{"$f":"IF(ISBLANK(DatenKomponenten!U58),\"\",DatenKomponenten!U58)","v":""},{"$f":"IF(ISBLANK(DatenKomponenten!V58),\"\",DatenKomponenten!V58)","v":""},{"$f":"IF(ISBLANK(DatenKomponenten!W58),\"\",DatenKomponenten!W58)","v":""},{"$f":"IF(ISBLANK(DatenKomponenten!X58),\"\",DatenKomponenten!X58)","v":""},{"$f":"IF(ISBLANK(DatenKomponenten!Y58),\"\",DatenKomponenten!Y58)","v":""},{"$f":"IF(ISBLANK(DatenKomponenten!Z58),\"\",DatenKomponenten!Z58)","v":""},{"$f":"IF(ISBLANK(DatenKomponenten!AA58),\"\",DatenKomponenten!AA58)","v":""},{"$f":"IF(ISBLANK(DatenKomponenten!AB58),\"\",DatenKomponenten!AB58)","v":""},{"$f":"IF(ISBLANK(DatenKomponenten!AC58),\"\",DatenKomponenten!AC58)","v":""},{"$f":"IF(ISBLANK(DatenKomponenten!AD58),\"\",DatenKomponenten!AD58)","v":""},{"$f":"IF(ISBLANK(DatenKomponenten!AE58),\"\",DatenKomponenten!AE58)","v":""},{"$f":"IF(ISBLANK(DatenKomponenten!AF58),\"\",DatenKomponenten!AF58)","v":""},{"$f":"IF(ISBLANK(DatenKomponenten!AG58),\"\",DatenKomponenten!AG58)","v":""},{"$f":"IF(ISBLANK(DatenKomponenten!AH58),\"\",DatenKomponenten!AH58)","v":""},{"$f":"IF(ISBLANK(DatenKomponenten!AI58),\"\",DatenKomponenten!AI58)","v":""},{"$f":"IF(ISBLANK(DatenKomponenten!AJ58),\"\",DatenKomponenten!AJ58)","v":""},{"$f":"IF(ISBLANK(DatenKomponenten!AK58),\"\",DatenKomponenten!AK58)","v":""},{"$f":"IF(ISBLANK(DatenKomponenten!AL58),\"\",DatenKomponenten!AL58)","v":""},{"$f":"IF(ISBLANK(DatenKomponenten!AM58),\"\",DatenKomponenten!AM58)","v":""},{"$f":"IF(ISBLANK(DatenKomponenten!AN58),\"\",DatenKomponenten!AN58)","v":""},{"$f":"IF(ISBLANK(DatenKomponenten!AO58),\"\",DatenKomponenten!AO58)","v":""},{"$f":"IF(ISBLANK(DatenKomponenten!AP58),\"\",DatenKomponenten!AP58)","v":""},{"$f":"IF(ISBLANK(DatenKomponenten!AQ58),\"\",DatenKomponenten!AQ58)","v":""},{"$f":"IF(ISBLANK(DatenKomponenten!AR58),\"\",DatenKomponenten!AR58)","v":""},{"$f":"IF(ISBLANK(DatenKomponenten!AS58),\"\",DatenKomponenten!AS58)","v":""},{"$f":"IF(ISBLANK(DatenKomponenten!AT58),\"\",DatenKomponenten!AT58)","v":""},{"$f":"IF(ISBLANK(DatenKomponenten!AU58),\"\",DatenKomponenten!AU58)","v":""},{"$f":"IF(ISBLANK(DatenKomponenten!AV58),\"\",DatenKomponenten!AV58)","v":""},{"$f":"IF(ISBLANK(DatenKomponenten!AW58),\"\",DatenKomponenten!AW58)","v":""},{"$f":"IF(ISBLANK(DatenKomponenten!AX58),\"\",DatenKomponenten!AX58)","v":""},{"$f":"IF(ISBLANK(DatenKomponenten!AY58),\"\",DatenKomponenten!AY58)","v":""},{"$f":"IF(ISBLANK(DatenKomponenten!AZ58),\"\",DatenKomponenten!AZ58)","v":""}]
[{"$f":"IF(ISBLANK(DatenKomponenten!A59),\"\",DatenKomponenten!A59)","v":""},{"$f":"IF(ISBLANK(DatenKomponenten!B59),\"\",DatenKomponenten!B59)","v":""},{"$f":"IF(ISBLANK(DatenKomponenten!C59),\"\",DatenKomponenten!C59)","v":""},{"$f":"IF(ISBLANK(DatenKomponenten!D59),\"\",DatenKomponenten!D59)","v":""},{"$f":"IF(ISBLANK(DatenKomponenten!E59),\"\",DatenKomponenten!E59)","v":""},{"$f":"IF(ISBLANK(DatenKomponenten!F59),\"\",DatenKomponenten!F59)","v":""},{"$f":"IF(ISBLANK(DatenKomponenten!G59),\"\",DatenKomponenten!G59)","v":""},{"$f":"IF(ISBLANK(DatenKomponenten!H59),\"\",DatenKomponenten!H59)","v":""},{"$f":"IF(ISBLANK(DatenKomponenten!I59),\"\",DatenKomponenten!I59)","v":""},{"$f":"IF(ISBLANK(DatenKomponenten!J59),\"\",DatenKomponenten!J59)","v":""},{"$f":"IF(ISBLANK(DatenKomponenten!K59),\"\",DatenKomponenten!K59)","v":""},{"$f":"IF(ISBLANK(DatenKomponenten!L59),\"\",DatenKomponenten!L59)","v":""},{"$f":"IF(ISBLANK(DatenKomponenten!M59),\"\",DatenKomponenten!M59)","v":""},{"$f":"IF(ISBLANK(DatenKomponenten!N59),\"\",DatenKomponenten!N59)","v":""},{"$f":"IF(ISBLANK(DatenKomponenten!O59),\"\",DatenKomponenten!O59)","v":""},{"$f":"IF(ISBLANK(DatenKomponenten!P59),\"\",DatenKomponenten!P59)","v":""},{"$f":"IF(ISBLANK(DatenKomponenten!Q59),\"\",DatenKomponenten!Q59)","v":""},{"$f":"IF(ISBLANK(DatenKomponenten!R59),\"\",DatenKomponenten!R59)","v":""},{"$f":"IF(ISBLANK(DatenKomponenten!S59),\"\",DatenKomponenten!S59)","v":""},{"$f":"IF(ISBLANK(DatenKomponenten!T59),\"\",DatenKomponenten!T59)","v":""},{"$f":"IF(ISBLANK(DatenKomponenten!U59),\"\",DatenKomponenten!U59)","v":""},{"$f":"IF(ISBLANK(DatenKomponenten!V59),\"\",DatenKomponenten!V59)","v":""},{"$f":"IF(ISBLANK(DatenKomponenten!W59),\"\",DatenKomponenten!W59)","v":""},{"$f":"IF(ISBLANK(DatenKomponenten!X59),\"\",DatenKomponenten!X59)","v":""},{"$f":"IF(ISBLANK(DatenKomponenten!Y59),\"\",DatenKomponenten!Y59)","v":""},{"$f":"IF(ISBLANK(DatenKomponenten!Z59),\"\",DatenKomponenten!Z59)","v":""},{"$f":"IF(ISBLANK(DatenKomponenten!AA59),\"\",DatenKomponenten!AA59)","v":""},{"$f":"IF(ISBLANK(DatenKomponenten!AB59),\"\",DatenKomponenten!AB59)","v":""},{"$f":"IF(ISBLANK(DatenKomponenten!AC59),\"\",DatenKomponenten!AC59)","v":""},{"$f":"IF(ISBLANK(DatenKomponenten!AD59),\"\",DatenKomponenten!AD59)","v":""},{"$f":"IF(ISBLANK(DatenKomponenten!AE59),\"\",DatenKomponenten!AE59)","v":""},{"$f":"IF(ISBLANK(DatenKomponenten!AF59),\"\",DatenKomponenten!AF59)","v":""},{"$f":"IF(ISBLANK(DatenKomponenten!AG59),\"\",DatenKomponenten!AG59)","v":""},{"$f":"IF(ISBLANK(DatenKomponenten!AH59),\"\",DatenKomponenten!AH59)","v":""},{"$f":"IF(ISBLANK(DatenKomponenten!AI59),\"\",DatenKomponenten!AI59)","v":""},{"$f":"IF(ISBLANK(DatenKomponenten!AJ59),\"\",DatenKomponenten!AJ59)","v":""},{"$f":"IF(ISBLANK(DatenKomponenten!AK59),\"\",DatenKomponenten!AK59)","v":""},{"$f":"IF(ISBLANK(DatenKomponenten!AL59),\"\",DatenKomponenten!AL59)","v":""},{"$f":"IF(ISBLANK(DatenKomponenten!AM59),\"\",DatenKomponenten!AM59)","v":""},{"$f":"IF(ISBLANK(DatenKomponenten!AN59),\"\",DatenKomponenten!AN59)","v":""},{"$f":"IF(ISBLANK(DatenKomponenten!AO59),\"\",DatenKomponenten!AO59)","v":""},{"$f":"IF(ISBLANK(DatenKomponenten!AP59),\"\",DatenKomponenten!AP59)","v":""},{"$f":"IF(ISBLANK(DatenKomponenten!AQ59),\"\",DatenKomponenten!AQ59)","v":""},{"$f":"IF(ISBLANK(DatenKomponenten!AR59),\"\",DatenKomponenten!AR59)","v":""},{"$f":"IF(ISBLANK(DatenKomponenten!AS59),\"\",DatenKomponenten!AS59)","v":""},{"$f":"IF(ISBLANK(DatenKomponenten!AT59),\"\",DatenKomponenten!AT59)","v":""},{"$f":"IF(ISBLANK(DatenKomponenten!AU59),\"\",DatenKomponenten!AU59)","v":""},{"$f":"IF(ISBLANK(DatenKomponenten!AV59),\"\",DatenKomponenten!AV59)","v":""},{"$f":"IF(ISBLANK(DatenKomponenten!AW59),\"\",DatenKomponenten!AW59)","v":""},{"$f":"IF(ISBLANK(DatenKomponenten!AX59),\"\",DatenKomponenten!AX59)","v":""},{"$f":"IF(ISBLANK(DatenKomponenten!AY59),\"\",DatenKomponenten!AY59)","v":""},{"$f":"IF(ISBLANK(DatenKomponenten!AZ59),\"\",DatenKomponenten!AZ59)","v":""}]
[{"$f":"IF(ISBLANK(DatenKomponenten!A60),\"\",DatenKomponenten!A60)","v":""},{"$f":"IF(ISBLANK(DatenKomponenten!B60),\"\",DatenKomponenten!B60)","v":""},{"$f":"IF(ISBLANK(DatenKomponenten!C60),\"\",DatenKomponenten!C60)","v":""},{"$f":"IF(ISBLANK(DatenKomponenten!D60),\"\",DatenKomponenten!D60)","v":""},{"$f":"IF(ISBLANK(DatenKomponenten!E60),\"\",DatenKomponenten!E60)","v":""},{"$f":"IF(ISBLANK(DatenKomponenten!F60),\"\",DatenKomponenten!F60)","v":""},{"$f":"IF(ISBLANK(DatenKomponenten!G60),\"\",DatenKomponenten!G60)","v":""},{"$f":"IF(ISBLANK(DatenKomponenten!H60),\"\",DatenKomponenten!H60)","v":""},{"$f":"IF(ISBLANK(DatenKomponenten!I60),\"\",DatenKomponenten!I60)","v":""},{"$f":"IF(ISBLANK(DatenKomponenten!J60),\"\",DatenKomponenten!J60)","v":""},{"$f":"IF(ISBLANK(DatenKomponenten!K60),\"\",DatenKomponenten!K60)","v":""},{"$f":"IF(ISBLANK(DatenKomponenten!L60),\"\",DatenKomponenten!L60)","v":""},{"$f":"IF(ISBLANK(DatenKomponenten!M60),\"\",DatenKomponenten!M60)","v":""},{"$f":"IF(ISBLANK(DatenKomponenten!N60),\"\",DatenKomponenten!N60)","v":""},{"$f":"IF(ISBLANK(DatenKomponenten!O60),\"\",DatenKomponenten!O60)","v":""},{"$f":"IF(ISBLANK(DatenKomponenten!P60),\"\",DatenKomponenten!P60)","v":""},{"$f":"IF(ISBLANK(DatenKomponenten!Q60),\"\",DatenKomponenten!Q60)","v":""},{"$f":"IF(ISBLANK(DatenKomponenten!R60),\"\",DatenKomponenten!R60)","v":""},{"$f":"IF(ISBLANK(DatenKomponenten!S60),\"\",DatenKomponenten!S60)","v":""},{"$f":"IF(ISBLANK(DatenKomponenten!T60),\"\",DatenKomponenten!T60)","v":""},{"$f":"IF(ISBLANK(DatenKomponenten!U60),\"\",DatenKomponenten!U60)","v":""},{"$f":"IF(ISBLANK(DatenKomponenten!V60),\"\",DatenKomponenten!V60)","v":""},{"$f":"IF(ISBLANK(DatenKomponenten!W60),\"\",DatenKomponenten!W60)","v":""},{"$f":"IF(ISBLANK(DatenKomponenten!X60),\"\",DatenKomponenten!X60)","v":""},{"$f":"IF(ISBLANK(DatenKomponenten!Y60),\"\",DatenKomponenten!Y60)","v":""},{"$f":"IF(ISBLANK(DatenKomponenten!Z60),\"\",DatenKomponenten!Z60)","v":""},{"$f":"IF(ISBLANK(DatenKomponenten!AA60),\"\",DatenKomponenten!AA60)","v":""},{"$f":"IF(ISBLANK(DatenKomponenten!AB60),\"\",DatenKomponenten!AB60)","v":""},{"$f":"IF(ISBLANK(DatenKomponenten!AC60),\"\",DatenKomponenten!AC60)","v":""},{"$f":"IF(ISBLANK(DatenKomponenten!AD60),\"\",DatenKomponenten!AD60)","v":""},{"$f":"IF(ISBLANK(DatenKomponenten!AE60),\"\",DatenKomponenten!AE60)","v":""},{"$f":"IF(ISBLANK(DatenKomponenten!AF60),\"\",DatenKomponenten!AF60)","v":""},{"$f":"IF(ISBLANK(DatenKomponenten!AG60),\"\",DatenKomponenten!AG60)","v":""},{"$f":"IF(ISBLANK(DatenKomponenten!AH60),\"\",DatenKomponenten!AH60)","v":""},{"$f":"IF(ISBLANK(DatenKomponenten!AI60),\"\",DatenKomponenten!AI60)","v":""},{"$f":"IF(ISBLANK(DatenKomponenten!AJ60),\"\",DatenKomponenten!AJ60)","v":""},{"$f":"IF(ISBLANK(DatenKomponenten!AK60),\"\",DatenKomponenten!AK60)","v":""},{"$f":"IF(ISBLANK(DatenKomponenten!AL60),\"\",DatenKomponenten!AL60)","v":""},{"$f":"IF(ISBLANK(DatenKomponenten!AM60),\"\",DatenKomponenten!AM60)","v":""},{"$f":"IF(ISBLANK(DatenKomponenten!AN60),\"\",DatenKomponenten!AN60)","v":""},{"$f":"IF(ISBLANK(DatenKomponenten!AO60),\"\",DatenKomponenten!AO60)","v":""},{"$f":"IF(ISBLANK(DatenKomponenten!AP60),\"\",DatenKomponenten!AP60)","v":""},{"$f":"IF(ISBLANK(DatenKomponenten!AQ60),\"\",DatenKomponenten!AQ60)","v":""},{"$f":"IF(ISBLANK(DatenKomponenten!AR60),\"\",DatenKomponenten!AR60)","v":""},{"$f":"IF(ISBLANK(DatenKomponenten!AS60),\"\",DatenKomponenten!AS60)","v":""},{"$f":"IF(ISBLANK(DatenKomponenten!AT60),\"\",DatenKomponenten!AT60)","v":""},{"$f":"IF(ISBLANK(DatenKomponenten!AU60),\"\",DatenKomponenten!AU60)","v":""},{"$f":"IF(ISBLANK(DatenKomponenten!AV60),\"\",DatenKomponenten!AV60)","v":""},{"$f":"IF(ISBLANK(DatenKomponenten!AW60),\"\",DatenKomponenten!AW60)","v":""},{"$f":"IF(ISBLANK(DatenKomponenten!AX60),\"\",DatenKomponenten!AX60)","v":""},{"$f":"IF(ISBLANK(DatenKomponenten!AY60),\"\",DatenKomponenten!AY60)","v":""},{"$f":"IF(ISBLANK(DatenKomponenten!AZ60),\"\",DatenKomponenten!AZ60)","v":""}]
[{"$f":"IF(ISBLANK(DatenKomponenten!A61),\"\",DatenKomponenten!A61)","v":""},{"$f":"IF(ISBLANK(DatenKomponenten!B61),\"\",DatenKomponenten!B61)","v":""},{"$f":"IF(ISBLANK(DatenKomponenten!C61),\"\",DatenKomponenten!C61)","v":""},{"$f":"IF(ISBLANK(DatenKomponenten!D61),\"\",DatenKomponenten!D61)","v":""},{"$f":"IF(ISBLANK(DatenKomponenten!E61),\"\",DatenKomponenten!E61)","v":""},{"$f":"IF(ISBLANK(DatenKomponenten!F61),\"\",DatenKomponenten!F61)","v":""},{"$f":"IF(ISBLANK(DatenKomponenten!G61),\"\",DatenKomponenten!G61)","v":""},{"$f":"IF(ISBLANK(DatenKomponenten!H61),\"\",DatenKomponenten!H61)","v":""},{"$f":"IF(ISBLANK(DatenKomponenten!I61),\"\",DatenKomponenten!I61)","v":""},{"$f":"IF(ISBLANK(DatenKomponenten!J61),\"\",DatenKomponenten!J61)","v":""},{"$f":"IF(ISBLANK(DatenKomponenten!K61),\"\",DatenKomponenten!K61)","v":""},{"$f":"IF(ISBLANK(DatenKomponenten!L61),\"\",DatenKomponenten!L61)","v":""},{"$f":"IF(ISBLANK(DatenKomponenten!M61),\"\",DatenKomponenten!M61)","v":""},{"$f":"IF(ISBLANK(DatenKomponenten!N61),\"\",DatenKomponenten!N61)","v":""},{"$f":"IF(ISBLANK(DatenKomponenten!O61),\"\",DatenKomponenten!O61)","v":""},{"$f":"IF(ISBLANK(DatenKomponenten!P61),\"\",DatenKomponenten!P61)","v":""},{"$f":"IF(ISBLANK(DatenKomponenten!Q61),\"\",DatenKomponenten!Q61)","v":""},{"$f":"IF(ISBLANK(DatenKomponenten!R61),\"\",DatenKomponenten!R61)","v":""},{"$f":"IF(ISBLANK(DatenKomponenten!S61),\"\",DatenKomponenten!S61)","v":""},{"$f":"IF(ISBLANK(DatenKomponenten!T61),\"\",DatenKomponenten!T61)","v":""},{"$f":"IF(ISBLANK(DatenKomponenten!U61),\"\",DatenKomponenten!U61)","v":""},{"$f":"IF(ISBLANK(DatenKomponenten!V61),\"\",DatenKomponenten!V61)","v":""},{"$f":"IF(ISBLANK(DatenKomponenten!W61),\"\",DatenKomponenten!W61)","v":""},{"$f":"IF(ISBLANK(DatenKomponenten!X61),\"\",DatenKomponenten!X61)","v":""},{"$f":"IF(ISBLANK(DatenKomponenten!Y61),\"\",DatenKomponenten!Y61)","v":""},{"$f":"IF(ISBLANK(DatenKomponenten!Z61),\"\",DatenKomponenten!Z61)","v":""},{"$f":"IF(ISBLANK(DatenKomponenten!AA61),\"\",DatenKomponenten!AA61)","v":""},{"$f":"IF(ISBLANK(DatenKomponenten!AB61),\"\",DatenKomponenten!AB61)","v":""},{"$f":"IF(ISBLANK(DatenKomponenten!AC61),\"\",DatenKomponenten!AC61)","v":""},{"$f":"IF(ISBLANK(DatenKomponenten!AD61),\"\",DatenKomponenten!AD61)","v":""},{"$f":"IF(ISBLANK(DatenKomponenten!AE61),\"\",DatenKomponenten!AE61)","v":""},{"$f":"IF(ISBLANK(DatenKomponenten!AF61),\"\",DatenKomponenten!AF61)","v":""},{"$f":"IF(ISBLANK(DatenKomponenten!AG61),\"\",DatenKomponenten!AG61)","v":""},{"$f":"IF(ISBLANK(DatenKomponenten!AH61),\"\",DatenKomponenten!AH61)","v":""},{"$f":"IF(ISBLANK(DatenKomponenten!AI61),\"\",DatenKomponenten!AI61)","v":""},{"$f":"IF(ISBLANK(DatenKomponenten!AJ61),\"\",DatenKomponenten!AJ61)","v":""},{"$f":"IF(ISBLANK(DatenKomponenten!AK61),\"\",DatenKomponenten!AK61)","v":""},{"$f":"IF(ISBLANK(DatenKomponenten!AL61),\"\",DatenKomponenten!AL61)","v":""},{"$f":"IF(ISBLANK(DatenKomponenten!AM61),\"\",DatenKomponenten!AM61)","v":""},{"$f":"IF(ISBLANK(DatenKomponenten!AN61),\"\",DatenKomponenten!AN61)","v":""},{"$f":"IF(ISBLANK(DatenKomponenten!AO61),\"\",DatenKomponenten!AO61)","v":""},{"$f":"IF(ISBLANK(DatenKomponenten!AP61),\"\",DatenKomponenten!AP61)","v":""},{"$f":"IF(ISBLANK(DatenKomponenten!AQ61),\"\",DatenKomponenten!AQ61)","v":""},{"$f":"IF(ISBLANK(DatenKomponenten!AR61),\"\",DatenKomponenten!AR61)","v":""},{"$f":"IF(ISBLANK(DatenKomponenten!AS61),\"\",DatenKomponenten!AS61)","v":""},{"$f":"IF(ISBLANK(DatenKomponenten!AT61),\"\",DatenKomponenten!AT61)","v":""},{"$f":"IF(ISBLANK(DatenKomponenten!AU61),\"\",DatenKomponenten!AU61)","v":""},{"$f":"IF(ISBLANK(DatenKomponenten!AV61),\"\",DatenKomponenten!AV61)","v":""},{"$f":"IF(ISBLANK(DatenKomponenten!AW61),\"\",DatenKomponenten!AW61)","v":""},{"$f":"IF(ISBLANK(DatenKomponenten!AX61),\"\",DatenKomponenten!AX61)","v":""},{"$f":"IF(ISBLANK(DatenKomponenten!AY61),\"\",DatenKomponenten!AY61)","v":""},{"$f":"IF(ISBLANK(DatenKomponenten!AZ61),\"\",DatenKomponenten!AZ61)","v":""}]
[{"$f":"IF(ISBLANK(DatenKomponenten!A62),\"\",DatenKomponenten!A62)","v":""},{"$f":"IF(ISBLANK(DatenKomponenten!B62),\"\",DatenKomponenten!B62)","v":""},{"$f":"IF(ISBLANK(DatenKomponenten!C62),\"\",DatenKomponenten!C62)","v":""},{"$f":"IF(ISBLANK(DatenKomponenten!D62),\"\",DatenKomponenten!D62)","v":""},{"$f":"IF(ISBLANK(DatenKomponenten!E62),\"\",DatenKomponenten!E62)","v":""},{"$f":"IF(ISBLANK(DatenKomponenten!F62),\"\",DatenKomponenten!F62)","v":""},{"$f":"IF(ISBLANK(DatenKomponenten!G62),\"\",DatenKomponenten!G62)","v":""},{"$f":"IF(ISBLANK(DatenKomponenten!H62),\"\",DatenKomponenten!H62)","v":""},{"$f":"IF(ISBLANK(DatenKomponenten!I62),\"\",DatenKomponenten!I62)","v":""},{"$f":"IF(ISBLANK(DatenKomponenten!J62),\"\",DatenKomponenten!J62)","v":""},{"$f":"IF(ISBLANK(DatenKomponenten!K62),\"\",DatenKomponenten!K62)","v":""},{"$f":"IF(ISBLANK(DatenKomponenten!L62),\"\",DatenKomponenten!L62)","v":""},{"$f":"IF(ISBLANK(DatenKomponenten!M62),\"\",DatenKomponenten!M62)","v":""},{"$f":"IF(ISBLANK(DatenKomponenten!N62),\"\",DatenKomponenten!N62)","v":""},{"$f":"IF(ISBLANK(DatenKomponenten!O62),\"\",DatenKomponenten!O62)","v":""},{"$f":"IF(ISBLANK(DatenKomponenten!P62),\"\",DatenKomponenten!P62)","v":""},{"$f":"IF(ISBLANK(DatenKomponenten!Q62),\"\",DatenKomponenten!Q62)","v":""},{"$f":"IF(ISBLANK(DatenKomponenten!R62),\"\",DatenKomponenten!R62)","v":""},{"$f":"IF(ISBLANK(DatenKomponenten!S62),\"\",DatenKomponenten!S62)","v":""},{"$f":"IF(ISBLANK(DatenKomponenten!T62),\"\",DatenKomponenten!T62)","v":""},{"$f":"IF(ISBLANK(DatenKomponenten!U62),\"\",DatenKomponenten!U62)","v":""},{"$f":"IF(ISBLANK(DatenKomponenten!V62),\"\",DatenKomponenten!V62)","v":""},{"$f":"IF(ISBLANK(DatenKomponenten!W62),\"\",DatenKomponenten!W62)","v":""},{"$f":"IF(ISBLANK(DatenKomponenten!X62),\"\",DatenKomponenten!X62)","v":""},{"$f":"IF(ISBLANK(DatenKomponenten!Y62),\"\",DatenKomponenten!Y62)","v":""},{"$f":"IF(ISBLANK(DatenKomponenten!Z62),\"\",DatenKomponenten!Z62)","v":""},{"$f":"IF(ISBLANK(DatenKomponenten!AA62),\"\",DatenKomponenten!AA62)","v":""},{"$f":"IF(ISBLANK(DatenKomponenten!AB62),\"\",DatenKomponenten!AB62)","v":""},{"$f":"IF(ISBLANK(DatenKomponenten!AC62),\"\",DatenKomponenten!AC62)","v":""},{"$f":"IF(ISBLANK(DatenKomponenten!AD62),\"\",DatenKomponenten!AD62)","v":""},{"$f":"IF(ISBLANK(DatenKomponenten!AE62),\"\",DatenKomponenten!AE62)","v":""},{"$f":"IF(ISBLANK(DatenKomponenten!AF62),\"\",DatenKomponenten!AF62)","v":""},{"$f":"IF(ISBLANK(DatenKomponenten!AG62),\"\",DatenKomponenten!AG62)","v":""},{"$f":"IF(ISBLANK(DatenKomponenten!AH62),\"\",DatenKomponenten!AH62)","v":""},{"$f":"IF(ISBLANK(DatenKomponenten!AI62),\"\",DatenKomponenten!AI62)","v":""},{"$f":"IF(ISBLANK(DatenKomponenten!AJ62),\"\",DatenKomponenten!AJ62)","v":""},{"$f":"IF(ISBLANK(DatenKomponenten!AK62),\"\",DatenKomponenten!AK62)","v":""},{"$f":"IF(ISBLANK(DatenKomponenten!AL62),\"\",DatenKomponenten!AL62)","v":""},{"$f":"IF(ISBLANK(DatenKomponenten!AM62),\"\",DatenKomponenten!AM62)","v":""},{"$f":"IF(ISBLANK(DatenKomponenten!AN62),\"\",DatenKomponenten!AN62)","v":""},{"$f":"IF(ISBLANK(DatenKomponenten!AO62),\"\",DatenKomponenten!AO62)","v":""},{"$f":"IF(ISBLANK(DatenKomponenten!AP62),\"\",DatenKomponenten!AP62)","v":""},{"$f":"IF(ISBLANK(DatenKomponenten!AQ62),\"\",DatenKomponenten!AQ62)","v":""},{"$f":"IF(ISBLANK(DatenKomponenten!AR62),\"\",DatenKomponenten!AR62)","v":""},{"$f":"IF(ISBLANK(DatenKomponenten!AS62),\"\",DatenKomponenten!AS62)","v":""},{"$f":"IF(ISBLANK(DatenKomponenten!AT62),\"\",DatenKomponenten!AT62)","v":""},{"$f":"IF(ISBLANK(DatenKomponenten!AU62),\"\",DatenKomponenten!AU62)","v":""},{"$f":"IF(ISBLANK(DatenKomponenten!AV62),\"\",DatenKomponenten!AV62)","v":""},{"$f":"IF(ISBLANK(DatenKomponenten!AW62),\"\",DatenKomponenten!AW62)","v":""},{"$f":"IF(ISBLANK(DatenKomponenten!AX62),\"\",DatenKomponenten!AX62)","v":""},{"$f":"IF(ISBLANK(DatenKomponenten!AY62),\"\",DatenKomponenten!AY62)","v":""},{"$f":"IF(ISBLANK(DatenKomponenten!AZ62),\"\",DatenKomponenten!AZ62)","v":""}]
[{"$f":"IF(ISBLANK(DatenKomponenten!A63),\"\",DatenKomponenten!A63)","v":""},{"$f":"IF(ISBLANK(DatenKomponenten!B63),\"\",DatenKomponenten!B63)","v":""},{"$f":"IF(ISBLANK(DatenKomponenten!C63),\"\",DatenKomponenten!C63)","v":""},{"$f":"IF(ISBLANK(DatenKomponenten!D63),\"\",DatenKomponenten!D63)","v":""},{"$f":"IF(ISBLANK(DatenKomponenten!E63),\"\",DatenKomponenten!E63)","v":""},{"$f":"IF(ISBLANK(DatenKomponenten!F63),\"\",DatenKomponenten!F63)","v":""},{"$f":"IF(ISBLANK(DatenKomponenten!G63),\"\",DatenKomponenten!G63)","v":""},{"$f":"IF(ISBLANK(DatenKomponenten!H63),\"\",DatenKomponenten!H63)","v":""},{"$f":"IF(ISBLANK(DatenKomponenten!I63),\"\",DatenKomponenten!I63)","v":""},{"$f":"IF(ISBLANK(DatenKomponenten!J63),\"\",DatenKomponenten!J63)","v":""},{"$f":"IF(ISBLANK(DatenKomponenten!K63),\"\",DatenKomponenten!K63)","v":""},{"$f":"IF(ISBLANK(DatenKomponenten!L63),\"\",DatenKomponenten!L63)","v":""},{"$f":"IF(ISBLANK(DatenKomponenten!M63),\"\",DatenKomponenten!M63)","v":""},{"$f":"IF(ISBLANK(DatenKomponenten!N63),\"\",DatenKomponenten!N63)","v":""},{"$f":"IF(ISBLANK(DatenKomponenten!O63),\"\",DatenKomponenten!O63)","v":""},{"$f":"IF(ISBLANK(DatenKomponenten!P63),\"\",DatenKomponenten!P63)","v":""},{"$f":"IF(ISBLANK(DatenKomponenten!Q63),\"\",DatenKomponenten!Q63)","v":""},{"$f":"IF(ISBLANK(DatenKomponenten!R63),\"\",DatenKomponenten!R63)","v":""},{"$f":"IF(ISBLANK(DatenKomponenten!S63),\"\",DatenKomponenten!S63)","v":""},{"$f":"IF(ISBLANK(DatenKomponenten!T63),\"\",DatenKomponenten!T63)","v":""},{"$f":"IF(ISBLANK(DatenKomponenten!U63),\"\",DatenKomponenten!U63)","v":""},{"$f":"IF(ISBLANK(DatenKomponenten!V63),\"\",DatenKomponenten!V63)","v":""},{"$f":"IF(ISBLANK(DatenKomponenten!W63),\"\",DatenKomponenten!W63)","v":""},{"$f":"IF(ISBLANK(DatenKomponenten!X63),\"\",DatenKomponenten!X63)","v":""},{"$f":"IF(ISBLANK(DatenKomponenten!Y63),\"\",DatenKomponenten!Y63)","v":""},{"$f":"IF(ISBLANK(DatenKomponenten!Z63),\"\",DatenKomponenten!Z63)","v":""},{"$f":"IF(ISBLANK(DatenKomponenten!AA63),\"\",DatenKomponenten!AA63)","v":""},{"$f":"IF(ISBLANK(DatenKomponenten!AB63),\"\",DatenKomponenten!AB63)","v":""},{"$f":"IF(ISBLANK(DatenKomponenten!AC63),\"\",DatenKomponenten!AC63)","v":""},{"$f":"IF(ISBLANK(DatenKomponenten!AD63),\"\",DatenKomponenten!AD63)","v":""},{"$f":"IF(ISBLANK(DatenKomponenten!AE63),\"\",DatenKomponenten!AE63)","v":""},{"$f":"IF(ISBLANK(DatenKomponenten!AF63),\"\",DatenKomponenten!AF63)","v":""},{"$f":"IF(ISBLANK(DatenKomponenten!AG63),\"\",DatenKomponenten!AG63)","v":""},{"$f":"IF(ISBLANK(DatenKomponenten!AH63),\"\",DatenKomponenten!AH63)","v":""},{"$f":"IF(ISBLANK(DatenKomponenten!AI63),\"\",DatenKomponenten!AI63)","v":""},{"$f":"IF(ISBLANK(DatenKomponenten!AJ63),\"\",DatenKomponenten!AJ63)","v":""},{"$f":"IF(ISBLANK(DatenKomponenten!AK63),\"\",DatenKomponenten!AK63)","v":""},{"$f":"IF(ISBLANK(DatenKomponenten!AL63),\"\",DatenKomponenten!AL63)","v":""},{"$f":"IF(ISBLANK(DatenKomponenten!AM63),\"\",DatenKomponenten!AM63)","v":""},{"$f":"IF(ISBLANK(DatenKomponenten!AN63),\"\",DatenKomponenten!AN63)","v":""},{"$f":"IF(ISBLANK(DatenKomponenten!AO63),\"\",DatenKomponenten!AO63)","v":""},{"$f":"IF(ISBLANK(DatenKomponenten!AP63),\"\",DatenKomponenten!AP63)","v":""},{"$f":"IF(ISBLANK(DatenKomponenten!AQ63),\"\",DatenKomponenten!AQ63)","v":""},{"$f":"IF(ISBLANK(DatenKomponenten!AR63),\"\",DatenKomponenten!AR63)","v":""},{"$f":"IF(ISBLANK(DatenKomponenten!AS63),\"\",DatenKomponenten!AS63)","v":""},{"$f":"IF(ISBLANK(DatenKomponenten!AT63),\"\",DatenKomponenten!AT63)","v":""},{"$f":"IF(ISBLANK(DatenKomponenten!AU63),\"\",DatenKomponenten!AU63)","v":""},{"$f":"IF(ISBLANK(DatenKomponenten!AV63),\"\",DatenKomponenten!AV63)","v":""},{"$f":"IF(ISBLANK(DatenKomponenten!AW63),\"\",DatenKomponenten!AW63)","v":""},{"$f":"IF(ISBLANK(DatenKomponenten!AX63),\"\",DatenKomponenten!AX63)","v":""},{"$f":"IF(ISBLANK(DatenKomponenten!AY63),\"\",DatenKomponenten!AY63)","v":""},{"$f":"IF(ISBLANK(DatenKomponenten!AZ63),\"\",DatenKomponenten!AZ63)","v":""}]
[{"$f":"IF(ISBLANK(DatenKomponenten!A64),\"\",DatenKomponenten!A64)","v":""},{"$f":"IF(ISBLANK(DatenKomponenten!B64),\"\",DatenKomponenten!B64)","v":""},{"$f":"IF(ISBLANK(DatenKomponenten!C64),\"\",DatenKomponenten!C64)","v":""},{"$f":"IF(ISBLANK(DatenKomponenten!D64),\"\",DatenKomponenten!D64)","v":""},{"$f":"IF(ISBLANK(DatenKomponenten!E64),\"\",DatenKomponenten!E64)","v":""},{"$f":"IF(ISBLANK(DatenKomponenten!F64),\"\",DatenKomponenten!F64)","v":""},{"$f":"IF(ISBLANK(DatenKomponenten!G64),\"\",DatenKomponenten!G64)","v":""},{"$f":"IF(ISBLANK(DatenKomponenten!H64),\"\",DatenKomponenten!H64)","v":""},{"$f":"IF(ISBLANK(DatenKomponenten!I64),\"\",DatenKomponenten!I64)","v":""},{"$f":"IF(ISBLANK(DatenKomponenten!J64),\"\",DatenKomponenten!J64)","v":""},{"$f":"IF(ISBLANK(DatenKomponenten!K64),\"\",DatenKomponenten!K64)","v":""},{"$f":"IF(ISBLANK(DatenKomponenten!L64),\"\",DatenKomponenten!L64)","v":""},{"$f":"IF(ISBLANK(DatenKomponenten!M64),\"\",DatenKomponenten!M64)","v":""},{"$f":"IF(ISBLANK(DatenKomponenten!N64),\"\",DatenKomponenten!N64)","v":""},{"$f":"IF(ISBLANK(DatenKomponenten!O64),\"\",DatenKomponenten!O64)","v":""},{"$f":"IF(ISBLANK(DatenKomponenten!P64),\"\",DatenKomponenten!P64)","v":""},{"$f":"IF(ISBLANK(DatenKomponenten!Q64),\"\",DatenKomponenten!Q64)","v":""},{"$f":"IF(ISBLANK(DatenKomponenten!R64),\"\",DatenKomponenten!R64)","v":""},{"$f":"IF(ISBLANK(DatenKomponenten!S64),\"\",DatenKomponenten!S64)","v":""},{"$f":"IF(ISBLANK(DatenKomponenten!T64),\"\",DatenKomponenten!T64)","v":""},{"$f":"IF(ISBLANK(DatenKomponenten!U64),\"\",DatenKomponenten!U64)","v":""},{"$f":"IF(ISBLANK(DatenKomponenten!V64),\"\",DatenKomponenten!V64)","v":""},{"$f":"IF(ISBLANK(DatenKomponenten!W64),\"\",DatenKomponenten!W64)","v":""},{"$f":"IF(ISBLANK(DatenKomponenten!X64),\"\",DatenKomponenten!X64)","v":""},{"$f":"IF(ISBLANK(DatenKomponenten!Y64),\"\",DatenKomponenten!Y64)","v":""},{"$f":"IF(ISBLANK(DatenKomponenten!Z64),\"\",DatenKomponenten!Z64)","v":""},{"$f":"IF(ISBLANK(DatenKomponenten!AA64),\"\",DatenKomponenten!AA64)","v":""},{"$f":"IF(ISBLANK(DatenKomponenten!AB64),\"\",DatenKomponenten!AB64)","v":""},{"$f":"IF(ISBLANK(DatenKomponenten!AC64),\"\",DatenKomponenten!AC64)","v":""},{"$f":"IF(ISBLANK(DatenKomponenten!AD64),\"\",DatenKomponenten!AD64)","v":""},{"$f":"IF(ISBLANK(DatenKomponenten!AE64),\"\",DatenKomponenten!AE64)","v":""},{"$f":"IF(ISBLANK(DatenKomponenten!AF64),\"\",DatenKomponenten!AF64)","v":""},{"$f":"IF(ISBLANK(DatenKomponenten!AG64),\"\",DatenKomponenten!AG64)","v":""},{"$f":"IF(ISBLANK(DatenKomponenten!AH64),\"\",DatenKomponenten!AH64)","v":""},{"$f":"IF(ISBLANK(DatenKomponenten!AI64),\"\",DatenKomponenten!AI64)","v":""},{"$f":"IF(ISBLANK(DatenKomponenten!AJ64),\"\",DatenKomponenten!AJ64)","v":""},{"$f":"IF(ISBLANK(DatenKomponenten!AK64),\"\",DatenKomponenten!AK64)","v":""},{"$f":"IF(ISBLANK(DatenKomponenten!AL64),\"\",DatenKomponenten!AL64)","v":""},{"$f":"IF(ISBLANK(DatenKomponenten!AM64),\"\",DatenKomponenten!AM64)","v":""},{"$f":"IF(ISBLANK(DatenKomponenten!AN64),\"\",DatenKomponenten!AN64)","v":""},{"$f":"IF(ISBLANK(DatenKomponenten!AO64),\"\",DatenKomponenten!AO64)","v":""},{"$f":"IF(ISBLANK(DatenKomponenten!AP64),\"\",DatenKomponenten!AP64)","v":""},{"$f":"IF(ISBLANK(DatenKomponenten!AQ64),\"\",DatenKomponenten!AQ64)","v":""},{"$f":"IF(ISBLANK(DatenKomponenten!AR64),\"\",DatenKomponenten!AR64)","v":""},{"$f":"IF(ISBLANK(DatenKomponenten!AS64),\"\",DatenKomponenten!AS64)","v":""},{"$f":"IF(ISBLANK(DatenKomponenten!AT64),\"\",DatenKomponenten!AT64)","v":""},{"$f":"IF(ISBLANK(DatenKomponenten!AU64),\"\",DatenKomponenten!AU64)","v":""},{"$f":"IF(ISBLANK(DatenKomponenten!AV64),\"\",DatenKomponenten!AV64)","v":""},{"$f":"IF(ISBLANK(DatenKomponenten!AW64),\"\",DatenKomponenten!AW64)","v":""},{"$f":"IF(ISBLANK(DatenKomponenten!AX64),\"\",DatenKomponenten!AX64)","v":""},{"$f":"IF(ISBLANK(DatenKomponenten!AY64),\"\",DatenKomponenten!AY64)","v":""},{"$f":"IF(ISBLANK(DatenKomponenten!AZ64),\"\",DatenKomponenten!AZ64)","v":""}]
[{"$f":"IF(ISBLANK(DatenKomponenten!A65),\"\",DatenKomponenten!A65)","v":""},{"$f":"IF(ISBLANK(DatenKomponenten!B65),\"\",DatenKomponenten!B65)","v":""},{"$f":"IF(ISBLANK(DatenKomponenten!C65),\"\",DatenKomponenten!C65)","v":""},{"$f":"IF(ISBLANK(DatenKomponenten!D65),\"\",DatenKomponenten!D65)","v":""},{"$f":"IF(ISBLANK(DatenKomponenten!E65),\"\",DatenKomponenten!E65)","v":""},{"$f":"IF(ISBLANK(DatenKomponenten!F65),\"\",DatenKomponenten!F65)","v":""},{"$f":"IF(ISBLANK(DatenKomponenten!G65),\"\",DatenKomponenten!G65)","v":""},{"$f":"IF(ISBLANK(DatenKomponenten!H65),\"\",DatenKomponenten!H65)","v":""},{"$f":"IF(ISBLANK(DatenKomponenten!I65),\"\",DatenKomponenten!I65)","v":""},{"$f":"IF(ISBLANK(DatenKomponenten!J65),\"\",DatenKomponenten!J65)","v":""},{"$f":"IF(ISBLANK(DatenKomponenten!K65),\"\",DatenKomponenten!K65)","v":""},{"$f":"IF(ISBLANK(DatenKomponenten!L65),\"\",DatenKomponenten!L65)","v":""},{"$f":"IF(ISBLANK(DatenKomponenten!M65),\"\",DatenKomponenten!M65)","v":""},{"$f":"IF(ISBLANK(DatenKomponenten!N65),\"\",DatenKomponenten!N65)","v":""},{"$f":"IF(ISBLANK(DatenKomponenten!O65),\"\",DatenKomponenten!O65)","v":""},{"$f":"IF(ISBLANK(DatenKomponenten!P65),\"\",DatenKomponenten!P65)","v":""},{"$f":"IF(ISBLANK(DatenKomponenten!Q65),\"\",DatenKomponenten!Q65)","v":""},{"$f":"IF(ISBLANK(DatenKomponenten!R65),\"\",DatenKomponenten!R65)","v":""},{"$f":"IF(ISBLANK(DatenKomponenten!S65),\"\",DatenKomponenten!S65)","v":""},{"$f":"IF(ISBLANK(DatenKomponenten!T65),\"\",DatenKomponenten!T65)","v":""},{"$f":"IF(ISBLANK(DatenKomponenten!U65),\"\",DatenKomponenten!U65)","v":""},{"$f":"IF(ISBLANK(DatenKomponenten!V65),\"\",DatenKomponenten!V65)","v":""},{"$f":"IF(ISBLANK(DatenKomponenten!W65),\"\",DatenKomponenten!W65)","v":""},{"$f":"IF(ISBLANK(DatenKomponenten!X65),\"\",DatenKomponenten!X65)","v":""},{"$f":"IF(ISBLANK(DatenKomponenten!Y65),\"\",DatenKomponenten!Y65)","v":""},{"$f":"IF(ISBLANK(DatenKomponenten!Z65),\"\",DatenKomponenten!Z65)","v":""},{"$f":"IF(ISBLANK(DatenKomponenten!AA65),\"\",DatenKomponenten!AA65)","v":""},{"$f":"IF(ISBLANK(DatenKomponenten!AB65),\"\",DatenKomponenten!AB65)","v":""},{"$f":"IF(ISBLANK(DatenKomponenten!AC65),\"\",DatenKomponenten!AC65)","v":""},{"$f":"IF(ISBLANK(DatenKomponenten!AD65),\"\",DatenKomponenten!AD65)","v":""},{"$f":"IF(ISBLANK(DatenKomponenten!AE65),\"\",DatenKomponenten!AE65)","v":""},{"$f":"IF(ISBLANK(DatenKomponenten!AF65),\"\",DatenKomponenten!AF65)","v":""},{"$f":"IF(ISBLANK(DatenKomponenten!AG65),\"\",DatenKomponenten!AG65)","v":""},{"$f":"IF(ISBLANK(DatenKomponenten!AH65),\"\",DatenKomponenten!AH65)","v":""},{"$f":"IF(ISBLANK(DatenKomponenten!AI65),\"\",DatenKomponenten!AI65)","v":""},{"$f":"IF(ISBLANK(DatenKomponenten!AJ65),\"\",DatenKomponenten!AJ65)","v":""},{"$f":"IF(ISBLANK(DatenKomponenten!AK65),\"\",DatenKomponenten!AK65)","v":""},{"$f":"IF(ISBLANK(DatenKomponenten!AL65),\"\",DatenKomponenten!AL65)","v":""},{"$f":"IF(ISBLANK(DatenKomponenten!AM65),\"\",DatenKomponenten!AM65)","v":""},{"$f":"IF(ISBLANK(DatenKomponenten!AN65),\"\",DatenKomponenten!AN65)","v":""},{"$f":"IF(ISBLANK(DatenKomponenten!AO65),\"\",DatenKomponenten!AO65)","v":""},{"$f":"IF(ISBLANK(DatenKomponenten!AP65),\"\",DatenKomponenten!AP65)","v":""},{"$f":"IF(ISBLANK(DatenKomponenten!AQ65),\"\",DatenKomponenten!AQ65)","v":""},{"$f":"IF(ISBLANK(DatenKomponenten!AR65),\"\",DatenKomponenten!AR65)","v":""},{"$f":"IF(ISBLANK(DatenKomponenten!AS65),\"\",DatenKomponenten!AS65)","v":""},{"$f":"IF(ISBLANK(DatenKomponenten!AT65),\"\",DatenKomponenten!AT65)","v":""},{"$f":"IF(ISBLANK(DatenKomponenten!AU65),\"\",DatenKomponenten!AU65)","v":""},{"$f":"IF(ISBLANK(DatenKomponenten!AV65),\"\",DatenKomponenten!AV65)","v":""},{"$f":"IF(ISBLANK(DatenKomponenten!AW65),\"\",DatenKomponenten!AW65)","v":""},{"$f":"IF(ISBLANK(DatenKomponenten!AX65),\"\",DatenKomponenten!AX65)","v":""},{"$f":"IF(ISBLANK(DatenKomponenten!AY65),\"\",DatenKomponenten!AY65)","v":""},{"$f":"IF(ISBLANK(DatenKomponenten!AZ65),\"\",DatenKomponenten!AZ65)","v":""}]
[{"$f":"IF(ISBLANK(DatenKomponenten!A66),\"\",DatenKomponenten!A66)","v":""},{"$f":"IF(ISBLANK(DatenKomponenten!B66),\"\",DatenKomponenten!B66)","v":""},{"$f":"IF(ISBLANK(DatenKomponenten!C66),\"\",DatenKomponenten!C66)","v":""},{"$f":"IF(ISBLANK(DatenKomponenten!D66),\"\",DatenKomponenten!D66)","v":""},{"$f":"IF(ISBLANK(DatenKomponenten!E66),\"\",DatenKomponenten!E66)","v":""},{"$f":"IF(ISBLANK(DatenKomponenten!F66),\"\",DatenKomponenten!F66)","v":""},{"$f":"IF(ISBLANK(DatenKomponenten!G66),\"\",DatenKomponenten!G66)","v":""},{"$f":"IF(ISBLANK(DatenKomponenten!H66),\"\",DatenKomponenten!H66)","v":""},{"$f":"IF(ISBLANK(DatenKomponenten!I66),\"\",DatenKomponenten!I66)","v":""},{"$f":"IF(ISBLANK(DatenKomponenten!J66),\"\",DatenKomponenten!J66)","v":""},{"$f":"IF(ISBLANK(DatenKomponenten!K66),\"\",DatenKomponenten!K66)","v":""},{"$f":"IF(ISBLANK(DatenKomponenten!L66),\"\",DatenKomponenten!L66)","v":""},{"$f":"IF(ISBLANK(DatenKomponenten!M66),\"\",DatenKomponenten!M66)","v":""},{"$f":"IF(ISBLANK(DatenKomponenten!N66),\"\",DatenKomponenten!N66)","v":""},{"$f":"IF(ISBLANK(DatenKomponenten!O66),\"\",DatenKomponenten!O66)","v":""},{"$f":"IF(ISBLANK(DatenKomponenten!P66),\"\",DatenKomponenten!P66)","v":""},{"$f":"IF(ISBLANK(DatenKomponenten!Q66),\"\",DatenKomponenten!Q66)","v":""},{"$f":"IF(ISBLANK(DatenKomponenten!R66),\"\",DatenKomponenten!R66)","v":""},{"$f":"IF(ISBLANK(DatenKomponenten!S66),\"\",DatenKomponenten!S66)","v":""},{"$f":"IF(ISBLANK(DatenKomponenten!T66),\"\",DatenKomponenten!T66)","v":""},{"$f":"IF(ISBLANK(DatenKomponenten!U66),\"\",DatenKomponenten!U66)","v":""},{"$f":"IF(ISBLANK(DatenKomponenten!V66),\"\",DatenKomponenten!V66)","v":""},{"$f":"IF(ISBLANK(DatenKomponenten!W66),\"\",DatenKomponenten!W66)","v":""},{"$f":"IF(ISBLANK(DatenKomponenten!X66),\"\",DatenKomponenten!X66)","v":""},{"$f":"IF(ISBLANK(DatenKomponenten!Y66),\"\",DatenKomponenten!Y66)","v":""},{"$f":"IF(ISBLANK(DatenKomponenten!Z66),\"\",DatenKomponenten!Z66)","v":""},{"$f":"IF(ISBLANK(DatenKomponenten!AA66),\"\",DatenKomponenten!AA66)","v":""},{"$f":"IF(ISBLANK(DatenKomponenten!AB66),\"\",DatenKomponenten!AB66)","v":""},{"$f":"IF(ISBLANK(DatenKomponenten!AC66),\"\",DatenKomponenten!AC66)","v":""},{"$f":"IF(ISBLANK(DatenKomponenten!AD66),\"\",DatenKomponenten!AD66)","v":""},{"$f":"IF(ISBLANK(DatenKomponenten!AE66),\"\",DatenKomponenten!AE66)","v":""},{"$f":"IF(ISBLANK(DatenKomponenten!AF66),\"\",DatenKomponenten!AF66)","v":""},{"$f":"IF(ISBLANK(DatenKomponenten!AG66),\"\",DatenKomponenten!AG66)","v":""},{"$f":"IF(ISBLANK(DatenKomponenten!AH66),\"\",DatenKomponenten!AH66)","v":""},{"$f":"IF(ISBLANK(DatenKomponenten!AI66),\"\",DatenKomponenten!AI66)","v":""},{"$f":"IF(ISBLANK(DatenKomponenten!AJ66),\"\",DatenKomponenten!AJ66)","v":""},{"$f":"IF(ISBLANK(DatenKomponenten!AK66),\"\",DatenKomponenten!AK66)","v":""},{"$f":"IF(ISBLANK(DatenKomponenten!AL66),\"\",DatenKomponenten!AL66)","v":""},{"$f":"IF(ISBLANK(DatenKomponenten!AM66),\"\",DatenKomponenten!AM66)","v":""},{"$f":"IF(ISBLANK(DatenKomponenten!AN66),\"\",DatenKomponenten!AN66)","v":""},{"$f":"IF(ISBLANK(DatenKomponenten!AO66),\"\",DatenKomponenten!AO66)","v":""},{"$f":"IF(ISBLANK(DatenKomponenten!AP66),\"\",DatenKomponenten!AP66)","v":""},{"$f":"IF(ISBLANK(DatenKomponenten!AQ66),\"\",DatenKomponenten!AQ66)","v":""},{"$f":"IF(ISBLANK(DatenKomponenten!AR66),\"\",DatenKomponenten!AR66)","v":""},{"$f":"IF(ISBLANK(DatenKomponenten!AS66),\"\",DatenKomponenten!AS66)","v":""},{"$f":"IF(ISBLANK(DatenKomponenten!AT66),\"\",DatenKomponenten!AT66)","v":""},{"$f":"IF(ISBLANK(DatenKomponenten!AU66),\"\",DatenKomponenten!AU66)","v":""},{"$f":"IF(ISBLANK(DatenKomponenten!AV66),\"\",DatenKomponenten!AV66)","v":""},{"$f":"IF(ISBLANK(DatenKomponenten!AW66),\"\",DatenKomponenten!AW66)","v":""},{"$f":"IF(ISBLANK(DatenKomponenten!AX66),\"\",DatenKomponenten!AX66)","v":""},{"$f":"IF(ISBLANK(DatenKomponenten!AY66),\"\",DatenKomponenten!AY66)","v":""},{"$f":"IF(ISBLANK(DatenKomponenten!AZ66),\"\",DatenKomponenten!AZ66)","v":""}]
[{"$f":"IF(ISBLANK(DatenKomponenten!A67),\"\",DatenKomponenten!A67)","v":""},{"$f":"IF(ISBLANK(DatenKomponenten!B67),\"\",DatenKomponenten!B67)","v":""},{"$f":"IF(ISBLANK(DatenKomponenten!C67),\"\",DatenKomponenten!C67)","v":""},{"$f":"IF(ISBLANK(DatenKomponenten!D67),\"\",DatenKomponenten!D67)","v":""},{"$f":"IF(ISBLANK(DatenKomponenten!E67),\"\",DatenKomponenten!E67)","v":""},{"$f":"IF(ISBLANK(DatenKomponenten!F67),\"\",DatenKomponenten!F67)","v":""},{"$f":"IF(ISBLANK(DatenKomponenten!G67),\"\",DatenKomponenten!G67)","v":""},{"$f":"IF(ISBLANK(DatenKomponenten!H67),\"\",DatenKomponenten!H67)","v":""},{"$f":"IF(ISBLANK(DatenKomponenten!I67),\"\",DatenKomponenten!I67)","v":""},{"$f":"IF(ISBLANK(DatenKomponenten!J67),\"\",DatenKomponenten!J67)","v":""},{"$f":"IF(ISBLANK(DatenKomponenten!K67),\"\",DatenKomponenten!K67)","v":""},{"$f":"IF(ISBLANK(DatenKomponenten!L67),\"\",DatenKomponenten!L67)","v":""},{"$f":"IF(ISBLANK(DatenKomponenten!M67),\"\",DatenKomponenten!M67)","v":""},{"$f":"IF(ISBLANK(DatenKomponenten!N67),\"\",DatenKomponenten!N67)","v":""},{"$f":"IF(ISBLANK(DatenKomponenten!O67),\"\",DatenKomponenten!O67)","v":""},{"$f":"IF(ISBLANK(DatenKomponenten!P67),\"\",DatenKomponenten!P67)","v":""},{"$f":"IF(ISBLANK(DatenKomponenten!Q67),\"\",DatenKomponenten!Q67)","v":""},{"$f":"IF(ISBLANK(DatenKomponenten!R67),\"\",DatenKomponenten!R67)","v":""},{"$f":"IF(ISBLANK(DatenKomponenten!S67),\"\",DatenKomponenten!S67)","v":""},{"$f":"IF(ISBLANK(DatenKomponenten!T67),\"\",DatenKomponenten!T67)","v":""},{"$f":"IF(ISBLANK(DatenKomponenten!U67),\"\",DatenKomponenten!U67)","v":""},{"$f":"IF(ISBLANK(DatenKomponenten!V67),\"\",DatenKomponenten!V67)","v":""},{"$f":"IF(ISBLANK(DatenKomponenten!W67),\"\",DatenKomponenten!W67)","v":""},{"$f":"IF(ISBLANK(DatenKomponenten!X67),\"\",DatenKomponenten!X67)","v":""},{"$f":"IF(ISBLANK(DatenKomponenten!Y67),\"\",DatenKomponenten!Y67)","v":""},{"$f":"IF(ISBLANK(DatenKomponenten!Z67),\"\",DatenKomponenten!Z67)","v":""},{"$f":"IF(ISBLANK(DatenKomponenten!AA67),\"\",DatenKomponenten!AA67)","v":""},{"$f":"IF(ISBLANK(DatenKomponenten!AB67),\"\",DatenKomponenten!AB67)","v":""},{"$f":"IF(ISBLANK(DatenKomponenten!AC67),\"\",DatenKomponenten!AC67)","v":""},{"$f":"IF(ISBLANK(DatenKomponenten!AD67),\"\",DatenKomponenten!AD67)","v":""},{"$f":"IF(ISBLANK(DatenKomponenten!AE67),\"\",DatenKomponenten!AE67)","v":""},{"$f":"IF(ISBLANK(DatenKomponenten!AF67),\"\",DatenKomponenten!AF67)","v":""},{"$f":"IF(ISBLANK(DatenKomponenten!AG67),\"\",DatenKomponenten!AG67)","v":""},{"$f":"IF(ISBLANK(DatenKomponenten!AH67),\"\",DatenKomponenten!AH67)","v":""},{"$f":"IF(ISBLANK(DatenKomponenten!AI67),\"\",DatenKomponenten!AI67)","v":""},{"$f":"IF(ISBLANK(DatenKomponenten!AJ67),\"\",DatenKomponenten!AJ67)","v":""},{"$f":"IF(ISBLANK(DatenKomponenten!AK67),\"\",DatenKomponenten!AK67)","v":""},{"$f":"IF(ISBLANK(DatenKomponenten!AL67),\"\",DatenKomponenten!AL67)","v":""},{"$f":"IF(ISBLANK(DatenKomponenten!AM67),\"\",DatenKomponenten!AM67)","v":""},{"$f":"IF(ISBLANK(DatenKomponenten!AN67),\"\",DatenKomponenten!AN67)","v":""},{"$f":"IF(ISBLANK(DatenKomponenten!AO67),\"\",DatenKomponenten!AO67)","v":""},{"$f":"IF(ISBLANK(DatenKomponenten!AP67),\"\",DatenKomponenten!AP67)","v":""},{"$f":"IF(ISBLANK(DatenKomponenten!AQ67),\"\",DatenKomponenten!AQ67)","v":""},{"$f":"IF(ISBLANK(DatenKomponenten!AR67),\"\",DatenKomponenten!AR67)","v":""},{"$f":"IF(ISBLANK(DatenKomponenten!AS67),\"\",DatenKomponenten!AS67)","v":""},{"$f":"IF(ISBLANK(DatenKomponenten!AT67),\"\",DatenKomponenten!AT67)","v":""},{"$f":"IF(ISBLANK(DatenKomponenten!AU67),\"\",DatenKomponenten!AU67)","v":""},{"$f":"IF(ISBLANK(DatenKomponenten!AV67),\"\",DatenKomponenten!AV67)","v":""},{"$f":"IF(ISBLANK(DatenKomponenten!AW67),\"\",DatenKomponenten!AW67)","v":""},{"$f":"IF(ISBLANK(DatenKomponenten!AX67),\"\",DatenKomponenten!AX67)","v":""},{"$f":"IF(ISBLANK(DatenKomponenten!AY67),\"\",DatenKomponenten!AY67)","v":""},{"$f":"IF(ISBLANK(DatenKomponenten!AZ67),\"\",DatenKomponenten!AZ67)","v":""}]
[{"$f":"IF(ISBLANK(DatenKomponenten!A68),\"\",DatenKomponenten!A68)","v":""},{"$f":"IF(ISBLANK(DatenKomponenten!B68),\"\",DatenKomponenten!B68)","v":""},{"$f":"IF(ISBLANK(DatenKomponenten!C68),\"\",DatenKomponenten!C68)","v":""},{"$f":"IF(ISBLANK(DatenKomponenten!D68),\"\",DatenKomponenten!D68)","v":""},{"$f":"IF(ISBLANK(DatenKomponenten!E68),\"\",DatenKomponenten!E68)","v":""},{"$f":"IF(ISBLANK(DatenKomponenten!F68),\"\",DatenKomponenten!F68)","v":""},{"$f":"IF(ISBLANK(DatenKomponenten!G68),\"\",DatenKomponenten!G68)","v":""},{"$f":"IF(ISBLANK(DatenKomponenten!H68),\"\",DatenKomponenten!H68)","v":""},{"$f":"IF(ISBLANK(DatenKomponenten!I68),\"\",DatenKomponenten!I68)","v":""},{"$f":"IF(ISBLANK(DatenKomponenten!J68),\"\",DatenKomponenten!J68)","v":""},{"$f":"IF(ISBLANK(DatenKomponenten!K68),\"\",DatenKomponenten!K68)","v":""},{"$f":"IF(ISBLANK(DatenKomponenten!L68),\"\",DatenKomponenten!L68)","v":""},{"$f":"IF(ISBLANK(DatenKomponenten!M68),\"\",DatenKomponenten!M68)","v":""},{"$f":"IF(ISBLANK(DatenKomponenten!N68),\"\",DatenKomponenten!N68)","v":""},{"$f":"IF(ISBLANK(DatenKomponenten!O68),\"\",DatenKomponenten!O68)","v":""},{"$f":"IF(ISBLANK(DatenKomponenten!P68),\"\",DatenKomponenten!P68)","v":""},{"$f":"IF(ISBLANK(DatenKomponenten!Q68),\"\",DatenKomponenten!Q68)","v":""},{"$f":"IF(ISBLANK(DatenKomponenten!R68),\"\",DatenKomponenten!R68)","v":""},{"$f":"IF(ISBLANK(DatenKomponenten!S68),\"\",DatenKomponenten!S68)","v":""},{"$f":"IF(ISBLANK(DatenKomponenten!T68),\"\",DatenKomponenten!T68)","v":""},{"$f":"IF(ISBLANK(DatenKomponenten!U68),\"\",DatenKomponenten!U68)","v":""},{"$f":"IF(ISBLANK(DatenKomponenten!V68),\"\",DatenKomponenten!V68)","v":""},{"$f":"IF(ISBLANK(DatenKomponenten!W68),\"\",DatenKomponenten!W68)","v":""},{"$f":"IF(ISBLANK(DatenKomponenten!X68),\"\",DatenKomponenten!X68)","v":""},{"$f":"IF(ISBLANK(DatenKomponenten!Y68),\"\",DatenKomponenten!Y68)","v":""},{"$f":"IF(ISBLANK(DatenKomponenten!Z68),\"\",DatenKomponenten!Z68)","v":""},{"$f":"IF(ISBLANK(DatenKomponenten!AA68),\"\",DatenKomponenten!AA68)","v":""},{"$f":"IF(ISBLANK(DatenKomponenten!AB68),\"\",DatenKomponenten!AB68)","v":""},{"$f":"IF(ISBLANK(DatenKomponenten!AC68),\"\",DatenKomponenten!AC68)","v":""},{"$f":"IF(ISBLANK(DatenKomponenten!AD68),\"\",DatenKomponenten!AD68)","v":""},{"$f":"IF(ISBLANK(DatenKomponenten!AE68),\"\",DatenKomponenten!AE68)","v":""},{"$f":"IF(ISBLANK(DatenKomponenten!AF68),\"\",DatenKomponenten!AF68)","v":""},{"$f":"IF(ISBLANK(DatenKomponenten!AG68),\"\",DatenKomponenten!AG68)","v":""},{"$f":"IF(ISBLANK(DatenKomponenten!AH68),\"\",DatenKomponenten!AH68)","v":""},{"$f":"IF(ISBLANK(DatenKomponenten!AI68),\"\",DatenKomponenten!AI68)","v":""},{"$f":"IF(ISBLANK(DatenKomponenten!AJ68),\"\",DatenKomponenten!AJ68)","v":""},{"$f":"IF(ISBLANK(DatenKomponenten!AK68),\"\",DatenKomponenten!AK68)","v":""},{"$f":"IF(ISBLANK(DatenKomponenten!AL68),\"\",DatenKomponenten!AL68)","v":""},{"$f":"IF(ISBLANK(DatenKomponenten!AM68),\"\",DatenKomponenten!AM68)","v":""},{"$f":"IF(ISBLANK(DatenKomponenten!AN68),\"\",DatenKomponenten!AN68)","v":""},{"$f":"IF(ISBLANK(DatenKomponenten!AO68),\"\",DatenKomponenten!AO68)","v":""},{"$f":"IF(ISBLANK(DatenKomponenten!AP68),\"\",DatenKomponenten!AP68)","v":""},{"$f":"IF(ISBLANK(DatenKomponenten!AQ68),\"\",DatenKomponenten!AQ68)","v":""},{"$f":"IF(ISBLANK(DatenKomponenten!AR68),\"\",DatenKomponenten!AR68)","v":""},{"$f":"IF(ISBLANK(DatenKomponenten!AS68),\"\",DatenKomponenten!AS68)","v":""},{"$f":"IF(ISBLANK(DatenKomponenten!AT68),\"\",DatenKomponenten!AT68)","v":""},{"$f":"IF(ISBLANK(DatenKomponenten!AU68),\"\",DatenKomponenten!AU68)","v":""},{"$f":"IF(ISBLANK(DatenKomponenten!AV68),\"\",DatenKomponenten!AV68)","v":""},{"$f":"IF(ISBLANK(DatenKomponenten!AW68),\"\",DatenKomponenten!AW68)","v":""},{"$f":"IF(ISBLANK(DatenKomponenten!AX68),\"\",DatenKomponenten!AX68)","v":""},{"$f":"IF(ISBLANK(DatenKomponenten!AY68),\"\",DatenKomponenten!AY68)","v":""},{"$f":"IF(ISBLANK(DatenKomponenten!AZ68),\"\",DatenKomponenten!AZ68)","v":""}]
[{"$f":"IF(ISBLANK(DatenKomponenten!A69),\"\",DatenKomponenten!A69)","v":""},{"$f":"IF(ISBLANK(DatenKomponenten!B69),\"\",DatenKomponenten!B69)","v":""},{"$f":"IF(ISBLANK(DatenKomponenten!C69),\"\",DatenKomponenten!C69)","v":""},{"$f":"IF(ISBLANK(DatenKomponenten!D69),\"\",DatenKomponenten!D69)","v":""},{"$f":"IF(ISBLANK(DatenKomponenten!E69),\"\",DatenKomponenten!E69)","v":""},{"$f":"IF(ISBLANK(DatenKomponenten!F69),\"\",DatenKomponenten!F69)","v":""},{"$f":"IF(ISBLANK(DatenKomponenten!G69),\"\",DatenKomponenten!G69)","v":""},{"$f":"IF(ISBLANK(DatenKomponenten!H69),\"\",DatenKomponenten!H69)","v":""},{"$f":"IF(ISBLANK(DatenKomponenten!I69),\"\",DatenKomponenten!I69)","v":""},{"$f":"IF(ISBLANK(DatenKomponenten!J69),\"\",DatenKomponenten!J69)","v":""},{"$f":"IF(ISBLANK(DatenKomponenten!K69),\"\",DatenKomponenten!K69)","v":""},{"$f":"IF(ISBLANK(DatenKomponenten!L69),\"\",DatenKomponenten!L69)","v":""},{"$f":"IF(ISBLANK(DatenKomponenten!M69),\"\",DatenKomponenten!M69)","v":""},{"$f":"IF(ISBLANK(DatenKomponenten!N69),\"\",DatenKomponenten!N69)","v":""},{"$f":"IF(ISBLANK(DatenKomponenten!O69),\"\",DatenKomponenten!O69)","v":""},{"$f":"IF(ISBLANK(DatenKomponenten!P69),\"\",DatenKomponenten!P69)","v":""},{"$f":"IF(ISBLANK(DatenKomponenten!Q69),\"\",DatenKomponenten!Q69)","v":""},{"$f":"IF(ISBLANK(DatenKomponenten!R69),\"\",DatenKomponenten!R69)","v":""},{"$f":"IF(ISBLANK(DatenKomponenten!S69),\"\",DatenKomponenten!S69)","v":""},{"$f":"IF(ISBLANK(DatenKomponenten!T69),\"\",DatenKomponenten!T69)","v":""},{"$f":"IF(ISBLANK(DatenKomponenten!U69),\"\",DatenKomponenten!U69)","v":""},{"$f":"IF(ISBLANK(DatenKomponenten!V69),\"\",DatenKomponenten!V69)","v":""},{"$f":"IF(ISBLANK(DatenKomponenten!W69),\"\",DatenKomponenten!W69)","v":""},{"$f":"IF(ISBLANK(DatenKomponenten!X69),\"\",DatenKomponenten!X69)","v":""},{"$f":"IF(ISBLANK(DatenKomponenten!Y69),\"\",DatenKomponenten!Y69)","v":""},{"$f":"IF(ISBLANK(DatenKomponenten!Z69),\"\",DatenKomponenten!Z69)","v":""},{"$f":"IF(ISBLANK(DatenKomponenten!AA69),\"\",DatenKomponenten!AA69)","v":""},{"$f":"IF(ISBLANK(DatenKomponenten!AB69),\"\",DatenKomponenten!AB69)","v":""},{"$f":"IF(ISBLANK(DatenKomponenten!AC69),\"\",DatenKomponenten!AC69)","v":""},{"$f":"IF(ISBLANK(DatenKomponenten!AD69),\"\",DatenKomponenten!AD69)","v":""},{"$f":"IF(ISBLANK(DatenKomponenten!AE69),\"\",DatenKomponenten!AE69)","v":""},{"$f":"IF(ISBLANK(DatenKomponenten!AF69),\"\",DatenKomponenten!AF69)","v":""},{"$f":"IF(ISBLANK(DatenKomponenten!AG69),\"\",DatenKomponenten!AG69)","v":""},{"$f":"IF(ISBLANK(DatenKomponenten!AH69),\"\",DatenKomponenten!AH69)","v":""},{"$f":"IF(ISBLANK(DatenKomponenten!AI69),\"\",DatenKomponenten!AI69)","v":""},{"$f":"IF(ISBLANK(DatenKomponenten!AJ69),\"\",DatenKomponenten!AJ69)","v":""},{"$f":"IF(ISBLANK(DatenKomponenten!AK69),\"\",DatenKomponenten!AK69)","v":""},{"$f":"IF(ISBLANK(DatenKomponenten!AL69),\"\",DatenKomponenten!AL69)","v":""},{"$f":"IF(ISBLANK(DatenKomponenten!AM69),\"\",DatenKomponenten!AM69)","v":""},{"$f":"IF(ISBLANK(DatenKomponenten!AN69),\"\",DatenKomponenten!AN69)","v":""},{"$f":"IF(ISBLANK(DatenKomponenten!AO69),\"\",DatenKomponenten!AO69)","v":""},{"$f":"IF(ISBLANK(DatenKomponenten!AP69),\"\",DatenKomponenten!AP69)","v":""},{"$f":"IF(ISBLANK(DatenKomponenten!AQ69),\"\",DatenKomponenten!AQ69)","v":""},{"$f":"IF(ISBLANK(DatenKomponenten!AR69),\"\",DatenKomponenten!AR69)","v":""},{"$f":"IF(ISBLANK(DatenKomponenten!AS69),\"\",DatenKomponenten!AS69)","v":""},{"$f":"IF(ISBLANK(DatenKomponenten!AT69),\"\",DatenKomponenten!AT69)","v":""},{"$f":"IF(ISBLANK(DatenKomponenten!AU69),\"\",DatenKomponenten!AU69)","v":""},{"$f":"IF(ISBLANK(DatenKomponenten!AV69),\"\",DatenKomponenten!AV69)","v":""},{"$f":"IF(ISBLANK(DatenKomponenten!AW69),\"\",DatenKomponenten!AW69)","v":""},{"$f":"IF(ISBLANK(DatenKomponenten!AX69),\"\",DatenKomponenten!AX69)","v":""},{"$f":"IF(ISBLANK(DatenKomponenten!AY69),\"\",DatenKomponenten!AY69)","v":""},{"$f":"IF(ISBLANK(DatenKomponenten!AZ69),\"\",DatenKomponenten!AZ69)","v":""}]
[{"$f":"IF(ISBLANK(DatenKomponenten!A70),\"\",DatenKomponenten!A70)","v":""},{"$f":"IF(ISBLANK(DatenKomponenten!B70),\"\",DatenKomponenten!B70)","v":""},{"$f":"IF(ISBLANK(DatenKomponenten!C70),\"\",DatenKomponenten!C70)","v":""},{"$f":"IF(ISBLANK(DatenKomponenten!D70),\"\",DatenKomponenten!D70)","v":""},{"$f":"IF(ISBLANK(DatenKomponenten!E70),\"\",DatenKomponenten!E70)","v":""},{"$f":"IF(ISBLANK(DatenKomponenten!F70),\"\",DatenKomponenten!F70)","v":""},{"$f":"IF(ISBLANK(DatenKomponenten!G70),\"\",DatenKomponenten!G70)","v":""},{"$f":"IF(ISBLANK(DatenKomponenten!H70),\"\",DatenKomponenten!H70)","v":""},{"$f":"IF(ISBLANK(DatenKomponenten!I70),\"\",DatenKomponenten!I70)","v":""},{"$f":"IF(ISBLANK(DatenKomponenten!J70),\"\",DatenKomponenten!J70)","v":""},{"$f":"IF(ISBLANK(DatenKomponenten!K70),\"\",DatenKomponenten!K70)","v":""},{"$f":"IF(ISBLANK(DatenKomponenten!L70),\"\",DatenKomponenten!L70)","v":""},{"$f":"IF(ISBLANK(DatenKomponenten!M70),\"\",DatenKomponenten!M70)","v":""},{"$f":"IF(ISBLANK(DatenKomponenten!N70),\"\",DatenKomponenten!N70)","v":""},{"$f":"IF(ISBLANK(DatenKomponenten!O70),\"\",DatenKomponenten!O70)","v":""},{"$f":"IF(ISBLANK(DatenKomponenten!P70),\"\",DatenKomponenten!P70)","v":""},{"$f":"IF(ISBLANK(DatenKomponenten!Q70),\"\",DatenKomponenten!Q70)","v":""},{"$f":"IF(ISBLANK(DatenKomponenten!R70),\"\",DatenKomponenten!R70)","v":""},{"$f":"IF(ISBLANK(DatenKomponenten!S70),\"\",DatenKomponenten!S70)","v":""},{"$f":"IF(ISBLANK(DatenKomponenten!T70),\"\",DatenKomponenten!T70)","v":""},{"$f":"IF(ISBLANK(DatenKomponenten!U70),\"\",DatenKomponenten!U70)","v":""},{"$f":"IF(ISBLANK(DatenKomponenten!V70),\"\",DatenKomponenten!V70)","v":""},{"$f":"IF(ISBLANK(DatenKomponenten!W70),\"\",DatenKomponenten!W70)","v":""},{"$f":"IF(ISBLANK(DatenKomponenten!X70),\"\",DatenKomponenten!X70)","v":""},{"$f":"IF(ISBLANK(DatenKomponenten!Y70),\"\",DatenKomponenten!Y70)","v":""},{"$f":"IF(ISBLANK(DatenKomponenten!Z70),\"\",DatenKomponenten!Z70)","v":""},{"$f":"IF(ISBLANK(DatenKomponenten!AA70),\"\",DatenKomponenten!AA70)","v":""},{"$f":"IF(ISBLANK(DatenKomponenten!AB70),\"\",DatenKomponenten!AB70)","v":""},{"$f":"IF(ISBLANK(DatenKomponenten!AC70),\"\",DatenKomponenten!AC70)","v":""},{"$f":"IF(ISBLANK(DatenKomponenten!AD70),\"\",DatenKomponenten!AD70)","v":""},{"$f":"IF(ISBLANK(DatenKomponenten!AE70),\"\",DatenKomponenten!AE70)","v":""},{"$f":"IF(ISBLANK(DatenKomponenten!AF70),\"\",DatenKomponenten!AF70)","v":""},{"$f":"IF(ISBLANK(DatenKomponenten!AG70),\"\",DatenKomponenten!AG70)","v":""},{"$f":"IF(ISBLANK(DatenKomponenten!AH70),\"\",DatenKomponenten!AH70)","v":""},{"$f":"IF(ISBLANK(DatenKomponenten!AI70),\"\",DatenKomponenten!AI70)","v":""},{"$f":"IF(ISBLANK(DatenKomponenten!AJ70),\"\",DatenKomponenten!AJ70)","v":""},{"$f":"IF(ISBLANK(DatenKomponenten!AK70),\"\",DatenKomponenten!AK70)","v":""},{"$f":"IF(ISBLANK(DatenKomponenten!AL70),\"\",DatenKomponenten!AL70)","v":""},{"$f":"IF(ISBLANK(DatenKomponenten!AM70),\"\",DatenKomponenten!AM70)","v":""},{"$f":"IF(ISBLANK(DatenKomponenten!AN70),\"\",DatenKomponenten!AN70)","v":""},{"$f":"IF(ISBLANK(DatenKomponenten!AO70),\"\",DatenKomponenten!AO70)","v":""},{"$f":"IF(ISBLANK(DatenKomponenten!AP70),\"\",DatenKomponenten!AP70)","v":""},{"$f":"IF(ISBLANK(DatenKomponenten!AQ70),\"\",DatenKomponenten!AQ70)","v":""},{"$f":"IF(ISBLANK(DatenKomponenten!AR70),\"\",DatenKomponenten!AR70)","v":""},{"$f":"IF(ISBLANK(DatenKomponenten!AS70),\"\",DatenKomponenten!AS70)","v":""},{"$f":"IF(ISBLANK(DatenKomponenten!AT70),\"\",DatenKomponenten!AT70)","v":""},{"$f":"IF(ISBLANK(DatenKomponenten!AU70),\"\",DatenKomponenten!AU70)","v":""},{"$f":"IF(ISBLANK(DatenKomponenten!AV70),\"\",DatenKomponenten!AV70)","v":""},{"$f":"IF(ISBLANK(DatenKomponenten!AW70),\"\",DatenKomponenten!AW70)","v":""},{"$f":"IF(ISBLANK(DatenKomponenten!AX70),\"\",DatenKomponenten!AX70)","v":""},{"$f":"IF(ISBLANK(DatenKomponenten!AY70),\"\",DatenKomponenten!AY70)","v":""},{"$f":"IF(ISBLANK(DatenKomponenten!AZ70),\"\",DatenKomponenten!AZ70)","v":""}]
[{"$f":"IF(ISBLANK(DatenKomponenten!A71),\"\",DatenKomponenten!A71)","v":""},{"$f":"IF(ISBLANK(DatenKomponenten!B71),\"\",DatenKomponenten!B71)","v":""},{"$f":"IF(ISBLANK(DatenKomponenten!C71),\"\",DatenKomponenten!C71)","v":""},{"$f":"IF(ISBLANK(DatenKomponenten!D71),\"\",DatenKomponenten!D71)","v":""},{"$f":"IF(ISBLANK(DatenKomponenten!E71),\"\",DatenKomponenten!E71)","v":""},{"$f":"IF(ISBLANK(DatenKomponenten!F71),\"\",DatenKomponenten!F71)","v":""},{"$f":"IF(ISBLANK(DatenKomponenten!G71),\"\",DatenKomponenten!G71)","v":""},{"$f":"IF(ISBLANK(DatenKomponenten!H71),\"\",DatenKomponenten!H71)","v":""},{"$f":"IF(ISBLANK(DatenKomponenten!I71),\"\",DatenKomponenten!I71)","v":""},{"$f":"IF(ISBLANK(DatenKomponenten!J71),\"\",DatenKomponenten!J71)","v":""},{"$f":"IF(ISBLANK(DatenKomponenten!K71),\"\",DatenKomponenten!K71)","v":""},{"$f":"IF(ISBLANK(DatenKomponenten!L71),\"\",DatenKomponenten!L71)","v":""},{"$f":"IF(ISBLANK(DatenKomponenten!M71),\"\",DatenKomponenten!M71)","v":""},{"$f":"IF(ISBLANK(DatenKomponenten!N71),\"\",DatenKomponenten!N71)","v":""},{"$f":"IF(ISBLANK(DatenKomponenten!O71),\"\",DatenKomponenten!O71)","v":""},{"$f":"IF(ISBLANK(DatenKomponenten!P71),\"\",DatenKomponenten!P71)","v":""},{"$f":"IF(ISBLANK(DatenKomponenten!Q71),\"\",DatenKomponenten!Q71)","v":""},{"$f":"IF(ISBLANK(DatenKomponenten!R71),\"\",DatenKomponenten!R71)","v":""},{"$f":"IF(ISBLANK(DatenKomponenten!S71),\"\",DatenKomponenten!S71)","v":""},{"$f":"IF(ISBLANK(DatenKomponenten!T71),\"\",DatenKomponenten!T71)","v":""},{"$f":"IF(ISBLANK(DatenKomponenten!U71),\"\",DatenKomponenten!U71)","v":""},{"$f":"IF(ISBLANK(DatenKomponenten!V71),\"\",DatenKomponenten!V71)","v":""},{"$f":"IF(ISBLANK(DatenKomponenten!W71),\"\",DatenKomponenten!W71)","v":""},{"$f":"IF(ISBLANK(DatenKomponenten!X71),\"\",DatenKomponenten!X71)","v":""},{"$f":"IF(ISBLANK(DatenKomponenten!Y71),\"\",DatenKomponenten!Y71)","v":""},{"$f":"IF(ISBLANK(DatenKomponenten!Z71),\"\",DatenKomponenten!Z71)","v":""},{"$f":"IF(ISBLANK(DatenKomponenten!AA71),\"\",DatenKomponenten!AA71)","v":""},{"$f":"IF(ISBLANK(DatenKomponenten!AB71),\"\",DatenKomponenten!AB71)","v":""},{"$f":"IF(ISBLANK(DatenKomponenten!AC71),\"\",DatenKomponenten!AC71)","v":""},{"$f":"IF(ISBLANK(DatenKomponenten!AD71),\"\",DatenKomponenten!AD71)","v":""},{"$f":"IF(ISBLANK(DatenKomponenten!AE71),\"\",DatenKomponenten!AE71)","v":""},{"$f":"IF(ISBLANK(DatenKomponenten!AF71),\"\",DatenKomponenten!AF71)","v":""},{"$f":"IF(ISBLANK(DatenKomponenten!AG71),\"\",DatenKomponenten!AG71)","v":""},{"$f":"IF(ISBLANK(DatenKomponenten!AH71),\"\",DatenKomponenten!AH71)","v":""},{"$f":"IF(ISBLANK(DatenKomponenten!AI71),\"\",DatenKomponenten!AI71)","v":""},{"$f":"IF(ISBLANK(DatenKomponenten!AJ71),\"\",DatenKomponenten!AJ71)","v":""},{"$f":"IF(ISBLANK(DatenKomponenten!AK71),\"\",DatenKomponenten!AK71)","v":""},{"$f":"IF(ISBLANK(DatenKomponenten!AL71),\"\",DatenKomponenten!AL71)","v":""},{"$f":"IF(ISBLANK(DatenKomponenten!AM71),\"\",DatenKomponenten!AM71)","v":""},{"$f":"IF(ISBLANK(DatenKomponenten!AN71),\"\",DatenKomponenten!AN71)","v":""},{"$f":"IF(ISBLANK(DatenKomponenten!AO71),\"\",DatenKomponenten!AO71)","v":""},{"$f":"IF(ISBLANK(DatenKomponenten!AP71),\"\",DatenKomponenten!AP71)","v":""},{"$f":"IF(ISBLANK(DatenKomponenten!AQ71),\"\",DatenKomponenten!AQ71)","v":""},{"$f":"IF(ISBLANK(DatenKomponenten!AR71),\"\",DatenKomponenten!AR71)","v":""},{"$f":"IF(ISBLANK(DatenKomponenten!AS71),\"\",DatenKomponenten!AS71)","v":""},{"$f":"IF(ISBLANK(DatenKomponenten!AT71),\"\",DatenKomponenten!AT71)","v":""},{"$f":"IF(ISBLANK(DatenKomponenten!AU71),\"\",DatenKomponenten!AU71)","v":""},{"$f":"IF(ISBLANK(DatenKomponenten!AV71),\"\",DatenKomponenten!AV71)","v":""},{"$f":"IF(ISBLANK(DatenKomponenten!AW71),\"\",DatenKomponenten!AW71)","v":""},{"$f":"IF(ISBLANK(DatenKomponenten!AX71),\"\",DatenKomponenten!AX71)","v":""},{"$f":"IF(ISBLANK(DatenKomponenten!AY71),\"\",DatenKomponenten!AY71)","v":""},{"$f":"IF(ISBLANK(DatenKomponenten!AZ71),\"\",DatenKomponenten!AZ71)","v":""}]
[{"$f":"IF(ISBLANK(DatenKomponenten!A72),\"\",DatenKomponenten!A72)","v":""},{"$f":"IF(ISBLANK(DatenKomponenten!B72),\"\",DatenKomponenten!B72)","v":""},{"$f":"IF(ISBLANK(DatenKomponenten!C72),\"\",DatenKomponenten!C72)","v":""},{"$f":"IF(ISBLANK(DatenKomponenten!D72),\"\",DatenKomponenten!D72)","v":""},{"$f":"IF(ISBLANK(DatenKomponenten!E72),\"\",DatenKomponenten!E72)","v":""},{"$f":"IF(ISBLANK(DatenKomponenten!F72),\"\",DatenKomponenten!F72)","v":""},{"$f":"IF(ISBLANK(DatenKomponenten!G72),\"\",DatenKomponenten!G72)","v":""},{"$f":"IF(ISBLANK(DatenKomponenten!H72),\"\",DatenKomponenten!H72)","v":""},{"$f":"IF(ISBLANK(DatenKomponenten!I72),\"\",DatenKomponenten!I72)","v":""},{"$f":"IF(ISBLANK(DatenKomponenten!J72),\"\",DatenKomponenten!J72)","v":""},{"$f":"IF(ISBLANK(DatenKomponenten!K72),\"\",DatenKomponenten!K72)","v":""},{"$f":"IF(ISBLANK(DatenKomponenten!L72),\"\",DatenKomponenten!L72)","v":""},{"$f":"IF(ISBLANK(DatenKomponenten!M72),\"\",DatenKomponenten!M72)","v":""},{"$f":"IF(ISBLANK(DatenKomponenten!N72),\"\",DatenKomponenten!N72)","v":""},{"$f":"IF(ISBLANK(DatenKomponenten!O72),\"\",DatenKomponenten!O72)","v":""},{"$f":"IF(ISBLANK(DatenKomponenten!P72),\"\",DatenKomponenten!P72)","v":""},{"$f":"IF(ISBLANK(DatenKomponenten!Q72),\"\",DatenKomponenten!Q72)","v":""},{"$f":"IF(ISBLANK(DatenKomponenten!R72),\"\",DatenKomponenten!R72)","v":""},{"$f":"IF(ISBLANK(DatenKomponenten!S72),\"\",DatenKomponenten!S72)","v":""},{"$f":"IF(ISBLANK(DatenKomponenten!T72),\"\",DatenKomponenten!T72)","v":""},{"$f":"IF(ISBLANK(DatenKomponenten!U72),\"\",DatenKomponenten!U72)","v":""},{"$f":"IF(ISBLANK(DatenKomponenten!V72),\"\",DatenKomponenten!V72)","v":""},{"$f":"IF(ISBLANK(DatenKomponenten!W72),\"\",DatenKomponenten!W72)","v":""},{"$f":"IF(ISBLANK(DatenKomponenten!X72),\"\",DatenKomponenten!X72)","v":""},{"$f":"IF(ISBLANK(DatenKomponenten!Y72),\"\",DatenKomponenten!Y72)","v":""},{"$f":"IF(ISBLANK(DatenKomponenten!Z72),\"\",DatenKomponenten!Z72)","v":""},{"$f":"IF(ISBLANK(DatenKomponenten!AA72),\"\",DatenKomponenten!AA72)","v":""},{"$f":"IF(ISBLANK(DatenKomponenten!AB72),\"\",DatenKomponenten!AB72)","v":""},{"$f":"IF(ISBLANK(DatenKomponenten!AC72),\"\",DatenKomponenten!AC72)","v":""},{"$f":"IF(ISBLANK(DatenKomponenten!AD72),\"\",DatenKomponenten!AD72)","v":""},{"$f":"IF(ISBLANK(DatenKomponenten!AE72),\"\",DatenKomponenten!AE72)","v":""},{"$f":"IF(ISBLANK(DatenKomponenten!AF72),\"\",DatenKomponenten!AF72)","v":""},{"$f":"IF(ISBLANK(DatenKomponenten!AG72),\"\",DatenKomponenten!AG72)","v":""},{"$f":"IF(ISBLANK(DatenKomponenten!AH72),\"\",DatenKomponenten!AH72)","v":""},{"$f":"IF(ISBLANK(DatenKomponenten!AI72),\"\",DatenKomponenten!AI72)","v":""},{"$f":"IF(ISBLANK(DatenKomponenten!AJ72),\"\",DatenKomponenten!AJ72)","v":""},{"$f":"IF(ISBLANK(DatenKomponenten!AK72),\"\",DatenKomponenten!AK72)","v":""},{"$f":"IF(ISBLANK(DatenKomponenten!AL72),\"\",DatenKomponenten!AL72)","v":""},{"$f":"IF(ISBLANK(DatenKomponenten!AM72),\"\",DatenKomponenten!AM72)","v":""},{"$f":"IF(ISBLANK(DatenKomponenten!AN72),\"\",DatenKomponenten!AN72)","v":""},{"$f":"IF(ISBLANK(DatenKomponenten!AO72),\"\",DatenKomponenten!AO72)","v":""},{"$f":"IF(ISBLANK(DatenKomponenten!AP72),\"\",DatenKomponenten!AP72)","v":""},{"$f":"IF(ISBLANK(DatenKomponenten!AQ72),\"\",DatenKomponenten!AQ72)","v":""},{"$f":"IF(ISBLANK(DatenKomponenten!AR72),\"\",DatenKomponenten!AR72)","v":""},{"$f":"IF(ISBLANK(DatenKomponenten!AS72),\"\",DatenKomponenten!AS72)","v":""},{"$f":"IF(ISBLANK(DatenKomponenten!AT72),\"\",DatenKomponenten!AT72)","v":""},{"$f":"IF(ISBLANK(DatenKomponenten!AU72),\"\",DatenKomponenten!AU72)","v":""},{"$f":"IF(ISBLANK(DatenKomponenten!AV72),\"\",DatenKomponenten!AV72)","v":""},{"$f":"IF(ISBLANK(DatenKomponenten!AW72),\"\",DatenKomponenten!AW72)","v":""},{"$f":"IF(ISBLANK(DatenKomponenten!AX72),\"\",DatenKomponenten!AX72)","v":""},{"$f":"IF(ISBLANK(DatenKomponenten!AY72),\"\",DatenKomponenten!AY72)","v":""},{"$f":"IF(ISBLANK(DatenKomponenten!AZ72),\"\",DatenKomponenten!AZ72)","v":""}]
[{"$f":"IF(ISBLANK(DatenKomponenten!A73),\"\",DatenKomponenten!A73)","v":""},{"$f":"IF(ISBLANK(DatenKomponenten!B73),\"\",DatenKomponenten!B73)","v":""},{"$f":"IF(ISBLANK(DatenKomponenten!C73),\"\",DatenKomponenten!C73)","v":""},{"$f":"IF(ISBLANK(DatenKomponenten!D73),\"\",DatenKomponenten!D73)","v":""},{"$f":"IF(ISBLANK(DatenKomponenten!E73),\"\",DatenKomponenten!E73)","v":""},{"$f":"IF(ISBLANK(DatenKomponenten!F73),\"\",DatenKomponenten!F73)","v":""},{"$f":"IF(ISBLANK(DatenKomponenten!G73),\"\",DatenKomponenten!G73)","v":""},{"$f":"IF(ISBLANK(DatenKomponenten!H73),\"\",DatenKomponenten!H73)","v":""},{"$f":"IF(ISBLANK(DatenKomponenten!I73),\"\",DatenKomponenten!I73)","v":""},{"$f":"IF(ISBLANK(DatenKomponenten!J73),\"\",DatenKomponenten!J73)","v":""},{"$f":"IF(ISBLANK(DatenKomponenten!K73),\"\",DatenKomponenten!K73)","v":""},{"$f":"IF(ISBLANK(DatenKomponenten!L73),\"\",DatenKomponenten!L73)","v":""},{"$f":"IF(ISBLANK(DatenKomponenten!M73),\"\",DatenKomponenten!M73)","v":""},{"$f":"IF(ISBLANK(DatenKomponenten!N73),\"\",DatenKomponenten!N73)","v":""},{"$f":"IF(ISBLANK(DatenKomponenten!O73),\"\",DatenKomponenten!O73)","v":""},{"$f":"IF(ISBLANK(DatenKomponenten!P73),\"\",DatenKomponenten!P73)","v":""},{"$f":"IF(ISBLANK(DatenKomponenten!Q73),\"\",DatenKomponenten!Q73)","v":""},{"$f":"IF(ISBLANK(DatenKomponenten!R73),\"\",DatenKomponenten!R73)","v":""},{"$f":"IF(ISBLANK(DatenKomponenten!S73),\"\",DatenKomponenten!S73)","v":""},{"$f":"IF(ISBLANK(DatenKomponenten!T73),\"\",DatenKomponenten!T73)","v":""},{"$f":"IF(ISBLANK(DatenKomponenten!U73),\"\",DatenKomponenten!U73)","v":""},{"$f":"IF(ISBLANK(DatenKomponenten!V73),\"\",DatenKomponenten!V73)","v":""},{"$f":"IF(ISBLANK(DatenKomponenten!W73),\"\",DatenKomponenten!W73)","v":""},{"$f":"IF(ISBLANK(DatenKomponenten!X73),\"\",DatenKomponenten!X73)","v":""},{"$f":"IF(ISBLANK(DatenKomponenten!Y73),\"\",DatenKomponenten!Y73)","v":""},{"$f":"IF(ISBLANK(DatenKomponenten!Z73),\"\",DatenKomponenten!Z73)","v":""},{"$f":"IF(ISBLANK(DatenKomponenten!AA73),\"\",DatenKomponenten!AA73)","v":""},{"$f":"IF(ISBLANK(DatenKomponenten!AB73),\"\",DatenKomponenten!AB73)","v":""},{"$f":"IF(ISBLANK(DatenKomponenten!AC73),\"\",DatenKomponenten!AC73)","v":""},{"$f":"IF(ISBLANK(DatenKomponenten!AD73),\"\",DatenKomponenten!AD73)","v":""},{"$f":"IF(ISBLANK(DatenKomponenten!AE73),\"\",DatenKomponenten!AE73)","v":""},{"$f":"IF(ISBLANK(DatenKomponenten!AF73),\"\",DatenKomponenten!AF73)","v":""},{"$f":"IF(ISBLANK(DatenKomponenten!AG73),\"\",DatenKomponenten!AG73)","v":""},{"$f":"IF(ISBLANK(DatenKomponenten!AH73),\"\",DatenKomponenten!AH73)","v":""},{"$f":"IF(ISBLANK(DatenKomponenten!AI73),\"\",DatenKomponenten!AI73)","v":""},{"$f":"IF(ISBLANK(DatenKomponenten!AJ73),\"\",DatenKomponenten!AJ73)","v":""},{"$f":"IF(ISBLANK(DatenKomponenten!AK73),\"\",DatenKomponenten!AK73)","v":""},{"$f":"IF(ISBLANK(DatenKomponenten!AL73),\"\",DatenKomponenten!AL73)","v":""},{"$f":"IF(ISBLANK(DatenKomponenten!AM73),\"\",DatenKomponenten!AM73)","v":""},{"$f":"IF(ISBLANK(DatenKomponenten!AN73),\"\",DatenKomponenten!AN73)","v":""},{"$f":"IF(ISBLANK(DatenKomponenten!AO73),\"\",DatenKomponenten!AO73)","v":""},{"$f":"IF(ISBLANK(DatenKomponenten!AP73),\"\",DatenKomponenten!AP73)","v":""},{"$f":"IF(ISBLANK(DatenKomponenten!AQ73),\"\",DatenKomponenten!AQ73)","v":""},{"$f":"IF(ISBLANK(DatenKomponenten!AR73),\"\",DatenKomponenten!AR73)","v":""},{"$f":"IF(ISBLANK(DatenKomponenten!AS73),\"\",DatenKomponenten!AS73)","v":""},{"$f":"IF(ISBLANK(DatenKomponenten!AT73),\"\",DatenKomponenten!AT73)","v":""},{"$f":"IF(ISBLANK(DatenKomponenten!AU73),\"\",DatenKomponenten!AU73)","v":""},{"$f":"IF(ISBLANK(DatenKomponenten!AV73),\"\",DatenKomponenten!AV73)","v":""},{"$f":"IF(ISBLANK(DatenKomponenten!AW73),\"\",DatenKomponenten!AW73)","v":""},{"$f":"IF(ISBLANK(DatenKomponenten!AX73),\"\",DatenKomponenten!AX73)","v":""},{"$f":"IF(ISBLANK(DatenKomponenten!AY73),\"\",DatenKomponenten!AY73)","v":""},{"$f":"IF(ISBLANK(DatenKomponenten!AZ73),\"\",DatenKomponenten!AZ73)","v":""}]
[{"$f":"IF(ISBLANK(DatenKomponenten!A74),\"\",DatenKomponenten!A74)","v":""},{"$f":"IF(ISBLANK(DatenKomponenten!B74),\"\",DatenKomponenten!B74)","v":""},{"$f":"IF(ISBLANK(DatenKomponenten!C74),\"\",DatenKomponenten!C74)","v":""},{"$f":"IF(ISBLANK(DatenKomponenten!D74),\"\",DatenKomponenten!D74)","v":""},{"$f":"IF(ISBLANK(DatenKomponenten!E74),\"\",DatenKomponenten!E74)","v":""},{"$f":"IF(ISBLANK(DatenKomponenten!F74),\"\",DatenKomponenten!F74)","v":""},{"$f":"IF(ISBLANK(DatenKomponenten!G74),\"\",DatenKomponenten!G74)","v":""},{"$f":"IF(ISBLANK(DatenKomponenten!H74),\"\",DatenKomponenten!H74)","v":""},{"$f":"IF(ISBLANK(DatenKomponenten!I74),\"\",DatenKomponenten!I74)","v":""},{"$f":"IF(ISBLANK(DatenKomponenten!J74),\"\",DatenKomponenten!J74)","v":""},{"$f":"IF(ISBLANK(DatenKomponenten!K74),\"\",DatenKomponenten!K74)","v":""},{"$f":"IF(ISBLANK(DatenKomponenten!L74),\"\",DatenKomponenten!L74)","v":""},{"$f":"IF(ISBLANK(DatenKomponenten!M74),\"\",DatenKomponenten!M74)","v":""},{"$f":"IF(ISBLANK(DatenKomponenten!N74),\"\",DatenKomponenten!N74)","v":""},{"$f":"IF(ISBLANK(DatenKomponenten!O74),\"\",DatenKomponenten!O74)","v":""},{"$f":"IF(ISBLANK(DatenKomponenten!P74),\"\",DatenKomponenten!P74)","v":""},{"$f":"IF(ISBLANK(DatenKomponenten!Q74),\"\",DatenKomponenten!Q74)","v":""},{"$f":"IF(ISBLANK(DatenKomponenten!R74),\"\",DatenKomponenten!R74)","v":""},{"$f":"IF(ISBLANK(DatenKomponenten!S74),\"\",DatenKomponenten!S74)","v":""},{"$f":"IF(ISBLANK(DatenKomponenten!T74),\"\",DatenKomponenten!T74)","v":""},{"$f":"IF(ISBLANK(DatenKomponenten!U74),\"\",DatenKomponenten!U74)","v":""},{"$f":"IF(ISBLANK(DatenKomponenten!V74),\"\",DatenKomponenten!V74)","v":""},{"$f":"IF(ISBLANK(DatenKomponenten!W74),\"\",DatenKomponenten!W74)","v":""},{"$f":"IF(ISBLANK(DatenKomponenten!X74),\"\",DatenKomponenten!X74)","v":""},{"$f":"IF(ISBLANK(DatenKomponenten!Y74),\"\",DatenKomponenten!Y74)","v":""},{"$f":"IF(ISBLANK(DatenKomponenten!Z74),\"\",DatenKomponenten!Z74)","v":""},{"$f":"IF(ISBLANK(DatenKomponenten!AA74),\"\",DatenKomponenten!AA74)","v":""},{"$f":"IF(ISBLANK(DatenKomponenten!AB74),\"\",DatenKomponenten!AB74)","v":""},{"$f":"IF(ISBLANK(DatenKomponenten!AC74),\"\",DatenKomponenten!AC74)","v":""},{"$f":"IF(ISBLANK(DatenKomponenten!AD74),\"\",DatenKomponenten!AD74)","v":""},{"$f":"IF(ISBLANK(DatenKomponenten!AE74),\"\",DatenKomponenten!AE74)","v":""},{"$f":"IF(ISBLANK(DatenKomponenten!AF74),\"\",DatenKomponenten!AF74)","v":""},{"$f":"IF(ISBLANK(DatenKomponenten!AG74),\"\",DatenKomponenten!AG74)","v":""},{"$f":"IF(ISBLANK(DatenKomponenten!AH74),\"\",DatenKomponenten!AH74)","v":""},{"$f":"IF(ISBLANK(DatenKomponenten!AI74),\"\",DatenKomponenten!AI74)","v":""},{"$f":"IF(ISBLANK(DatenKomponenten!AJ74),\"\",DatenKomponenten!AJ74)","v":""},{"$f":"IF(ISBLANK(DatenKomponenten!AK74),\"\",DatenKomponenten!AK74)","v":""},{"$f":"IF(ISBLANK(DatenKomponenten!AL74),\"\",DatenKomponenten!AL74)","v":""},{"$f":"IF(ISBLANK(DatenKomponenten!AM74),\"\",DatenKomponenten!AM74)","v":""},{"$f":"IF(ISBLANK(DatenKomponenten!AN74),\"\",DatenKomponenten!AN74)","v":""},{"$f":"IF(ISBLANK(DatenKomponenten!AO74),\"\",DatenKomponenten!AO74)","v":""},{"$f":"IF(ISBLANK(DatenKomponenten!AP74),\"\",DatenKomponenten!AP74)","v":""},{"$f":"IF(ISBLANK(DatenKomponenten!AQ74),\"\",DatenKomponenten!AQ74)","v":""},{"$f":"IF(ISBLANK(DatenKomponenten!AR74),\"\",DatenKomponenten!AR74)","v":""},{"$f":"IF(ISBLANK(DatenKomponenten!AS74),\"\",DatenKomponenten!AS74)","v":""},{"$f":"IF(ISBLANK(DatenKomponenten!AT74),\"\",DatenKomponenten!AT74)","v":""},{"$f":"IF(ISBLANK(DatenKomponenten!AU74),\"\",DatenKomponenten!AU74)","v":""},{"$f":"IF(ISBLANK(DatenKomponenten!AV74),\"\",DatenKomponenten!AV74)","v":""},{"$f":"IF(ISBLANK(DatenKomponenten!AW74),\"\",DatenKomponenten!AW74)","v":""},{"$f":"IF(ISBLANK(DatenKomponenten!AX74),\"\",DatenKomponenten!AX74)","v":""},{"$f":"IF(ISBLANK(DatenKomponenten!AY74),\"\",DatenKomponenten!AY74)","v":""},{"$f":"IF(ISBLANK(DatenKomponenten!AZ74),\"\",DatenKomponenten!AZ74)","v":""}]
[{"$f":"IF(ISBLANK(DatenKomponenten!A75),\"\",DatenKomponenten!A75)","v":""},{"$f":"IF(ISBLANK(DatenKomponenten!B75),\"\",DatenKomponenten!B75)","v":""},{"$f":"IF(ISBLANK(DatenKomponenten!C75),\"\",DatenKomponenten!C75)","v":""},{"$f":"IF(ISBLANK(DatenKomponenten!D75),\"\",DatenKomponenten!D75)","v":""},{"$f":"IF(ISBLANK(DatenKomponenten!E75),\"\",DatenKomponenten!E75)","v":""},{"$f":"IF(ISBLANK(DatenKomponenten!F75),\"\",DatenKomponenten!F75)","v":""},{"$f":"IF(ISBLANK(DatenKomponenten!G75),\"\",DatenKomponenten!G75)","v":""},{"$f":"IF(ISBLANK(DatenKomponenten!H75),\"\",DatenKomponenten!H75)","v":""},{"$f":"IF(ISBLANK(DatenKomponenten!I75),\"\",DatenKomponenten!I75)","v":""},{"$f":"IF(ISBLANK(DatenKomponenten!J75),\"\",DatenKomponenten!J75)","v":""},{"$f":"IF(ISBLANK(DatenKomponenten!K75),\"\",DatenKomponenten!K75)","v":""},{"$f":"IF(ISBLANK(DatenKomponenten!L75),\"\",DatenKomponenten!L75)","v":""},{"$f":"IF(ISBLANK(DatenKomponenten!M75),\"\",DatenKomponenten!M75)","v":""},{"$f":"IF(ISBLANK(DatenKomponenten!N75),\"\",DatenKomponenten!N75)","v":""},{"$f":"IF(ISBLANK(DatenKomponenten!O75),\"\",DatenKomponenten!O75)","v":""},{"$f":"IF(ISBLANK(DatenKomponenten!P75),\"\",DatenKomponenten!P75)","v":""},{"$f":"IF(ISBLANK(DatenKomponenten!Q75),\"\",DatenKomponenten!Q75)","v":""},{"$f":"IF(ISBLANK(DatenKomponenten!R75),\"\",DatenKomponenten!R75)","v":""},{"$f":"IF(ISBLANK(DatenKomponenten!S75),\"\",DatenKomponenten!S75)","v":""},{"$f":"IF(ISBLANK(DatenKomponenten!T75),\"\",DatenKomponenten!T75)","v":""},{"$f":"IF(ISBLANK(DatenKomponenten!U75),\"\",DatenKomponenten!U75)","v":""},{"$f":"IF(ISBLANK(DatenKomponenten!V75),\"\",DatenKomponenten!V75)","v":""},{"$f":"IF(ISBLANK(DatenKomponenten!W75),\"\",DatenKomponenten!W75)","v":""},{"$f":"IF(ISBLANK(DatenKomponenten!X75),\"\",DatenKomponenten!X75)","v":""},{"$f":"IF(ISBLANK(DatenKomponenten!Y75),\"\",DatenKomponenten!Y75)","v":""},{"$f":"IF(ISBLANK(DatenKomponenten!Z75),\"\",DatenKomponenten!Z75)","v":""},{"$f":"IF(ISBLANK(DatenKomponenten!AA75),\"\",DatenKomponenten!AA75)","v":""},{"$f":"IF(ISBLANK(DatenKomponenten!AB75),\"\",DatenKomponenten!AB75)","v":""},{"$f":"IF(ISBLANK(DatenKomponenten!AC75),\"\",DatenKomponenten!AC75)","v":""},{"$f":"IF(ISBLANK(DatenKomponenten!AD75),\"\",DatenKomponenten!AD75)","v":""},{"$f":"IF(ISBLANK(DatenKomponenten!AE75),\"\",DatenKomponenten!AE75)","v":""},{"$f":"IF(ISBLANK(DatenKomponenten!AF75),\"\",DatenKomponenten!AF75)","v":""},{"$f":"IF(ISBLANK(DatenKomponenten!AG75),\"\",DatenKomponenten!AG75)","v":""},{"$f":"IF(ISBLANK(DatenKomponenten!AH75),\"\",DatenKomponenten!AH75)","v":""},{"$f":"IF(ISBLANK(DatenKomponenten!AI75),\"\",DatenKomponenten!AI75)","v":""},{"$f":"IF(ISBLANK(DatenKomponenten!AJ75),\"\",DatenKomponenten!AJ75)","v":""},{"$f":"IF(ISBLANK(DatenKomponenten!AK75),\"\",DatenKomponenten!AK75)","v":""},{"$f":"IF(ISBLANK(DatenKomponenten!AL75),\"\",DatenKomponenten!AL75)","v":""},{"$f":"IF(ISBLANK(DatenKomponenten!AM75),\"\",DatenKomponenten!AM75)","v":""},{"$f":"IF(ISBLANK(DatenKomponenten!AN75),\"\",DatenKomponenten!AN75)","v":""},{"$f":"IF(ISBLANK(DatenKomponenten!AO75),\"\",DatenKomponenten!AO75)","v":""},{"$f":"IF(ISBLANK(DatenKomponenten!AP75),\"\",DatenKomponenten!AP75)","v":""},{"$f":"IF(ISBLANK(DatenKomponenten!AQ75),\"\",DatenKomponenten!AQ75)","v":""},{"$f":"IF(ISBLANK(DatenKomponenten!AR75),\"\",DatenKomponenten!AR75)","v":""},{"$f":"IF(ISBLANK(DatenKomponenten!AS75),\"\",DatenKomponenten!AS75)","v":""},{"$f":"IF(ISBLANK(DatenKomponenten!AT75),\"\",DatenKomponenten!AT75)","v":""},{"$f":"IF(ISBLANK(DatenKomponenten!AU75),\"\",DatenKomponenten!AU75)","v":""},{"$f":"IF(ISBLANK(DatenKomponenten!AV75),\"\",DatenKomponenten!AV75)","v":""},{"$f":"IF(ISBLANK(DatenKomponenten!AW75),\"\",DatenKomponenten!AW75)","v":""},{"$f":"IF(ISBLANK(DatenKomponenten!AX75),\"\",DatenKomponenten!AX75)","v":""},{"$f":"IF(ISBLANK(DatenKomponenten!AY75),\"\",DatenKomponenten!AY75)","v":""},{"$f":"IF(ISBLANK(DatenKomponenten!AZ75),\"\",DatenKomponenten!AZ75)","v":""}]
[{"$f":"IF(ISBLANK(DatenKomponenten!A76),\"\",DatenKomponenten!A76)","v":""},{"$f":"IF(ISBLANK(DatenKomponenten!B76),\"\",DatenKomponenten!B76)","v":""},{"$f":"IF(ISBLANK(DatenKomponenten!C76),\"\",DatenKomponenten!C76)","v":""},{"$f":"IF(ISBLANK(DatenKomponenten!D76),\"\",DatenKomponenten!D76)","v":""},{"$f":"IF(ISBLANK(DatenKomponenten!E76),\"\",DatenKomponenten!E76)","v":""},{"$f":"IF(ISBLANK(DatenKomponenten!F76),\"\",DatenKomponenten!F76)","v":""},{"$f":"IF(ISBLANK(DatenKomponenten!G76),\"\",DatenKomponenten!G76)","v":""},{"$f":"IF(ISBLANK(DatenKomponenten!H76),\"\",DatenKomponenten!H76)","v":""},{"$f":"IF(ISBLANK(DatenKomponenten!I76),\"\",DatenKomponenten!I76)","v":""},{"$f":"IF(ISBLANK(DatenKomponenten!J76),\"\",DatenKomponenten!J76)","v":""},{"$f":"IF(ISBLANK(DatenKomponenten!K76),\"\",DatenKomponenten!K76)","v":""},{"$f":"IF(ISBLANK(DatenKomponenten!L76),\"\",DatenKomponenten!L76)","v":""},{"$f":"IF(ISBLANK(DatenKomponenten!M76),\"\",DatenKomponenten!M76)","v":""},{"$f":"IF(ISBLANK(DatenKomponenten!N76),\"\",DatenKomponenten!N76)","v":""},{"$f":"IF(ISBLANK(DatenKomponenten!O76),\"\",DatenKomponenten!O76)","v":""},{"$f":"IF(ISBLANK(DatenKomponenten!P76),\"\",DatenKomponenten!P76)","v":""},{"$f":"IF(ISBLANK(DatenKomponenten!Q76),\"\",DatenKomponenten!Q76)","v":""},{"$f":"IF(ISBLANK(DatenKomponenten!R76),\"\",DatenKomponenten!R76)","v":""},{"$f":"IF(ISBLANK(DatenKomponenten!S76),\"\",DatenKomponenten!S76)","v":""},{"$f":"IF(ISBLANK(DatenKomponenten!T76),\"\",DatenKomponenten!T76)","v":""},{"$f":"IF(ISBLANK(DatenKomponenten!U76),\"\",DatenKomponenten!U76)","v":""},{"$f":"IF(ISBLANK(DatenKomponenten!V76),\"\",DatenKomponenten!V76)","v":""},{"$f":"IF(ISBLANK(DatenKomponenten!W76),\"\",DatenKomponenten!W76)","v":""},{"$f":"IF(ISBLANK(DatenKomponenten!X76),\"\",DatenKomponenten!X76)","v":""},{"$f":"IF(ISBLANK(DatenKomponenten!Y76),\"\",DatenKomponenten!Y76)","v":""},{"$f":"IF(ISBLANK(DatenKomponenten!Z76),\"\",DatenKomponenten!Z76)","v":""},{"$f":"IF(ISBLANK(DatenKomponenten!AA76),\"\",DatenKomponenten!AA76)","v":""},{"$f":"IF(ISBLANK(DatenKomponenten!AB76),\"\",DatenKomponenten!AB76)","v":""},{"$f":"IF(ISBLANK(DatenKomponenten!AC76),\"\",DatenKomponenten!AC76)","v":""},{"$f":"IF(ISBLANK(DatenKomponenten!AD76),\"\",DatenKomponenten!AD76)","v":""},{"$f":"IF(ISBLANK(DatenKomponenten!AE76),\"\",DatenKomponenten!AE76)","v":""},{"$f":"IF(ISBLANK(DatenKomponenten!AF76),\"\",DatenKomponenten!AF76)","v":""},{"$f":"IF(ISBLANK(DatenKomponenten!AG76),\"\",DatenKomponenten!AG76)","v":""},{"$f":"IF(ISBLANK(DatenKomponenten!AH76),\"\",DatenKomponenten!AH76)","v":""},{"$f":"IF(ISBLANK(DatenKomponenten!AI76),\"\",DatenKomponenten!AI76)","v":""},{"$f":"IF(ISBLANK(DatenKomponenten!AJ76),\"\",DatenKomponenten!AJ76)","v":""},{"$f":"IF(ISBLANK(DatenKomponenten!AK76),\"\",DatenKomponenten!AK76)","v":""},{"$f":"IF(ISBLANK(DatenKomponenten!AL76),\"\",DatenKomponenten!AL76)","v":""},{"$f":"IF(ISBLANK(DatenKomponenten!AM76),\"\",DatenKomponenten!AM76)","v":""},{"$f":"IF(ISBLANK(DatenKomponenten!AN76),\"\",DatenKomponenten!AN76)","v":""},{"$f":"IF(ISBLANK(DatenKomponenten!AO76),\"\",DatenKomponenten!AO76)","v":""},{"$f":"IF(ISBLANK(DatenKomponenten!AP76),\"\",DatenKomponenten!AP76)","v":""},{"$f":"IF(ISBLANK(DatenKomponenten!AQ76),\"\",DatenKomponenten!AQ76)","v":""},{"$f":"IF(ISBLANK(DatenKomponenten!AR76),\"\",DatenKomponenten!AR76)","v":""},{"$f":"IF(ISBLANK(DatenKomponenten!AS76),\"\",DatenKomponenten!AS76)","v":""},{"$f":"IF(ISBLANK(DatenKomponenten!AT76),\"\",DatenKomponenten!AT76)","v":""},{"$f":"IF(ISBLANK(DatenKomponenten!AU76),\"\",DatenKomponenten!AU76)","v":""},{"$f":"IF(ISBLANK(DatenKomponenten!AV76),\"\",DatenKomponenten!AV76)","v":""},{"$f":"IF(ISBLANK(DatenKomponenten!AW76),\"\",DatenKomponenten!AW76)","v":""},{"$f":"IF(ISBLANK(DatenKomponenten!AX76),\"\",DatenKomponenten!AX76)","v":""},{"$f":"IF(ISBLANK(DatenKomponenten!AY76),\"\",DatenKomponenten!AY76)","v":""},{"$f":"IF(ISBLANK(DatenKomponenten!AZ76),\"\",DatenKomponenten!AZ76)","v":""}]
[{"$f":"IF(ISBLANK(DatenKomponenten!A77),\"\",DatenKomponenten!A77)","v":""},{"$f":"IF(ISBLANK(DatenKomponenten!B77),\"\",DatenKomponenten!B77)","v":""},{"$f":"IF(ISBLANK(DatenKomponenten!C77),\"\",DatenKomponenten!C77)","v":""},{"$f":"IF(ISBLANK(DatenKomponenten!D77),\"\",DatenKomponenten!D77)","v":""},{"$f":"IF(ISBLANK(DatenKomponenten!E77),\"\",DatenKomponenten!E77)","v":""},{"$f":"IF(ISBLANK(DatenKomponenten!F77),\"\",DatenKomponenten!F77)","v":""},{"$f":"IF(ISBLANK(DatenKomponenten!G77),\"\",DatenKomponenten!G77)","v":""},{"$f":"IF(ISBLANK(DatenKomponenten!H77),\"\",DatenKomponenten!H77)","v":""},{"$f":"IF(ISBLANK(DatenKomponenten!I77),\"\",DatenKomponenten!I77)","v":""},{"$f":"IF(ISBLANK(DatenKomponenten!J77),\"\",DatenKomponenten!J77)","v":""},{"$f":"IF(ISBLANK(DatenKomponenten!K77),\"\",DatenKomponenten!K77)","v":""},{"$f":"IF(ISBLANK(DatenKomponenten!L77),\"\",DatenKomponenten!L77)","v":""},{"$f":"IF(ISBLANK(DatenKomponenten!M77),\"\",DatenKomponenten!M77)","v":""},{"$f":"IF(ISBLANK(DatenKomponenten!N77),\"\",DatenKomponenten!N77)","v":""},{"$f":"IF(ISBLANK(DatenKomponenten!O77),\"\",DatenKomponenten!O77)","v":""},{"$f":"IF(ISBLANK(DatenKomponenten!P77),\"\",DatenKomponenten!P77)","v":""},{"$f":"IF(ISBLANK(DatenKomponenten!Q77),\"\",DatenKomponenten!Q77)","v":""},{"$f":"IF(ISBLANK(DatenKomponenten!R77),\"\",DatenKomponenten!R77)","v":""},{"$f":"IF(ISBLANK(DatenKomponenten!S77),\"\",DatenKomponenten!S77)","v":""},{"$f":"IF(ISBLANK(DatenKomponenten!T77),\"\",DatenKomponenten!T77)","v":""},{"$f":"IF(ISBLANK(DatenKomponenten!U77),\"\",DatenKomponenten!U77)","v":""},{"$f":"IF(ISBLANK(DatenKomponenten!V77),\"\",DatenKomponenten!V77)","v":""},{"$f":"IF(ISBLANK(DatenKomponenten!W77),\"\",DatenKomponenten!W77)","v":""},{"$f":"IF(ISBLANK(DatenKomponenten!X77),\"\",DatenKomponenten!X77)","v":""},{"$f":"IF(ISBLANK(DatenKomponenten!Y77),\"\",DatenKomponenten!Y77)","v":""},{"$f":"IF(ISBLANK(DatenKomponenten!Z77),\"\",DatenKomponenten!Z77)","v":""},{"$f":"IF(ISBLANK(DatenKomponenten!AA77),\"\",DatenKomponenten!AA77)","v":""},{"$f":"IF(ISBLANK(DatenKomponenten!AB77),\"\",DatenKomponenten!AB77)","v":""},{"$f":"IF(ISBLANK(DatenKomponenten!AC77),\"\",DatenKomponenten!AC77)","v":""},{"$f":"IF(ISBLANK(DatenKomponenten!AD77),\"\",DatenKomponenten!AD77)","v":""},{"$f":"IF(ISBLANK(DatenKomponenten!AE77),\"\",DatenKomponenten!AE77)","v":""},{"$f":"IF(ISBLANK(DatenKomponenten!AF77),\"\",DatenKomponenten!AF77)","v":""},{"$f":"IF(ISBLANK(DatenKomponenten!AG77),\"\",DatenKomponenten!AG77)","v":""},{"$f":"IF(ISBLANK(DatenKomponenten!AH77),\"\",DatenKomponenten!AH77)","v":""},{"$f":"IF(ISBLANK(DatenKomponenten!AI77),\"\",DatenKomponenten!AI77)","v":""},{"$f":"IF(ISBLANK(DatenKomponenten!AJ77),\"\",DatenKomponenten!AJ77)","v":""},{"$f":"IF(ISBLANK(DatenKomponenten!AK77),\"\",DatenKomponenten!AK77)","v":""},{"$f":"IF(ISBLANK(DatenKomponenten!AL77),\"\",DatenKomponenten!AL77)","v":""},{"$f":"IF(ISBLANK(DatenKomponenten!AM77),\"\",DatenKomponenten!AM77)","v":""},{"$f":"IF(ISBLANK(DatenKomponenten!AN77),\"\",DatenKomponenten!AN77)","v":""},{"$f":"IF(ISBLANK(DatenKomponenten!AO77),\"\",DatenKomponenten!AO77)","v":""},{"$f":"IF(ISBLANK(DatenKomponenten!AP77),\"\",DatenKomponenten!AP77)","v":""},{"$f":"IF(ISBLANK(DatenKomponenten!AQ77),\"\",DatenKomponenten!AQ77)","v":""},{"$f":"IF(ISBLANK(DatenKomponenten!AR77),\"\",DatenKomponenten!AR77)","v":""},{"$f":"IF(ISBLANK(DatenKomponenten!AS77),\"\",DatenKomponenten!AS77)","v":""},{"$f":"IF(ISBLANK(DatenKomponenten!AT77),\"\",DatenKomponenten!AT77)","v":""},{"$f":"IF(ISBLANK(DatenKomponenten!AU77),\"\",DatenKomponenten!AU77)","v":""},{"$f":"IF(ISBLANK(DatenKomponenten!AV77),\"\",DatenKomponenten!AV77)","v":""},{"$f":"IF(ISBLANK(DatenKomponenten!AW77),\"\",DatenKomponenten!AW77)","v":""},{"$f":"IF(ISBLANK(DatenKomponenten!AX77),\"\",DatenKomponenten!AX77)","v":""},{"$f":"IF(ISBLANK(DatenKomponenten!AY77),\"\",DatenKomponenten!AY77)","v":""},{"$f":"IF(ISBLANK(DatenKomponenten!AZ77),\"\",DatenKomponenten!AZ77)","v":""}]
[{"$f":"IF(ISBLANK(DatenKomponenten!A78),\"\",DatenKomponenten!A78)","v":""},{"$f":"IF(ISBLANK(DatenKomponenten!B78),\"\",DatenKomponenten!B78)","v":""},{"$f":"IF(ISBLANK(DatenKomponenten!C78),\"\",DatenKomponenten!C78)","v":""},{"$f":"IF(ISBLANK(DatenKomponenten!D78),\"\",DatenKomponenten!D78)","v":""},{"$f":"IF(ISBLANK(DatenKomponenten!E78),\"\",DatenKomponenten!E78)","v":""},{"$f":"IF(ISBLANK(DatenKomponenten!F78),\"\",DatenKomponenten!F78)","v":""},{"$f":"IF(ISBLANK(DatenKomponenten!G78),\"\",DatenKomponenten!G78)","v":""},{"$f":"IF(ISBLANK(DatenKomponenten!H78),\"\",DatenKomponenten!H78)","v":""},{"$f":"IF(ISBLANK(DatenKomponenten!I78),\"\",DatenKomponenten!I78)","v":""},{"$f":"IF(ISBLANK(DatenKomponenten!J78),\"\",DatenKomponenten!J78)","v":""},{"$f":"IF(ISBLANK(DatenKomponenten!K78),\"\",DatenKomponenten!K78)","v":""},{"$f":"IF(ISBLANK(DatenKomponenten!L78),\"\",DatenKomponenten!L78)","v":""},{"$f":"IF(ISBLANK(DatenKomponenten!M78),\"\",DatenKomponenten!M78)","v":""},{"$f":"IF(ISBLANK(DatenKomponenten!N78),\"\",DatenKomponenten!N78)","v":""},{"$f":"IF(ISBLANK(DatenKomponenten!O78),\"\",DatenKomponenten!O78)","v":""},{"$f":"IF(ISBLANK(DatenKomponenten!P78),\"\",DatenKomponenten!P78)","v":""},{"$f":"IF(ISBLANK(DatenKomponenten!Q78),\"\",DatenKomponenten!Q78)","v":""},{"$f":"IF(ISBLANK(DatenKomponenten!R78),\"\",DatenKomponenten!R78)","v":""},{"$f":"IF(ISBLANK(DatenKomponenten!S78),\"\",DatenKomponenten!S78)","v":""},{"$f":"IF(ISBLANK(DatenKomponenten!T78),\"\",DatenKomponenten!T78)","v":""},{"$f":"IF(ISBLANK(DatenKomponenten!U78),\"\",DatenKomponenten!U78)","v":""},{"$f":"IF(ISBLANK(DatenKomponenten!V78),\"\",DatenKomponenten!V78)","v":""},{"$f":"IF(ISBLANK(DatenKomponenten!W78),\"\",DatenKomponenten!W78)","v":""},{"$f":"IF(ISBLANK(DatenKomponenten!X78),\"\",DatenKomponenten!X78)","v":""},{"$f":"IF(ISBLANK(DatenKomponenten!Y78),\"\",DatenKomponenten!Y78)","v":""},{"$f":"IF(ISBLANK(DatenKomponenten!Z78),\"\",DatenKomponenten!Z78)","v":""},{"$f":"IF(ISBLANK(DatenKomponenten!AA78),\"\",DatenKomponenten!AA78)","v":""},{"$f":"IF(ISBLANK(DatenKomponenten!AB78),\"\",DatenKomponenten!AB78)","v":""},{"$f":"IF(ISBLANK(DatenKomponenten!AC78),\"\",DatenKomponenten!AC78)","v":""},{"$f":"IF(ISBLANK(DatenKomponenten!AD78),\"\",DatenKomponenten!AD78)","v":""},{"$f":"IF(ISBLANK(DatenKomponenten!AE78),\"\",DatenKomponenten!AE78)","v":""},{"$f":"IF(ISBLANK(DatenKomponenten!AF78),\"\",DatenKomponenten!AF78)","v":""},{"$f":"IF(ISBLANK(DatenKomponenten!AG78),\"\",DatenKomponenten!AG78)","v":""},{"$f":"IF(ISBLANK(DatenKomponenten!AH78),\"\",DatenKomponenten!AH78)","v":""},{"$f":"IF(ISBLANK(DatenKomponenten!AI78),\"\",DatenKomponenten!AI78)","v":""},{"$f":"IF(ISBLANK(DatenKomponenten!AJ78),\"\",DatenKomponenten!AJ78)","v":""},{"$f":"IF(ISBLANK(DatenKomponenten!AK78),\"\",DatenKomponenten!AK78)","v":""},{"$f":"IF(ISBLANK(DatenKomponenten!AL78),\"\",DatenKomponenten!AL78)","v":""},{"$f":"IF(ISBLANK(DatenKomponenten!AM78),\"\",DatenKomponenten!AM78)","v":""},{"$f":"IF(ISBLANK(DatenKomponenten!AN78),\"\",DatenKomponenten!AN78)","v":""},{"$f":"IF(ISBLANK(DatenKomponenten!AO78),\"\",DatenKomponenten!AO78)","v":""},{"$f":"IF(ISBLANK(DatenKomponenten!AP78),\"\",DatenKomponenten!AP78)","v":""},{"$f":"IF(ISBLANK(DatenKomponenten!AQ78),\"\",DatenKomponenten!AQ78)","v":""},{"$f":"IF(ISBLANK(DatenKomponenten!AR78),\"\",DatenKomponenten!AR78)","v":""},{"$f":"IF(ISBLANK(DatenKomponenten!AS78),\"\",DatenKomponenten!AS78)","v":""},{"$f":"IF(ISBLANK(DatenKomponenten!AT78),\"\",DatenKomponenten!AT78)","v":""},{"$f":"IF(ISBLANK(DatenKomponenten!AU78),\"\",DatenKomponenten!AU78)","v":""},{"$f":"IF(ISBLANK(DatenKomponenten!AV78),\"\",DatenKomponenten!AV78)","v":""},{"$f":"IF(ISBLANK(DatenKomponenten!AW78),\"\",DatenKomponenten!AW78)","v":""},{"$f":"IF(ISBLANK(DatenKomponenten!AX78),\"\",DatenKomponenten!AX78)","v":""},{"$f":"IF(ISBLANK(DatenKomponenten!AY78),\"\",DatenKomponenten!AY78)","v":""},{"$f":"IF(ISBLANK(DatenKomponenten!AZ78),\"\",DatenKomponenten!AZ78)","v":""}]
[{"$f":"IF(ISBLANK(DatenKomponenten!A79),\"\",DatenKomponenten!A79)","v":""},{"$f":"IF(ISBLANK(DatenKomponenten!B79),\"\",DatenKomponenten!B79)","v":""},{"$f":"IF(ISBLANK(DatenKomponenten!C79),\"\",DatenKomponenten!C79)","v":""},{"$f":"IF(ISBLANK(DatenKomponenten!D79),\"\",DatenKomponenten!D79)","v":""},{"$f":"IF(ISBLANK(DatenKomponenten!E79),\"\",DatenKomponenten!E79)","v":""},{"$f":"IF(ISBLANK(DatenKomponenten!F79),\"\",DatenKomponenten!F79)","v":""},{"$f":"IF(ISBLANK(DatenKomponenten!G79),\"\",DatenKomponenten!G79)","v":""},{"$f":"IF(ISBLANK(DatenKomponenten!H79),\"\",DatenKomponenten!H79)","v":""},{"$f":"IF(ISBLANK(DatenKomponenten!I79),\"\",DatenKomponenten!I79)","v":""},{"$f":"IF(ISBLANK(DatenKomponenten!J79),\"\",DatenKomponenten!J79)","v":""},{"$f":"IF(ISBLANK(DatenKomponenten!K79),\"\",DatenKomponenten!K79)","v":""},{"$f":"IF(ISBLANK(DatenKomponenten!L79),\"\",DatenKomponenten!L79)","v":""},{"$f":"IF(ISBLANK(DatenKomponenten!M79),\"\",DatenKomponenten!M79)","v":""},{"$f":"IF(ISBLANK(DatenKomponenten!N79),\"\",DatenKomponenten!N79)","v":""},{"$f":"IF(ISBLANK(DatenKomponenten!O79),\"\",DatenKomponenten!O79)","v":""},{"$f":"IF(ISBLANK(DatenKomponenten!P79),\"\",DatenKomponenten!P79)","v":""},{"$f":"IF(ISBLANK(DatenKomponenten!Q79),\"\",DatenKomponenten!Q79)","v":""},{"$f":"IF(ISBLANK(DatenKomponenten!R79),\"\",DatenKomponenten!R79)","v":""},{"$f":"IF(ISBLANK(DatenKomponenten!S79),\"\",DatenKomponenten!S79)","v":""},{"$f":"IF(ISBLANK(DatenKomponenten!T79),\"\",DatenKomponenten!T79)","v":""},{"$f":"IF(ISBLANK(DatenKomponenten!U79),\"\",DatenKomponenten!U79)","v":""},{"$f":"IF(ISBLANK(DatenKomponenten!V79),\"\",DatenKomponenten!V79)","v":""},{"$f":"IF(ISBLANK(DatenKomponenten!W79),\"\",DatenKomponenten!W79)","v":""},{"$f":"IF(ISBLANK(DatenKomponenten!X79),\"\",DatenKomponenten!X79)","v":""},{"$f":"IF(ISBLANK(DatenKomponenten!Y79),\"\",DatenKomponenten!Y79)","v":""},{"$f":"IF(ISBLANK(DatenKomponenten!Z79),\"\",DatenKomponenten!Z79)","v":""},{"$f":"IF(ISBLANK(DatenKomponenten!AA79),\"\",DatenKomponenten!AA79)","v":""},{"$f":"IF(ISBLANK(DatenKomponenten!AB79),\"\",DatenKomponenten!AB79)","v":""},{"$f":"IF(ISBLANK(DatenKomponenten!AC79),\"\",DatenKomponenten!AC79)","v":""},{"$f":"IF(ISBLANK(DatenKomponenten!AD79),\"\",DatenKomponenten!AD79)","v":""},{"$f":"IF(ISBLANK(DatenKomponenten!AE79),\"\",DatenKomponenten!AE79)","v":""},{"$f":"IF(ISBLANK(DatenKomponenten!AF79),\"\",DatenKomponenten!AF79)","v":""},{"$f":"IF(ISBLANK(DatenKomponenten!AG79),\"\",DatenKomponenten!AG79)","v":""},{"$f":"IF(ISBLANK(DatenKomponenten!AH79),\"\",DatenKomponenten!AH79)","v":""},{"$f":"IF(ISBLANK(DatenKomponenten!AI79),\"\",DatenKomponenten!AI79)","v":""},{"$f":"IF(ISBLANK(DatenKomponenten!AJ79),\"\",DatenKomponenten!AJ79)","v":""},{"$f":"IF(ISBLANK(DatenKomponenten!AK79),\"\",DatenKomponenten!AK79)","v":""},{"$f":"IF(ISBLANK(DatenKomponenten!AL79),\"\",DatenKomponenten!AL79)","v":""},{"$f":"IF(ISBLANK(DatenKomponenten!AM79),\"\",DatenKomponenten!AM79)","v":""},{"$f":"IF(ISBLANK(DatenKomponenten!AN79),\"\",DatenKomponenten!AN79)","v":""},{"$f":"IF(ISBLANK(DatenKomponenten!AO79),\"\",DatenKomponenten!AO79)","v":""},{"$f":"IF(ISBLANK(DatenKomponenten!AP79),\"\",DatenKomponenten!AP79)","v":""},{"$f":"IF(ISBLANK(DatenKomponenten!AQ79),\"\",DatenKomponenten!AQ79)","v":""},{"$f":"IF(ISBLANK(DatenKomponenten!AR79),\"\",DatenKomponenten!AR79)","v":""},{"$f":"IF(ISBLANK(DatenKomponenten!AS79),\"\",DatenKomponenten!AS79)","v":""},{"$f":"IF(ISBLANK(DatenKomponenten!AT79),\"\",DatenKomponenten!AT79)","v":""},{"$f":"IF(ISBLANK(DatenKomponenten!AU79),\"\",DatenKomponenten!AU79)","v":""},{"$f":"IF(ISBLANK(DatenKomponenten!AV79),\"\",DatenKomponenten!AV79)","v":""},{"$f":"IF(ISBLANK(DatenKomponenten!AW79),\"\",DatenKomponenten!AW79)","v":""},{"$f":"IF(ISBLANK(DatenKomponenten!AX79),\"\",DatenKomponenten!AX79)","v":""},{"$f":"IF(ISBLANK(DatenKomponenten!AY79),\"\",DatenKomponenten!AY79)","v":""},{"$f":"IF(ISBLANK(DatenKomponenten!AZ79),\"\",DatenKomponenten!AZ79)","v":""}]
[{"$f":"IF(ISBLANK(DatenKomponenten!A80),\"\",DatenKomponenten!A80)","v":""},{"$f":"IF(ISBLANK(DatenKomponenten!B80),\"\",DatenKomponenten!B80)","v":""},{"$f":"IF(ISBLANK(DatenKomponenten!C80),\"\",DatenKomponenten!C80)","v":""},{"$f":"IF(ISBLANK(DatenKomponenten!D80),\"\",DatenKomponenten!D80)","v":""},{"$f":"IF(ISBLANK(DatenKomponenten!E80),\"\",DatenKomponenten!E80)","v":""},{"$f":"IF(ISBLANK(DatenKomponenten!F80),\"\",DatenKomponenten!F80)","v":""},{"$f":"IF(ISBLANK(DatenKomponenten!G80),\"\",DatenKomponenten!G80)","v":""},{"$f":"IF(ISBLANK(DatenKomponenten!H80),\"\",DatenKomponenten!H80)","v":""},{"$f":"IF(ISBLANK(DatenKomponenten!I80),\"\",DatenKomponenten!I80)","v":""},{"$f":"IF(ISBLANK(DatenKomponenten!J80),\"\",DatenKomponenten!J80)","v":""},{"$f":"IF(ISBLANK(DatenKomponenten!K80),\"\",DatenKomponenten!K80)","v":""},{"$f":"IF(ISBLANK(DatenKomponenten!L80),\"\",DatenKomponenten!L80)","v":""},{"$f":"IF(ISBLANK(DatenKomponenten!M80),\"\",DatenKomponenten!M80)","v":""},{"$f":"IF(ISBLANK(DatenKomponenten!N80),\"\",DatenKomponenten!N80)","v":""},{"$f":"IF(ISBLANK(DatenKomponenten!O80),\"\",DatenKomponenten!O80)","v":""},{"$f":"IF(ISBLANK(DatenKomponenten!P80),\"\",DatenKomponenten!P80)","v":""},{"$f":"IF(ISBLANK(DatenKomponenten!Q80),\"\",DatenKomponenten!Q80)","v":""},{"$f":"IF(ISBLANK(DatenKomponenten!R80),\"\",DatenKomponenten!R80)","v":""},{"$f":"IF(ISBLANK(DatenKomponenten!S80),\"\",DatenKomponenten!S80)","v":""},{"$f":"IF(ISBLANK(DatenKomponenten!T80),\"\",DatenKomponenten!T80)","v":""},{"$f":"IF(ISBLANK(DatenKomponenten!U80),\"\",DatenKomponenten!U80)","v":""},{"$f":"IF(ISBLANK(DatenKomponenten!V80),\"\",DatenKomponenten!V80)","v":""},{"$f":"IF(ISBLANK(DatenKomponenten!W80),\"\",DatenKomponenten!W80)","v":""},{"$f":"IF(ISBLANK(DatenKomponenten!X80),\"\",DatenKomponenten!X80)","v":""},{"$f":"IF(ISBLANK(DatenKomponenten!Y80),\"\",DatenKomponenten!Y80)","v":""},{"$f":"IF(ISBLANK(DatenKomponenten!Z80),\"\",DatenKomponenten!Z80)","v":""},{"$f":"IF(ISBLANK(DatenKomponenten!AA80),\"\",DatenKomponenten!AA80)","v":""},{"$f":"IF(ISBLANK(DatenKomponenten!AB80),\"\",DatenKomponenten!AB80)","v":""},{"$f":"IF(ISBLANK(DatenKomponenten!AC80),\"\",DatenKomponenten!AC80)","v":""},{"$f":"IF(ISBLANK(DatenKomponenten!AD80),\"\",DatenKomponenten!AD80)","v":""},{"$f":"IF(ISBLANK(DatenKomponenten!AE80),\"\",DatenKomponenten!AE80)","v":""},{"$f":"IF(ISBLANK(DatenKomponenten!AF80),\"\",DatenKomponenten!AF80)","v":""},{"$f":"IF(ISBLANK(DatenKomponenten!AG80),\"\",DatenKomponenten!AG80)","v":""},{"$f":"IF(ISBLANK(DatenKomponenten!AH80),\"\",DatenKomponenten!AH80)","v":""},{"$f":"IF(ISBLANK(DatenKomponenten!AI80),\"\",DatenKomponenten!AI80)","v":""},{"$f":"IF(ISBLANK(DatenKomponenten!AJ80),\"\",DatenKomponenten!AJ80)","v":""},{"$f":"IF(ISBLANK(DatenKomponenten!AK80),\"\",DatenKomponenten!AK80)","v":""},{"$f":"IF(ISBLANK(DatenKomponenten!AL80),\"\",DatenKomponenten!AL80)","v":""},{"$f":"IF(ISBLANK(DatenKomponenten!AM80),\"\",DatenKomponenten!AM80)","v":""},{"$f":"IF(ISBLANK(DatenKomponenten!AN80),\"\",DatenKomponenten!AN80)","v":""},{"$f":"IF(ISBLANK(DatenKomponenten!AO80),\"\",DatenKomponenten!AO80)","v":""},{"$f":"IF(ISBLANK(DatenKomponenten!AP80),\"\",DatenKomponenten!AP80)","v":""},{"$f":"IF(ISBLANK(DatenKomponenten!AQ80),\"\",DatenKomponenten!AQ80)","v":""},{"$f":"IF(ISBLANK(DatenKomponenten!AR80),\"\",DatenKomponenten!AR80)","v":""},{"$f":"IF(ISBLANK(DatenKomponenten!AS80),\"\",DatenKomponenten!AS80)","v":""},{"$f":"IF(ISBLANK(DatenKomponenten!AT80),\"\",DatenKomponenten!AT80)","v":""},{"$f":"IF(ISBLANK(DatenKomponenten!AU80),\"\",DatenKomponenten!AU80)","v":""},{"$f":"IF(ISBLANK(DatenKomponenten!AV80),\"\",DatenKomponenten!AV80)","v":""},{"$f":"IF(ISBLANK(DatenKomponenten!AW80),\"\",DatenKomponenten!AW80)","v":""},{"$f":"IF(ISBLANK(DatenKomponenten!AX80),\"\",DatenKomponenten!AX80)","v":""},{"$f":"IF(ISBLANK(DatenKomponenten!AY80),\"\",DatenKomponenten!AY80)","v":""},{"$f":"IF(ISBLANK(DatenKomponenten!AZ80),\"\",DatenKomponenten!AZ80)","v":""}]
[{"$f":"IF(ISBLANK(DatenKomponenten!A81),\"\",DatenKomponenten!A81)","v":""},{"$f":"IF(ISBLANK(DatenKomponenten!B81),\"\",DatenKomponenten!B81)","v":""},{"$f":"IF(ISBLANK(DatenKomponenten!C81),\"\",DatenKomponenten!C81)","v":""},{"$f":"IF(ISBLANK(DatenKomponenten!D81),\"\",DatenKomponenten!D81)","v":""},{"$f":"IF(ISBLANK(DatenKomponenten!E81),\"\",DatenKomponenten!E81)","v":""},{"$f":"IF(ISBLANK(DatenKomponenten!F81),\"\",DatenKomponenten!F81)","v":""},{"$f":"IF(ISBLANK(DatenKomponenten!G81),\"\",DatenKomponenten!G81)","v":""},{"$f":"IF(ISBLANK(DatenKomponenten!H81),\"\",DatenKomponenten!H81)","v":""},{"$f":"IF(ISBLANK(DatenKomponenten!I81),\"\",DatenKomponenten!I81)","v":""},{"$f":"IF(ISBLANK(DatenKomponenten!J81),\"\",DatenKomponenten!J81)","v":""},{"$f":"IF(ISBLANK(DatenKomponenten!K81),\"\",DatenKomponenten!K81)","v":""},{"$f":"IF(ISBLANK(DatenKomponenten!L81),\"\",DatenKomponenten!L81)","v":""},{"$f":"IF(ISBLANK(DatenKomponenten!M81),\"\",DatenKomponenten!M81)","v":""},{"$f":"IF(ISBLANK(DatenKomponenten!N81),\"\",DatenKomponenten!N81)","v":""},{"$f":"IF(ISBLANK(DatenKomponenten!O81),\"\",DatenKomponenten!O81)","v":""},{"$f":"IF(ISBLANK(DatenKomponenten!P81),\"\",DatenKomponenten!P81)","v":""},{"$f":"IF(ISBLANK(DatenKomponenten!Q81),\"\",DatenKomponenten!Q81)","v":""},{"$f":"IF(ISBLANK(DatenKomponenten!R81),\"\",DatenKomponenten!R81)","v":""},{"$f":"IF(ISBLANK(DatenKomponenten!S81),\"\",DatenKomponenten!S81)","v":""},{"$f":"IF(ISBLANK(DatenKomponenten!T81),\"\",DatenKomponenten!T81)","v":""},{"$f":"IF(ISBLANK(DatenKomponenten!U81),\"\",DatenKomponenten!U81)","v":""},{"$f":"IF(ISBLANK(DatenKomponenten!V81),\"\",DatenKomponenten!V81)","v":""},{"$f":"IF(ISBLANK(DatenKomponenten!W81),\"\",DatenKomponenten!W81)","v":""},{"$f":"IF(ISBLANK(DatenKomponenten!X81),\"\",DatenKomponenten!X81)","v":""},{"$f":"IF(ISBLANK(DatenKomponenten!Y81),\"\",DatenKomponenten!Y81)","v":""},{"$f":"IF(ISBLANK(DatenKomponenten!Z81),\"\",DatenKomponenten!Z81)","v":""},{"$f":"IF(ISBLANK(DatenKomponenten!AA81),\"\",DatenKomponenten!AA81)","v":""},{"$f":"IF(ISBLANK(DatenKomponenten!AB81),\"\",DatenKomponenten!AB81)","v":""},{"$f":"IF(ISBLANK(DatenKomponenten!AC81),\"\",DatenKomponenten!AC81)","v":""},{"$f":"IF(ISBLANK(DatenKomponenten!AD81),\"\",DatenKomponenten!AD81)","v":""},{"$f":"IF(ISBLANK(DatenKomponenten!AE81),\"\",DatenKomponenten!AE81)","v":""},{"$f":"IF(ISBLANK(DatenKomponenten!AF81),\"\",DatenKomponenten!AF81)","v":""},{"$f":"IF(ISBLANK(DatenKomponenten!AG81),\"\",DatenKomponenten!AG81)","v":""},{"$f":"IF(ISBLANK(DatenKomponenten!AH81),\"\",DatenKomponenten!AH81)","v":""},{"$f":"IF(ISBLANK(DatenKomponenten!AI81),\"\",DatenKomponenten!AI81)","v":""},{"$f":"IF(ISBLANK(DatenKomponenten!AJ81),\"\",DatenKomponenten!AJ81)","v":""},{"$f":"IF(ISBLANK(DatenKomponenten!AK81),\"\",DatenKomponenten!AK81)","v":""},{"$f":"IF(ISBLANK(DatenKomponenten!AL81),\"\",DatenKomponenten!AL81)","v":""},{"$f":"IF(ISBLANK(DatenKomponenten!AM81),\"\",DatenKomponenten!AM81)","v":""},{"$f":"IF(ISBLANK(DatenKomponenten!AN81),\"\",DatenKomponenten!AN81)","v":""},{"$f":"IF(ISBLANK(DatenKomponenten!AO81),\"\",DatenKomponenten!AO81)","v":""},{"$f":"IF(ISBLANK(DatenKomponenten!AP81),\"\",DatenKomponenten!AP81)","v":""},{"$f":"IF(ISBLANK(DatenKomponenten!AQ81),\"\",DatenKomponenten!AQ81)","v":""},{"$f":"IF(ISBLANK(DatenKomponenten!AR81),\"\",DatenKomponenten!AR81)","v":""},{"$f":"IF(ISBLANK(DatenKomponenten!AS81),\"\",DatenKomponenten!AS81)","v":""},{"$f":"IF(ISBLANK(DatenKomponenten!AT81),\"\",DatenKomponenten!AT81)","v":""},{"$f":"IF(ISBLANK(DatenKomponenten!AU81),\"\",DatenKomponenten!AU81)","v":""},{"$f":"IF(ISBLANK(DatenKomponenten!AV81),\"\",DatenKomponenten!AV81)","v":""},{"$f":"IF(ISBLANK(DatenKomponenten!AW81),\"\",DatenKomponenten!AW81)","v":""},{"$f":"IF(ISBLANK(DatenKomponenten!AX81),\"\",DatenKomponenten!AX81)","v":""},{"$f":"IF(ISBLANK(DatenKomponenten!AY81),\"\",DatenKomponenten!AY81)","v":""},{"$f":"IF(ISBLANK(DatenKomponenten!AZ81),\"\",DatenKomponenten!AZ81)","v":""}]
[{"$f":"IF(ISBLANK(DatenKomponenten!A82),\"\",DatenKomponenten!A82)","v":""},{"$f":"IF(ISBLANK(DatenKomponenten!B82),\"\",DatenKomponenten!B82)","v":""},{"$f":"IF(ISBLANK(DatenKomponenten!C82),\"\",DatenKomponenten!C82)","v":""},{"$f":"IF(ISBLANK(DatenKomponenten!D82),\"\",DatenKomponenten!D82)","v":""},{"$f":"IF(ISBLANK(DatenKomponenten!E82),\"\",DatenKomponenten!E82)","v":""},{"$f":"IF(ISBLANK(DatenKomponenten!F82),\"\",DatenKomponenten!F82)","v":""},{"$f":"IF(ISBLANK(DatenKomponenten!G82),\"\",DatenKomponenten!G82)","v":""},{"$f":"IF(ISBLANK(DatenKomponenten!H82),\"\",DatenKomponenten!H82)","v":""},{"$f":"IF(ISBLANK(DatenKomponenten!I82),\"\",DatenKomponenten!I82)","v":""},{"$f":"IF(ISBLANK(DatenKomponenten!J82),\"\",DatenKomponenten!J82)","v":""},{"$f":"IF(ISBLANK(DatenKomponenten!K82),\"\",DatenKomponenten!K82)","v":""},{"$f":"IF(ISBLANK(DatenKomponenten!L82),\"\",DatenKomponenten!L82)","v":""},{"$f":"IF(ISBLANK(DatenKomponenten!M82),\"\",DatenKomponenten!M82)","v":""},{"$f":"IF(ISBLANK(DatenKomponenten!N82),\"\",DatenKomponenten!N82)","v":""},{"$f":"IF(ISBLANK(DatenKomponenten!O82),\"\",DatenKomponenten!O82)","v":""},{"$f":"IF(ISBLANK(DatenKomponenten!P82),\"\",DatenKomponenten!P82)","v":""},{"$f":"IF(ISBLANK(DatenKomponenten!Q82),\"\",DatenKomponenten!Q82)","v":""},{"$f":"IF(ISBLANK(DatenKomponenten!R82),\"\",DatenKomponenten!R82)","v":""},{"$f":"IF(ISBLANK(DatenKomponenten!S82),\"\",DatenKomponenten!S82)","v":""},{"$f":"IF(ISBLANK(DatenKomponenten!T82),\"\",DatenKomponenten!T82)","v":""},{"$f":"IF(ISBLANK(DatenKomponenten!U82),\"\",DatenKomponenten!U82)","v":""},{"$f":"IF(ISBLANK(DatenKomponenten!V82),\"\",DatenKomponenten!V82)","v":""},{"$f":"IF(ISBLANK(DatenKomponenten!W82),\"\",DatenKomponenten!W82)","v":""},{"$f":"IF(ISBLANK(DatenKomponenten!X82),\"\",DatenKomponenten!X82)","v":""},{"$f":"IF(ISBLANK(DatenKomponenten!Y82),\"\",DatenKomponenten!Y82)","v":""},{"$f":"IF(ISBLANK(DatenKomponenten!Z82),\"\",DatenKomponenten!Z82)","v":""},{"$f":"IF(ISBLANK(DatenKomponenten!AA82),\"\",DatenKomponenten!AA82)","v":""},{"$f":"IF(ISBLANK(DatenKomponenten!AB82),\"\",DatenKomponenten!AB82)","v":""},{"$f":"IF(ISBLANK(DatenKomponenten!AC82),\"\",DatenKomponenten!AC82)","v":""},{"$f":"IF(ISBLANK(DatenKomponenten!AD82),\"\",DatenKomponenten!AD82)","v":""},{"$f":"IF(ISBLANK(DatenKomponenten!AE82),\"\",DatenKomponenten!AE82)","v":""},{"$f":"IF(ISBLANK(DatenKomponenten!AF82),\"\",DatenKomponenten!AF82)","v":""},{"$f":"IF(ISBLANK(DatenKomponenten!AG82),\"\",DatenKomponenten!AG82)","v":""},{"$f":"IF(ISBLANK(DatenKomponenten!AH82),\"\",DatenKomponenten!AH82)","v":""},{"$f":"IF(ISBLANK(DatenKomponenten!AI82),\"\",DatenKomponenten!AI82)","v":""},{"$f":"IF(ISBLANK(DatenKomponenten!AJ82),\"\",DatenKomponenten!AJ82)","v":""},{"$f":"IF(ISBLANK(DatenKomponenten!AK82),\"\",DatenKomponenten!AK82)","v":""},{"$f":"IF(ISBLANK(DatenKomponenten!AL82),\"\",DatenKomponenten!AL82)","v":""},{"$f":"IF(ISBLANK(DatenKomponenten!AM82),\"\",DatenKomponenten!AM82)","v":""},{"$f":"IF(ISBLANK(DatenKomponenten!AN82),\"\",DatenKomponenten!AN82)","v":""},{"$f":"IF(ISBLANK(DatenKomponenten!AO82),\"\",DatenKomponenten!AO82)","v":""},{"$f":"IF(ISBLANK(DatenKomponenten!AP82),\"\",DatenKomponenten!AP82)","v":""},{"$f":"IF(ISBLANK(DatenKomponenten!AQ82),\"\",DatenKomponenten!AQ82)","v":""},{"$f":"IF(ISBLANK(DatenKomponenten!AR82),\"\",DatenKomponenten!AR82)","v":""},{"$f":"IF(ISBLANK(DatenKomponenten!AS82),\"\",DatenKomponenten!AS82)","v":""},{"$f":"IF(ISBLANK(DatenKomponenten!AT82),\"\",DatenKomponenten!AT82)","v":""},{"$f":"IF(ISBLANK(DatenKomponenten!AU82),\"\",DatenKomponenten!AU82)","v":""},{"$f":"IF(ISBLANK(DatenKomponenten!AV82),\"\",DatenKomponenten!AV82)","v":""},{"$f":"IF(ISBLANK(DatenKomponenten!AW82),\"\",DatenKomponenten!AW82)","v":""},{"$f":"IF(ISBLANK(DatenKomponenten!AX82),\"\",DatenKomponenten!AX82)","v":""},{"$f":"IF(ISBLANK(DatenKomponenten!AY82),\"\",DatenKomponenten!AY82)","v":""},{"$f":"IF(ISBLANK(DatenKomponenten!AZ82),\"\",DatenKomponenten!AZ82)","v":""}]
[{"$f":"IF(ISBLANK(DatenKomponenten!A83),\"\",DatenKomponenten!A83)","v":""},{"$f":"IF(ISBLANK(DatenKomponenten!B83),\"\",DatenKomponenten!B83)","v":""},{"$f":"IF(ISBLANK(DatenKomponenten!C83),\"\",DatenKomponenten!C83)","v":""},{"$f":"IF(ISBLANK(DatenKomponenten!D83),\"\",DatenKomponenten!D83)","v":""},{"$f":"IF(ISBLANK(DatenKomponenten!E83),\"\",DatenKomponenten!E83)","v":""},{"$f":"IF(ISBLANK(DatenKomponenten!F83),\"\",DatenKomponenten!F83)","v":""},{"$f":"IF(ISBLANK(DatenKomponenten!G83),\"\",DatenKomponenten!G83)","v":""},{"$f":"IF(ISBLANK(DatenKomponenten!H83),\"\",DatenKomponenten!H83)","v":""},{"$f":"IF(ISBLANK(DatenKomponenten!I83),\"\",DatenKomponenten!I83)","v":""},{"$f":"IF(ISBLANK(DatenKomponenten!J83),\"\",DatenKomponenten!J83)","v":""},{"$f":"IF(ISBLANK(DatenKomponenten!K83),\"\",DatenKomponenten!K83)","v":""},{"$f":"IF(ISBLANK(DatenKomponenten!L83),\"\",DatenKomponenten!L83)","v":""},{"$f":"IF(ISBLANK(DatenKomponenten!M83),\"\",DatenKomponenten!M83)","v":""},{"$f":"IF(ISBLANK(DatenKomponenten!N83),\"\",DatenKomponenten!N83)","v":""},{"$f":"IF(ISBLANK(DatenKomponenten!O83),\"\",DatenKomponenten!O83)","v":""},{"$f":"IF(ISBLANK(DatenKomponenten!P83),\"\",DatenKomponenten!P83)","v":""},{"$f":"IF(ISBLANK(DatenKomponenten!Q83),\"\",DatenKomponenten!Q83)","v":""},{"$f":"IF(ISBLANK(DatenKomponenten!R83),\"\",DatenKomponenten!R83)","v":""},{"$f":"IF(ISBLANK(DatenKomponenten!S83),\"\",DatenKomponenten!S83)","v":""},{"$f":"IF(ISBLANK(DatenKomponenten!T83),\"\",DatenKomponenten!T83)","v":""},{"$f":"IF(ISBLANK(DatenKomponenten!U83),\"\",DatenKomponenten!U83)","v":""},{"$f":"IF(ISBLANK(DatenKomponenten!V83),\"\",DatenKomponenten!V83)","v":""},{"$f":"IF(ISBLANK(DatenKomponenten!W83),\"\",DatenKomponenten!W83)","v":""},{"$f":"IF(ISBLANK(DatenKomponenten!X83),\"\",DatenKomponenten!X83)","v":""},{"$f":"IF(ISBLANK(DatenKomponenten!Y83),\"\",DatenKomponenten!Y83)","v":""},{"$f":"IF(ISBLANK(DatenKomponenten!Z83),\"\",DatenKomponenten!Z83)","v":""},{"$f":"IF(ISBLANK(DatenKomponenten!AA83),\"\",DatenKomponenten!AA83)","v":""},{"$f":"IF(ISBLANK(DatenKomponenten!AB83),\"\",DatenKomponenten!AB83)","v":""},{"$f":"IF(ISBLANK(DatenKomponenten!AC83),\"\",DatenKomponenten!AC83)","v":""},{"$f":"IF(ISBLANK(DatenKomponenten!AD83),\"\",DatenKomponenten!AD83)","v":""},{"$f":"IF(ISBLANK(DatenKomponenten!AE83),\"\",DatenKomponenten!AE83)","v":""},{"$f":"IF(ISBLANK(DatenKomponenten!AF83),\"\",DatenKomponenten!AF83)","v":""},{"$f":"IF(ISBLANK(DatenKomponenten!AG83),\"\",DatenKomponenten!AG83)","v":""},{"$f":"IF(ISBLANK(DatenKomponenten!AH83),\"\",DatenKomponenten!AH83)","v":""},{"$f":"IF(ISBLANK(DatenKomponenten!AI83),\"\",DatenKomponenten!AI83)","v":""},{"$f":"IF(ISBLANK(DatenKomponenten!AJ83),\"\",DatenKomponenten!AJ83)","v":""},{"$f":"IF(ISBLANK(DatenKomponenten!AK83),\"\",DatenKomponenten!AK83)","v":""},{"$f":"IF(ISBLANK(DatenKomponenten!AL83),\"\",DatenKomponenten!AL83)","v":""},{"$f":"IF(ISBLANK(DatenKomponenten!AM83),\"\",DatenKomponenten!AM83)","v":""},{"$f":"IF(ISBLANK(DatenKomponenten!AN83),\"\",DatenKomponenten!AN83)","v":""},{"$f":"IF(ISBLANK(DatenKomponenten!AO83),\"\",DatenKomponenten!AO83)","v":""},{"$f":"IF(ISBLANK(DatenKomponenten!AP83),\"\",DatenKomponenten!AP83)","v":""},{"$f":"IF(ISBLANK(DatenKomponenten!AQ83),\"\",DatenKomponenten!AQ83)","v":""},{"$f":"IF(ISBLANK(DatenKomponenten!AR83),\"\",DatenKomponenten!AR83)","v":""},{"$f":"IF(ISBLANK(DatenKomponenten!AS83),\"\",DatenKomponenten!AS83)","v":""},{"$f":"IF(ISBLANK(DatenKomponenten!AT83),\"\",DatenKomponenten!AT83)","v":""},{"$f":"IF(ISBLANK(DatenKomponenten!AU83),\"\",DatenKomponenten!AU83)","v":""},{"$f":"IF(ISBLANK(DatenKomponenten!AV83),\"\",DatenKomponenten!AV83)","v":""},{"$f":"IF(ISBLANK(DatenKomponenten!AW83),\"\",DatenKomponenten!AW83)","v":""},{"$f":"IF(ISBLANK(DatenKomponenten!AX83),\"\",DatenKomponenten!AX83)","v":""},{"$f":"IF(ISBLANK(DatenKomponenten!AY83),\"\",DatenKomponenten!AY83)","v":""},{"$f":"IF(ISBLANK(DatenKomponenten!AZ83),\"\",DatenKomponenten!AZ83)","v":""}]
[{"$f":"IF(ISBLANK(DatenKomponenten!A84),\"\",DatenKomponenten!A84)","v":""},{"$f":"IF(ISBLANK(DatenKomponenten!B84),\"\",DatenKomponenten!B84)","v":""},{"$f":"IF(ISBLANK(DatenKomponenten!C84),\"\",DatenKomponenten!C84)","v":""},{"$f":"IF(ISBLANK(DatenKomponenten!D84),\"\",DatenKomponenten!D84)","v":""},{"$f":"IF(ISBLANK(DatenKomponenten!E84),\"\",DatenKomponenten!E84)","v":""},{"$f":"IF(ISBLANK(DatenKomponenten!F84),\"\",DatenKomponenten!F84)","v":""},{"$f":"IF(ISBLANK(DatenKomponenten!G84),\"\",DatenKomponenten!G84)","v":""},{"$f":"IF(ISBLANK(DatenKomponenten!H84),\"\",DatenKomponenten!H84)","v":""},{"$f":"IF(ISBLANK(DatenKomponenten!I84),\"\",DatenKomponenten!I84)","v":""},{"$f":"IF(ISBLANK(DatenKomponenten!J84),\"\",DatenKomponenten!J84)","v":""},{"$f":"IF(ISBLANK(DatenKomponenten!K84),\"\",DatenKomponenten!K84)","v":""},{"$f":"IF(ISBLANK(DatenKomponenten!L84),\"\",DatenKomponenten!L84)","v":""},{"$f":"IF(ISBLANK(DatenKomponenten!M84),\"\",DatenKomponenten!M84)","v":""},{"$f":"IF(ISBLANK(DatenKomponenten!N84),\"\",DatenKomponenten!N84)","v":""},{"$f":"IF(ISBLANK(DatenKomponenten!O84),\"\",DatenKomponenten!O84)","v":""},{"$f":"IF(ISBLANK(DatenKomponenten!P84),\"\",DatenKomponenten!P84)","v":""},{"$f":"IF(ISBLANK(DatenKomponenten!Q84),\"\",DatenKomponenten!Q84)","v":""},{"$f":"IF(ISBLANK(DatenKomponenten!R84),\"\",DatenKomponenten!R84)","v":""},{"$f":"IF(ISBLANK(DatenKomponenten!S84),\"\",DatenKomponenten!S84)","v":""},{"$f":"IF(ISBLANK(DatenKomponenten!T84),\"\",DatenKomponenten!T84)","v":""},{"$f":"IF(ISBLANK(DatenKomponenten!U84),\"\",DatenKomponenten!U84)","v":""},{"$f":"IF(ISBLANK(DatenKomponenten!V84),\"\",DatenKomponenten!V84)","v":""},{"$f":"IF(ISBLANK(DatenKomponenten!W84),\"\",DatenKomponenten!W84)","v":""},{"$f":"IF(ISBLANK(DatenKomponenten!X84),\"\",DatenKomponenten!X84)","v":""},{"$f":"IF(ISBLANK(DatenKomponenten!Y84),\"\",DatenKomponenten!Y84)","v":""},{"$f":"IF(ISBLANK(DatenKomponenten!Z84),\"\",DatenKomponenten!Z84)","v":""},{"$f":"IF(ISBLANK(DatenKomponenten!AA84),\"\",DatenKomponenten!AA84)","v":""},{"$f":"IF(ISBLANK(DatenKomponenten!AB84),\"\",DatenKomponenten!AB84)","v":""},{"$f":"IF(ISBLANK(DatenKomponenten!AC84),\"\",DatenKomponenten!AC84)","v":""},{"$f":"IF(ISBLANK(DatenKomponenten!AD84),\"\",DatenKomponenten!AD84)","v":""},{"$f":"IF(ISBLANK(DatenKomponenten!AE84),\"\",DatenKomponenten!AE84)","v":""},{"$f":"IF(ISBLANK(DatenKomponenten!AF84),\"\",DatenKomponenten!AF84)","v":""},{"$f":"IF(ISBLANK(DatenKomponenten!AG84),\"\",DatenKomponenten!AG84)","v":""},{"$f":"IF(ISBLANK(DatenKomponenten!AH84),\"\",DatenKomponenten!AH84)","v":""},{"$f":"IF(ISBLANK(DatenKomponenten!AI84),\"\",DatenKomponenten!AI84)","v":""},{"$f":"IF(ISBLANK(DatenKomponenten!AJ84),\"\",DatenKomponenten!AJ84)","v":""},{"$f":"IF(ISBLANK(DatenKomponenten!AK84),\"\",DatenKomponenten!AK84)","v":""},{"$f":"IF(ISBLANK(DatenKomponenten!AL84),\"\",DatenKomponenten!AL84)","v":""},{"$f":"IF(ISBLANK(DatenKomponenten!AM84),\"\",DatenKomponenten!AM84)","v":""},{"$f":"IF(ISBLANK(DatenKomponenten!AN84),\"\",DatenKomponenten!AN84)","v":""},{"$f":"IF(ISBLANK(DatenKomponenten!AO84),\"\",DatenKomponenten!AO84)","v":""},{"$f":"IF(ISBLANK(DatenKomponenten!AP84),\"\",DatenKomponenten!AP84)","v":""},{"$f":"IF(ISBLANK(DatenKomponenten!AQ84),\"\",DatenKomponenten!AQ84)","v":""},{"$f":"IF(ISBLANK(DatenKomponenten!AR84),\"\",DatenKomponenten!AR84)","v":""},{"$f":"IF(ISBLANK(DatenKomponenten!AS84),\"\",DatenKomponenten!AS84)","v":""},{"$f":"IF(ISBLANK(DatenKomponenten!AT84),\"\",DatenKomponenten!AT84)","v":""},{"$f":"IF(ISBLANK(DatenKomponenten!AU84),\"\",DatenKomponenten!AU84)","v":""},{"$f":"IF(ISBLANK(DatenKomponenten!AV84),\"\",DatenKomponenten!AV84)","v":""},{"$f":"IF(ISBLANK(DatenKomponenten!AW84),\"\",DatenKomponenten!AW84)","v":""},{"$f":"IF(ISBLANK(DatenKomponenten!AX84),\"\",DatenKomponenten!AX84)","v":""},{"$f":"IF(ISBLANK(DatenKomponenten!AY84),\"\",DatenKomponenten!AY84)","v":""},{"$f":"IF(ISBLANK(DatenKomponenten!AZ84),\"\",DatenKomponenten!AZ84)","v":""}]
[{"$f":"IF(ISBLANK(DatenKomponenten!A85),\"\",DatenKomponenten!A85)","v":""},{"$f":"IF(ISBLANK(DatenKomponenten!B85),\"\",DatenKomponenten!B85)","v":""},{"$f":"IF(ISBLANK(DatenKomponenten!C85),\"\",DatenKomponenten!C85)","v":""},{"$f":"IF(ISBLANK(DatenKomponenten!D85),\"\",DatenKomponenten!D85)","v":""},{"$f":"IF(ISBLANK(DatenKomponenten!E85),\"\",DatenKomponenten!E85)","v":""},{"$f":"IF(ISBLANK(DatenKomponenten!F85),\"\",DatenKomponenten!F85)","v":""},{"$f":"IF(ISBLANK(DatenKomponenten!G85),\"\",DatenKomponenten!G85)","v":""},{"$f":"IF(ISBLANK(DatenKomponenten!H85),\"\",DatenKomponenten!H85)","v":""},{"$f":"IF(ISBLANK(DatenKomponenten!I85),\"\",DatenKomponenten!I85)","v":""},{"$f":"IF(ISBLANK(DatenKomponenten!J85),\"\",DatenKomponenten!J85)","v":""},{"$f":"IF(ISBLANK(DatenKomponenten!K85),\"\",DatenKomponenten!K85)","v":""},{"$f":"IF(ISBLANK(DatenKomponenten!L85),\"\",DatenKomponenten!L85)","v":""},{"$f":"IF(ISBLANK(DatenKomponenten!M85),\"\",DatenKomponenten!M85)","v":""},{"$f":"IF(ISBLANK(DatenKomponenten!N85),\"\",DatenKomponenten!N85)","v":""},{"$f":"IF(ISBLANK(DatenKomponenten!O85),\"\",DatenKomponenten!O85)","v":""},{"$f":"IF(ISBLANK(DatenKomponenten!P85),\"\",DatenKomponenten!P85)","v":""},{"$f":"IF(ISBLANK(DatenKomponenten!Q85),\"\",DatenKomponenten!Q85)","v":""},{"$f":"IF(ISBLANK(DatenKomponenten!R85),\"\",DatenKomponenten!R85)","v":""},{"$f":"IF(ISBLANK(DatenKomponenten!S85),\"\",DatenKomponenten!S85)","v":""},{"$f":"IF(ISBLANK(DatenKomponenten!T85),\"\",DatenKomponenten!T85)","v":""},{"$f":"IF(ISBLANK(DatenKomponenten!U85),\"\",DatenKomponenten!U85)","v":""},{"$f":"IF(ISBLANK(DatenKomponenten!V85),\"\",DatenKomponenten!V85)","v":""},{"$f":"IF(ISBLANK(DatenKomponenten!W85),\"\",DatenKomponenten!W85)","v":""},{"$f":"IF(ISBLANK(DatenKomponenten!X85),\"\",DatenKomponenten!X85)","v":""},{"$f":"IF(ISBLANK(DatenKomponenten!Y85),\"\",DatenKomponenten!Y85)","v":""},{"$f":"IF(ISBLANK(DatenKomponenten!Z85),\"\",DatenKomponenten!Z85)","v":""},{"$f":"IF(ISBLANK(DatenKomponenten!AA85),\"\",DatenKomponenten!AA85)","v":""},{"$f":"IF(ISBLANK(DatenKomponenten!AB85),\"\",DatenKomponenten!AB85)","v":""},{"$f":"IF(ISBLANK(DatenKomponenten!AC85),\"\",DatenKomponenten!AC85)","v":""},{"$f":"IF(ISBLANK(DatenKomponenten!AD85),\"\",DatenKomponenten!AD85)","v":""},{"$f":"IF(ISBLANK(DatenKomponenten!AE85),\"\",DatenKomponenten!AE85)","v":""},{"$f":"IF(ISBLANK(DatenKomponenten!AF85),\"\",DatenKomponenten!AF85)","v":""},{"$f":"IF(ISBLANK(DatenKomponenten!AG85),\"\",DatenKomponenten!AG85)","v":""},{"$f":"IF(ISBLANK(DatenKomponenten!AH85),\"\",DatenKomponenten!AH85)","v":""},{"$f":"IF(ISBLANK(DatenKomponenten!AI85),\"\",DatenKomponenten!AI85)","v":""},{"$f":"IF(ISBLANK(DatenKomponenten!AJ85),\"\",DatenKomponenten!AJ85)","v":""},{"$f":"IF(ISBLANK(DatenKomponenten!AK85),\"\",DatenKomponenten!AK85)","v":""},{"$f":"IF(ISBLANK(DatenKomponenten!AL85),\"\",DatenKomponenten!AL85)","v":""},{"$f":"IF(ISBLANK(DatenKomponenten!AM85),\"\",DatenKomponenten!AM85)","v":""},{"$f":"IF(ISBLANK(DatenKomponenten!AN85),\"\",DatenKomponenten!AN85)","v":""},{"$f":"IF(ISBLANK(DatenKomponenten!AO85),\"\",DatenKomponenten!AO85)","v":""},{"$f":"IF(ISBLANK(DatenKomponenten!AP85),\"\",DatenKomponenten!AP85)","v":""},{"$f":"IF(ISBLANK(DatenKomponenten!AQ85),\"\",DatenKomponenten!AQ85)","v":""},{"$f":"IF(ISBLANK(DatenKomponenten!AR85),\"\",DatenKomponenten!AR85)","v":""},{"$f":"IF(ISBLANK(DatenKomponenten!AS85),\"\",DatenKomponenten!AS85)","v":""},{"$f":"IF(ISBLANK(DatenKomponenten!AT85),\"\",DatenKomponenten!AT85)","v":""},{"$f":"IF(ISBLANK(DatenKomponenten!AU85),\"\",DatenKomponenten!AU85)","v":""},{"$f":"IF(ISBLANK(DatenKomponenten!AV85),\"\",DatenKomponenten!AV85)","v":""},{"$f":"IF(ISBLANK(DatenKomponenten!AW85),\"\",DatenKomponenten!AW85)","v":""},{"$f":"IF(ISBLANK(DatenKomponenten!AX85),\"\",DatenKomponenten!AX85)","v":""},{"$f":"IF(ISBLANK(DatenKomponenten!AY85),\"\",DatenKomponenten!AY85)","v":""},{"$f":"IF(ISBLANK(DatenKomponenten!AZ85),\"\",DatenKomponenten!AZ85)","v":""}]
[{"$f":"IF(ISBLANK(DatenKomponenten!A86),\"\",DatenKomponenten!A86)","v":""},{"$f":"IF(ISBLANK(DatenKomponenten!B86),\"\",DatenKomponenten!B86)","v":""},{"$f":"IF(ISBLANK(DatenKomponenten!C86),\"\",DatenKomponenten!C86)","v":""},{"$f":"IF(ISBLANK(DatenKomponenten!D86),\"\",DatenKomponenten!D86)","v":""},{"$f":"IF(ISBLANK(DatenKomponenten!E86),\"\",DatenKomponenten!E86)","v":""},{"$f":"IF(ISBLANK(DatenKomponenten!F86),\"\",DatenKomponenten!F86)","v":""},{"$f":"IF(ISBLANK(DatenKomponenten!G86),\"\",DatenKomponenten!G86)","v":""},{"$f":"IF(ISBLANK(DatenKomponenten!H86),\"\",DatenKomponenten!H86)","v":""},{"$f":"IF(ISBLANK(DatenKomponenten!I86),\"\",DatenKomponenten!I86)","v":""},{"$f":"IF(ISBLANK(DatenKomponenten!J86),\"\",DatenKomponenten!J86)","v":""},{"$f":"IF(ISBLANK(DatenKomponenten!K86),\"\",DatenKomponenten!K86)","v":""},{"$f":"IF(ISBLANK(DatenKomponenten!L86),\"\",DatenKomponenten!L86)","v":""},{"$f":"IF(ISBLANK(DatenKomponenten!M86),\"\",DatenKomponenten!M86)","v":""},{"$f":"IF(ISBLANK(DatenKomponenten!N86),\"\",DatenKomponenten!N86)","v":""},{"$f":"IF(ISBLANK(DatenKomponenten!O86),\"\",DatenKomponenten!O86)","v":""},{"$f":"IF(ISBLANK(DatenKomponenten!P86),\"\",DatenKomponenten!P86)","v":""},{"$f":"IF(ISBLANK(DatenKomponenten!Q86),\"\",DatenKomponenten!Q86)","v":""},{"$f":"IF(ISBLANK(DatenKomponenten!R86),\"\",DatenKomponenten!R86)","v":""},{"$f":"IF(ISBLANK(DatenKomponenten!S86),\"\",DatenKomponenten!S86)","v":""},{"$f":"IF(ISBLANK(DatenKomponenten!T86),\"\",DatenKomponenten!T86)","v":""},{"$f":"IF(ISBLANK(DatenKomponenten!U86),\"\",DatenKomponenten!U86)","v":""},{"$f":"IF(ISBLANK(DatenKomponenten!V86),\"\",DatenKomponenten!V86)","v":""},{"$f":"IF(ISBLANK(DatenKomponenten!W86),\"\",DatenKomponenten!W86)","v":""},{"$f":"IF(ISBLANK(DatenKomponenten!X86),\"\",DatenKomponenten!X86)","v":""},{"$f":"IF(ISBLANK(DatenKomponenten!Y86),\"\",DatenKomponenten!Y86)","v":""},{"$f":"IF(ISBLANK(DatenKomponenten!Z86),\"\",DatenKomponenten!Z86)","v":""},{"$f":"IF(ISBLANK(DatenKomponenten!AA86),\"\",DatenKomponenten!AA86)","v":""},{"$f":"IF(ISBLANK(DatenKomponenten!AB86),\"\",DatenKomponenten!AB86)","v":""},{"$f":"IF(ISBLANK(DatenKomponenten!AC86),\"\",DatenKomponenten!AC86)","v":""},{"$f":"IF(ISBLANK(DatenKomponenten!AD86),\"\",DatenKomponenten!AD86)","v":""},{"$f":"IF(ISBLANK(DatenKomponenten!AE86),\"\",DatenKomponenten!AE86)","v":""},{"$f":"IF(ISBLANK(DatenKomponenten!AF86),\"\",DatenKomponenten!AF86)","v":""},{"$f":"IF(ISBLANK(DatenKomponenten!AG86),\"\",DatenKomponenten!AG86)","v":""},{"$f":"IF(ISBLANK(DatenKomponenten!AH86),\"\",DatenKomponenten!AH86)","v":""},{"$f":"IF(ISBLANK(DatenKomponenten!AI86),\"\",DatenKomponenten!AI86)","v":""},{"$f":"IF(ISBLANK(DatenKomponenten!AJ86),\"\",DatenKomponenten!AJ86)","v":""},{"$f":"IF(ISBLANK(DatenKomponenten!AK86),\"\",DatenKomponenten!AK86)","v":""},{"$f":"IF(ISBLANK(DatenKomponenten!AL86),\"\",DatenKomponenten!AL86)","v":""},{"$f":"IF(ISBLANK(DatenKomponenten!AM86),\"\",DatenKomponenten!AM86)","v":""},{"$f":"IF(ISBLANK(DatenKomponenten!AN86),\"\",DatenKomponenten!AN86)","v":""},{"$f":"IF(ISBLANK(DatenKomponenten!AO86),\"\",DatenKomponenten!AO86)","v":""},{"$f":"IF(ISBLANK(DatenKomponenten!AP86),\"\",DatenKomponenten!AP86)","v":""},{"$f":"IF(ISBLANK(DatenKomponenten!AQ86),\"\",DatenKomponenten!AQ86)","v":""},{"$f":"IF(ISBLANK(DatenKomponenten!AR86),\"\",DatenKomponenten!AR86)","v":""},{"$f":"IF(ISBLANK(DatenKomponenten!AS86),\"\",DatenKomponenten!AS86)","v":""},{"$f":"IF(ISBLANK(DatenKomponenten!AT86),\"\",DatenKomponenten!AT86)","v":""},{"$f":"IF(ISBLANK(DatenKomponenten!AU86),\"\",DatenKomponenten!AU86)","v":""},{"$f":"IF(ISBLANK(DatenKomponenten!AV86),\"\",DatenKomponenten!AV86)","v":""},{"$f":"IF(ISBLANK(DatenKomponenten!AW86),\"\",DatenKomponenten!AW86)","v":""},{"$f":"IF(ISBLANK(DatenKomponenten!AX86),\"\",DatenKomponenten!AX86)","v":""},{"$f":"IF(ISBLANK(DatenKomponenten!AY86),\"\",DatenKomponenten!AY86)","v":""},{"$f":"IF(ISBLANK(DatenKomponenten!AZ86),\"\",DatenKomponenten!AZ86)","v":""}]
[{"$f":"IF(ISBLANK(DatenKomponenten!A87),\"\",DatenKomponenten!A87)","v":""},{"$f":"IF(ISBLANK(DatenKomponenten!B87),\"\",DatenKomponenten!B87)","v":""},{"$f":"IF(ISBLANK(DatenKomponenten!C87),\"\",DatenKomponenten!C87)","v":""},{"$f":"IF(ISBLANK(DatenKomponenten!D87),\"\",DatenKomponenten!D87)","v":""},{"$f":"IF(ISBLANK(DatenKomponenten!E87),\"\",DatenKomponenten!E87)","v":""},{"$f":"IF(ISBLANK(DatenKomponenten!F87),\"\",DatenKomponenten!F87)","v":""},{"$f":"IF(ISBLANK(DatenKomponenten!G87),\"\",DatenKomponenten!G87)","v":""},{"$f":"IF(ISBLANK(DatenKomponenten!H87),\"\",DatenKomponenten!H87)","v":""},{"$f":"IF(ISBLANK(DatenKomponenten!I87),\"\",DatenKomponenten!I87)","v":""},{"$f":"IF(ISBLANK(DatenKomponenten!J87),\"\",DatenKomponenten!J87)","v":""},{"$f":"IF(ISBLANK(DatenKomponenten!K87),\"\",DatenKomponenten!K87)","v":""},{"$f":"IF(ISBLANK(DatenKomponenten!L87),\"\",DatenKomponenten!L87)","v":""},{"$f":"IF(ISBLANK(DatenKomponenten!M87),\"\",DatenKomponenten!M87)","v":""},{"$f":"IF(ISBLANK(DatenKomponenten!N87),\"\",DatenKomponenten!N87)","v":""},{"$f":"IF(ISBLANK(DatenKomponenten!O87),\"\",DatenKomponenten!O87)","v":""},{"$f":"IF(ISBLANK(DatenKomponenten!P87),\"\",DatenKomponenten!P87)","v":""},{"$f":"IF(ISBLANK(DatenKomponenten!Q87),\"\",DatenKomponenten!Q87)","v":""},{"$f":"IF(ISBLANK(DatenKomponenten!R87),\"\",DatenKomponenten!R87)","v":""},{"$f":"IF(ISBLANK(DatenKomponenten!S87),\"\",DatenKomponenten!S87)","v":""},{"$f":"IF(ISBLANK(DatenKomponenten!T87),\"\",DatenKomponenten!T87)","v":""},{"$f":"IF(ISBLANK(DatenKomponenten!U87),\"\",DatenKomponenten!U87)","v":""},{"$f":"IF(ISBLANK(DatenKomponenten!V87),\"\",DatenKomponenten!V87)","v":""},{"$f":"IF(ISBLANK(DatenKomponenten!W87),\"\",DatenKomponenten!W87)","v":""},{"$f":"IF(ISBLANK(DatenKomponenten!X87),\"\",DatenKomponenten!X87)","v":""},{"$f":"IF(ISBLANK(DatenKomponenten!Y87),\"\",DatenKomponenten!Y87)","v":""},{"$f":"IF(ISBLANK(DatenKomponenten!Z87),\"\",DatenKomponenten!Z87)","v":""},{"$f":"IF(ISBLANK(DatenKomponenten!AA87),\"\",DatenKomponenten!AA87)","v":""},{"$f":"IF(ISBLANK(DatenKomponenten!AB87),\"\",DatenKomponenten!AB87)","v":""},{"$f":"IF(ISBLANK(DatenKomponenten!AC87),\"\",DatenKomponenten!AC87)","v":""},{"$f":"IF(ISBLANK(DatenKomponenten!AD87),\"\",DatenKomponenten!AD87)","v":""},{"$f":"IF(ISBLANK(DatenKomponenten!AE87),\"\",DatenKomponenten!AE87)","v":""},{"$f":"IF(ISBLANK(DatenKomponenten!AF87),\"\",DatenKomponenten!AF87)","v":""},{"$f":"IF(ISBLANK(DatenKomponenten!AG87),\"\",DatenKomponenten!AG87)","v":""},{"$f":"IF(ISBLANK(DatenKomponenten!AH87),\"\",DatenKomponenten!AH87)","v":""},{"$f":"IF(ISBLANK(DatenKomponenten!AI87),\"\",DatenKomponenten!AI87)","v":""},{"$f":"IF(ISBLANK(DatenKomponenten!AJ87),\"\",DatenKomponenten!AJ87)","v":""},{"$f":"IF(ISBLANK(DatenKomponenten!AK87),\"\",DatenKomponenten!AK87)","v":""},{"$f":"IF(ISBLANK(DatenKomponenten!AL87),\"\",DatenKomponenten!AL87)","v":""},{"$f":"IF(ISBLANK(DatenKomponenten!AM87),\"\",DatenKomponenten!AM87)","v":""},{"$f":"IF(ISBLANK(DatenKomponenten!AN87),\"\",DatenKomponenten!AN87)","v":""},{"$f":"IF(ISBLANK(DatenKomponenten!AO87),\"\",DatenKomponenten!AO87)","v":""},{"$f":"IF(ISBLANK(DatenKomponenten!AP87),\"\",DatenKomponenten!AP87)","v":""},{"$f":"IF(ISBLANK(DatenKomponenten!AQ87),\"\",DatenKomponenten!AQ87)","v":""},{"$f":"IF(ISBLANK(DatenKomponenten!AR87),\"\",DatenKomponenten!AR87)","v":""},{"$f":"IF(ISBLANK(DatenKomponenten!AS87),\"\",DatenKomponenten!AS87)","v":""},{"$f":"IF(ISBLANK(DatenKomponenten!AT87),\"\",DatenKomponenten!AT87)","v":""},{"$f":"IF(ISBLANK(DatenKomponenten!AU87),\"\",DatenKomponenten!AU87)","v":""},{"$f":"IF(ISBLANK(DatenKomponenten!AV87),\"\",DatenKomponenten!AV87)","v":""},{"$f":"IF(ISBLANK(DatenKomponenten!AW87),\"\",DatenKomponenten!AW87)","v":""},{"$f":"IF(ISBLANK(DatenKomponenten!AX87),\"\",DatenKomponenten!AX87)","v":""},{"$f":"IF(ISBLANK(DatenKomponenten!AY87),\"\",DatenKomponenten!AY87)","v":""},{"$f":"IF(ISBLANK(DatenKomponenten!AZ87),\"\",DatenKomponenten!AZ87)","v":""}]
[{"$f":"IF(ISBLANK(DatenKomponenten!A88),\"\",DatenKomponenten!A88)","v":""},{"$f":"IF(ISBLANK(DatenKomponenten!B88),\"\",DatenKomponenten!B88)","v":""},{"$f":"IF(ISBLANK(DatenKomponenten!C88),\"\",DatenKomponenten!C88)","v":""},{"$f":"IF(ISBLANK(DatenKomponenten!D88),\"\",DatenKomponenten!D88)","v":""},{"$f":"IF(ISBLANK(DatenKomponenten!E88),\"\",DatenKomponenten!E88)","v":""},{"$f":"IF(ISBLANK(DatenKomponenten!F88),\"\",DatenKomponenten!F88)","v":""},{"$f":"IF(ISBLANK(DatenKomponenten!G88),\"\",DatenKomponenten!G88)","v":""},{"$f":"IF(ISBLANK(DatenKomponenten!H88),\"\",DatenKomponenten!H88)","v":""},{"$f":"IF(ISBLANK(DatenKomponenten!I88),\"\",DatenKomponenten!I88)","v":""},{"$f":"IF(ISBLANK(DatenKomponenten!J88),\"\",DatenKomponenten!J88)","v":""},{"$f":"IF(ISBLANK(DatenKomponenten!K88),\"\",DatenKomponenten!K88)","v":""},{"$f":"IF(ISBLANK(DatenKomponenten!L88),\"\",DatenKomponenten!L88)","v":""},{"$f":"IF(ISBLANK(DatenKomponenten!M88),\"\",DatenKomponenten!M88)","v":""},{"$f":"IF(ISBLANK(DatenKomponenten!N88),\"\",DatenKomponenten!N88)","v":""},{"$f":"IF(ISBLANK(DatenKomponenten!O88),\"\",DatenKomponenten!O88)","v":""},{"$f":"IF(ISBLANK(DatenKomponenten!P88),\"\",DatenKomponenten!P88)","v":""},{"$f":"IF(ISBLANK(DatenKomponenten!Q88),\"\",DatenKomponenten!Q88)","v":""},{"$f":"IF(ISBLANK(DatenKomponenten!R88),\"\",DatenKomponenten!R88)","v":""},{"$f":"IF(ISBLANK(DatenKomponenten!S88),\"\",DatenKomponenten!S88)","v":""},{"$f":"IF(ISBLANK(DatenKomponenten!T88),\"\",DatenKomponenten!T88)","v":""},{"$f":"IF(ISBLANK(DatenKomponenten!U88),\"\",DatenKomponenten!U88)","v":""},{"$f":"IF(ISBLANK(DatenKomponenten!V88),\"\",DatenKomponenten!V88)","v":""},{"$f":"IF(ISBLANK(DatenKomponenten!W88),\"\",DatenKomponenten!W88)","v":""},{"$f":"IF(ISBLANK(DatenKomponenten!X88),\"\",DatenKomponenten!X88)","v":""},{"$f":"IF(ISBLANK(DatenKomponenten!Y88),\"\",DatenKomponenten!Y88)","v":""},{"$f":"IF(ISBLANK(DatenKomponenten!Z88),\"\",DatenKomponenten!Z88)","v":""},{"$f":"IF(ISBLANK(DatenKomponenten!AA88),\"\",DatenKomponenten!AA88)","v":""},{"$f":"IF(ISBLANK(DatenKomponenten!AB88),\"\",DatenKomponenten!AB88)","v":""},{"$f":"IF(ISBLANK(DatenKomponenten!AC88),\"\",DatenKomponenten!AC88)","v":""},{"$f":"IF(ISBLANK(DatenKomponenten!AD88),\"\",DatenKomponenten!AD88)","v":""},{"$f":"IF(ISBLANK(DatenKomponenten!AE88),\"\",DatenKomponenten!AE88)","v":""},{"$f":"IF(ISBLANK(DatenKomponenten!AF88),\"\",DatenKomponenten!AF88)","v":""},{"$f":"IF(ISBLANK(DatenKomponenten!AG88),\"\",DatenKomponenten!AG88)","v":""},{"$f":"IF(ISBLANK(DatenKomponenten!AH88),\"\",DatenKomponenten!AH88)","v":""},{"$f":"IF(ISBLANK(DatenKomponenten!AI88),\"\",DatenKomponenten!AI88)","v":""},{"$f":"IF(ISBLANK(DatenKomponenten!AJ88),\"\",DatenKomponenten!AJ88)","v":""},{"$f":"IF(ISBLANK(DatenKomponenten!AK88),\"\",DatenKomponenten!AK88)","v":""},{"$f":"IF(ISBLANK(DatenKomponenten!AL88),\"\",DatenKomponenten!AL88)","v":""},{"$f":"IF(ISBLANK(DatenKomponenten!AM88),\"\",DatenKomponenten!AM88)","v":""},{"$f":"IF(ISBLANK(DatenKomponenten!AN88),\"\",DatenKomponenten!AN88)","v":""},{"$f":"IF(ISBLANK(DatenKomponenten!AO88),\"\",DatenKomponenten!AO88)","v":""},{"$f":"IF(ISBLANK(DatenKomponenten!AP88),\"\",DatenKomponenten!AP88)","v":""},{"$f":"IF(ISBLANK(DatenKomponenten!AQ88),\"\",DatenKomponenten!AQ88)","v":""},{"$f":"IF(ISBLANK(DatenKomponenten!AR88),\"\",DatenKomponenten!AR88)","v":""},{"$f":"IF(ISBLANK(DatenKomponenten!AS88),\"\",DatenKomponenten!AS88)","v":""},{"$f":"IF(ISBLANK(DatenKomponenten!AT88),\"\",DatenKomponenten!AT88)","v":""},{"$f":"IF(ISBLANK(DatenKomponenten!AU88),\"\",DatenKomponenten!AU88)","v":""},{"$f":"IF(ISBLANK(DatenKomponenten!AV88),\"\",DatenKomponenten!AV88)","v":""},{"$f":"IF(ISBLANK(DatenKomponenten!AW88),\"\",DatenKomponenten!AW88)","v":""},{"$f":"IF(ISBLANK(DatenKomponenten!AX88),\"\",DatenKomponenten!AX88)","v":""},{"$f":"IF(ISBLANK(DatenKomponenten!AY88),\"\",DatenKomponenten!AY88)","v":""},{"$f":"IF(ISBLANK(DatenKomponenten!AZ88),\"\",DatenKomponenten!AZ88)","v":""}]
[{"$f":"IF(ISBLANK(DatenKomponenten!A89),\"\",DatenKomponenten!A89)","v":""},{"$f":"IF(ISBLANK(DatenKomponenten!B89),\"\",DatenKomponenten!B89)","v":""},{"$f":"IF(ISBLANK(DatenKomponenten!C89),\"\",DatenKomponenten!C89)","v":""},{"$f":"IF(ISBLANK(DatenKomponenten!D89),\"\",DatenKomponenten!D89)","v":""},{"$f":"IF(ISBLANK(DatenKomponenten!E89),\"\",DatenKomponenten!E89)","v":""},{"$f":"IF(ISBLANK(DatenKomponenten!F89),\"\",DatenKomponenten!F89)","v":""},{"$f":"IF(ISBLANK(DatenKomponenten!G89),\"\",DatenKomponenten!G89)","v":""},{"$f":"IF(ISBLANK(DatenKomponenten!H89),\"\",DatenKomponenten!H89)","v":""},{"$f":"IF(ISBLANK(DatenKomponenten!I89),\"\",DatenKomponenten!I89)","v":""},{"$f":"IF(ISBLANK(DatenKomponenten!J89),\"\",DatenKomponenten!J89)","v":""},{"$f":"IF(ISBLANK(DatenKomponenten!K89),\"\",DatenKomponenten!K89)","v":""},{"$f":"IF(ISBLANK(DatenKomponenten!L89),\"\",DatenKomponenten!L89)","v":""},{"$f":"IF(ISBLANK(DatenKomponenten!M89),\"\",DatenKomponenten!M89)","v":""},{"$f":"IF(ISBLANK(DatenKomponenten!N89),\"\",DatenKomponenten!N89)","v":""},{"$f":"IF(ISBLANK(DatenKomponenten!O89),\"\",DatenKomponenten!O89)","v":""},{"$f":"IF(ISBLANK(DatenKomponenten!P89),\"\",DatenKomponenten!P89)","v":""},{"$f":"IF(ISBLANK(DatenKomponenten!Q89),\"\",DatenKomponenten!Q89)","v":""},{"$f":"IF(ISBLANK(DatenKomponenten!R89),\"\",DatenKomponenten!R89)","v":""},{"$f":"IF(ISBLANK(DatenKomponenten!S89),\"\",DatenKomponenten!S89)","v":""},{"$f":"IF(ISBLANK(DatenKomponenten!T89),\"\",DatenKomponenten!T89)","v":""},{"$f":"IF(ISBLANK(DatenKomponenten!U89),\"\",DatenKomponenten!U89)","v":""},{"$f":"IF(ISBLANK(DatenKomponenten!V89),\"\",DatenKomponenten!V89)","v":""},{"$f":"IF(ISBLANK(DatenKomponenten!W89),\"\",DatenKomponenten!W89)","v":""},{"$f":"IF(ISBLANK(DatenKomponenten!X89),\"\",DatenKomponenten!X89)","v":""},{"$f":"IF(ISBLANK(DatenKomponenten!Y89),\"\",DatenKomponenten!Y89)","v":""},{"$f":"IF(ISBLANK(DatenKomponenten!Z89),\"\",DatenKomponenten!Z89)","v":""},{"$f":"IF(ISBLANK(DatenKomponenten!AA89),\"\",DatenKomponenten!AA89)","v":""},{"$f":"IF(ISBLANK(DatenKomponenten!AB89),\"\",DatenKomponenten!AB89)","v":""},{"$f":"IF(ISBLANK(DatenKomponenten!AC89),\"\",DatenKomponenten!AC89)","v":""},{"$f":"IF(ISBLANK(DatenKomponenten!AD89),\"\",DatenKomponenten!AD89)","v":""},{"$f":"IF(ISBLANK(DatenKomponenten!AE89),\"\",DatenKomponenten!AE89)","v":""},{"$f":"IF(ISBLANK(DatenKomponenten!AF89),\"\",DatenKomponenten!AF89)","v":""},{"$f":"IF(ISBLANK(DatenKomponenten!AG89),\"\",DatenKomponenten!AG89)","v":""},{"$f":"IF(ISBLANK(DatenKomponenten!AH89),\"\",DatenKomponenten!AH89)","v":""},{"$f":"IF(ISBLANK(DatenKomponenten!AI89),\"\",DatenKomponenten!AI89)","v":""},{"$f":"IF(ISBLANK(DatenKomponenten!AJ89),\"\",DatenKomponenten!AJ89)","v":""},{"$f":"IF(ISBLANK(DatenKomponenten!AK89),\"\",DatenKomponenten!AK89)","v":""},{"$f":"IF(ISBLANK(DatenKomponenten!AL89),\"\",DatenKomponenten!AL89)","v":""},{"$f":"IF(ISBLANK(DatenKomponenten!AM89),\"\",DatenKomponenten!AM89)","v":""},{"$f":"IF(ISBLANK(DatenKomponenten!AN89),\"\",DatenKomponenten!AN89)","v":""},{"$f":"IF(ISBLANK(DatenKomponenten!AO89),\"\",DatenKomponenten!AO89)","v":""},{"$f":"IF(ISBLANK(DatenKomponenten!AP89),\"\",DatenKomponenten!AP89)","v":""},{"$f":"IF(ISBLANK(DatenKomponenten!AQ89),\"\",DatenKomponenten!AQ89)","v":""},{"$f":"IF(ISBLANK(DatenKomponenten!AR89),\"\",DatenKomponenten!AR89)","v":""},{"$f":"IF(ISBLANK(DatenKomponenten!AS89),\"\",DatenKomponenten!AS89)","v":""},{"$f":"IF(ISBLANK(DatenKomponenten!AT89),\"\",DatenKomponenten!AT89)","v":""},{"$f":"IF(ISBLANK(DatenKomponenten!AU89),\"\",DatenKomponenten!AU89)","v":""},{"$f":"IF(ISBLANK(DatenKomponenten!AV89),\"\",DatenKomponenten!AV89)","v":""},{"$f":"IF(ISBLANK(DatenKomponenten!AW89),\"\",DatenKomponenten!AW89)","v":""},{"$f":"IF(ISBLANK(DatenKomponenten!AX89),\"\",DatenKomponenten!AX89)","v":""},{"$f":"IF(ISBLANK(DatenKomponenten!AY89),\"\",DatenKomponenten!AY89)","v":""},{"$f":"IF(ISBLANK(DatenKomponenten!AZ89),\"\",DatenKomponenten!AZ89)","v":""}]
[{"$f":"IF(ISBLANK(DatenKomponenten!A90),\"\",DatenKomponenten!A90)","v":""},{"$f":"IF(ISBLANK(DatenKomponenten!B90),\"\",DatenKomponenten!B90)","v":""},{"$f":"IF(ISBLANK(DatenKomponenten!C90),\"\",DatenKomponenten!C90)","v":""},{"$f":"IF(ISBLANK(DatenKomponenten!D90),\"\",DatenKomponenten!D90)","v":""},{"$f":"IF(ISBLANK(DatenKomponenten!E90),\"\",DatenKomponenten!E90)","v":""},{"$f":"IF(ISBLANK(DatenKomponenten!F90),\"\",DatenKomponenten!F90)","v":""},{"$f":"IF(ISBLANK(DatenKomponenten!G90),\"\",DatenKomponenten!G90)","v":""},{"$f":"IF(ISBLANK(DatenKomponenten!H90),\"\",DatenKomponenten!H90)","v":""},{"$f":"IF(ISBLANK(DatenKomponenten!I90),\"\",DatenKomponenten!I90)","v":""},{"$f":"IF(ISBLANK(DatenKomponenten!J90),\"\",DatenKomponenten!J90)","v":""},{"$f":"IF(ISBLANK(DatenKomponenten!K90),\"\",DatenKomponenten!K90)","v":""},{"$f":"IF(ISBLANK(DatenKomponenten!L90),\"\",DatenKomponenten!L90)","v":""},{"$f":"IF(ISBLANK(DatenKomponenten!M90),\"\",DatenKomponenten!M90)","v":""},{"$f":"IF(ISBLANK(DatenKomponenten!N90),\"\",DatenKomponenten!N90)","v":""},{"$f":"IF(ISBLANK(DatenKomponenten!O90),\"\",DatenKomponenten!O90)","v":""},{"$f":"IF(ISBLANK(DatenKomponenten!P90),\"\",DatenKomponenten!P90)","v":""},{"$f":"IF(ISBLANK(DatenKomponenten!Q90),\"\",DatenKomponenten!Q90)","v":""},{"$f":"IF(ISBLANK(DatenKomponenten!R90),\"\",DatenKomponenten!R90)","v":""},{"$f":"IF(ISBLANK(DatenKomponenten!S90),\"\",DatenKomponenten!S90)","v":""},{"$f":"IF(ISBLANK(DatenKomponenten!T90),\"\",DatenKomponenten!T90)","v":""},{"$f":"IF(ISBLANK(DatenKomponenten!U90),\"\",DatenKomponenten!U90)","v":""},{"$f":"IF(ISBLANK(DatenKomponenten!V90),\"\",DatenKomponenten!V90)","v":""},{"$f":"IF(ISBLANK(DatenKomponenten!W90),\"\",DatenKomponenten!W90)","v":""},{"$f":"IF(ISBLANK(DatenKomponenten!X90),\"\",DatenKomponenten!X90)","v":""},{"$f":"IF(ISBLANK(DatenKomponenten!Y90),\"\",DatenKomponenten!Y90)","v":""},{"$f":"IF(ISBLANK(DatenKomponenten!Z90),\"\",DatenKomponenten!Z90)","v":""},{"$f":"IF(ISBLANK(DatenKomponenten!AA90),\"\",DatenKomponenten!AA90)","v":""},{"$f":"IF(ISBLANK(DatenKomponenten!AB90),\"\",DatenKomponenten!AB90)","v":""},{"$f":"IF(ISBLANK(DatenKomponenten!AC90),\"\",DatenKomponenten!AC90)","v":""},{"$f":"IF(ISBLANK(DatenKomponenten!AD90),\"\",DatenKomponenten!AD90)","v":""},{"$f":"IF(ISBLANK(DatenKomponenten!AE90),\"\",DatenKomponenten!AE90)","v":""},{"$f":"IF(ISBLANK(DatenKomponenten!AF90),\"\",DatenKomponenten!AF90)","v":""},{"$f":"IF(ISBLANK(DatenKomponenten!AG90),\"\",DatenKomponenten!AG90)","v":""},{"$f":"IF(ISBLANK(DatenKomponenten!AH90),\"\",DatenKomponenten!AH90)","v":""},{"$f":"IF(ISBLANK(DatenKomponenten!AI90),\"\",DatenKomponenten!AI90)","v":""},{"$f":"IF(ISBLANK(DatenKomponenten!AJ90),\"\",DatenKomponenten!AJ90)","v":""},{"$f":"IF(ISBLANK(DatenKomponenten!AK90),\"\",DatenKomponenten!AK90)","v":""},{"$f":"IF(ISBLANK(DatenKomponenten!AL90),\"\",DatenKomponenten!AL90)","v":""},{"$f":"IF(ISBLANK(DatenKomponenten!AM90),\"\",DatenKomponenten!AM90)","v":""},{"$f":"IF(ISBLANK(DatenKomponenten!AN90),\"\",DatenKomponenten!AN90)","v":""},{"$f":"IF(ISBLANK(DatenKomponenten!AO90),\"\",DatenKomponenten!AO90)","v":""},{"$f":"IF(ISBLANK(DatenKomponenten!AP90),\"\",DatenKomponenten!AP90)","v":""},{"$f":"IF(ISBLANK(DatenKomponenten!AQ90),\"\",DatenKomponenten!AQ90)","v":""},{"$f":"IF(ISBLANK(DatenKomponenten!AR90),\"\",DatenKomponenten!AR90)","v":""},{"$f":"IF(ISBLANK(DatenKomponenten!AS90),\"\",DatenKomponenten!AS90)","v":""},{"$f":"IF(ISBLANK(DatenKomponenten!AT90),\"\",DatenKomponenten!AT90)","v":""},{"$f":"IF(ISBLANK(DatenKomponenten!AU90),\"\",DatenKomponenten!AU90)","v":""},{"$f":"IF(ISBLANK(DatenKomponenten!AV90),\"\",DatenKomponenten!AV90)","v":""},{"$f":"IF(ISBLANK(DatenKomponenten!AW90),\"\",DatenKomponenten!AW90)","v":""},{"$f":"IF(ISBLANK(DatenKomponenten!AX90),\"\",DatenKomponenten!AX90)","v":""},{"$f":"IF(ISBLANK(DatenKomponenten!AY90),\"\",DatenKomponenten!AY90)","v":""},{"$f":"IF(ISBLANK(DatenKomponenten!AZ90),\"\",DatenKomponenten!AZ90)","v":""}]
[{"$f":"IF(ISBLANK(DatenKomponenten!A91),\"\",DatenKomponenten!A91)","v":""},{"$f":"IF(ISBLANK(DatenKomponenten!B91),\"\",DatenKomponenten!B91)","v":""},{"$f":"IF(ISBLANK(DatenKomponenten!C91),\"\",DatenKomponenten!C91)","v":""},{"$f":"IF(ISBLANK(DatenKomponenten!D91),\"\",DatenKomponenten!D91)","v":""},{"$f":"IF(ISBLANK(DatenKomponenten!E91),\"\",DatenKomponenten!E91)","v":""},{"$f":"IF(ISBLANK(DatenKomponenten!F91),\"\",DatenKomponenten!F91)","v":""},{"$f":"IF(ISBLANK(DatenKomponenten!G91),\"\",DatenKomponenten!G91)","v":""},{"$f":"IF(ISBLANK(DatenKomponenten!H91),\"\",DatenKomponenten!H91)","v":""},{"$f":"IF(ISBLANK(DatenKomponenten!I91),\"\",DatenKomponenten!I91)","v":""},{"$f":"IF(ISBLANK(DatenKomponenten!J91),\"\",DatenKomponenten!J91)","v":""},{"$f":"IF(ISBLANK(DatenKomponenten!K91),\"\",DatenKomponenten!K91)","v":""},{"$f":"IF(ISBLANK(DatenKomponenten!L91),\"\",DatenKomponenten!L91)","v":""},{"$f":"IF(ISBLANK(DatenKomponenten!M91),\"\",DatenKomponenten!M91)","v":""},{"$f":"IF(ISBLANK(DatenKomponenten!N91),\"\",DatenKomponenten!N91)","v":""},{"$f":"IF(ISBLANK(DatenKomponenten!O91),\"\",DatenKomponenten!O91)","v":""},{"$f":"IF(ISBLANK(DatenKomponenten!P91),\"\",DatenKomponenten!P91)","v":""},{"$f":"IF(ISBLANK(DatenKomponenten!Q91),\"\",DatenKomponenten!Q91)","v":""},{"$f":"IF(ISBLANK(DatenKomponenten!R91),\"\",DatenKomponenten!R91)","v":""},{"$f":"IF(ISBLANK(DatenKomponenten!S91),\"\",DatenKomponenten!S91)","v":""},{"$f":"IF(ISBLANK(DatenKomponenten!T91),\"\",DatenKomponenten!T91)","v":""},{"$f":"IF(ISBLANK(DatenKomponenten!U91),\"\",DatenKomponenten!U91)","v":""},{"$f":"IF(ISBLANK(DatenKomponenten!V91),\"\",DatenKomponenten!V91)","v":""},{"$f":"IF(ISBLANK(DatenKomponenten!W91),\"\",DatenKomponenten!W91)","v":""},{"$f":"IF(ISBLANK(DatenKomponenten!X91),\"\",DatenKomponenten!X91)","v":""},{"$f":"IF(ISBLANK(DatenKomponenten!Y91),\"\",DatenKomponenten!Y91)","v":""},{"$f":"IF(ISBLANK(DatenKomponenten!Z91),\"\",DatenKomponenten!Z91)","v":""},{"$f":"IF(ISBLANK(DatenKomponenten!AA91),\"\",DatenKomponenten!AA91)","v":""},{"$f":"IF(ISBLANK(DatenKomponenten!AB91),\"\",DatenKomponenten!AB91)","v":""},{"$f":"IF(ISBLANK(DatenKomponenten!AC91),\"\",DatenKomponenten!AC91)","v":""},{"$f":"IF(ISBLANK(DatenKomponenten!AD91),\"\",DatenKomponenten!AD91)","v":""},{"$f":"IF(ISBLANK(DatenKomponenten!AE91),\"\",DatenKomponenten!AE91)","v":""},{"$f":"IF(ISBLANK(DatenKomponenten!AF91),\"\",DatenKomponenten!AF91)","v":""},{"$f":"IF(ISBLANK(DatenKomponenten!AG91),\"\",DatenKomponenten!AG91)","v":""},{"$f":"IF(ISBLANK(DatenKomponenten!AH91),\"\",DatenKomponenten!AH91)","v":""},{"$f":"IF(ISBLANK(DatenKomponenten!AI91),\"\",DatenKomponenten!AI91)","v":""},{"$f":"IF(ISBLANK(DatenKomponenten!AJ91),\"\",DatenKomponenten!AJ91)","v":""},{"$f":"IF(ISBLANK(DatenKomponenten!AK91),\"\",DatenKomponenten!AK91)","v":""},{"$f":"IF(ISBLANK(DatenKomponenten!AL91),\"\",DatenKomponenten!AL91)","v":""},{"$f":"IF(ISBLANK(DatenKomponenten!AM91),\"\",DatenKomponenten!AM91)","v":""},{"$f":"IF(ISBLANK(DatenKomponenten!AN91),\"\",DatenKomponenten!AN91)","v":""},{"$f":"IF(ISBLANK(DatenKomponenten!AO91),\"\",DatenKomponenten!AO91)","v":""},{"$f":"IF(ISBLANK(DatenKomponenten!AP91),\"\",DatenKomponenten!AP91)","v":""},{"$f":"IF(ISBLANK(DatenKomponenten!AQ91),\"\",DatenKomponenten!AQ91)","v":""},{"$f":"IF(ISBLANK(DatenKomponenten!AR91),\"\",DatenKomponenten!AR91)","v":""},{"$f":"IF(ISBLANK(DatenKomponenten!AS91),\"\",DatenKomponenten!AS91)","v":""},{"$f":"IF(ISBLANK(DatenKomponenten!AT91),\"\",DatenKomponenten!AT91)","v":""},{"$f":"IF(ISBLANK(DatenKomponenten!AU91),\"\",DatenKomponenten!AU91)","v":""},{"$f":"IF(ISBLANK(DatenKomponenten!AV91),\"\",DatenKomponenten!AV91)","v":""},{"$f":"IF(ISBLANK(DatenKomponenten!AW91),\"\",DatenKomponenten!AW91)","v":""},{"$f":"IF(ISBLANK(DatenKomponenten!AX91),\"\",DatenKomponenten!AX91)","v":""},{"$f":"IF(ISBLANK(DatenKomponenten!AY91),\"\",DatenKomponenten!AY91)","v":""},{"$f":"IF(ISBLANK(DatenKomponenten!AZ91),\"\",DatenKomponenten!AZ91)","v":""}]
[{"$f":"IF(ISBLANK(DatenKomponenten!A92),\"\",DatenKomponenten!A92)","v":""},{"$f":"IF(ISBLANK(DatenKomponenten!B92),\"\",DatenKomponenten!B92)","v":""},{"$f":"IF(ISBLANK(DatenKomponenten!C92),\"\",DatenKomponenten!C92)","v":""},{"$f":"IF(ISBLANK(DatenKomponenten!D92),\"\",DatenKomponenten!D92)","v":""},{"$f":"IF(ISBLANK(DatenKomponenten!E92),\"\",DatenKomponenten!E92)","v":""},{"$f":"IF(ISBLANK(DatenKomponenten!F92),\"\",DatenKomponenten!F92)","v":""},{"$f":"IF(ISBLANK(DatenKomponenten!G92),\"\",DatenKomponenten!G92)","v":""},{"$f":"IF(ISBLANK(DatenKomponenten!H92),\"\",DatenKomponenten!H92)","v":""},{"$f":"IF(ISBLANK(DatenKomponenten!I92),\"\",DatenKomponenten!I92)","v":""},{"$f":"IF(ISBLANK(DatenKomponenten!J92),\"\",DatenKomponenten!J92)","v":""},{"$f":"IF(ISBLANK(DatenKomponenten!K92),\"\",DatenKomponenten!K92)","v":""},{"$f":"IF(ISBLANK(DatenKomponenten!L92),\"\",DatenKomponenten!L92)","v":""},{"$f":"IF(ISBLANK(DatenKomponenten!M92),\"\",DatenKomponenten!M92)","v":""},{"$f":"IF(ISBLANK(DatenKomponenten!N92),\"\",DatenKomponenten!N92)","v":""},{"$f":"IF(ISBLANK(DatenKomponenten!O92),\"\",DatenKomponenten!O92)","v":""},{"$f":"IF(ISBLANK(DatenKomponenten!P92),\"\",DatenKomponenten!P92)","v":""},{"$f":"IF(ISBLANK(DatenKomponenten!Q92),\"\",DatenKomponenten!Q92)","v":""},{"$f":"IF(ISBLANK(DatenKomponenten!R92),\"\",DatenKomponenten!R92)","v":""},{"$f":"IF(ISBLANK(DatenKomponenten!S92),\"\",DatenKomponenten!S92)","v":""},{"$f":"IF(ISBLANK(DatenKomponenten!T92),\"\",DatenKomponenten!T92)","v":""},{"$f":"IF(ISBLANK(DatenKomponenten!U92),\"\",DatenKomponenten!U92)","v":""},{"$f":"IF(ISBLANK(DatenKomponenten!V92),\"\",DatenKomponenten!V92)","v":""},{"$f":"IF(ISBLANK(DatenKomponenten!W92),\"\",DatenKomponenten!W92)","v":""},{"$f":"IF(ISBLANK(DatenKomponenten!X92),\"\",DatenKomponenten!X92)","v":""},{"$f":"IF(ISBLANK(DatenKomponenten!Y92),\"\",DatenKomponenten!Y92)","v":""},{"$f":"IF(ISBLANK(DatenKomponenten!Z92),\"\",DatenKomponenten!Z92)","v":""},{"$f":"IF(ISBLANK(DatenKomponenten!AA92),\"\",DatenKomponenten!AA92)","v":""},{"$f":"IF(ISBLANK(DatenKomponenten!AB92),\"\",DatenKomponenten!AB92)","v":""},{"$f":"IF(ISBLANK(DatenKomponenten!AC92),\"\",DatenKomponenten!AC92)","v":""},{"$f":"IF(ISBLANK(DatenKomponenten!AD92),\"\",DatenKomponenten!AD92)","v":""},{"$f":"IF(ISBLANK(DatenKomponenten!AE92),\"\",DatenKomponenten!AE92)","v":""},{"$f":"IF(ISBLANK(DatenKomponenten!AF92),\"\",DatenKomponenten!AF92)","v":""},{"$f":"IF(ISBLANK(DatenKomponenten!AG92),\"\",DatenKomponenten!AG92)","v":""},{"$f":"IF(ISBLANK(DatenKomponenten!AH92),\"\",DatenKomponenten!AH92)","v":""},{"$f":"IF(ISBLANK(DatenKomponenten!AI92),\"\",DatenKomponenten!AI92)","v":""},{"$f":"IF(ISBLANK(DatenKomponenten!AJ92),\"\",DatenKomponenten!AJ92)","v":""},{"$f":"IF(ISBLANK(DatenKomponenten!AK92),\"\",DatenKomponenten!AK92)","v":""},{"$f":"IF(ISBLANK(DatenKomponenten!AL92),\"\",DatenKomponenten!AL92)","v":""},{"$f":"IF(ISBLANK(DatenKomponenten!AM92),\"\",DatenKomponenten!AM92)","v":""},{"$f":"IF(ISBLANK(DatenKomponenten!AN92),\"\",DatenKomponenten!AN92)","v":""},{"$f":"IF(ISBLANK(DatenKomponenten!AO92),\"\",DatenKomponenten!AO92)","v":""},{"$f":"IF(ISBLANK(DatenKomponenten!AP92),\"\",DatenKomponenten!AP92)","v":""},{"$f":"IF(ISBLANK(DatenKomponenten!AQ92),\"\",DatenKomponenten!AQ92)","v":""},{"$f":"IF(ISBLANK(DatenKomponenten!AR92),\"\",DatenKomponenten!AR92)","v":""},{"$f":"IF(ISBLANK(DatenKomponenten!AS92),\"\",DatenKomponenten!AS92)","v":""},{"$f":"IF(ISBLANK(DatenKomponenten!AT92),\"\",DatenKomponenten!AT92)","v":""},{"$f":"IF(ISBLANK(DatenKomponenten!AU92),\"\",DatenKomponenten!AU92)","v":""},{"$f":"IF(ISBLANK(DatenKomponenten!AV92),\"\",DatenKomponenten!AV92)","v":""},{"$f":"IF(ISBLANK(DatenKomponenten!AW92),\"\",DatenKomponenten!AW92)","v":""},{"$f":"IF(ISBLANK(DatenKomponenten!AX92),\"\",DatenKomponenten!AX92)","v":""},{"$f":"IF(ISBLANK(DatenKomponenten!AY92),\"\",DatenKomponenten!AY92)","v":""},{"$f":"IF(ISBLANK(DatenKomponenten!AZ92),\"\",DatenKomponenten!AZ92)","v":""}]
[{"$f":"IF(ISBLANK(DatenKomponenten!A93),\"\",DatenKomponenten!A93)","v":""},{"$f":"IF(ISBLANK(DatenKomponenten!B93),\"\",DatenKomponenten!B93)","v":""},{"$f":"IF(ISBLANK(DatenKomponenten!C93),\"\",DatenKomponenten!C93)","v":""},{"$f":"IF(ISBLANK(DatenKomponenten!D93),\"\",DatenKomponenten!D93)","v":""},{"$f":"IF(ISBLANK(DatenKomponenten!E93),\"\",DatenKomponenten!E93)","v":""},{"$f":"IF(ISBLANK(DatenKomponenten!F93),\"\",DatenKomponenten!F93)","v":""},{"$f":"IF(ISBLANK(DatenKomponenten!G93),\"\",DatenKomponenten!G93)","v":""},{"$f":"IF(ISBLANK(DatenKomponenten!H93),\"\",DatenKomponenten!H93)","v":""},{"$f":"IF(ISBLANK(DatenKomponenten!I93),\"\",DatenKomponenten!I93)","v":""},{"$f":"IF(ISBLANK(DatenKomponenten!J93),\"\",DatenKomponenten!J93)","v":""},{"$f":"IF(ISBLANK(DatenKomponenten!K93),\"\",DatenKomponenten!K93)","v":""},{"$f":"IF(ISBLANK(DatenKomponenten!L93),\"\",DatenKomponenten!L93)","v":""},{"$f":"IF(ISBLANK(DatenKomponenten!M93),\"\",DatenKomponenten!M93)","v":""},{"$f":"IF(ISBLANK(DatenKomponenten!N93),\"\",DatenKomponenten!N93)","v":""},{"$f":"IF(ISBLANK(DatenKomponenten!O93),\"\",DatenKomponenten!O93)","v":""},{"$f":"IF(ISBLANK(DatenKomponenten!P93),\"\",DatenKomponenten!P93)","v":""},{"$f":"IF(ISBLANK(DatenKomponenten!Q93),\"\",DatenKomponenten!Q93)","v":""},{"$f":"IF(ISBLANK(DatenKomponenten!R93),\"\",DatenKomponenten!R93)","v":""},{"$f":"IF(ISBLANK(DatenKomponenten!S93),\"\",DatenKomponenten!S93)","v":""},{"$f":"IF(ISBLANK(DatenKomponenten!T93),\"\",DatenKomponenten!T93)","v":""},{"$f":"IF(ISBLANK(DatenKomponenten!U93),\"\",DatenKomponenten!U93)","v":""},{"$f":"IF(ISBLANK(DatenKomponenten!V93),\"\",DatenKomponenten!V93)","v":""},{"$f":"IF(ISBLANK(DatenKomponenten!W93),\"\",DatenKomponenten!W93)","v":""},{"$f":"IF(ISBLANK(DatenKomponenten!X93),\"\",DatenKomponenten!X93)","v":""},{"$f":"IF(ISBLANK(DatenKomponenten!Y93),\"\",DatenKomponenten!Y93)","v":""},{"$f":"IF(ISBLANK(DatenKomponenten!Z93),\"\",DatenKomponenten!Z93)","v":""},{"$f":"IF(ISBLANK(DatenKomponenten!AA93),\"\",DatenKomponenten!AA93)","v":""},{"$f":"IF(ISBLANK(DatenKomponenten!AB93),\"\",DatenKomponenten!AB93)","v":""},{"$f":"IF(ISBLANK(DatenKomponenten!AC93),\"\",DatenKomponenten!AC93)","v":""},{"$f":"IF(ISBLANK(DatenKomponenten!AD93),\"\",DatenKomponenten!AD93)","v":""},{"$f":"IF(ISBLANK(DatenKomponenten!AE93),\"\",DatenKomponenten!AE93)","v":""},{"$f":"IF(ISBLANK(DatenKomponenten!AF93),\"\",DatenKomponenten!AF93)","v":""},{"$f":"IF(ISBLANK(DatenKomponenten!AG93),\"\",DatenKomponenten!AG93)","v":""},{"$f":"IF(ISBLANK(DatenKomponenten!AH93),\"\",DatenKomponenten!AH93)","v":""},{"$f":"IF(ISBLANK(DatenKomponenten!AI93),\"\",DatenKomponenten!AI93)","v":""},{"$f":"IF(ISBLANK(DatenKomponenten!AJ93),\"\",DatenKomponenten!AJ93)","v":""},{"$f":"IF(ISBLANK(DatenKomponenten!AK93),\"\",DatenKomponenten!AK93)","v":""},{"$f":"IF(ISBLANK(DatenKomponenten!AL93),\"\",DatenKomponenten!AL93)","v":""},{"$f":"IF(ISBLANK(DatenKomponenten!AM93),\"\",DatenKomponenten!AM93)","v":""},{"$f":"IF(ISBLANK(DatenKomponenten!AN93),\"\",DatenKomponenten!AN93)","v":""},{"$f":"IF(ISBLANK(DatenKomponenten!AO93),\"\",DatenKomponenten!AO93)","v":""},{"$f":"IF(ISBLANK(DatenKomponenten!AP93),\"\",DatenKomponenten!AP93)","v":""},{"$f":"IF(ISBLANK(DatenKomponenten!AQ93),\"\",DatenKomponenten!AQ93)","v":""},{"$f":"IF(ISBLANK(DatenKomponenten!AR93),\"\",DatenKomponenten!AR93)","v":""},{"$f":"IF(ISBLANK(DatenKomponenten!AS93),\"\",DatenKomponenten!AS93)","v":""},{"$f":"IF(ISBLANK(DatenKomponenten!AT93),\"\",DatenKomponenten!AT93)","v":""},{"$f":"IF(ISBLANK(DatenKomponenten!AU93),\"\",DatenKomponenten!AU93)","v":""},{"$f":"IF(ISBLANK(DatenKomponenten!AV93),\"\",DatenKomponenten!AV93)","v":""},{"$f":"IF(ISBLANK(DatenKomponenten!AW93),\"\",DatenKomponenten!AW93)","v":""},{"$f":"IF(ISBLANK(DatenKomponenten!AX93),\"\",DatenKomponenten!AX93)","v":""},{"$f":"IF(ISBLANK(DatenKomponenten!AY93),\"\",DatenKomponenten!AY93)","v":""},{"$f":"IF(ISBLANK(DatenKomponenten!AZ93),\"\",DatenKomponenten!AZ93)","v":""}]
[{"$f":"IF(ISBLANK(DatenKomponenten!A94),\"\",DatenKomponenten!A94)","v":""},{"$f":"IF(ISBLANK(DatenKomponenten!B94),\"\",DatenKomponenten!B94)","v":""},{"$f":"IF(ISBLANK(DatenKomponenten!C94),\"\",DatenKomponenten!C94)","v":""},{"$f":"IF(ISBLANK(DatenKomponenten!D94),\"\",DatenKomponenten!D94)","v":""},{"$f":"IF(ISBLANK(DatenKomponenten!E94),\"\",DatenKomponenten!E94)","v":""},{"$f":"IF(ISBLANK(DatenKomponenten!F94),\"\",DatenKomponenten!F94)","v":""},{"$f":"IF(ISBLANK(DatenKomponenten!G94),\"\",DatenKomponenten!G94)","v":""},{"$f":"IF(ISBLANK(DatenKomponenten!H94),\"\",DatenKomponenten!H94)","v":""},{"$f":"IF(ISBLANK(DatenKomponenten!I94),\"\",DatenKomponenten!I94)","v":""},{"$f":"IF(ISBLANK(DatenKomponenten!J94),\"\",DatenKomponenten!J94)","v":""},{"$f":"IF(ISBLANK(DatenKomponenten!K94),\"\",DatenKomponenten!K94)","v":""},{"$f":"IF(ISBLANK(DatenKomponenten!L94),\"\",DatenKomponenten!L94)","v":""},{"$f":"IF(ISBLANK(DatenKomponenten!M94),\"\",DatenKomponenten!M94)","v":""},{"$f":"IF(ISBLANK(DatenKomponenten!N94),\"\",DatenKomponenten!N94)","v":""},{"$f":"IF(ISBLANK(DatenKomponenten!O94),\"\",DatenKomponenten!O94)","v":""},{"$f":"IF(ISBLANK(DatenKomponenten!P94),\"\",DatenKomponenten!P94)","v":""},{"$f":"IF(ISBLANK(DatenKomponenten!Q94),\"\",DatenKomponenten!Q94)","v":""},{"$f":"IF(ISBLANK(DatenKomponenten!R94),\"\",DatenKomponenten!R94)","v":""},{"$f":"IF(ISBLANK(DatenKomponenten!S94),\"\",DatenKomponenten!S94)","v":""},{"$f":"IF(ISBLANK(DatenKomponenten!T94),\"\",DatenKomponenten!T94)","v":""},{"$f":"IF(ISBLANK(DatenKomponenten!U94),\"\",DatenKomponenten!U94)","v":""},{"$f":"IF(ISBLANK(DatenKomponenten!V94),\"\",DatenKomponenten!V94)","v":""},{"$f":"IF(ISBLANK(DatenKomponenten!W94),\"\",DatenKomponenten!W94)","v":""},{"$f":"IF(ISBLANK(DatenKomponenten!X94),\"\",DatenKomponenten!X94)","v":""},{"$f":"IF(ISBLANK(DatenKomponenten!Y94),\"\",DatenKomponenten!Y94)","v":""},{"$f":"IF(ISBLANK(DatenKomponenten!Z94),\"\",DatenKomponenten!Z94)","v":""},{"$f":"IF(ISBLANK(DatenKomponenten!AA94),\"\",DatenKomponenten!AA94)","v":""},{"$f":"IF(ISBLANK(DatenKomponenten!AB94),\"\",DatenKomponenten!AB94)","v":""},{"$f":"IF(ISBLANK(DatenKomponenten!AC94),\"\",DatenKomponenten!AC94)","v":""},{"$f":"IF(ISBLANK(DatenKomponenten!AD94),\"\",DatenKomponenten!AD94)","v":""},{"$f":"IF(ISBLANK(DatenKomponenten!AE94),\"\",DatenKomponenten!AE94)","v":""},{"$f":"IF(ISBLANK(DatenKomponenten!AF94),\"\",DatenKomponenten!AF94)","v":""},{"$f":"IF(ISBLANK(DatenKomponenten!AG94),\"\",DatenKomponenten!AG94)","v":""},{"$f":"IF(ISBLANK(DatenKomponenten!AH94),\"\",DatenKomponenten!AH94)","v":""},{"$f":"IF(ISBLANK(DatenKomponenten!AI94),\"\",DatenKomponenten!AI94)","v":""},{"$f":"IF(ISBLANK(DatenKomponenten!AJ94),\"\",DatenKomponenten!AJ94)","v":""},{"$f":"IF(ISBLANK(DatenKomponenten!AK94),\"\",DatenKomponenten!AK94)","v":""},{"$f":"IF(ISBLANK(DatenKomponenten!AL94),\"\",DatenKomponenten!AL94)","v":""},{"$f":"IF(ISBLANK(DatenKomponenten!AM94),\"\",DatenKomponenten!AM94)","v":""},{"$f":"IF(ISBLANK(DatenKomponenten!AN94),\"\",DatenKomponenten!AN94)","v":""},{"$f":"IF(ISBLANK(DatenKomponenten!AO94),\"\",DatenKomponenten!AO94)","v":""},{"$f":"IF(ISBLANK(DatenKomponenten!AP94),\"\",DatenKomponenten!AP94)","v":""},{"$f":"IF(ISBLANK(DatenKomponenten!AQ94),\"\",DatenKomponenten!AQ94)","v":""},{"$f":"IF(ISBLANK(DatenKomponenten!AR94),\"\",DatenKomponenten!AR94)","v":""},{"$f":"IF(ISBLANK(DatenKomponenten!AS94),\"\",DatenKomponenten!AS94)","v":""},{"$f":"IF(ISBLANK(DatenKomponenten!AT94),\"\",DatenKomponenten!AT94)","v":""},{"$f":"IF(ISBLANK(DatenKomponenten!AU94),\"\",DatenKomponenten!AU94)","v":""},{"$f":"IF(ISBLANK(DatenKomponenten!AV94),\"\",DatenKomponenten!AV94)","v":""},{"$f":"IF(ISBLANK(DatenKomponenten!AW94),\"\",DatenKomponenten!AW94)","v":""},{"$f":"IF(ISBLANK(DatenKomponenten!AX94),\"\",DatenKomponenten!AX94)","v":""},{"$f":"IF(ISBLANK(DatenKomponenten!AY94),\"\",DatenKomponenten!AY94)","v":""},{"$f":"IF(ISBLANK(DatenKomponenten!AZ94),\"\",DatenKomponenten!AZ94)","v":""}]
[{"$f":"IF(ISBLANK(DatenKomponenten!A95),\"\",DatenKomponenten!A95)","v":""},{"$f":"IF(ISBLANK(DatenKomponenten!B95),\"\",DatenKomponenten!B95)","v":""},{"$f":"IF(ISBLANK(DatenKomponenten!C95),\"\",DatenKomponenten!C95)","v":""},{"$f":"IF(ISBLANK(DatenKomponenten!D95),\"\",DatenKomponenten!D95)","v":""},{"$f":"IF(ISBLANK(DatenKomponenten!E95),\"\",DatenKomponenten!E95)","v":""},{"$f":"IF(ISBLANK(DatenKomponenten!F95),\"\",DatenKomponenten!F95)","v":""},{"$f":"IF(ISBLANK(DatenKomponenten!G95),\"\",DatenKomponenten!G95)","v":""},{"$f":"IF(ISBLANK(DatenKomponenten!H95),\"\",DatenKomponenten!H95)","v":""},{"$f":"IF(ISBLANK(DatenKomponenten!I95),\"\",DatenKomponenten!I95)","v":""},{"$f":"IF(ISBLANK(DatenKomponenten!J95),\"\",DatenKomponenten!J95)","v":""},{"$f":"IF(ISBLANK(DatenKomponenten!K95),\"\",DatenKomponenten!K95)","v":""},{"$f":"IF(ISBLANK(DatenKomponenten!L95),\"\",DatenKomponenten!L95)","v":""},{"$f":"IF(ISBLANK(DatenKomponenten!M95),\"\",DatenKomponenten!M95)","v":""},{"$f":"IF(ISBLANK(DatenKomponenten!N95),\"\",DatenKomponenten!N95)","v":""},{"$f":"IF(ISBLANK(DatenKomponenten!O95),\"\",DatenKomponenten!O95)","v":""},{"$f":"IF(ISBLANK(DatenKomponenten!P95),\"\",DatenKomponenten!P95)","v":""},{"$f":"IF(ISBLANK(DatenKomponenten!Q95),\"\",DatenKomponenten!Q95)","v":""},{"$f":"IF(ISBLANK(DatenKomponenten!R95),\"\",DatenKomponenten!R95)","v":""},{"$f":"IF(ISBLANK(DatenKomponenten!S95),\"\",DatenKomponenten!S95)","v":""},{"$f":"IF(ISBLANK(DatenKomponenten!T95),\"\",DatenKomponenten!T95)","v":""},{"$f":"IF(ISBLANK(DatenKomponenten!U95),\"\",DatenKomponenten!U95)","v":""},{"$f":"IF(ISBLANK(DatenKomponenten!V95),\"\",DatenKomponenten!V95)","v":""},{"$f":"IF(ISBLANK(DatenKomponenten!W95),\"\",DatenKomponenten!W95)","v":""},{"$f":"IF(ISBLANK(DatenKomponenten!X95),\"\",DatenKomponenten!X95)","v":""},{"$f":"IF(ISBLANK(DatenKomponenten!Y95),\"\",DatenKomponenten!Y95)","v":""},{"$f":"IF(ISBLANK(DatenKomponenten!Z95),\"\",DatenKomponenten!Z95)","v":""},{"$f":"IF(ISBLANK(DatenKomponenten!AA95),\"\",DatenKomponenten!AA95)","v":""},{"$f":"IF(ISBLANK(DatenKomponenten!AB95),\"\",DatenKomponenten!AB95)","v":""},{"$f":"IF(ISBLANK(DatenKomponenten!AC95),\"\",DatenKomponenten!AC95)","v":""},{"$f":"IF(ISBLANK(DatenKomponenten!AD95),\"\",DatenKomponenten!AD95)","v":""},{"$f":"IF(ISBLANK(DatenKomponenten!AE95),\"\",DatenKomponenten!AE95)","v":""},{"$f":"IF(ISBLANK(DatenKomponenten!AF95),\"\",DatenKomponenten!AF95)","v":""},{"$f":"IF(ISBLANK(DatenKomponenten!AG95),\"\",DatenKomponenten!AG95)","v":""},{"$f":"IF(ISBLANK(DatenKomponenten!AH95),\"\",DatenKomponenten!AH95)","v":""},{"$f":"IF(ISBLANK(DatenKomponenten!AI95),\"\",DatenKomponenten!AI95)","v":""},{"$f":"IF(ISBLANK(DatenKomponenten!AJ95),\"\",DatenKomponenten!AJ95)","v":""},{"$f":"IF(ISBLANK(DatenKomponenten!AK95),\"\",DatenKomponenten!AK95)","v":""},{"$f":"IF(ISBLANK(DatenKomponenten!AL95),\"\",DatenKomponenten!AL95)","v":""},{"$f":"IF(ISBLANK(DatenKomponenten!AM95),\"\",DatenKomponenten!AM95)","v":""},{"$f":"IF(ISBLANK(DatenKomponenten!AN95),\"\",DatenKomponenten!AN95)","v":""},{"$f":"IF(ISBLANK(DatenKomponenten!AO95),\"\",DatenKomponenten!AO95)","v":""},{"$f":"IF(ISBLANK(DatenKomponenten!AP95),\"\",DatenKomponenten!AP95)","v":""},{"$f":"IF(ISBLANK(DatenKomponenten!AQ95),\"\",DatenKomponenten!AQ95)","v":""},{"$f":"IF(ISBLANK(DatenKomponenten!AR95),\"\",DatenKomponenten!AR95)","v":""},{"$f":"IF(ISBLANK(DatenKomponenten!AS95),\"\",DatenKomponenten!AS95)","v":""},{"$f":"IF(ISBLANK(DatenKomponenten!AT95),\"\",DatenKomponenten!AT95)","v":""},{"$f":"IF(ISBLANK(DatenKomponenten!AU95),\"\",DatenKomponenten!AU95)","v":""},{"$f":"IF(ISBLANK(DatenKomponenten!AV95),\"\",DatenKomponenten!AV95)","v":""},{"$f":"IF(ISBLANK(DatenKomponenten!AW95),\"\",DatenKomponenten!AW95)","v":""},{"$f":"IF(ISBLANK(DatenKomponenten!AX95),\"\",DatenKomponenten!AX95)","v":""},{"$f":"IF(ISBLANK(DatenKomponenten!AY95),\"\",DatenKomponenten!AY95)","v":""},{"$f":"IF(ISBLANK(DatenKomponenten!AZ95),\"\",DatenKomponenten!AZ95)","v":""}]
[{"$f":"IF(ISBLANK(DatenKomponenten!A96),\"\",DatenKomponenten!A96)","v":""},{"$f":"IF(ISBLANK(DatenKomponenten!B96),\"\",DatenKomponenten!B96)","v":""},{"$f":"IF(ISBLANK(DatenKomponenten!C96),\"\",DatenKomponenten!C96)","v":""},{"$f":"IF(ISBLANK(DatenKomponenten!D96),\"\",DatenKomponenten!D96)","v":""},{"$f":"IF(ISBLANK(DatenKomponenten!E96),\"\",DatenKomponenten!E96)","v":""},{"$f":"IF(ISBLANK(DatenKomponenten!F96),\"\",DatenKomponenten!F96)","v":""},{"$f":"IF(ISBLANK(DatenKomponenten!G96),\"\",DatenKomponenten!G96)","v":""},{"$f":"IF(ISBLANK(DatenKomponenten!H96),\"\",DatenKomponenten!H96)","v":""},{"$f":"IF(ISBLANK(DatenKomponenten!I96),\"\",DatenKomponenten!I96)","v":""},{"$f":"IF(ISBLANK(DatenKomponenten!J96),\"\",DatenKomponenten!J96)","v":""},{"$f":"IF(ISBLANK(DatenKomponenten!K96),\"\",DatenKomponenten!K96)","v":""},{"$f":"IF(ISBLANK(DatenKomponenten!L96),\"\",DatenKomponenten!L96)","v":""},{"$f":"IF(ISBLANK(DatenKomponenten!M96),\"\",DatenKomponenten!M96)","v":""},{"$f":"IF(ISBLANK(DatenKomponenten!N96),\"\",DatenKomponenten!N96)","v":""},{"$f":"IF(ISBLANK(DatenKomponenten!O96),\"\",DatenKomponenten!O96)","v":""},{"$f":"IF(ISBLANK(DatenKomponenten!P96),\"\",DatenKomponenten!P96)","v":""},{"$f":"IF(ISBLANK(DatenKomponenten!Q96),\"\",DatenKomponenten!Q96)","v":""},{"$f":"IF(ISBLANK(DatenKomponenten!R96),\"\",DatenKomponenten!R96)","v":""},{"$f":"IF(ISBLANK(DatenKomponenten!S96),\"\",DatenKomponenten!S96)","v":""},{"$f":"IF(ISBLANK(DatenKomponenten!T96),\"\",DatenKomponenten!T96)","v":""},{"$f":"IF(ISBLANK(DatenKomponenten!U96),\"\",DatenKomponenten!U96)","v":""},{"$f":"IF(ISBLANK(DatenKomponenten!V96),\"\",DatenKomponenten!V96)","v":""},{"$f":"IF(ISBLANK(DatenKomponenten!W96),\"\",DatenKomponenten!W96)","v":""},{"$f":"IF(ISBLANK(DatenKomponenten!X96),\"\",DatenKomponenten!X96)","v":""},{"$f":"IF(ISBLANK(DatenKomponenten!Y96),\"\",DatenKomponenten!Y96)","v":""},{"$f":"IF(ISBLANK(DatenKomponenten!Z96),\"\",DatenKomponenten!Z96)","v":""},{"$f":"IF(ISBLANK(DatenKomponenten!AA96),\"\",DatenKomponenten!AA96)","v":""},{"$f":"IF(ISBLANK(DatenKomponenten!AB96),\"\",DatenKomponenten!AB96)","v":""},{"$f":"IF(ISBLANK(DatenKomponenten!AC96),\"\",DatenKomponenten!AC96)","v":""},{"$f":"IF(ISBLANK(DatenKomponenten!AD96),\"\",DatenKomponenten!AD96)","v":""},{"$f":"IF(ISBLANK(DatenKomponenten!AE96),\"\",DatenKomponenten!AE96)","v":""},{"$f":"IF(ISBLANK(DatenKomponenten!AF96),\"\",DatenKomponenten!AF96)","v":""},{"$f":"IF(ISBLANK(DatenKomponenten!AG96),\"\",DatenKomponenten!AG96)","v":""},{"$f":"IF(ISBLANK(DatenKomponenten!AH96),\"\",DatenKomponenten!AH96)","v":""},{"$f":"IF(ISBLANK(DatenKomponenten!AI96),\"\",DatenKomponenten!AI96)","v":""},{"$f":"IF(ISBLANK(DatenKomponenten!AJ96),\"\",DatenKomponenten!AJ96)","v":""},{"$f":"IF(ISBLANK(DatenKomponenten!AK96),\"\",DatenKomponenten!AK96)","v":""},{"$f":"IF(ISBLANK(DatenKomponenten!AL96),\"\",DatenKomponenten!AL96)","v":""},{"$f":"IF(ISBLANK(DatenKomponenten!AM96),\"\",DatenKomponenten!AM96)","v":""},{"$f":"IF(ISBLANK(DatenKomponenten!AN96),\"\",DatenKomponenten!AN96)","v":""},{"$f":"IF(ISBLANK(DatenKomponenten!AO96),\"\",DatenKomponenten!AO96)","v":""},{"$f":"IF(ISBLANK(DatenKomponenten!AP96),\"\",DatenKomponenten!AP96)","v":""},{"$f":"IF(ISBLANK(DatenKomponenten!AQ96),\"\",DatenKomponenten!AQ96)","v":""},{"$f":"IF(ISBLANK(DatenKomponenten!AR96),\"\",DatenKomponenten!AR96)","v":""},{"$f":"IF(ISBLANK(DatenKomponenten!AS96),\"\",DatenKomponenten!AS96)","v":""},{"$f":"IF(ISBLANK(DatenKomponenten!AT96),\"\",DatenKomponenten!AT96)","v":""},{"$f":"IF(ISBLANK(DatenKomponenten!AU96),\"\",DatenKomponenten!AU96)","v":""},{"$f":"IF(ISBLANK(DatenKomponenten!AV96),\"\",DatenKomponenten!AV96)","v":""},{"$f":"IF(ISBLANK(DatenKomponenten!AW96),\"\",DatenKomponenten!AW96)","v":""},{"$f":"IF(ISBLANK(DatenKomponenten!AX96),\"\",DatenKomponenten!AX96)","v":""},{"$f":"IF(ISBLANK(DatenKomponenten!AY96),\"\",DatenKomponenten!AY96)","v":""},{"$f":"IF(ISBLANK(DatenKomponenten!AZ96),\"\",DatenKomponenten!AZ96)","v":""}]
[{"$f":"IF(ISBLANK(DatenKomponenten!A97),\"\",DatenKomponenten!A97)","v":""},{"$f":"IF(ISBLANK(DatenKomponenten!B97),\"\",DatenKomponenten!B97)","v":""},{"$f":"IF(ISBLANK(DatenKomponenten!C97),\"\",DatenKomponenten!C97)","v":""},{"$f":"IF(ISBLANK(DatenKomponenten!D97),\"\",DatenKomponenten!D97)","v":""},{"$f":"IF(ISBLANK(DatenKomponenten!E97),\"\",DatenKomponenten!E97)","v":""},{"$f":"IF(ISBLANK(DatenKomponenten!F97),\"\",DatenKomponenten!F97)","v":""},{"$f":"IF(ISBLANK(DatenKomponenten!G97),\"\",DatenKomponenten!G97)","v":""},{"$f":"IF(ISBLANK(DatenKomponenten!H97),\"\",DatenKomponenten!H97)","v":""},{"$f":"IF(ISBLANK(DatenKomponenten!I97),\"\",DatenKomponenten!I97)","v":""},{"$f":"IF(ISBLANK(DatenKomponenten!J97),\"\",DatenKomponenten!J97)","v":""},{"$f":"IF(ISBLANK(DatenKomponenten!K97),\"\",DatenKomponenten!K97)","v":""},{"$f":"IF(ISBLANK(DatenKomponenten!L97),\"\",DatenKomponenten!L97)","v":""},{"$f":"IF(ISBLANK(DatenKomponenten!M97),\"\",DatenKomponenten!M97)","v":""},{"$f":"IF(ISBLANK(DatenKomponenten!N97),\"\",DatenKomponenten!N97)","v":""},{"$f":"IF(ISBLANK(DatenKomponenten!O97),\"\",DatenKomponenten!O97)","v":""},{"$f":"IF(ISBLANK(DatenKomponenten!P97),\"\",DatenKomponenten!P97)","v":""},{"$f":"IF(ISBLANK(DatenKomponenten!Q97),\"\",DatenKomponenten!Q97)","v":""},{"$f":"IF(ISBLANK(DatenKomponenten!R97),\"\",DatenKomponenten!R97)","v":""},{"$f":"IF(ISBLANK(DatenKomponenten!S97),\"\",DatenKomponenten!S97)","v":""},{"$f":"IF(ISBLANK(DatenKomponenten!T97),\"\",DatenKomponenten!T97)","v":""},{"$f":"IF(ISBLANK(DatenKomponenten!U97),\"\",DatenKomponenten!U97)","v":""},{"$f":"IF(ISBLANK(DatenKomponenten!V97),\"\",DatenKomponenten!V97)","v":""},{"$f":"IF(ISBLANK(DatenKomponenten!W97),\"\",DatenKomponenten!W97)","v":""},{"$f":"IF(ISBLANK(DatenKomponenten!X97),\"\",DatenKomponenten!X97)","v":""},{"$f":"IF(ISBLANK(DatenKomponenten!Y97),\"\",DatenKomponenten!Y97)","v":""},{"$f":"IF(ISBLANK(DatenKomponenten!Z97),\"\",DatenKomponenten!Z97)","v":""},{"$f":"IF(ISBLANK(DatenKomponenten!AA97),\"\",DatenKomponenten!AA97)","v":""},{"$f":"IF(ISBLANK(DatenKomponenten!AB97),\"\",DatenKomponenten!AB97)","v":""},{"$f":"IF(ISBLANK(DatenKomponenten!AC97),\"\",DatenKomponenten!AC97)","v":""},{"$f":"IF(ISBLANK(DatenKomponenten!AD97),\"\",DatenKomponenten!AD97)","v":""},{"$f":"IF(ISBLANK(DatenKomponenten!AE97),\"\",DatenKomponenten!AE97)","v":""},{"$f":"IF(ISBLANK(DatenKomponenten!AF97),\"\",DatenKomponenten!AF97)","v":""},{"$f":"IF(ISBLANK(DatenKomponenten!AG97),\"\",DatenKomponenten!AG97)","v":""},{"$f":"IF(ISBLANK(DatenKomponenten!AH97),\"\",DatenKomponenten!AH97)","v":""},{"$f":"IF(ISBLANK(DatenKomponenten!AI97),\"\",DatenKomponenten!AI97)","v":""},{"$f":"IF(ISBLANK(DatenKomponenten!AJ97),\"\",DatenKomponenten!AJ97)","v":""},{"$f":"IF(ISBLANK(DatenKomponenten!AK97),\"\",DatenKomponenten!AK97)","v":""},{"$f":"IF(ISBLANK(DatenKomponenten!AL97),\"\",DatenKomponenten!AL97)","v":""},{"$f":"IF(ISBLANK(DatenKomponenten!AM97),\"\",DatenKomponenten!AM97)","v":""},{"$f":"IF(ISBLANK(DatenKomponenten!AN97),\"\",DatenKomponenten!AN97)","v":""},{"$f":"IF(ISBLANK(DatenKomponenten!AO97),\"\",DatenKomponenten!AO97)","v":""},{"$f":"IF(ISBLANK(DatenKomponenten!AP97),\"\",DatenKomponenten!AP97)","v":""},{"$f":"IF(ISBLANK(DatenKomponenten!AQ97),\"\",DatenKomponenten!AQ97)","v":""},{"$f":"IF(ISBLANK(DatenKomponenten!AR97),\"\",DatenKomponenten!AR97)","v":""},{"$f":"IF(ISBLANK(DatenKomponenten!AS97),\"\",DatenKomponenten!AS97)","v":""},{"$f":"IF(ISBLANK(DatenKomponenten!AT97),\"\",DatenKomponenten!AT97)","v":""},{"$f":"IF(ISBLANK(DatenKomponenten!AU97),\"\",DatenKomponenten!AU97)","v":""},{"$f":"IF(ISBLANK(DatenKomponenten!AV97),\"\",DatenKomponenten!AV97)","v":""},{"$f":"IF(ISBLANK(DatenKomponenten!AW97),\"\",DatenKomponenten!AW97)","v":""},{"$f":"IF(ISBLANK(DatenKomponenten!AX97),\"\",DatenKomponenten!AX97)","v":""},{"$f":"IF(ISBLANK(DatenKomponenten!AY97),\"\",DatenKomponenten!AY97)","v":""},{"$f":"IF(ISBLANK(DatenKomponenten!AZ97),\"\",DatenKomponenten!AZ97)","v":""}]
[{"$f":"IF(ISBLANK(DatenKomponenten!A98),\"\",DatenKomponenten!A98)","v":""},{"$f":"IF(ISBLANK(DatenKomponenten!B98),\"\",DatenKomponenten!B98)","v":""},{"$f":"IF(ISBLANK(DatenKomponenten!C98),\"\",DatenKomponenten!C98)","v":""},{"$f":"IF(ISBLANK(DatenKomponenten!D98),\"\",DatenKomponenten!D98)","v":""},{"$f":"IF(ISBLANK(DatenKomponenten!E98),\"\",DatenKomponenten!E98)","v":""},{"$f":"IF(ISBLANK(DatenKomponenten!F98),\"\",DatenKomponenten!F98)","v":""},{"$f":"IF(ISBLANK(DatenKomponenten!G98),\"\",DatenKomponenten!G98)","v":""},{"$f":"IF(ISBLANK(DatenKomponenten!H98),\"\",DatenKomponenten!H98)","v":""},{"$f":"IF(ISBLANK(DatenKomponenten!I98),\"\",DatenKomponenten!I98)","v":""},{"$f":"IF(ISBLANK(DatenKomponenten!J98),\"\",DatenKomponenten!J98)","v":""},{"$f":"IF(ISBLANK(DatenKomponenten!K98),\"\",DatenKomponenten!K98)","v":""},{"$f":"IF(ISBLANK(DatenKomponenten!L98),\"\",DatenKomponenten!L98)","v":""},{"$f":"IF(ISBLANK(DatenKomponenten!M98),\"\",DatenKomponenten!M98)","v":""},{"$f":"IF(ISBLANK(DatenKomponenten!N98),\"\",DatenKomponenten!N98)","v":""},{"$f":"IF(ISBLANK(DatenKomponenten!O98),\"\",DatenKomponenten!O98)","v":""},{"$f":"IF(ISBLANK(DatenKomponenten!P98),\"\",DatenKomponenten!P98)","v":""},{"$f":"IF(ISBLANK(DatenKomponenten!Q98),\"\",DatenKomponenten!Q98)","v":""},{"$f":"IF(ISBLANK(DatenKomponenten!R98),\"\",DatenKomponenten!R98)","v":""},{"$f":"IF(ISBLANK(DatenKomponenten!S98),\"\",DatenKomponenten!S98)","v":""},{"$f":"IF(ISBLANK(DatenKomponenten!T98),\"\",DatenKomponenten!T98)","v":""},{"$f":"IF(ISBLANK(DatenKomponenten!U98),\"\",DatenKomponenten!U98)","v":""},{"$f":"IF(ISBLANK(DatenKomponenten!V98),\"\",DatenKomponenten!V98)","v":""},{"$f":"IF(ISBLANK(DatenKomponenten!W98),\"\",DatenKomponenten!W98)","v":""},{"$f":"IF(ISBLANK(DatenKomponenten!X98),\"\",DatenKomponenten!X98)","v":""},{"$f":"IF(ISBLANK(DatenKomponenten!Y98),\"\",DatenKomponenten!Y98)","v":""},{"$f":"IF(ISBLANK(DatenKomponenten!Z98),\"\",DatenKomponenten!Z98)","v":""},{"$f":"IF(ISBLANK(DatenKomponenten!AA98),\"\",DatenKomponenten!AA98)","v":""},{"$f":"IF(ISBLANK(DatenKomponenten!AB98),\"\",DatenKomponenten!AB98)","v":""},{"$f":"IF(ISBLANK(DatenKomponenten!AC98),\"\",DatenKomponenten!AC98)","v":""},{"$f":"IF(ISBLANK(DatenKomponenten!AD98),\"\",DatenKomponenten!AD98)","v":""},{"$f":"IF(ISBLANK(DatenKomponenten!AE98),\"\",DatenKomponenten!AE98)","v":""},{"$f":"IF(ISBLANK(DatenKomponenten!AF98),\"\",DatenKomponenten!AF98)","v":""},{"$f":"IF(ISBLANK(DatenKomponenten!AG98),\"\",DatenKomponenten!AG98)","v":""},{"$f":"IF(ISBLANK(DatenKomponenten!AH98),\"\",DatenKomponenten!AH98)","v":""},{"$f":"IF(ISBLANK(DatenKomponenten!AI98),\"\",DatenKomponenten!AI98)","v":""},{"$f":"IF(ISBLANK(DatenKomponenten!AJ98),\"\",DatenKomponenten!AJ98)","v":""},{"$f":"IF(ISBLANK(DatenKomponenten!AK98),\"\",DatenKomponenten!AK98)","v":""},{"$f":"IF(ISBLANK(DatenKomponenten!AL98),\"\",DatenKomponenten!AL98)","v":""},{"$f":"IF(ISBLANK(DatenKomponenten!AM98),\"\",DatenKomponenten!AM98)","v":""},{"$f":"IF(ISBLANK(DatenKomponenten!AN98),\"\",DatenKomponenten!AN98)","v":""},{"$f":"IF(ISBLANK(DatenKomponenten!AO98),\"\",DatenKomponenten!AO98)","v":""},{"$f":"IF(ISBLANK(DatenKomponenten!AP98),\"\",DatenKomponenten!AP98)","v":""},{"$f":"IF(ISBLANK(DatenKomponenten!AQ98),\"\",DatenKomponenten!AQ98)","v":""},{"$f":"IF(ISBLANK(DatenKomponenten!AR98),\"\",DatenKomponenten!AR98)","v":""},{"$f":"IF(ISBLANK(DatenKomponenten!AS98),\"\",DatenKomponenten!AS98)","v":""},{"$f":"IF(ISBLANK(DatenKomponenten!AT98),\"\",DatenKomponenten!AT98)","v":""},{"$f":"IF(ISBLANK(DatenKomponenten!AU98),\"\",DatenKomponenten!AU98)","v":""},{"$f":"IF(ISBLANK(DatenKomponenten!AV98),\"\",DatenKomponenten!AV98)","v":""},{"$f":"IF(ISBLANK(DatenKomponenten!AW98),\"\",DatenKomponenten!AW98)","v":""},{"$f":"IF(ISBLANK(DatenKomponenten!AX98),\"\",DatenKomponenten!AX98)","v":""},{"$f":"IF(ISBLANK(DatenKomponenten!AY98),\"\",DatenKomponenten!AY98)","v":""},{"$f":"IF(ISBLANK(DatenKomponenten!AZ98),\"\",DatenKomponenten!AZ98)","v":""}]
[{"$f":"IF(ISBLANK(DatenKomponenten!A99),\"\",DatenKomponenten!A99)","v":""},{"$f":"IF(ISBLANK(DatenKomponenten!B99),\"\",DatenKomponenten!B99)","v":""},{"$f":"IF(ISBLANK(DatenKomponenten!C99),\"\",DatenKomponenten!C99)","v":""},{"$f":"IF(ISBLANK(DatenKomponenten!D99),\"\",DatenKomponenten!D99)","v":""},{"$f":"IF(ISBLANK(DatenKomponenten!E99),\"\",DatenKomponenten!E99)","v":""},{"$f":"IF(ISBLANK(DatenKomponenten!F99),\"\",DatenKomponenten!F99)","v":""},{"$f":"IF(ISBLANK(DatenKomponenten!G99),\"\",DatenKomponenten!G99)","v":""},{"$f":"IF(ISBLANK(DatenKomponenten!H99),\"\",DatenKomponenten!H99)","v":""},{"$f":"IF(ISBLANK(DatenKomponenten!I99),\"\",DatenKomponenten!I99)","v":""},{"$f":"IF(ISBLANK(DatenKomponenten!J99),\"\",DatenKomponenten!J99)","v":""},{"$f":"IF(ISBLANK(DatenKomponenten!K99),\"\",DatenKomponenten!K99)","v":""},{"$f":"IF(ISBLANK(DatenKomponenten!L99),\"\",DatenKomponenten!L99)","v":""},{"$f":"IF(ISBLANK(DatenKomponenten!M99),\"\",DatenKomponenten!M99)","v":""},{"$f":"IF(ISBLANK(DatenKomponenten!N99),\"\",DatenKomponenten!N99)","v":""},{"$f":"IF(ISBLANK(DatenKomponenten!O99),\"\",DatenKomponenten!O99)","v":""},{"$f":"IF(ISBLANK(DatenKomponenten!P99),\"\",DatenKomponenten!P99)","v":""},{"$f":"IF(ISBLANK(DatenKomponenten!Q99),\"\",DatenKomponenten!Q99)","v":""},{"$f":"IF(ISBLANK(DatenKomponenten!R99),\"\",DatenKomponenten!R99)","v":""},{"$f":"IF(ISBLANK(DatenKomponenten!S99),\"\",DatenKomponenten!S99)","v":""},{"$f":"IF(ISBLANK(DatenKomponenten!T99),\"\",DatenKomponenten!T99)","v":""},{"$f":"IF(ISBLANK(DatenKomponenten!U99),\"\",DatenKomponenten!U99)","v":""},{"$f":"IF(ISBLANK(DatenKomponenten!V99),\"\",DatenKomponenten!V99)","v":""},{"$f":"IF(ISBLANK(DatenKomponenten!W99),\"\",DatenKomponenten!W99)","v":""},{"$f":"IF(ISBLANK(DatenKomponenten!X99),\"\",DatenKomponenten!X99)","v":""},{"$f":"IF(ISBLANK(DatenKomponenten!Y99),\"\",DatenKomponenten!Y99)","v":""},{"$f":"IF(ISBLANK(DatenKomponenten!Z99),\"\",DatenKomponenten!Z99)","v":""},{"$f":"IF(ISBLANK(DatenKomponenten!AA99),\"\",DatenKomponenten!AA99)","v":""},{"$f":"IF(ISBLANK(DatenKomponenten!AB99),\"\",DatenKomponenten!AB99)","v":""},{"$f":"IF(ISBLANK(DatenKomponenten!AC99),\"\",DatenKomponenten!AC99)","v":""},{"$f":"IF(ISBLANK(DatenKomponenten!AD99),\"\",DatenKomponenten!AD99)","v":""},{"$f":"IF(ISBLANK(DatenKomponenten!AE99),\"\",DatenKomponenten!AE99)","v":""},{"$f":"IF(ISBLANK(DatenKomponenten!AF99),\"\",DatenKomponenten!AF99)","v":""},{"$f":"IF(ISBLANK(DatenKomponenten!AG99),\"\",DatenKomponenten!AG99)","v":""},{"$f":"IF(ISBLANK(DatenKomponenten!AH99),\"\",DatenKomponenten!AH99)","v":""},{"$f":"IF(ISBLANK(DatenKomponenten!AI99),\"\",DatenKomponenten!AI99)","v":""},{"$f":"IF(ISBLANK(DatenKomponenten!AJ99),\"\",DatenKomponenten!AJ99)","v":""},{"$f":"IF(ISBLANK(DatenKomponenten!AK99),\"\",DatenKomponenten!AK99)","v":""},{"$f":"IF(ISBLANK(DatenKomponenten!AL99),\"\",DatenKomponenten!AL99)","v":""},{"$f":"IF(ISBLANK(DatenKomponenten!AM99),\"\",DatenKomponenten!AM99)","v":""},{"$f":"IF(ISBLANK(DatenKomponenten!AN99),\"\",DatenKomponenten!AN99)","v":""},{"$f":"IF(ISBLANK(DatenKomponenten!AO99),\"\",DatenKomponenten!AO99)","v":""},{"$f":"IF(ISBLANK(DatenKomponenten!AP99),\"\",DatenKomponenten!AP99)","v":""},{"$f":"IF(ISBLANK(DatenKomponenten!AQ99),\"\",DatenKomponenten!AQ99)","v":""},{"$f":"IF(ISBLANK(DatenKomponenten!AR99),\"\",DatenKomponenten!AR99)","v":""},{"$f":"IF(ISBLANK(DatenKomponenten!AS99),\"\",DatenKomponenten!AS99)","v":""},{"$f":"IF(ISBLANK(DatenKomponenten!AT99),\"\",DatenKomponenten!AT99)","v":""},{"$f":"IF(ISBLANK(DatenKomponenten!AU99),\"\",DatenKomponenten!AU99)","v":""},{"$f":"IF(ISBLANK(DatenKomponenten!AV99),\"\",DatenKomponenten!AV99)","v":""},{"$f":"IF(ISBLANK(DatenKomponenten!AW99),\"\",DatenKomponenten!AW99)","v":""},{"$f":"IF(ISBLANK(DatenKomponenten!AX99),\"\",DatenKomponenten!AX99)","v":""},{"$f":"IF(ISBLANK(DatenKomponenten!AY99),\"\",DatenKomponenten!AY99)","v":""},{"$f":"IF(ISBLANK(DatenKomponenten!AZ99),\"\",DatenKomponenten!AZ99)","v":""}]
[{"$f":"IF(ISBLANK(DatenKomponenten!A100),\"\",DatenKomponenten!A100)","v":""},{"$f":"IF(ISBLANK(DatenKomponenten!B100),\"\",DatenKomponenten!B100)","v":""},{"$f":"IF(ISBLANK(DatenKomponenten!C100),\"\",DatenKomponenten!C100)","v":""},{"$f":"IF(ISBLANK(DatenKomponenten!D100),\"\",DatenKomponenten!D100)","v":""},{"$f":"IF(ISBLANK(DatenKomponenten!E100),\"\",DatenKomponenten!E100)","v":""},{"$f":"IF(ISBLANK(DatenKomponenten!F100),\"\",DatenKomponenten!F100)","v":""},{"$f":"IF(ISBLANK(DatenKomponenten!G100),\"\",DatenKomponenten!G100)","v":""},{"$f":"IF(ISBLANK(DatenKomponenten!H100),\"\",DatenKomponenten!H100)","v":""},{"$f":"IF(ISBLANK(DatenKomponenten!I100),\"\",DatenKomponenten!I100)","v":""},{"$f":"IF(ISBLANK(DatenKomponenten!J100),\"\",DatenKomponenten!J100)","v":""},{"$f":"IF(ISBLANK(DatenKomponenten!K100),\"\",DatenKomponenten!K100)","v":""},{"$f":"IF(ISBLANK(DatenKomponenten!L100),\"\",DatenKomponenten!L100)","v":""},{"$f":"IF(ISBLANK(DatenKomponenten!M100),\"\",DatenKomponenten!M100)","v":""},{"$f":"IF(ISBLANK(DatenKomponenten!N100),\"\",DatenKomponenten!N100)","v":""},{"$f":"IF(ISBLANK(DatenKomponenten!O100),\"\",DatenKomponenten!O100)","v":""},{"$f":"IF(ISBLANK(DatenKomponenten!P100),\"\",DatenKomponenten!P100)","v":""},{"$f":"IF(ISBLANK(DatenKomponenten!Q100),\"\",DatenKomponenten!Q100)","v":""},{"$f":"IF(ISBLANK(DatenKomponenten!R100),\"\",DatenKomponenten!R100)","v":""},{"$f":"IF(ISBLANK(DatenKomponenten!S100),\"\",DatenKomponenten!S100)","v":""},{"$f":"IF(ISBLANK(DatenKomponenten!T100),\"\",DatenKomponenten!T100)","v":""},{"$f":"IF(ISBLANK(DatenKomponenten!U100),\"\",DatenKomponenten!U100)","v":""},{"$f":"IF(ISBLANK(DatenKomponenten!V100),\"\",DatenKomponenten!V100)","v":""},{"$f":"IF(ISBLANK(DatenKomponenten!W100),\"\",DatenKomponenten!W100)","v":""},{"$f":"IF(ISBLANK(DatenKomponenten!X100),\"\",DatenKomponenten!X100)","v":""},{"$f":"IF(ISBLANK(DatenKomponenten!Y100),\"\",DatenKomponenten!Y100)","v":""},{"$f":"IF(ISBLANK(DatenKomponenten!Z100),\"\",DatenKomponenten!Z100)","v":""},{"$f":"IF(ISBLANK(DatenKomponenten!AA100),\"\",DatenKomponenten!AA100)","v":""},{"$f":"IF(ISBLANK(DatenKomponenten!AB100),\"\",DatenKomponenten!AB100)","v":""},{"$f":"IF(ISBLANK(DatenKomponenten!AC100),\"\",DatenKomponenten!AC100)","v":""},{"$f":"IF(ISBLANK(DatenKomponenten!AD100),\"\",DatenKomponenten!AD100)","v":""},{"$f":"IF(ISBLANK(DatenKomponenten!AE100),\"\",DatenKomponenten!AE100)","v":""},{"$f":"IF(ISBLANK(DatenKomponenten!AF100),\"\",DatenKomponenten!AF100)","v":""},{"$f":"IF(ISBLANK(DatenKomponenten!AG100),\"\",DatenKomponenten!AG100)","v":""},{"$f":"IF(ISBLANK(DatenKomponenten!AH100),\"\",DatenKomponenten!AH100)","v":""},{"$f":"IF(ISBLANK(DatenKomponenten!AI100),\"\",DatenKomponenten!AI100)","v":""},{"$f":"IF(ISBLANK(DatenKomponenten!AJ100),\"\",DatenKomponenten!AJ100)","v":""},{"$f":"IF(ISBLANK(DatenKomponenten!AK100),\"\",DatenKomponenten!AK100)","v":""},{"$f":"IF(ISBLANK(DatenKomponenten!AL100),\"\",DatenKomponenten!AL100)","v":""},{"$f":"IF(ISBLANK(DatenKomponenten!AM100),\"\",DatenKomponenten!AM100)","v":""},{"$f":"IF(ISBLANK(DatenKomponenten!AN100),\"\",DatenKomponenten!AN100)","v":""},{"$f":"IF(ISBLANK(DatenKomponenten!AO100),\"\",DatenKomponenten!AO100)","v":""},{"$f":"IF(ISBLANK(DatenKomponenten!AP100),\"\",DatenKomponenten!AP100)","v":""},{"$f":"IF(ISBLANK(DatenKomponenten!AQ100),\"\",DatenKomponenten!AQ100)","v":""},{"$f":"IF(ISBLANK(DatenKomponenten!AR100),\"\",DatenKomponenten!AR100)","v":""},{"$f":"IF(ISBLANK(DatenKomponenten!AS100),\"\",DatenKomponenten!AS100)","v":""},{"$f":"IF(ISBLANK(DatenKomponenten!AT100),\"\",DatenKomponenten!AT100)","v":""},{"$f":"IF(ISBLANK(DatenKomponenten!AU100),\"\",DatenKomponenten!AU100)","v":""},{"$f":"IF(ISBLANK(DatenKomponenten!AV100),\"\",DatenKomponenten!AV100)","v":""},{"$f":"IF(ISBLANK(DatenKomponenten!AW100),\"\",DatenKomponenten!AW100)","v":""},{"$f":"IF(ISBLANK(DatenKomponenten!AX100),\"\",DatenKomponenten!AX100)","v":""},{"$f":"IF(ISBLANK(DatenKomponenten!AY100),\"\",DatenKomponenten!AY100)","v":""},{"$f":"IF(ISBLANK(DatenKomponenten!AZ100),\"\",DatenKomponenten!AZ100)","v":""}]

{"sheet":"Daten","index":4,"n_rows":326,"n_cols":67,"rows_kept":326,"cut":false,"hidden":false,"merged":[]}
["Speiseplan","2 Hort/Schule"]
["Kalenderwoche",6]
["DatumVon","2025-02-03"]
["DatumBis","2025-02-09"]
["Legende","1 - mit Farbstoff, 2 - mit Konservierungsst, 3 - mit Antioxidationsmi, 4 - mit Geschmacksverstä, 5 - mit Süßungsmittel, 6 - mit Phosphat, 7 - gewachst, 8 - geschwärzt , 9 - geschwefelt, 10 - mit einer Zuckerart , 11 - coffeinhaltig, 12 - chininhaltig, 44 - mit Jodsalz","a - enth. Gluten, b - enth. Krebstiere, c - enth. Ei, d - enth. Fisch, e - enth. Erdnüsse, f - enth. Soja (gen-tech, g - enth. Milch einschl., h - enth. Schalenfrüchte, i - enth. Sellerie, j - enth. Senf , k - enth. Sesam, l - enth. Schwefeldioxid, m - enth. Lupinen, n - enth. Weichtiere, o - enth. Weizen, p - enth. Roggen, q - enth. Gerste, r - enth. Hafer, s - enth. Dinkel, t - enth. Kamut, u - enth. Mandeln, v - enth. Haselnuss, w - enth. Walnuss, x - enth. Cashewnuss, y - enth. Pekannuss, z - enth. Paranuss, aa - enth. Pistazie, ab - enth. Macadamianuss","30 - enth. eine Phenyl, 31 - mit Schwein oder tier. Fett, 32 - kann bei übermäßigem, 33 - unter Schutzatmosphä, 34 - mit Milcheiweiß, 35 - mit Geflügelfleischa, 36 - auf der Grundlage von Tafelsüße, 37 - mit Alkohol, 38 - bestrahlt oder m. ionisierenden Strahlen behandelt, 39 - aus gentech. veränderten Lebensmitteln hergestellt, 40 - gentechnisch verändert, 41 - mit erhöhtem Tauringehalt, 42 - mit Stärke oder Pflanzenstärke, 43 - z. T. fein zerkleine, 45 - Kann Aktivität und Aufmerksamkeit bei Kindern beeinträchtigen, 46 - mit Nitritpökelsalz, 47 - mit Eiklar, 48 - mit kakaohaltiger Fettglasur, 49 - mit Knoblauch, 50 - Rindfleisch, 51 - Geflügel, 52 - andere Fleischsorte, 53 - Fisch, 54 - aus Fleischstücken zusammengefügt, 55 - aus Fischstücken zusammengefügt, 56 - enth. Glutamat, 57 - enth. Koriander, 58 - enth. Karotte, 59 - enth. Gemüse, 60 - enth. Hühnchenfleisch, 61 - enth. Mais, 62 - unter Verwendung von Sahne, 63 - enth. Molkeneiweiß, 64 - mit Milchpulver, 65 - enth. Pflanzeneiweiß, 66 - unter Verwendung von Milch,  - enth. Persipan,  -  - ,  -  - ,  -  - ,  -  - ,  -  - ,  - mit Sauerstoff unter Hochdruck farbstabilisiert,  - enth. Süßholz,  -  - ,  -  - ,  - Enth. Süßholz. Bei hohem Blutdruck sollte ein übermäßiger Verzehr vermieden werden.,  - Erhöhter Koffeingehalt. Für Kinder und schwangere oder stillende Frauen nicht empfohlen.,  -  - ,  -  - ,  - mit zugesetzten Pflanzensterinen,  - aufgetaut,  -  - ,  - enth. Zutatenersatz,  -  - ,  -  - ,  - enth. zugesetzte Eiweiße,  - zugesetztes Wasser > 5%,  -  - ,  -  - ,  - Wursthülle ist nicht zum Verzehr geeignet,  - Enth. Koffein. Für Kinder und schwangere Frauen nicht empfohlen.,  -  - ,  -  - ,  -  - ,  -  - ,  -  - ,  -  - ,  -  - ,  -  - ,  -  - ,  -  - ,  -  - ,  -  - ,  -  - ,  -  - ,  -  - ,  -  - ,  -  - "]
["Anzahl Inhaltsstoffe",26]
["Bezeichnung Inhaltsstoffe","Energie (Kilokalorien)","Energie (Kilojoule)","Broteinheiten","Eiweiß (Protein)","Fett","Kohlenhydrate, resorbierbare","Cholesterin","mehrfach ungesättigte Fettsäuren","gesättigte Fettsäuren","Einfach ungesättigte Fettsäuren","Kalium","Natrium","Ballaststoffe","Harnsäure","Vitamin E   - Tocopheroläquivalent","Vitamin B1  - Thiamin","Vitamin C   - Ascorbinsäure","Calcium","Magnesium","Eisen","Jod","Disaccharide (2 M)","Octadecadiensäure / Linolsäure","Octadecatriensäure / Linolensäure","Zucker (gesamt)","Gesamt Kochsalz"]
["Anzahl Menülinien",5]
["Bez./Sort. Menülinien","Menü 1","Menü 2 Vegetarisch","Ausflüge","Xtra 1","Xtra 2"]
["Exportversion",8,"Kategorie in Fußnote aufnehmen","Zusatzstoffe","Allergene","Informationen","Sprache"]
["Exportmodus",1,null,1,1,1,"Deutsch"]
[]
[]
["Die Daten müssen alphabetisch nach Menülinien sortiert ohne Leerzeilen innerhalb eines Tages vorliegen! Sortierung für die Anzeige wird über Zeile 9 hergestellt!"]
["Montag","2025-02-03",null,"Preise","Wareneinsatz wurde auf Basis Aktueller Einkaufspreis berechnet.","Sollzahl","Istzahl","Datei (klein)","Datei (groß)","Menücode","Nährwerte vollständig (0|1)","Zusatzstoffe","Allergene","Informationen","Nährwertampel","Energie (Kilokalorien)",null,"Energie (Kilojoule)",null,"Broteinheiten",null,"Eiweiß (Protein)",null,"Fett",null,"Kohlenhydrate, resorbierbare",null,"Cholesterin",null,"mehrfach ungesättigte Fettsäuren",null,"gesättigte Fettsäuren",null,"Einfach ungesättigte Fettsäuren",null,"Kalium",null,"Natrium",null,"Ballaststoffe",null,"Harnsäure",null,"Vitamin E   - Tocopheroläquivalent",null,"Vitamin B1  - Thiamin",null,"Vitamin C   - Ascorbinsäure",null,"Calcium",null,"Magnesium",null,"Eisen",null,"Jod",null,"Disaccharide (2 M)",null,"Octadecadiensäure / Linolsäure",null,"Octadecatriensäure / Linolensäure",null,"Zucker (gesamt)",null,"Gesamt Kochsalz"]
["Ausflüge"," "," ",5.32,0.00,0,0,"","","",1," "," "," ",0]
["Menü 1","Möhreneintopf","\nMöhreneintopf mit Kartoffelwürfel und Petersilie\nRohkost aus der Salatbar und Äpfel #MBSg, 49MBS#\nKaiserschmarren mit Puderzucker #MBSa, c, g, oMBS#",5.32,1.58,130,0,"","","",0," ","a, c, g, o","49",3,467.20,"kcal",2105.80,"kJ",3.30,"BE",15.80,"g",14.70,"g",73.60,"g",214.70,"mg",2.40,"g",4.00,"g",6.20,"g",770.90,"mg",787.50,"mg",6.30,"g",51.10,"mg",2.80,"mg",178.90,"µg",39.00,"mg",181.20,"mg",56.00,"mg",3.60,"mg",27.00,"µg",8.20,"g",1.70,"g",521.40,"mg"," ","mg",2.00,"g"]
["Menü 2 Vegetarisch","Menü 1 ist vegetarisch","Menü 1 ist vegetarisch",5.32,0.00,0,0,"","","",1," "," "," ",0]
["Xtra 1","Talentcampus 41 (10)","Talentcampus 41 (10)",4.05,0.00,0,0,"","","",1," "," "," ",0]
["Xtra 2"," "," ",5.32,0.00,0,0,"","","",1," "," "," ",0]
[]
[]
[]
[]
[]
[]
[]
[]
[]
[]
[]
[]
[]
[]
[]
[]
[]
[]
[]
[]
[]
[]
[]
[]
[]
[]
[]
[]
[]
[]
[]
[]
[]
[]
[]
[]
[]
[]
[]
[]
[]
[]
[]
[]
[]
["Dienstag","2025-02-04"]
["Ausflüge"," "," ",5.32,0.00,0,0,"","","",1," "," "," ",0]
["Menü 1","Schichtkohl mit Rinderhackfleisch und Salzkartoffeln","\nGeschmorter Weißkohl in Bratensoße mit Rinderhackfleisch\nKartoffeln\nRohkost aus der Salatbar mit Möhrensalat #MBSg, 49MBS#\nfrisches Obst",5.32,1.47,120,0,"","","",0," ","g","49",3,330.50,"kcal",1383.60,"kJ",4.30,"BE",16.50,"g",5.80,"g",51.30,"g",35.20,"mg",1.50,"g",1.30,"g",2.90,"g",1.50,"g",461.30,"mg",8.70,"g",129.50,"mg",2.60,"mg",418.50,"µg",73.90,"mg",75.40,"mg",99.20,"mg",3.30,"mg",17.60,"µg",11.60,"g",1.00,"g",428.50,"mg"," ","mg",1.10,"g"]
["Menü 2 Vegetarisch","Schichtkohl mit Bulgur und Salzkartoffeln","\nGeschmorter Weißkohl in Bratensoße mit Bulgur #MBSa, oMBS#\nKartoffeln\nRohkost aus der Salatbar mit Möhrensalat #MBSg, 49MBS#\nfrisches Obst",5.32,0.86,10,0,"","","",0," ","a, g, o","49",3,309.10,"kcal",1295.90,"kJ",4.80,"BE",6.90,"g",4.40,"g",58.10,"g",154.00,"µg",1.50,"g",698.30,"mg",2.00,"g",1.30,"g",428.90,"mg",9.70,"g",76.40,"mg",2.50,"mg",333.50,"µg",73.90,"mg",75.90,"mg",102.30,"mg",2.70,"mg",17.80,"µg",11.70,"g",1.00,"g",413.90,"mg"," ","mg",1.10,"g"]
["Xtra 1","Talentcampus 41 (10)","Talentcampus 41 (10)",4.05,0.00,0,0,"","","",1," "," "," ",0]
["Xtra 2"," "," ",5.32,0.00,0,0,"","","",1," "," "," ",0]
[]
[]
[]
[]
[]
[]
[]
[]
[]
[]
[]
[]
[]
[]
[]
[]
[]
[]
[]
[]
[]
[]
[]
[]
[]
[]
[]
[]
[]
[]
[]
[]
[]
[]
[]
[]
[]
[]
[]
[]
[]
[]
[]
[]
[]
["Mittwoch","2025-02-05"]
["Ausflüge"," "," ",5.32,0.00,0,0,"","","",1," "," "," ",0]
["Menü 1","Spinatspätzle mit Frischkäsesoße","\nSpätzle mit Blattspinat #MBSaMBS#\nhelle Schnittlauchsoße #MBSgMBS#\ngeriebener Gouda #MBS66MBS#\nRohkost aus der Salatbar mit griechischem Bauernsalat #MBSg, 49MBS#",5.32,1.05,130,0,"","","",0," ","a, g","49, 66",3,349.70,"kcal",1460.90,"kJ",1.90,"BE",14.30,"g",20.30,"g",26.80,"g",83.10,"mg",2.40,"g",9.60,"g",7.10,"g",577.00,"mg",703.80,"mg",2.90,"g",39.80,"mg",2.40,"mg",117.10,"µg",19.20,"mg",349.20,"mg",47.90,"mg",2.40,"mg",25.00,"µg",5.50,"g",1.60,"g",723.80,"mg"," ","mg",1.80,"g"]
["Menü 2 Vegetarisch","Menü 1 ist vegetarisch","Menü 1 ist vegetarisch",5.32,0.00,0,0,"","","",1," "," "," ",0]
["Xtra 1","Talentcampus 41 (10)","Talentcampus 41 (10)",4.05,0.00,0,0,"","","",1," "," "," ",0]
["Xtra 2"," "," ",5.32,0.00,0,0,"","","",1," "," "," ",0]
[]
[]
[]
[]
[]
[]
[]
[]
[]
[]
[]
[]
[]
[]
[]
[]
[]
[]
[]
[]
[]
[]
[]
[]
[]
[]
[]
[]
[]
[]
[]
[]
[]
[]
[]
[]
[]
[]
[]
[]
[]
[]
[]
[]
[]
["Donnerstag","2025-02-06"]
["Ausflüge"," "," ",5.32,0.00,0,0,"","","",1," "," "," ",0]
["Menü 1","Fischcurry mit Kokosreis","\nFruchtiges Fischcurry mit buntem Gemüse #MBSdMBS#\nKokosreis\nRohkost aus der Salatbar mit Gurkensalat #MBSg, 49MBS#",5.32,1.05,120,0,"","","",0," ","d, g","49",3,461.80,"kcal",1933.40,"kJ",4.20,"BE",13.60,"g",22.80,"g",49.70,"g",76.30,"mg",4.80,"g",7.60,"g",8.70,"g",572.90,"mg",312.10,"mg",5.00,"g",134.90,"mg",3.40,"mg",333.50,"µg",36.80,"mg",76.90,"mg",64.50,"mg",3.60,"mg",12.70,"µg",5.90,"g",3.00,"g",1.20,"g"," ","mg",1.20,"g"]
["Menü 2 Vegetarisch","Blumenkohlcurry mit Kokosreis","\nFruchtiges Blumenkohlcurry mit buntem Gemüse #MBSgMBS#\nKokosreis\nRohkost aus der Salatbar mit Gurkensalat #MBSg, 49MBS#",5.32,0.85,10,0,"","","",0," ","g","49",3,491.90,"kcal",2059.70,"kJ",4.40,"BE",10.70,"g",26.20,"g",52.10,"g",355.00,"µg",5.80,"g",4.80,"g",13.90,"g",721.50,"mg",315.40,"mg",6.30,"g",113.30,"mg",4.20,"mg",388.10,"µg",67.60,"mg",138.70,"mg",112.30,"mg",4.20,"mg",11.30,"µg",7.90,"g",4.60,"g",1.10,"g"," ","mg",1.20,"g"]
["Xtra 1","Talentcampus 41 (10)","Talentcampus 41 (10)",4.05,0.00,0,0,"","","",1," "," "," ",0]
["Xtra 2"," "," ",5.32,0.00,0,0,"","","",1," "," "," ",0]
[]
[]
[]
[]
[]
[]
[]
[]
[]
[]
[]
[]
[]
[]
[]
[]
[]
[]
[]
[]
[]
[]
[]
[]
[]
[]
[]
[]
[]
[]
[]
[]
[]
[]
[]
[]
[]
[]
[]
[]
[]
[]
[]
[]
[]
["Freitag","2025-02-07"]
["Ausflüge"," "," ",5.32,0.00,0,0,"","","",1," "," "," ",0]
["Menü 1","Gekochtes Ei in leichter Senfsoße mit Kartoffelpüree (Kartoffeln*)","\ngekochtes Ei #MBScMBS#\nhelle Senfsoße #MBSa, g, i, oMBS#\nKartoffelpüree #MBSgMBS#\nRohkost aus der Salatbar mit Rote Betesalat #MBSd, g, 49MBS#",5.32,1.33,130,0,"","","",0," ","a, c, d, g, i, o","49",3,323.60,"kcal",1355.80,"kJ",3.00,"BE",13.80,"g",12.40,"g",37.90,"g",204.70,"mg",3.00,"g",2.90,"g",6.40,"g",1.10,"g",518.60,"mg",5.50,"g",46.50,"mg",2.70,"mg",290.10,"µg",35.30,"mg",139.60,"mg",64.20,"mg",2.50,"mg",18.10,"µg",5.80,"g",2.10,"g",767.80,"mg"," ","mg",1.40,"g"]
["Menü 2 Vegetarisch","Menü 1 ist vegetarisch","Menü 1 ist vegetarisch",5.32,0.00,0,0,"","","",1," "," "," ",0]
["Xtra 1","Talentcampus 41 (10)","Talentcampus 41 (10)",4.05,0.00,0,0,"","","",1," "," "," ",0]
["Xtra 2"," "," ",5.32,0.00,0,0,"","","",1," "," "," ",0]
[]
[]
[]
[]
[]
[]
[]
[]
[]
[]
[]
[]
[]
[]
[]
[]
[]
[]
[]
[]
[]
[]
[]
[]
[]
[]
[]
[]
[]
[]
[]
[]
[]
[]
[]
[]
[]
[]
[]
[]
[]
[]
[]
[]
[]
["Samstag","2025-02-08"]
["Ausflüge"," "," ",null,0.00,0,0,"","","",1," "," "," ",0]
["Menü 1"," "," ",null,0.00,0,0,"","","",1," "," "," ",0]
["Menü 2 Vegetarisch"," "," ",null,0.00,0,0,"","","",1," "," "," ",0]
["Xtra 1"," "," ",null,0.00,0,0,"","","",1," "," "," ",0]
["Xtra 2"," "," ",null,0.00,0,0,"","","",1," "," "," ",0]
[]
[]
[]
[]
[]
[]
[]
[]
[]
[]
[]
[]
[]
[]
[]
[]
[]
[]
[]
[]
[]
[]
[]
[]
[]
[]
[]
[]
[]
[]
[]
[]
[]
[]
[]
[]
[]
[]
[]
[]
[]
[]
[]
[]
[]
["Sonntag","2025-02-09"]
["Ausflüge"," "," ",null,0.00,0,0,"","","",1," "," "," ",0]
["Menü 1"," "," ",null,0.00,0,0,"","","",1," "," "," ",0]
["Menü 2 Vegetarisch"," "," ",null,0.00,0,0,"","","",1," "," "," ",0]
["Xtra 1"," "," ",null,0.00,0,0,"","","",1," "," "," ",0]
["Xtra 2"," "," ",null,0.00,0,0,"","","",1," "," "," ",0]

{"sheet":"DatenKomponenten","index":5,"n_rows":27,"n_cols":170,"rows_kept":27,"cut":false,"hidden":false,"merged":[]}
[]
["Datum","Menülinie","Artikel","Verkaufstext","Artikelnr.","Portion","Wareneinsatz","Sollzahl","Istzahl","Zusatzstoffe","Allergene","Informationen","Nährwertampel","Energie (Kilokalorien)","Energie (Kilojoule)","Broteinheiten","Eiweiß (Protein)","Fett","Kohlenhydrate, resorbierbare","Cholesterin","mehrfach ungesättigte Fettsäuren","gesättigte Fettsäuren","Einfach ungesättigte Fettsäuren","Kalium","Natrium","Ballaststoffe","Harnsäure","Vitamin E   - Tocopheroläquivalent","Vitamin B1  - Thiamin","Vitamin C   - Ascorbinsäure","Calcium","Magnesium","Eisen","Jod","mit Farbstoff","mit Konservierungsst","mit Antioxidationsmi","mit Geschmacksverstä","mit Süßungsmittel","mit Phosphat","gewachst","geschwärzt ","geschwefelt","mit einer Zuckerart ","coffeinhaltig","chininhaltig","enth. Gluten","enth. Krebstiere","enth. Ei","enth. Fisch","enth. Erdnüsse","enth. Soja (gen-tech","enth. Milch einschl.","enth. Schalenfrüchte","enth. Sellerie","enth. Senf ","enth. Sesam","enth. Schwefeldioxid","enth. Lupinen","enth. Weichtiere","enth. eine Phenyl","mit Schwein oder tier. Fett","kann bei übermäßigem","unter Schutzatmosphä","mit Milcheiweiß","mit Geflügelfleischa","auf der Grundlage von Tafelsüße","mit Alkohol","bestrahlt oder m. ionisierenden Strahlen behandelt","aus gentech. veränderten Lebensmitteln hergestellt","gentechnisch verändert","mit erhöhtem Tauringehalt","mit Stärke oder Pflanzenstärke","z. T. fein zerkleine","mit Jodsalz","Kann Aktivität und Aufmerksamkeit bei Kindern beeinträchtigen","Disaccharide (2 M)","Octadecadiensäure / Linolsäure","Octadecatriensäure / Linolensäure","mit Nitritpökelsalz","mit Eiklar","mit kakaohaltiger Fettglasur","mit Knoblauch","Rindfleisch","Geflügel","andere Fleischsorte","Fisch","aus Fleischstücken zusammengefügt","aus Fischstücken zusammengefügt","enth. Glutamat","enth. Koriander","enth. Karotte","enth. Gemüse","enth. Hühnchenfleisch","enth. Mais","unter Verwendung von Sahne","enth. Molkeneiweiß","mit Milchpulver","enth. Pflanzeneiweiß","unter Verwendung von Milch","Zucker (gesamt)","Gesamt Kochsalz","enth. Weizen","enth. Roggen","enth. Gerste","enth. Hafer","enth. Dinkel","enth. Kamut","enth. Mandeln","enth. Haselnuss","enth. Walnuss","enth. Cashewnuss","enth. Persipan"," - ","enth. Pekannuss","enth. Paranuss"," - "," - ","enth. Pistazie","enth. Macadamianuss"," - "," - ","mit Sauerstoff unter Hochdruck farbstabilisiert","enth. Süßholz"," - "," - ","Enth. Süßholz. Bei hohem Blutdruck sollte ein übermäßiger Verzehr vermieden werden.","Erhöhter Koffeingehalt. Für Kinder und schwangere oder stillende Frauen nicht empfohlen."," - "," - ","mit zugesetzten Pflanzensterinen","aufgetaut"," - ","enth. Zutatenersatz"," - "," - ","enth. zugesetzte Eiweiße","zugesetztes Wasser > 5%"," - "," - ","Wursthülle ist nicht zum Verzehr geeignet","Enth. Koffein. Für Kinder und schwangere Frauen nicht empfohlen."," - "," - "," - "," - "," - "," - "," - "," - "," - "," - "," - "," - "," - "," - "," - "," - "," - "," - "," - "," - "," - "," - "," - "," - "," - "," - "," - ",""]
["2025-02-03","Menü 1","Möhreneintopf","Möhreneintopf mit Kartoffelwürfel und Petersilie","1360070824","1,000 Prt",0.30,130,0,"","","",0,"29 kcal","264,7 kJ","0,9 BE","1,6 g","413,3 mg","11,7 g","","497,6 mg","99,7 mg","702,9 mg","432,8 mg","385,9 mg","3,7 g","28,2 mg","738,7 µg","77,1 µg","11,7 mg","57,7 mg","26,5 mg","1,7 mg","15,3 µg","unbekannt","unbekannt","unbekannt","unbekannt","unbekannt","unbekannt","unbekannt","unbekannt","unbekannt","unbekannt","unbekannt","unbekannt","unbekannt","unbekannt","unbekannt","unbekannt","unbekannt","unbekannt","unbekannt","unbekannt","unbekannt","unbekannt","unbekannt","unbekannt","unbekannt","unbekannt","unbekannt","unbekannt","unbekannt","unbekannt","unbekannt","unbekannt","unbekannt","unbekannt","unbekannt","unbekannt","unbekannt","unbekannt","unbekannt","unbekannt","unbekannt","unbekannt","2,2 g","427,5 mg","70,1 mg","unbekannt","unbekannt","unbekannt","unbekannt","unbekannt","unbekannt","unbekannt","unbekannt","unbekannt","unbekannt","unbekannt","unbekannt","unbekannt","unbekannt","unbekannt","unbekannt","unbekannt","unbekannt","unbekannt","unbekannt","unbekannt","","590,2 mg","unbekannt","unbekannt","unbekannt","unbekannt","unbekannt","unbekannt","unbekannt","unbekannt","unbekannt","unbekannt","unbekannt","unbekannt","unbekannt","unbekannt","unbekannt","unbekannt","unbekannt","unbekannt","unbekannt","unbekannt","unbekannt","unbekannt","unbekannt","unbekannt","unbekannt","unbekannt","unbekannt","unbekannt","unbekannt","unbekannt","unbekannt","unbekannt","unbekannt","unbekannt","unbekannt","unbekannt","unbekannt","unbekannt","unbekannt","unbekannt","unbekannt","unbekannt","unbekannt","unbekannt","unbekannt","unbekannt","unbekannt","unbekannt","unbekannt","unbekannt","unbekannt","unbekannt","unbekannt","unbekannt","unbekannt","unbekannt","unbekannt","","","","","","","","","","",""]
["2025-02-03","Menü 1","Salatbar gJ Gu/To/Pap/Äpfel","Rohkost aus der Salatbar und Äpfel","1360072964","1,000 Prt",0.26,130,0,"","g","49",0,"51,7 kcal","216,1 kJ","0,5 BE","698,9 mg","2,3 g","6,9 g","150 µg","738,5 mg","275,6 mg","1,1 g","149 mg","103,1 mg","1,6 g","10,9 mg","1,1 mg","37,3 µg","26,8 mg","14 mg","8,4 mg","483,4 µg","2 µg","unbekannt","unbekannt","unbekannt","unbekannt","unbekannt","unbekannt","unbekannt","unbekannt","unbekannt","unbekannt","unbekannt","unbekannt","unbekannt","unbekannt","unbekannt","unbekannt","unbekannt","unbekannt","X","unbekannt","unbekannt","unbekannt","unbekannt","unbekannt","unbekannt","unbekannt","unbekannt","unbekannt","unbekannt","unbekannt","unbekannt","unbekannt","unbekannt","unbekannt","unbekannt","unbekannt","unbekannt","unbekannt","unbekannt","unbekannt","unbekannt","unbekannt","1,8 g","521,5 mg","209,8 mg","unbekannt","unbekannt","unbekannt","X","unbekannt","unbekannt","unbekannt","unbekannt","unbekannt","unbekannt","unbekannt","unbekannt","unbekannt","unbekannt","unbekannt","unbekannt","unbekannt","unbekannt","unbekannt","unbekannt","unbekannt","","259,5 mg","unbekannt","unbekannt","unbekannt","unbekannt","unbekannt","unbekannt","unbekannt","unbekannt","unbekannt","unbekannt","unbekannt","unbekannt","unbekannt","unbekannt","unbekannt","unbekannt","unbekannt","unbekannt","unbekannt","unbekannt","unbekannt","unbekannt","unbekannt","unbekannt","unbekannt","unbekannt","unbekannt","unbekannt","unbekannt","unbekannt","unbekannt","unbekannt","unbekannt","unbekannt","unbekannt","unbekannt","unbekannt","unbekannt","unbekannt","unbekannt","unbekannt","unbekannt","unbekannt","unbekannt","unbekannt","unbekannt","unbekannt","unbekannt","unbekannt","unbekannt","unbekannt","unbekannt","unbekannt","unbekannt","unbekannt","unbekannt","unbekannt","","","","","","","","","","",""]
["2025-02-03","Menü 1","Kaiserschmarren ff","Kaiserschmarren mit Puderzucker","1360066282","1,000 Prt",1.03,130,0,"","a, c, g, o","",0,"386,6 kcal","1625 kJ","1,8 BE","13,5 g","12 g","55 g","214,5 mg","1,1 g","3,6 g","4,5 g","189 mg","298,5 mg","964,5 mg","12 mg","943,5 µg","64,5 µg","505,5 µg","109,5 mg","21 mg","1,4 mg","9,6 µg","","","","","","","","","","","","","X","","X","","","","X","","","","","","","","","unbekannt","","unbekannt","","unbekannt","unbekannt","","unbekannt","unbekannt","unbekannt","unbekannt","unbekannt","unbekannt","unbekannt","unbekannt","4,2 g","775,5 mg","241,5 mg","unbekannt","","unbekannt","unbekannt","unbekannt","unbekannt","unbekannt","unbekannt","unbekannt","unbekannt","unbekannt","unbekannt","unbekannt","unbekannt","unbekannt","unbekannt","","","","unbekannt","","21,1 g","1,2 g","X","","","","","","","","","","unbekannt","unbekannt","","","unbekannt","unbekannt","","","unbekannt","unbekannt","unbekannt","unbekannt","unbekannt","unbekannt","unbekannt","unbekannt","unbekannt","unbekannt","unbekannt","unbekannt","unbekannt","unbekannt","unbekannt","unbekannt","unbekannt","unbekannt","unbekannt","unbekannt","unbekannt","unbekannt","unbekannt","unbekannt","unbekannt","unbekannt","unbekannt","unbekannt","unbekannt","unbekannt","unbekannt","unbekannt","unbekannt","unbekannt","unbekannt","unbekannt","unbekannt","unbekannt","unbekannt","","","","","","","","","","",""]
["2025-02-04","Menü 1","geschmorter Weißkohl Rinderhack Kinder","Geschmorter Weißkohl in Bratensoße mit Rinderhackfleisch","1360072337","1,000 Prt",0.84,120,0,"","","",0,"107,2 kcal","447,2 kJ","0,5 BE","11,7 g","3,9 g","6,2 g","35 mg","898,5 mg","864,9 mg","2,1 g","342,9 mg","196,5 mg","2,2 g","75,9 mg","1,8 mg","152,4 µg","29,1 mg","43,3 mg","28,8 mg","1,6 mg","5,2 µg","unbekannt","unbekannt","unbekannt","unbekannt","unbekannt","unbekannt","unbekannt","unbekannt","unbekannt","unbekannt","unbekannt","unbekannt","unbekannt","unbekannt","unbekannt","unbekannt","unbekannt","unbekannt","unbekannt","unbekannt","unbekannt","unbekannt","unbekannt","unbekannt","unbekannt","unbekannt","unbekannt","unbekannt","unbekannt","unbekannt","unbekannt","unbekannt","unbekannt","unbekannt","unbekannt","unbekannt","unbekannt","unbekannt","unbekannt","unbekannt","unbekannt","unbekannt","3 g","589,7 mg","277 mg","unbekannt","unbekannt","unbekannt","unbekannt","unbekannt","unbekannt","unbekannt","unbekannt","unbekannt","unbekannt","unbekannt","unbekannt","unbekannt","unbekannt","unbekannt","unbekannt","unbekannt","unbekannt","unbekannt","unbekannt","unbekannt","","474,5 mg","unbekannt","unbekannt","unbekannt","unbekannt","unbekannt","unbekannt","unbekannt","unbekannt","unbekannt","unbekannt","unbekannt","unbekannt","unbekannt","unbekannt","unbekannt","unbekannt","unbekannt","unbekannt","unbekannt","unbekannt","unbekannt","unbekannt","unbekannt","unbekannt","unbekannt","unbekannt","unbekannt","unbekannt","unbekannt","unbekannt","unbekannt","unbekannt","unbekannt","unbekannt","unbekannt","unbekannt","unbekannt","unbekannt","unbekannt","unbekannt","unbekannt","unbekannt","unbekannt","unbekannt","unbekannt","unbekannt","unbekannt","unbekannt","unbekannt","unbekannt","unbekannt","unbekannt","unbekannt","unbekannt","unbekannt","unbekannt","unbekannt","","","","","","","","","","",""]
["2025-02-04","Menü 1","Kartoffeln Bio Kinder","Kartoffeln","1360063104","1,000 Prt",0.40,120,0,"","","",3,"138,9 kcal","583,7 kJ","2,3 BE","3,5 g","606 mg","28,9 g","35 µg","203,8 mg","254,2 mg","187,4 mg","765,1 mg","200,5 mg","4,2 g","29,8 mg","197,4 µg","204,1 µg","32,1 mg","13,6 mg","37,9 mg","772,3 µg","7,2 µg","","","","","","","","","","","","","","","","","","","","","","","","","unbekannt","unbekannt","","unbekannt","","unbekannt","","unbekannt","unbekannt","","unbekannt","unbekannt","unbekannt","unbekannt","unbekannt","unbekannt","unbekannt","unbekannt","547,6 mg","169,8 mg","34 mg","unbekannt","unbekannt","unbekannt","unbekannt","unbekannt","unbekannt","unbekannt","unbekannt","unbekannt","unbekannt","unbekannt","unbekannt","unbekannt","unbekannt","unbekannt","unbekannt","unbekannt","unbekannt","unbekannt","unbekannt","unbekannt","1,3 g","510,1 mg","unbekannt","unbekannt","unbekannt","unbekannt","unbekannt","unbekannt","unbekannt","unbekannt","unbekannt","unbekannt","unbekannt","unbekannt","unbekannt","unbekannt","unbekannt","unbekannt","unbekannt","unbekannt","unbekannt","unbekannt","unbekannt","unbekannt","unbekannt","unbekannt","unbekannt","unbekannt","unbekannt","unbekannt","unbekannt","unbekannt","unbekannt","unbekannt","unbekannt","unbekannt","unbekannt","unbekannt","unbekannt","unbekannt","unbekannt","unbekannt","unbekannt","unbekannt","unbekannt","unbekannt","unbekannt","unbekannt","unbekannt","unbekannt","unbekannt","unbekannt","unbekannt","unbekannt","unbekannt","unbekannt","unbekannt","unbekannt","unbekannt","","","","","","","","","","",""]
["2025-02-04","Menü 1","Salatbar gJ Mösa/To/Mais/Eisberg","Rohkost aus der Salatbar mit Möhrensalat","1360072965","1,000 Prt",0.11,120,0,"","g","49",0,"26 kcal","108,9 kJ","0,3 BE","568,9 mg","1,2 g","3,1 g","75 µg","375,6 mg","144,2 mg","553,2 mg","112,4 mg","63,7 mg","1 g","7,6 mg","420,2 µg","33,4 µg","4,9 mg","12,8 mg","9,2 mg","529,3 µg","3,4 µg","unbekannt","unbekannt","unbekannt","unbekannt","unbekannt","unbekannt","unbekannt","unbekannt","unbekannt","unbekannt","unbekannt","unbekannt","unbekannt","unbekannt","unbekannt","unbekannt","unbekannt","unbekannt","X","unbekannt","unbekannt","unbekannt","unbekannt","unbekannt","unbekannt","unbekannt","unbekannt","unbekannt","unbekannt","unbekannt","unbekannt","unbekannt","unbekannt","unbekannt","unbekannt","unbekannt","unbekannt","unbekannt","unbekannt","unbekannt","unbekannt","unbekannt","892,1 mg","274,1 mg","97,9 mg","unbekannt","unbekannt","unbekannt","X","unbekannt","unbekannt","unbekannt","unbekannt","unbekannt","unbekannt","unbekannt","unbekannt","unbekannt","unbekannt","unbekannt","unbekannt","unbekannt","unbekannt","unbekannt","unbekannt","unbekannt","","146,9 mg","unbekannt","unbekannt","unbekannt","unbekannt","unbekannt","unbekannt","unbekannt","unbekannt","unbekannt","unbekannt","unbekannt","unbekannt","unbekannt","unbekannt","unbekannt","unbekannt","unbekannt","unbekannt","unbekannt","unbekannt","unbekannt","unbekannt","unbekannt","unbekannt","unbekannt","unbekannt","unbekannt","unbekannt","unbekannt","unbekannt","unbekannt","unbekannt","unbekannt","unbekannt","unbekannt","unbekannt","unbekannt","unbekannt","unbekannt","unbekannt","unbekannt","unbekannt","unbekannt","unbekannt","unbekannt","unbekannt","unbekannt","unbekannt","unbekannt","unbekannt","unbekannt","unbekannt","unbekannt","unbekannt","unbekannt","unbekannt","unbekannt","","","","","","","","","","",""]
["2025-02-04","Menü 1","Banane halbe Bio Kinder","frisches Obst","1360073323","1,000 Prt",0.13,120,0,"","","",0,"58,5 kcal","243,8 kJ","1,2 BE","780 mg","130 mg","13 g","","34,5 mg","65 mg","15 mg","255,5 mg","650 µg","1,3 g","16,3 mg","175,5 µg","28,6 µg","7,8 mg","5,9 mg","23,4 mg","357,5 µg","1,8 µg","","","","","","","","","","","","","","","","","","","","","","","","","","","","unbekannt","","unbekannt","","unbekannt","unbekannt","","unbekannt","unbekannt","unbekannt","unbekannt","unbekannt","unbekannt","unbekannt","unbekannt","7,2 g","15 mg","19,5 mg","unbekannt","","unbekannt","unbekannt","unbekannt","unbekannt","unbekannt","unbekannt","unbekannt","unbekannt","unbekannt","unbekannt","unbekannt","unbekannt","unbekannt","unbekannt","","","","unbekannt","","11,2 g","2 mg","","","","","","","","","","","unbekannt","unbekannt","","","unbekannt","unbekannt","","","unbekannt","unbekannt","unbekannt","unbekannt","unbekannt","unbekannt","unbekannt","unbekannt","unbekannt","unbekannt","unbekannt","unbekannt","unbekannt","unbekannt","unbekannt","unbekannt","unbekannt","unbekannt","unbekannt","unbekannt","unbekannt","unbekannt","unbekannt","unbekannt","unbekannt","unbekannt","unbekannt","unbekannt","unbekannt","unbekannt","unbekannt","unbekannt","unbekannt","unbekannt","unbekannt","unbekannt","unbekannt","unbekannt","unbekannt","","","","","","","","","","",""]
["2025-02-04","Menü 2 Vegetarisch","geschmorter Weißkohl Bulgur Kinder","Geschmorter Weißkohl in Bratensoße mit Bulgur","1360072338","1,000 Prt",0.23,10,0,"","a, o","",0,"85,8 kcal","359,5 kJ","1,1 BE","2,1 g","2,5 g","13,1 g","44 µg","840,7 mg","234,9 mg","1,2 g","189,1 mg","164,1 mg","3,2 g","22,8 mg","1,7 mg","67,4 µg","29,1 mg","43,8 mg","31,9 mg","1 mg","5,5 µg","unbekannt","unbekannt","unbekannt","unbekannt","unbekannt","unbekannt","unbekannt","unbekannt","unbekannt","unbekannt","unbekannt","unbekannt","X","unbekannt","unbekannt","unbekannt","unbekannt","unbekannt","unbekannt","unbekannt","unbekannt","unbekannt","unbekannt","unbekannt","unbekannt","unbekannt","unbekannt","unbekannt","unbekannt","unbekannt","unbekannt","unbekannt","unbekannt","unbekannt","unbekannt","unbekannt","unbekannt","unbekannt","unbekannt","unbekannt","unbekannt","unbekannt","3,1 g","569,9 mg","262,4 mg","unbekannt","unbekannt","unbekannt","unbekannt","unbekannt","unbekannt","unbekannt","unbekannt","unbekannt","unbekannt","unbekannt","unbekannt","unbekannt","unbekannt","unbekannt","unbekannt","unbekannt","unbekannt","unbekannt","unbekannt","unbekannt","","425,8 mg","X","unbekannt","unbekannt","unbekannt","unbekannt","unbekannt","unbekannt","unbekannt","unbekannt","unbekannt","unbekannt","unbekannt","unbekannt","unbekannt","unbekannt","unbekannt","unbekannt","unbekannt","unbekannt","unbekannt","unbekannt","unbekannt","unbekannt","unbekannt","unbekannt","unbekannt","unbekannt","unbekannt","unbekannt","unbekannt","unbekannt","unbekannt","unbekannt","unbekannt","unbekannt","unbekannt","unbekannt","unbekannt","unbekannt","unbekannt","unbekannt","unbekannt","unbekannt","unbekannt","unbekannt","unbekannt","unbekannt","unbekannt","unbekannt","unbekannt","unbekannt","unbekannt","unbekannt","unbekannt","unbekannt","unbekannt","unbekannt","","","","","","","","","","",""]
["2025-02-04","Menü 2 Vegetarisch","Kartoffeln Bio Kinder","Kartoffeln","1360063104","1,000 Prt",0.40,10,0,"","","",3,"138,9 kcal","583,7 kJ","2,3 BE","3,5 g","606 mg","28,9 g","35 µg","203,8 mg","254,2 mg","187,4 mg","765,1 mg","200,5 mg","4,2 g","29,8 mg","197,4 µg","204,1 µg","32,1 mg","13,6 mg","37,9 mg","772,3 µg","7,2 µg","","","","","","","","","","","","","","","","","","","","","","","","","unbekannt","unbekannt","","unbekannt","","unbekannt","","unbekannt","unbekannt","","unbekannt","unbekannt","unbekannt","unbekannt","unbekannt","unbekannt","unbekannt","unbekannt","547,6 mg","169,8 mg","34 mg","unbekannt","unbekannt","unbekannt","unbekannt","unbekannt","unbekannt","unbekannt","unbekannt","unbekannt","unbekannt","unbekannt","unbekannt","unbekannt","unbekannt","unbekannt","unbekannt","unbekannt","unbekannt","unbekannt","unbekannt","unbekannt","1,3 g","510,1 mg","unbekannt","unbekannt","unbekannt","unbekannt","unbekannt","unbekannt","unbekannt","unbekannt","unbekannt","unbekannt","unbekannt","unbekannt","unbekannt","unbekannt","unbekannt","unbekannt","unbekannt","unbekannt","unbekannt","unbekannt","unbekannt","unbekannt","unbekannt","unbekannt","unbekannt","unbekannt","unbekannt","unbekannt","unbekannt","unbekannt","unbekannt","unbekannt","unbekannt","unbekannt","unbekannt","unbekannt","unbekannt","unbekannt","unbekannt","unbekannt","unbekannt","unbekannt","unbekannt","unbekannt","unbekannt","unbekannt","unbekannt","unbekannt","unbekannt","unbekannt","unbekannt","unbekannt","unbekannt","unbekannt","unbekannt","unbekannt","unbekannt","","","","","","","","","","",""]
["2025-02-04","Menü 2 Vegetarisch","Salatbar gJ Mösa/To/Mais/Eisberg","Rohkost aus der Salatbar mit Möhrensalat","1360072965","1,000 Prt",0.11,10,0,"","g","49",0,"26 kcal","108,9 kJ","0,3 BE","568,9 mg","1,2 g","3,1 g","75 µg","375,6 mg","144,2 mg","553,2 mg","112,4 mg","63,7 mg","1 g","7,6 mg","420,2 µg","33,4 µg","4,9 mg","12,8 mg","9,2 mg","529,3 µg","3,4 µg","unbekannt","unbekannt","unbekannt","unbekannt","unbekannt","unbekannt","unbekannt","unbekannt","unbekannt","unbekannt","unbekannt","unbekannt","unbekannt","unbekannt","unbekannt","unbekannt","unbekannt","unbekannt","X","unbekannt","unbekannt","unbekannt","unbekannt","unbekannt","unbekannt","unbekannt","unbekannt","unbekannt","unbekannt","unbekannt","unbekannt","unbekannt","unbekannt","unbekannt","unbekannt","unbekannt","unbekannt","unbekannt","unbekannt","unbekannt","unbekannt","unbekannt","892,1 mg","274,1 mg","97,9 mg","unbekannt","unbekannt","unbekannt","X","unbekannt","unbekannt","unbekannt","unbekannt","unbekannt","unbekannt","unbekannt","unbekannt","unbekannt","unbekannt","unbekannt","unbekannt","unbekannt","unbekannt","unbekannt","unbekannt","unbekannt","","146,9 mg","unbekannt","unbekannt","unbekannt","unbekannt","unbekannt","unbekannt","unbekannt","unbekannt","unbekannt","unbekannt","unbekannt","unbekannt","unbekannt","unbekannt","unbekannt","unbekannt","unbekannt","unbekannt","unbekannt","unbekannt","unbekannt","unbekannt","unbekannt","unbekannt","unbekannt","unbekannt","unbekannt","unbekannt","unbekannt","unbekannt","unbekannt","unbekannt","unbekannt","unbekannt","unbekannt","unbekannt","unbekannt","unbekannt","unbekannt","unbekannt","unbekannt","unbekannt","unbekannt","unbekannt","unbekannt","unbekannt","unbekannt","unbekannt","unbekannt","unbekannt","unbekannt","unbekannt","unbekannt","unbekannt","unbekannt","unbekannt","unbekannt","","","","","","","","","","",""]
["2025-02-04","Menü 2 Vegetarisch","Banane halbe Bio Kinder","frisches Obst","1360073323","1,000 Prt",0.13,10,0,"","","",0,"58,5 kcal","243,8 kJ","1,2 BE","780 mg","130 mg","13 g","","34,5 mg","65 mg","15 mg","255,5 mg","650 µg","1,3 g","16,3 mg","175,5 µg","28,6 µg","7,8 mg","5,9 mg","23,4 mg","357,5 µg","1,8 µg","","","","","","","","","","","","","","","","","","","","","","","","","","","","unbekannt","","unbekannt","","unbekannt","unbekannt","","unbekannt","unbekannt","unbekannt","unbekannt","unbekannt","unbekannt","unbekannt","unbekannt","7,2 g","15 mg","19,5 mg","unbekannt","","unbekannt","unbekannt","unbekannt","unbekannt","unbekannt","unbekannt","unbekannt","unbekannt","unbekannt","unbekannt","unbekannt","unbekannt","unbekannt","unbekannt","","","","unbekannt","","11,2 g","2 mg","","","","","","","","","","","unbekannt","unbekannt","","","unbekannt","unbekannt","","","unbekannt","unbekannt","unbekannt","unbekannt","unbekannt","unbekannt","unbekannt","unbekannt","unbekannt","unbekannt","unbekannt","unbekannt","unbekannt","unbekannt","unbekannt","unbekannt","unbekannt","unbekannt","unbekannt","unbekannt","unbekannt","unbekannt","unbekannt","unbekannt","unbekannt","unbekannt","unbekannt","unbekannt","unbekannt","unbekannt","unbekannt","unbekannt","unbekannt","unbekannt","unbekannt","unbekannt","unbekannt","unbekannt","unbekannt","","","","","","","","","","",""]
["2025-02-05","Menü 1","Spinatspätzle Bio Kinder","Spätzle mit Blattspinat","1360064018","1,000 Prt",0.35,130,0,"","a","",3,"119,7 kcal","501,5 kJ","1,3 BE","4,4 g","3,8 g","16,2 g","50,4 mg","995,6 mg","647,6 mg","1,7 g","227,9 mg","274,7 mg","1,8 g","28,6 mg","1,2 mg","46,3 µg","12,3 mg","57,6 mg","25,2 mg","1,8 mg","9,4 µg","unbekannt","unbekannt","unbekannt","unbekannt","unbekannt","unbekannt","unbekannt","unbekannt","unbekannt","unbekannt","unbekannt","unbekannt","X","unbekannt","unbekannt","unbekannt","unbekannt","unbekannt","unbekannt","unbekannt","unbekannt","unbekannt","unbekannt","unbekannt","unbekannt","unbekannt","unbekannt","unbekannt","unbekannt","unbekannt","unbekannt","unbekannt","unbekannt","unbekannt","unbekannt","unbekannt","unbekannt","unbekannt","unbekannt","unbekannt","unbekannt","unbekannt","224,1 mg","682,2 mg","279,9 mg","unbekannt","unbekannt","unbekannt","unbekannt","unbekannt","unbekannt","unbekannt","unbekannt","unbekannt","unbekannt","unbekannt","unbekannt","unbekannt","unbekannt","unbekannt","unbekannt","unbekannt","unbekannt","unbekannt","unbekannt","unbekannt","","677,1 mg","unbekannt","unbekannt","unbekannt","unbekannt","unbekannt","unbekannt","unbekannt","unbekannt","unbekannt","unbekannt","unbekannt","unbekannt","unbekannt","unbekannt","unbekannt","unbekannt","unbekannt","unbekannt","unbekannt","unbekannt","unbekannt","unbekannt","unbekannt","unbekannt","unbekannt","unbekannt","unbekannt","unbekannt","unbekannt","unbekannt","unbekannt","unbekannt","unbekannt","unbekannt","unbekannt","unbekannt","unbekannt","unbekannt","unbekannt","unbekannt","unbekannt","unbekannt","unbekannt","unbekannt","unbekannt","unbekannt","unbekannt","unbekannt","unbekannt","unbekannt","unbekannt","unbekannt","unbekannt","unbekannt","unbekannt","unbekannt","unbekannt","","","","","","","","","","",""]
["2025-02-05","Menü 1","Schnittlauchsoße","helle Schnittlauchsoße","1360070461","1,000 Prt",0.30,130,0,"","g","",0,"115,6 kcal","482,7 kJ","0,4 BE","4,1 g","7,5 g","8 g","19,9 mg","240,7 mg","4,8 g","1,9 g","227,1 mg","177,8 mg","209,1 mg","1,3 mg","155,8 µg","32,6 µg","2,3 mg","110,4 mg","6,6 mg","142,1 µg","5,9 µg","","","","","","","","","","","unbekannt","","","","","","","","X","","","","","","unbekannt","unbekannt","","unbekannt","","unbekannt","unbekannt","unbekannt","unbekannt","unbekannt","unbekannt","unbekannt","unbekannt","unbekannt","unbekannt","unbekannt","unbekannt","unbekannt","4,6 g","151,4 mg","89,3 mg","unbekannt","unbekannt","unbekannt","unbekannt","unbekannt","unbekannt","unbekannt","unbekannt","unbekannt","unbekannt","unbekannt","unbekannt","unbekannt","unbekannt","unbekannt","unbekannt","unbekannt","unbekannt","unbekannt","unbekannt","unbekannt","","526,6 mg","unbekannt","unbekannt","unbekannt","unbekannt","unbekannt","unbekannt","unbekannt","unbekannt","unbekannt","unbekannt","unbekannt","unbekannt","unbekannt","unbekannt","unbekannt","unbekannt","unbekannt","unbekannt","unbekannt","unbekannt","unbekannt","unbekannt","unbekannt","unbekannt","unbekannt","unbekannt","unbekannt","unbekannt","unbekannt","unbekannt","unbekannt","unbekannt","unbekannt","unbekannt","unbekannt","unbekannt","unbekannt","unbekannt","unbekannt","unbekannt","unbekannt","unbekannt","unbekannt","unbekannt","unbekannt","unbekannt","unbekannt","unbekannt","unbekannt","unbekannt","unbekannt","unbekannt","unbekannt","unbekannt","unbekannt","unbekannt","unbekannt","","","","","","","","","","",""]
["2025-02-05","Menü 1","Reibekäse Gouda","geriebener Gouda","1360066145","1,000 Prt",0.21,130,0,"","","66",0,"71,2 kcal","295,6 kJ","","4,8 g","5,6 g","400 mg","11,8 mg","215,2 mg","3,6 g","1,8 g","20 mg","120 mg","","2 mg","152 µg","8 µg","","160 mg","7,2 mg","60 µg","7 µg","","","","","","","","","","","","","","","","","","","","","","","","","","","","unbekannt","","unbekannt","","unbekannt","unbekannt","","unbekannt","unbekannt","unbekannt","unbekannt","unbekannt","unbekannt","unbekannt","unbekannt","","138 mg","77,2 mg","unbekannt","","unbekannt","unbekannt","unbekannt","unbekannt","unbekannt","unbekannt","unbekannt","unbekannt","unbekannt","unbekannt","unbekannt","unbekannt","unbekannt","unbekannt","","","","unbekannt","X","20 mg","300 mg","","","","","","","","","","","unbekannt","unbekannt","","","unbekannt","unbekannt","","","unbekannt","unbekannt","unbekannt","unbekannt","unbekannt","unbekannt","unbekannt","unbekannt","unbekannt","unbekannt","unbekannt","unbekannt","unbekannt","unbekannt","unbekannt","unbekannt","unbekannt","unbekannt","unbekannt","unbekannt","unbekannt","unbekannt","unbekannt","unbekannt","unbekannt","unbekannt","unbekannt","unbekannt","unbekannt","unbekannt","unbekannt","unbekannt","unbekannt","unbekannt","unbekannt","unbekannt","unbekannt","unbekannt","unbekannt","","","","","","","","","","",""]
["2025-02-05","Menü 1","Salatbar gJ Bausa/Mö/Mais","Rohkost aus der Salatbar mit griechischem Bauernsalat","1360072963","1,000 Prt",0.19,130,0,"","g","49",0,"43,2 kcal","181,2 kJ","0,2 BE","924,9 mg","3,4 g","2,1 g","1 mg","961,4 mg","544,8 mg","1,7 g","102 mg","131,4 mg","831,1 mg","7,8 mg","829,7 µg","30,2 µg","4,6 mg","21,3 mg","8,9 mg","405 µg","2,7 µg","unbekannt","unbekannt","unbekannt","unbekannt","unbekannt","unbekannt","unbekannt","unbekannt","unbekannt","unbekannt","unbekannt","unbekannt","unbekannt","unbekannt","unbekannt","unbekannt","unbekannt","unbekannt","X","unbekannt","unbekannt","unbekannt","unbekannt","unbekannt","unbekannt","unbekannt","unbekannt","unbekannt","unbekannt","unbekannt","unbekannt","unbekannt","unbekannt","unbekannt","unbekannt","unbekannt","unbekannt","unbekannt","unbekannt","unbekannt","unbekannt","unbekannt","587,8 mg","673,8 mg","277,4 mg","unbekannt","unbekannt","unbekannt","X","unbekannt","unbekannt","unbekannt","unbekannt","unbekannt","unbekannt","unbekannt","unbekannt","unbekannt","unbekannt","unbekannt","unbekannt","unbekannt","unbekannt","unbekannt","unbekannt","unbekannt","","312,2 mg","unbekannt","unbekannt","unbekannt","unbekannt","unbekannt","unbekannt","unbekannt","unbekannt","unbekannt","unbekannt","unbekannt","unbekannt","unbekannt","unbekannt","unbekannt","unbekannt","unbekannt","unbekannt","unbekannt","unbekannt","unbekannt","unbekannt","unbekannt","unbekannt","unbekannt","unbekannt","unbekannt","unbekannt","unbekannt","unbekannt","unbekannt","unbekannt","unbekannt","unbekannt","unbekannt","unbekannt","unbekannt","unbekannt","unbekannt","unbekannt","unbekannt","unbekannt","unbekannt","unbekannt","unbekannt","unbekannt","unbekannt","unbekannt","unbekannt","unbekannt","unbekannt","unbekannt","unbekannt","unbekannt","unbekannt","unbekannt","unbekannt","","","","","","","","","","",""]
["2025-02-06","Menü 1","Fischcurry Kinder","Fruchtiges Fischcurry mit buntem Gemüse","1360073722","1,000 Prt",0.68,120,0,"","d","",0,"150,8 kcal","630,7 kJ","0,6 BE","9,5 g","9,3 g","6,6 g","76 mg","1,4 g","4 g","2,9 g","363,6 mg","82,3 mg","2,6 g","87,7 mg","724,8 µg","87,8 µg","30,8 mg","42,9 mg","36,8 mg","1,5 mg","5,8 µg","unbekannt","unbekannt","unbekannt","unbekannt","unbekannt","unbekannt","unbekannt","unbekannt","unbekannt","unbekannt","unbekannt","unbekannt","unbekannt","unbekannt","unbekannt","X","unbekannt","unbekannt","unbekannt","unbekannt","unbekannt","unbekannt","unbekannt","unbekannt","unbekannt","unbekannt","unbekannt","unbekannt","unbekannt","unbekannt","unbekannt","unbekannt","unbekannt","unbekannt","unbekannt","unbekannt","unbekannt","unbekannt","unbekannt","unbekannt","unbekannt","unbekannt","3,5 g","656 mg","252,3 mg","unbekannt","unbekannt","unbekannt","unbekannt","unbekannt","unbekannt","unbekannt","unbekannt","unbekannt","unbekannt","unbekannt","unbekannt","unbekannt","unbekannt","unbekannt","unbekannt","unbekannt","unbekannt","unbekannt","unbekannt","unbekannt","","617 mg","unbekannt","unbekannt","unbekannt","unbekannt","unbekannt","unbekannt","unbekannt","unbekannt","unbekannt","unbekannt","unbekannt","unbekannt","unbekannt","unbekannt","unbekannt","unbekannt","unbekannt","unbekannt","unbekannt","unbekannt","unbekannt","unbekannt","unbekannt","unbekannt","unbekannt","unbekannt","unbekannt","unbekannt","unbekannt","unbekannt","unbekannt","unbekannt","unbekannt","unbekannt","unbekannt","unbekannt","unbekannt","unbekannt","unbekannt","unbekannt","unbekannt","unbekannt","unbekannt","unbekannt","unbekannt","unbekannt","unbekannt","unbekannt","unbekannt","unbekannt","unbekannt","unbekannt","unbekannt","unbekannt","unbekannt","unbekannt","unbekannt","","","","","","","","","","",""]
["2025-02-06","Menü 1","Kokosreis Kinder","Kokosreis","1360073725","1,000 Prt",0.19,120,0,"","","",0,"249,8 kcal","1045,9 kJ","3,3 BE","3,6 g","8,4 g","39,8 g","100 µg","1,7 g","3,2 g","3 g","105,1 mg","122,4 mg","1,7 g","41,5 mg","1,4 mg","222,2 µg","50 µg","19,8 mg","20,1 mg","1,6 mg","4,6 µg","unbekannt","unbekannt","unbekannt","unbekannt","unbekannt","unbekannt","unbekannt","unbekannt","unbekannt","unbekannt","unbekannt","unbekannt","unbekannt","unbekannt","unbekannt","unbekannt","unbekannt","unbekannt","unbekannt","unbekannt","unbekannt","unbekannt","unbekannt","unbekannt","unbekannt","unbekannt","unbekannt","unbekannt","unbekannt","unbekannt","unbekannt","unbekannt","unbekannt","unbekannt","unbekannt","unbekannt","unbekannt","unbekannt","unbekannt","unbekannt","unbekannt","unbekannt","349,9 mg","1,2 g","475,7 mg","unbekannt","unbekannt","unbekannt","unbekannt","unbekannt","unbekannt","unbekannt","unbekannt","unbekannt","unbekannt","unbekannt","unbekannt","unbekannt","unbekannt","unbekannt","unbekannt","unbekannt","unbekannt","unbekannt","unbekannt","unbekannt","","307,9 mg","unbekannt","unbekannt","unbekannt","unbekannt","unbekannt","unbekannt","unbekannt","unbekannt","unbekannt","unbekannt","unbekannt","unbekannt","unbekannt","unbekannt","unbekannt","unbekannt","unbekannt","unbekannt","unbekannt","unbekannt","unbekannt","unbekannt","unbekannt","unbekannt","unbekannt","unbekannt","unbekannt","unbekannt","unbekannt","unbekannt","unbekannt","unbekannt","unbekannt","unbekannt","unbekannt","unbekannt","unbekannt","unbekannt","unbekannt","unbekannt","unbekannt","unbekannt","unbekannt","unbekannt","unbekannt","unbekannt","unbekannt","unbekannt","unbekannt","unbekannt","unbekannt","unbekannt","unbekannt","unbekannt","unbekannt","unbekannt","unbekannt","","","","","","","","","","",""]
["2025-02-06","Menü 1","Salatbar gJ Gusa/To/Mö","Rohkost aus der Salatbar mit Gurkensalat","1360072697","1,000 Prt",0.17,120,0,"","g","49",0,"61,3 kcal","256,8 kJ","0,3 BE","527,2 mg","5,1 g","3,3 g","155 µg","1,6 g","439,8 mg","2,8 g","104,2 mg","107,4 mg","670,5 mg","5,7 mg","1,3 mg","23,5 µg","5,9 mg","14,2 mg","7,6 mg","440,2 µg","2,3 µg","unbekannt","unbekannt","unbekannt","unbekannt","unbekannt","unbekannt","unbekannt","unbekannt","unbekannt","unbekannt","unbekannt","unbekannt","unbekannt","unbekannt","unbekannt","unbekannt","unbekannt","unbekannt","X","unbekannt","unbekannt","unbekannt","unbekannt","unbekannt","unbekannt","unbekannt","unbekannt","unbekannt","unbekannt","unbekannt","unbekannt","unbekannt","unbekannt","unbekannt","unbekannt","unbekannt","unbekannt","unbekannt","unbekannt","unbekannt","unbekannt","unbekannt","2,1 g","1,1 g","490,1 mg","unbekannt","unbekannt","unbekannt","X","unbekannt","unbekannt","unbekannt","unbekannt","unbekannt","unbekannt","unbekannt","unbekannt","unbekannt","unbekannt","unbekannt","unbekannt","unbekannt","unbekannt","unbekannt","unbekannt","unbekannt","","268,3 mg","unbekannt","unbekannt","unbekannt","unbekannt","unbekannt","unbekannt","unbekannt","unbekannt","unbekannt","unbekannt","unbekannt","unbekannt","unbekannt","unbekannt","unbekannt","unbekannt","unbekannt","unbekannt","unbekannt","unbekannt","unbekannt","unbekannt","unbekannt","unbekannt","unbekannt","unbekannt","unbekannt","unbekannt","unbekannt","unbekannt","unbekannt","unbekannt","unbekannt","unbekannt","unbekannt","unbekannt","unbekannt","unbekannt","unbekannt","unbekannt","unbekannt","unbekannt","unbekannt","unbekannt","unbekannt","unbekannt","unbekannt","unbekannt","unbekannt","unbekannt","unbekannt","unbekannt","unbekannt","unbekannt","unbekannt","unbekannt","unbekannt","","","","","","","","","","",""]
["2025-02-06","Menü 2 Vegetarisch","Blumenkohlcurry Kinder","Fruchtiges Blumenkohlcurry mit buntem Gemüse","1360073738","1,000 Prt",0.49,10,0,"","g","",0,"180,8 kcal","757 kJ","0,8 BE","6,6 g","12,8 g","9,1 g","100 µg","2,4 g","1,2 g","8,1 g","512,2 mg","85,6 mg","3,9 g","66,1 mg","1,5 mg","142,4 µg","61,6 mg","104,7 mg","84,6 mg","2,1 mg","4,4 µg","unbekannt","unbekannt","unbekannt","unbekannt","unbekannt","unbekannt","unbekannt","unbekannt","unbekannt","unbekannt","unbekannt","unbekannt","unbekannt","unbekannt","unbekannt","unbekannt","unbekannt","unbekannt","X","unbekannt","unbekannt","unbekannt","unbekannt","unbekannt","unbekannt","unbekannt","unbekannt","unbekannt","unbekannt","unbekannt","unbekannt","unbekannt","unbekannt","unbekannt","unbekannt","unbekannt","unbekannt","unbekannt","unbekannt","unbekannt","unbekannt","unbekannt","5,4 g","2,3 g","181,9 mg","unbekannt","unbekannt","unbekannt","unbekannt","unbekannt","unbekannt","unbekannt","unbekannt","unbekannt","unbekannt","unbekannt","unbekannt","unbekannt","unbekannt","unbekannt","unbekannt","unbekannt","unbekannt","unbekannt","unbekannt","unbekannt","","623,1 mg","unbekannt","unbekannt","unbekannt","unbekannt","unbekannt","unbekannt","unbekannt","unbekannt","unbekannt","unbekannt","unbekannt","unbekannt","unbekannt","unbekannt","unbekannt","unbekannt","unbekannt","unbekannt","unbekannt","unbekannt","unbekannt","unbekannt","unbekannt","unbekannt","unbekannt","unbekannt","unbekannt","unbekannt","unbekannt","unbekannt","unbekannt","unbekannt","unbekannt","unbekannt","unbekannt","unbekannt","unbekannt","unbekannt","unbekannt","unbekannt","unbekannt","unbekannt","unbekannt","unbekannt","unbekannt","unbekannt","unbekannt","unbekannt","unbekannt","unbekannt","unbekannt","unbekannt","unbekannt","unbekannt","unbekannt","unbekannt","unbekannt","","","","","","","","","","",""]
["2025-02-06","Menü 2 Vegetarisch","Kokosreis Kinder","Kokosreis","1360073725","1,000 Prt",0.19,10,0,"","","",0,"249,8 kcal","1045,9 kJ","3,3 BE","3,6 g","8,4 g","39,8 g","100 µg","1,7 g","3,2 g","3 g","105,1 mg","122,4 mg","1,7 g","41,5 mg","1,4 mg","222,2 µg","50 µg","19,8 mg","20,1 mg","1,6 mg","4,6 µg","unbekannt","unbekannt","unbekannt","unbekannt","unbekannt","unbekannt","unbekannt","unbekannt","unbekannt","unbekannt","unbekannt","unbekannt","unbekannt","unbekannt","unbekannt","unbekannt","unbekannt","unbekannt","unbekannt","unbekannt","unbekannt","unbekannt","unbekannt","unbekannt","unbekannt","unbekannt","unbekannt","unbekannt","unbekannt","unbekannt","unbekannt","unbekannt","unbekannt","unbekannt","unbekannt","unbekannt","unbekannt","unbekannt","unbekannt","unbekannt","unbekannt","unbekannt","349,9 mg","1,2 g","475,7 mg","unbekannt","unbekannt","unbekannt","unbekannt","unbekannt","unbekannt","unbekannt","unbekannt","unbekannt","unbekannt","unbekannt","unbekannt","unbekannt","unbekannt","unbekannt","unbekannt","unbekannt","unbekannt","unbekannt","unbekannt","unbekannt","","307,9 mg","unbekannt","unbekannt","unbekannt","unbekannt","unbekannt","unbekannt","unbekannt","unbekannt","unbekannt","unbekannt","unbekannt","unbekannt","unbekannt","unbekannt","unbekannt","unbekannt","unbekannt","unbekannt","unbekannt","unbekannt","unbekannt","unbekannt","unbekannt","unbekannt","unbekannt","unbekannt","unbekannt","unbekannt","unbekannt","unbekannt","unbekannt","unbekannt","unbekannt","unbekannt","unbekannt","unbekannt","unbekannt","unbekannt","unbekannt","unbekannt","unbekannt","unbekannt","unbekannt","unbekannt","unbekannt","unbekannt","unbekannt","unbekannt","unbekannt","unbekannt","unbekannt","unbekannt","unbekannt","unbekannt","unbekannt","unbekannt","unbekannt","","","","","","","","","","",""]
["2025-02-06","Menü 2 Vegetarisch","Salatbar gJ Gusa/To/Mö","Rohkost aus der Salatbar mit Gurkensalat","1360072697","1,000 Prt",0.17,10,0,"","g","49",0,"61,3 kcal","256,8 kJ","0,3 BE","527,2 mg","5,1 g","3,3 g","155 µg","1,6 g","439,8 mg","2,8 g","104,2 mg","107,4 mg","670,5 mg","5,7 mg","1,3 mg","23,5 µg","5,9 mg","14,2 mg","7,6 mg","440,2 µg","2,3 µg","unbekannt","unbekannt","unbekannt","unbekannt","unbekannt","unbekannt","unbekannt","unbekannt","unbekannt","unbekannt","unbekannt","unbekannt","unbekannt","unbekannt","unbekannt","unbekannt","unbekannt","unbekannt","X","unbekannt","unbekannt","unbekannt","unbekannt","unbekannt","unbekannt","unbekannt","unbekannt","unbekannt","unbekannt","unbekannt","unbekannt","unbekannt","unbekannt","unbekannt","unbekannt","unbekannt","unbekannt","unbekannt","unbekannt","unbekannt","unbekannt","unbekannt","2,1 g","1,1 g","490,1 mg","unbekannt","unbekannt","unbekannt","X","unbekannt","unbekannt","unbekannt","unbekannt","unbekannt","unbekannt","unbekannt","unbekannt","unbekannt","unbekannt","unbekannt","unbekannt","unbekannt","unbekannt","unbekannt","unbekannt","unbekannt","","268,3 mg","unbekannt","unbekannt","unbekannt","unbekannt","unbekannt","unbekannt","unbekannt","unbekannt","unbekannt","unbekannt","unbekannt","unbekannt","unbekannt","unbekannt","unbekannt","unbekannt","unbekannt","unbekannt","unbekannt","unbekannt","unbekannt","unbekannt","unbekannt","unbekannt","unbekannt","unbekannt","unbekannt","unbekannt","unbekannt","unbekannt","unbekannt","unbekannt","unbekannt","unbekannt","unbekannt","unbekannt","unbekannt","unbekannt","unbekannt","unbekannt","unbekannt","unbekannt","unbekannt","unbekannt","unbekannt","unbekannt","unbekannt","unbekannt","unbekannt","unbekannt","unbekannt","unbekannt","unbekannt","unbekannt","unbekannt","unbekannt","unbekannt","","","","","","","","","","",""]
["2025-02-07","Menü 1","Eier gekocht Bio","gekochtes Ei","1360070841","1,000 Prt",0.59,130,0,"","c","",0,"68,5 kcal","286 kJ","0 BE","6 g","4,7 g","750 mg","198 mg","753,5 mg","1,4 g","2,2 g","73,5 mg","72 mg","","2,5 mg","1 mg","50 µg","","28 mg","6 mg","1,1 mg","5 µg","","","","","","","","","","","","","","","X","","","","","","","","","","","","","unbekannt","","unbekannt","","unbekannt","unbekannt","","unbekannt","unbekannt","unbekannt","unbekannt","unbekannt","unbekannt","unbekannt","unbekannt","","511,5 mg","139,5 mg","unbekannt","","unbekannt","unbekannt","unbekannt","unbekannt","unbekannt","unbekannt","unbekannt","unbekannt","unbekannt","unbekannt","unbekannt","unbekannt","unbekannt","unbekannt","","","","unbekannt","","750 mg","150 mg","","","","","","","","","","","unbekannt","unbekannt","","","unbekannt","unbekannt","","","unbekannt","unbekannt","unbekannt","unbekannt","unbekannt","unbekannt","unbekannt","unbekannt","unbekannt","unbekannt","unbekannt","unbekannt","unbekannt","unbekannt","unbekannt","unbekannt","unbekannt","unbekannt","unbekannt","unbekannt","unbekannt","unbekannt","unbekannt","unbekannt","unbekannt","unbekannt","unbekannt","unbekannt","unbekannt","unbekannt","unbekannt","unbekannt","unbekannt","unbekannt","unbekannt","unbekannt","unbekannt","unbekannt","unbekannt","","","","","","","","","","",""]
["2025-02-07","Menü 1","Senfsoße mit Gemüse Kinder","helle Senfsoße","1360064852","1,000 Prt",0.17,130,0,"","a, g, i, o","",0,"64,6 kcal","270,2 kJ","0,5 BE","2,2 g","3,3 g","6,3 g","4,2 mg","927,6 mg","584,7 mg","1,9 g","171,7 mg","184,7 mg","984,1 mg","9,7 mg","674,7 µg","26 µg","3,3 mg","68,6 mg","14,5 mg","475,6 µg","4,7 µg","unbekannt","unbekannt","unbekannt","unbekannt","unbekannt","unbekannt","unbekannt","unbekannt","unbekannt","unbekannt","unbekannt","unbekannt","X","unbekannt","unbekannt","unbekannt","unbekannt","unbekannt","X","unbekannt","X","unbekannt","unbekannt","unbekannt","unbekannt","unbekannt","unbekannt","unbekannt","unbekannt","unbekannt","unbekannt","unbekannt","unbekannt","unbekannt","unbekannt","unbekannt","unbekannt","unbekannt","unbekannt","unbekannt","unbekannt","unbekannt","2,8 g","628,5 mg","289 mg","unbekannt","unbekannt","unbekannt","unbekannt","unbekannt","unbekannt","unbekannt","unbekannt","unbekannt","unbekannt","unbekannt","unbekannt","unbekannt","unbekannt","unbekannt","unbekannt","unbekannt","unbekannt","unbekannt","unbekannt","unbekannt","","490,6 mg","X","unbekannt","unbekannt","unbekannt","unbekannt","unbekannt","unbekannt","unbekannt","unbekannt","unbekannt","unbekannt","unbekannt","unbekannt","unbekannt","unbekannt","unbekannt","unbekannt","unbekannt","unbekannt","unbekannt","unbekannt","unbekannt","unbekannt","unbekannt","unbekannt","unbekannt","unbekannt","unbekannt","unbekannt","unbekannt","unbekannt","unbekannt","unbekannt","unbekannt","unbekannt","unbekannt","unbekannt","unbekannt","unbekannt","unbekannt","unbekannt","unbekannt","unbekannt","unbekannt","unbekannt","unbekannt","unbekannt","unbekannt","unbekannt","unbekannt","unbekannt","unbekannt","unbekannt","unbekannt","unbekannt","unbekannt","unbekannt","","","","","","","","","","",""]
["2025-02-07","Menü 1","Kartoffelpüree Bio Kita","Kartoffelpüree","1360072145","1,000 Prt",0.40,130,0,"","g","",0,"139,7 kcal","586,7 kJ","2,2 BE","3,8 g","1,3 g","27,4 g","2,3 mg","317,3 mg","636,3 mg","584,6 mg","746,1 mg","123 mg","3,8 g","27,2 mg","259,5 µg","192,7 µg","29,2 mg","33,5 mg","35,4 mg","695,3 µg","7,7 µg","","","","","","","","","","","","","","","","","","","X","","","","","","unbekannt","unbekannt","","unbekannt","","unbekannt","","unbekannt","unbekannt","","unbekannt","unbekannt","unbekannt","unbekannt","unbekannt","unbekannt","unbekannt","unbekannt","1,4 g","267,5 mg","49,8 mg","unbekannt","unbekannt","unbekannt","unbekannt","unbekannt","unbekannt","unbekannt","unbekannt","unbekannt","unbekannt","unbekannt","unbekannt","unbekannt","unbekannt","unbekannt","unbekannt","unbekannt","unbekannt","unbekannt","unbekannt","unbekannt","2,1 g","330,9 mg","unbekannt","unbekannt","unbekannt","unbekannt","unbekannt","unbekannt","unbekannt","unbekannt","unbekannt","unbekannt","unbekannt","unbekannt","unbekannt","unbekannt","unbekannt","unbekannt","unbekannt","unbekannt","unbekannt","unbekannt","unbekannt","unbekannt","unbekannt","unbekannt","unbekannt","unbekannt","unbekannt","unbekannt","unbekannt","unbekannt","unbekannt","unbekannt","unbekannt","unbekannt","unbekannt","unbekannt","unbekannt","unbekannt","unbekannt","unbekannt","unbekannt","unbekannt","unbekannt","unbekannt","unbekannt","unbekannt","unbekannt","unbekannt","unbekannt","unbekannt","unbekannt","unbekannt","unbekannt","unbekannt","unbekannt","unbekannt","unbekannt","","","","","","","","","","",""]
["2025-02-07","Menü 1","Salatbar gJ RoteBete/Thun/Mais","Rohkost aus der Salatbar mit Rote Betesalat","1360073165","1,000 Prt",0.18,130,0,"","d, g","49",0,"50,8 kcal","213 kJ","0,3 BE","1,8 g","3,2 g","3,5 g","148,7 µg","1 g","313,3 mg","1,7 g","84,2 mg","138,9 mg","712 mg","7,1 mg","754,3 µg","21,4 µg","2,8 mg","9,5 mg","8,2 mg","237,8 µg","0,7 µg","unbekannt","unbekannt","unbekannt","unbekannt","unbekannt","unbekannt","unbekannt","unbekannt","unbekannt","unbekannt","unbekannt","unbekannt","unbekannt","unbekannt","unbekannt","X","unbekannt","unbekannt","X","unbekannt","unbekannt","unbekannt","unbekannt","unbekannt","unbekannt","unbekannt","unbekannt","unbekannt","unbekannt","unbekannt","unbekannt","unbekannt","unbekannt","unbekannt","unbekannt","unbekannt","unbekannt","unbekannt","unbekannt","unbekannt","unbekannt","unbekannt","1,6 g","701,4 mg","289,5 mg","unbekannt","unbekannt","unbekannt","X","unbekannt","unbekannt","unbekannt","unbekannt","unbekannt","unbekannt","unbekannt","unbekannt","unbekannt","unbekannt","unbekannt","unbekannt","unbekannt","unbekannt","unbekannt","unbekannt","unbekannt","","397,9 mg","unbekannt","unbekannt","unbekannt","unbekannt","unbekannt","unbekannt","unbekannt","unbekannt","unbekannt","unbekannt","unbekannt","unbekannt","unbekannt","unbekannt","unbekannt","unbekannt","unbekannt","unbekannt","unbekannt","unbekannt","unbekannt","unbekannt","unbekannt","unbekannt","unbekannt","unbekannt","unbekannt","unbekannt","unbekannt","unbekannt","unbekannt","unbekannt","unbekannt","unbekannt","unbekannt","unbekannt","unbekannt","unbekannt","unbekannt","unbekannt","unbekannt","unbekannt","unbekannt","unbekannt","unbekannt","unbekannt","unbekannt","unbekannt","unbekannt","unbekannt","unbekannt","unbekannt","unbekannt","unbekannt","unbekannt","unbekannt","unbekannt","","","","","","","","","","",""]

{"sheet":"Daten_EN","index":6,"n_rows":326,"n_cols":67,"rows_kept":326,"cut":false,"hidden":false,"merged":[]}
["Speiseplan","2 Hort/Schule"]
["Kalenderwoche",6]
["DatumVon","2025-02-03"]
["DatumBis","2025-02-09"]
["Legende","1 - mit Farbstoff, 2 - mit Konservierungsst, 3 - mit Antioxidationsmi, 4 - mit Geschmacksverstä, 5 - mit Süßungsmittel, 6 - mit Phosphat, 7 - gewachst, 8 - geschwärzt , 9 - geschwefelt, 10 - mit einer Zuckerart , 11 - coffeinhaltig, 12 - chininhaltig, 44 - with iodized salt","a - enth. Gluten, b - enth. Krebstiere, c - enth. Ei, d - enth. Fisch, e - enth. Erdnüsse, f - enth. Soja (gen-tech, g - enth. Milch einschl., h - enth. Schalenfrüchte, i - enth. Sellerie, j - enth. Senf , k - enth. Sesam, l - enth. Schwefeldioxid, m - cont. lupins, n - cont. molluscs, o - enth. Weizen, p - enth. Roggen, q - enth. Gerste, r - enth. Hafer, s - enth. Dinkel, t - enth. Kamut, u - enth. Mandeln, v - enth. Haselnuss, w - enth. Walnuss, x - enth. Cashewnuss, y - enth. Pekannuss, z - enth. Paranuss, aa - enth. Pistazie, ab - enth. Macadamianuss","30 - enth. eine Phenyl, 31 - mit Schwein oder tier. Fett, 32 - kann bei übermäßigem, 33 - unter Schutzatmosphä, 34 - mit Milcheiweiß, 35 - mit Geflügelfleischa, 36 - based on garnulated sweetener, 37 - with alcohol, 38 - irradiated or treatd with ionizing rays, 39 - produced from gene-modified food, 40 - gene-modified, 41 - with increased taurine content, 42 - with starch or vegetable starch, 43 - z. T. fein zerkleine, 45 - may impair activity and attention of childern, 46 - mit Nitritpökelsalz, 47 - mit Eiklar, 48 - mit kakaohaltiger Fettglasur, 49 - mit Knoblauch, 50 - Rindfleisch, 51 - Geflügel, 52 - andere Fleischsorte, 53 - Fisch, 54 - aus Fleischstücken zusammengefügt, 55 - aus Fischstücken zusammengefügt, 56 - enth. Glutamat, 57 - enth. Koriander, 58 - enth. Karotte, 59 - enth. Gemüse, 60 - enth. Hühnchenfleisch, 61 - enth. Mais, 62 - unter Verwendung von Sahne, 63 - enth. Molkeneiweiß, 64 - mit Milchpulver, 65 - enth. Pflanzeneiweiß, 66 - unter Verwendung von Milch,  - enth. Persipan,  -  - ,  -  - ,  -  - ,  -  - ,  -  - ,  - mit Sauerstoff unter Hochdruck farbstabilisiert,  - enth. Süßholz,  -  - ,  -  - ,  - Enth. Süßholz. Bei hohem Blutdruck sollte ein übermäßiger Verzehr vermieden werden.,  - Erhöhter Koffeingehalt. Für Kinder und schwangere oder stillende Frauen nicht empfohlen.,  -  - ,  -  - ,  - mit zugesetzten Pflanzensterinen,  - aufgetaut,  -  - ,  - enth. Zutatenersatz,  -  - ,  -  - ,  - enth. zugesetzte Eiweiße,  - zugesetztes Wasser > 5%,  -  - ,  -  - ,  - Wursthülle ist nicht zum Verzehr geeignet,  - Enth. Koffein. Für Kinder und schwangere Frauen nicht empfohlen.,  -  - ,  -  - ,  -  - ,  -  - ,  -  - ,  -  - ,  -  - ,  -  - ,  -  - ,  -  - ,  -  - ,  -  - ,  -  - ,  -  - ,  -  - ,  -  - ,  -  - "]
["Anzahl Inhaltsstoffe",26]
["Bezeichnung Inhaltsstoffe","Energy (kilocalories)","Energy (kilojoules)","carbohydtare units","Protein","Fat","Carbohydrates, absorbable","Cholestorol","multiple unsaturated fatty acids","saturated fatty acids ","Simple unsaturated fatty acids","Calium","Sodium","Fibers","Uric acid","Vitamin E - tocopherol equivalent","Vitamin B1 - thiamin","Vitamin C - ascorbic acid","Calcium","Magnesium","Iron","Iodine","Disaccharide (2 M)","Octadecadene acid / linoleic acid","Octadactrene acid/ linolenic acid","Zucker (gesamt)","Total cooking salt"]
["Anzahl Menülinien",5]
["Bez./Sort. Menülinien","Menü 1","Menü 2 Vegetarisch","Ausflüge","Xtra 1","Xtra 2"]
["Exportversion",8,"Kategorie in Fußnote aufnehmen","Zusatzstoffe","Allergene","Informationen","Sprache"]
["Exportmodus",1,null,1,1,1,"Englisch"]
[]
[]
["Die Daten müssen alphabetisch nach Menülinien sortiert ohne Leerzeilen innerhalb eines Tages vorliegen! Sortierung für die Anzeige wird über Zeile 9 hergestellt!"]
["Montag","2025-02-03",null,"Preise","Wareneinsatz wurde auf Basis Aktueller Einkaufspreis berechnet.","Sollzahl","Istzahl","Datei (klein)","Datei (groß)","Menücode","Nährwerte vollständig (0|1)","Zusatzstoffe","Allergene","Informationen","Nährwertampel","Energy (kilocalories)",null,"Energy (kilojoules)",null,"carbohydtare units",null,"Protein",null,"Fat",null,"Carbohydrates, absorbable",null,"Cholestorol",null,"multiple unsaturated fatty acids",null,"saturated fatty acids ",null,"Simple unsaturated fatty acids",null,"Calium",null,"Sodium",null,"Fibers",null,"Uric acid",null,"Vitamin E - tocopherol equivalent",null,"Vitamin B1 - thiamin",null,"Vitamin C - ascorbic acid",null,"Calcium",null,"Magnesium",null,"Iron",null,"Iodine",null,"Disaccharide (2 M)",null,"Octadecadene acid / linoleic acid",null,"Octadactrene acid/ linolenic acid",null,"Zucker (gesamt)",null,"Total cooking salt"]
["Ausflüge"," "," ",5.32,0.00,0,0,"","","",1," "," "," ",0]
["Menü 1","Möhreneintopf","\nMöhreneintopf mit Kartoffelwürfel und Petersilie\nRohkost aus der Salatbar und Äpfel #MBSg, 49MBS#\nKaiserschmarren mit Puderzucker #MBSa, c, g, oMBS#",5.32,1.58,130,0,"","","",0," ","a, c, g, o","49",3,467.20,"kcal",2105.80,"kJ",3.30,"BE",15.80,"g",14.70,"g",73.60,"g",214.70,"mg",2.40,"g",4.00,"g",6.20,"g",770.90,"mg",787.50,"mg",6.30,"g",51.10,"mg",2.80,"mg",178.90,"µg",39.00,"mg",181.20,"mg",56.00,"mg",3.60,"mg",27.00,"µg",8.20,"g",1.70,"g",521.40,"mg"," ","mg",2.00,"g"]
["Menü 2 Vegetarisch","Menü 1 ist vegetarisch","Menü 1 ist vegetarisch",5.32,0.00,0,0,"","","",1," "," "," ",0]
["Xtra 1","Talentcampus 41 (10)","Talentcampus 41 (10)",4.05,0.00,0,0,"","","",1," "," "," ",0]
["Xtra 2"," "," ",5.32,0.00,0,0,"","","",1," "," "," ",0]
[]
[]
[]
[]
[]
[]
[]
[]
[]
[]
[]
[]
[]
[]
[]
[]
[]
[]
[]
[]
[]
[]
[]
[]
[]
[]
[]
[]
[]
[]
[]
[]
[]
[]
[]
[]
[]
[]
[]
[]
[]
[]
[]
[]
[]
["Dienstag","2025-02-04"]
["Ausflüge"," "," ",5.32,0.00,0,0,"","","",1," "," "," ",0]
["Menü 1","Schichtkohl mit Rinderhackfleisch und Salzkartoffeln","\nGeschmorter Weißkohl in Bratensoße mit Rinderhackfleisch\nKartoffeln\nRohkost aus der Salatbar mit Möhrensalat #MBSg, 49MBS#\nfrisches Obst",5.32,1.47,120,0,"","","",0," ","g","49",3,330.50,"kcal",1383.60,"kJ",4.30,"BE",16.50,"g",5.80,"g",51.30,"g",35.20,"mg",1.50,"g",1.30,"g",2.90,"g",1.50,"g",461.30,"mg",8.70,"g",129.50,"mg",2.60,"mg",418.50,"µg",73.90,"mg",75.40,"mg",99.20,"mg",3.30,"mg",17.60,"µg",11.60,"g",1.00,"g",428.50,"mg"," ","mg",1.10,"g"]
["Menü 2 Vegetarisch","Schichtkohl mit Bulgur und Salzkartoffeln","\nGeschmorter Weißkohl in Bratensoße mit Bulgur #MBSa, oMBS#\nKartoffeln\nRohkost aus der Salatbar mit Möhrensalat #MBSg, 49MBS#\nfrisches Obst",5.32,0.86,10,0,"","","",0," ","a, g, o","49",3,309.10,"kcal",1295.90,"kJ",4.80,"BE",6.90,"g",4.40,"g",58.10,"g",154.00,"µg",1.50,"g",698.30,"mg",2.00,"g",1.30,"g",428.90,"mg",9.70,"g",76.40,"mg",2.50,"mg",333.50,"µg",73.90,"mg",75.90,"mg",102.30,"mg",2.70,"mg",17.80,"µg",11.70,"g",1.00,"g",413.90,"mg"," ","mg",1.10,"g"]
["Xtra 1","Talentcampus 41 (10)","Talentcampus 41 (10)",4.05,0.00,0,0,"","","",1," "," "," ",0]
["Xtra 2"," "," ",5.32,0.00,0,0,"","","",1," "," "," ",0]
[]
[]
[]
[]
[]
[]
[]
[]
[]
[]
[]
[]
[]
[]
[]
[]
[]
[]
[]
[]
[]
[]
[]
[]
[]
[]
[]
[]
[]
[]
[]
[]
[]
[]
[]
[]
[]
[]
[]
[]
[]
[]
[]
[]
[]
["Mittwoch","2025-02-05"]
["Ausflüge"," "," ",5.32,0.00,0,0,"","","",1," "," "," ",0]
["Menü 1","Spinatspätzle mit Frischkäsesoße","\nSpätzle mit Blattspinat #MBSaMBS#\nhelle Schnittlauchsoße #MBSgMBS#\ngeriebener Gouda #MBS66MBS#\nRohkost aus der Salatbar mit griechischem Bauernsalat #MBSg, 49MBS#",5.32,1.05,130,0,"","","",0," ","a, g","49, 66",3,349.70,"kcal",1460.90,"kJ",1.90,"BE",14.30,"g",20.30,"g",26.80,"g",83.10,"mg",2.40,"g",9.60,"g",7.10,"g",577.00,"mg",703.80,"mg",2.90,"g",39.80,"mg",2.40,"mg",117.10,"µg",19.20,"mg",349.20,"mg",47.90,"mg",2.40,"mg",25.00,"µg",5.50,"g",1.60,"g",723.80,"mg"," ","mg",1.80,"g"]
["Menü 2 Vegetarisch","Menü 1 ist vegetarisch","Menü 1 ist vegetarisch",5.32,0.00,0,0,"","","",1," "," "," ",0]
["Xtra 1","Talentcampus 41 (10)","Talentcampus 41 (10)",4.05,0.00,0,0,"","","",1," "," "," ",0]
["Xtra 2"," "," ",5.32,0.00,0,0,"","","",1," "," "," ",0]
[]
[]
[]
[]
[]
[]
[]
[]
[]
[]
[]
[]
[]
[]
[]
[]
[]
[]
[]
[]
[]
[]
[]
[]
[]
[]
[]
[]
[]
[]
[]
[]
[]
[]
[]
[]
[]
[]
[]
[]
[]
[]
[]
[]
[]
["Donnerstag","2025-02-06"]
["Ausflüge"," "," ",5.32,0.00,0,0,"","","",1," "," "," ",0]
["Menü 1","Fischcurry mit Kokosreis","\nFruchtiges Fischcurry mit buntem Gemüse #MBSdMBS#\nKokosreis\nRohkost aus der Salatbar mit Gurkensalat #MBSg, 49MBS#",5.32,1.05,120,0,"","","",0," ","d, g","49",3,461.80,"kcal",1933.40,"kJ",4.20,"BE",13.60,"g",22.80,"g",49.70,"g",76.30,"mg",4.80,"g",7.60,"g",8.70,"g",572.90,"mg",312.10,"mg",5.00,"g",134.90,"mg",3.40,"mg",333.50,"µg",36.80,"mg",76.90,"mg",64.50,"mg",3.60,"mg",12.70,"µg",5.90,"g",3.00,"g",1.20,"g"," ","mg",1.20,"g"]
["Menü 2 Vegetarisch","Blumenkohlcurry mit Kokosreis","\nFruchtiges Blumenkohlcurry mit buntem Gemüse #MBSgMBS#\nKokosreis\nRohkost aus der Salatbar mit Gurkensalat #MBSg, 49MBS#",5.32,0.85,10,0,"","","",0," ","g","49",3,491.90,"kcal",2059.70,"kJ",4.40,"BE",10.70,"g",26.20,"g",52.10,"g",355.00,"µg",5.80,"g",4.80,"g",13.90,"g",721.50,"mg",315.40,"mg",6.30,"g",113.30,"mg",4.20,"mg",388.10,"µg",67.60,"mg",138.70,"mg",112.30,"mg",4.20,"mg",11.30,"µg",7.90,"g",4.60,"g",1.10,"g"," ","mg",1.20,"g"]
["Xtra 1","Talentcampus 41 (10)","Talentcampus 41 (10)",4.05,0.00,0,0,"","","",1," "," "," ",0]
["Xtra 2"," "," ",5.32,0.00,0,0,"","","",1," "," "," ",0]
[]
[]
[]
[]
[]
[]
[]
[]
[]
[]
[]
[]
[]
[]
[]
[]
[]
[]
[]
[]
[]
[]
[]
[]
[]
[]
[]
[]
[]
[]
[]
[]
[]
[]
[]
[]
[]
[]
[]
[]
[]
[]
[]
[]
[]
["Freitag","2025-02-07"]
["Ausflüge"," "," ",5.32,0.00,0,0,"","","",1," "," "," ",0]
["Menü 1","Gekochtes Ei in leichter Senfsoße mit Kartoffelpüree (Kartoffeln*)","\ngekochtes Ei #MBScMBS#\nhelle Senfsoße #MBSa, g, i, oMBS#\nKartoffelpüree #MBSgMBS#\nRohkost aus der Salatbar mit Rote Betesalat #MBSd, g, 49MBS#",5.32,1.33,130,0,"","","",0," ","a, c, d, g, i, o","49",3,323.60,"kcal",1355.80,"kJ",3.00,"BE",13.80,"g",12.40,"g",37.90,"g",204.70,"mg",3.00,"g",2.90,"g",6.40,"g",1.10,"g",518.60,"mg",5.50,"g",46.50,"mg",2.70,"mg",290.10,"µg",35.30,"mg",139.60,"mg",64.20,"mg",2.50,"mg",18.10,"µg",5.80,"g",2.10,"g",767.80,"mg"," ","mg",1.40,"g"]
["Menü 2 Vegetarisch","Menü 1 ist vegetarisch","Menü 1 ist vegetarisch",5.32,0.00,0,0,"","","",1," "," "," ",0]
["Xtra 1","Talentcampus 41 (10)","Talentcampus 41 (10)",4.05,0.00,0,0,"","","",1," "," "," ",0]
["Xtra 2"," "," ",5.32,0.00,0,0,"","","",1," "," "," ",0]
[]
[]
[]
[]
[]
[]
[]
[]
[]
[]
[]
[]
[]
[]
[]
[]
[]
[]
[]
[]
[]
[]
[]
[]
[]
[]
[]
[]
[]
[]
[]
[]
[]
[]
[]
[]
[]
[]
[]
[]
[]
[]
[]
[]
[]
["Samstag","2025-02-08"]
["Ausflüge"," "," ",null,0.00,0,0,"","","",1," "," "," ",0]
["Menü 1"," "," ",null,0.00,0,0,"","","",1," "," "," ",0]
["Menü 2 Vegetarisch"," "," ",null,0.00,0,0,"","","",1," "," "," ",0]
["Xtra 1"," "," ",null,0.00,0,0,"","","",1," "," "," ",0]
["Xtra 2"," "," ",null,0.00,0,0,"","","",1," "," "," ",0]
[]
[]
[]
[]
[]
[]
[]
[]
[]
[]
[]
[]
[]
[]
[]
[]
[]
[]
[]
[]
[]
[]
[]
[]
[]
[]
[]
[]
[]
[]
[]
[]
[]
[]
[]
[]
[]
[]
[]
[]
[]
[]
[]
[]
[]
["Sonntag","2025-02-09"]
["Ausflüge"," "," ",null,0.00,0,0,"","","",1," "," "," ",0]
["Menü 1"," "," ",null,0.00,0,0,"","","",1," "," "," ",0]
["Menü 2 Vegetarisch"," "," ",null,0.00,0,0,"","","",1," "," "," ",0]
["Xtra 1"," "," ",null,0.00,0,0,"","","",1," "," "," ",0]
["Xtra 2"," "," ",null,0.00,0,0,"","","",1," "," "," ",0]

{"sheet":"DatenKomponenten_EN","index":7,"n_rows":27,"n_cols":170,"rows_kept":27,"cut":false,"hidden":false,"merged":[]}
[]
["Datum","Menülinie","Artikel","Verkaufstext","Artikelnr.","Portion","Wareneinsatz","Sollzahl","Istzahl","Zusatzstoffe","Allergene","Informationen","Nährwertampel","Energy (kilocalories)","Energy (kilojoules)","carbohydtare units","Protein","Fat","Carbohydrates, absorbable","Cholestorol","multiple unsaturated fatty acids","saturated fatty acids ","Simple unsaturated fatty acids","Calium","Sodium","Fibers","Uric acid","Vitamin E - tocopherol equivalent","Vitamin B1 - thiamin","Vitamin C - ascorbic acid","Calcium","Magnesium","Iron","Iodine","mit Farbstoff","mit Konservierungsst","mit Antioxidationsmi","mit Geschmacksverstä","mit Süßungsmittel","mit Phosphat","gewachst","geschwärzt ","geschwefelt","mit einer Zuckerart ","coffeinhaltig","chininhaltig","enth. Gluten","enth. Krebstiere","enth. Ei","enth. Fisch","enth. Erdnüsse","enth. Soja (gen-tech","enth. Milch einschl.","enth. Schalenfrüchte","enth. Sellerie","enth. Senf ","enth. Sesam","enth. Schwefeldioxid","cont. lupins","cont. molluscs","enth. eine Phenyl","mit Schwein oder tier. Fett","kann bei übermäßigem","unter Schutzatmosphä","mit Milcheiweiß","mit Geflügelfleischa","based on garnulated sweetener","with alcohol","irradiated or treatd with ionizing rays","produced from gene-modified food","gene-modified","with increased taurine content","with starch or vegetable starch","z. T. fein zerkleine","with iodized salt","may impair activity and attention of childern","Disaccharide (2 M)","Octadecadene acid / linoleic acid","Octadactrene acid/ linolenic acid","mit Nitritpökelsalz","mit Eiklar","mit kakaohaltiger Fettglasur","mit Knoblauch","Rindfleisch","Geflügel","andere Fleischsorte","Fisch","aus Fleischstücken zusammengefügt","aus Fischstücken zusammengefügt","enth. Glutamat","enth. Koriander","enth. Karotte","enth. Gemüse","enth. Hühnchenfleisch","enth. Mais","unter Verwendung von Sahne","enth. Molkeneiweiß","mit Milchpulver","enth. Pflanzeneiweiß","unter Verwendung von Milch","Zucker (gesamt)","Total cooking salt","enth. Weizen","enth. Roggen","enth. Gerste","enth. Hafer","enth. Dinkel","enth. Kamut","enth. Mandeln","enth. Haselnuss","enth. Walnuss","enth. Cashewnuss","enth. Persipan"," - ","enth. Pekannuss","enth. Paranuss"," - "," - ","enth. Pistazie","enth. Macadamianuss"," - "," - ","mit Sauerstoff unter Hochdruck farbstabilisiert","enth. Süßholz"," - "," - ","Enth. Süßholz. Bei hohem Blutdruck sollte ein übermäßiger Verzehr vermieden werden.","Erhöhter Koffeingehalt. Für Kinder und schwangere oder stillende Frauen nicht empfohlen."," - "," - ","mit zugesetzten Pflanzensterinen","aufgetaut"," - ","enth. Zutatenersatz"," - "," - ","enth. zugesetzte Eiweiße","zugesetztes Wasser > 5%"," - "," - ","Wursthülle ist nicht zum Verzehr geeignet","Enth. Koffein. Für Kinder und schwangere Frauen nicht empfohlen."," - "," - "," - "," - "," - "," - "," - "," - "," - "," - "," - "," - "," - "," - "," - "," - "," - "," - "," - "," - "," - "," - "," - "," - "," - "," - "," - ",""]
["2025-02-03","Menü 1","Möhreneintopf","Möhreneintopf mit Kartoffelwürfel und Petersilie","1360070824","1,000 Prt",0.30,130,0,"","","",0,"29 kcal","264,7 kJ","0,9 BE","1,6 g","413,3 mg","11,7 g","","497,6 mg","99,7 mg","702,9 mg","432,8 mg","385,9 mg","3,7 g","28,2 mg","738,7 µg","77,1 µg","11,7 mg","57,7 mg","26,5 mg","1,7 mg","15,3 µg","unbekannt","unbekannt","unbekannt","unbekannt","unbekannt","unbekannt","unbekannt","unbekannt","unbekannt","unbekannt","unbekannt","unbekannt","unbekannt","unbekannt","unbekannt","unbekannt","unbekannt","unbekannt","unbekannt","unbekannt","unbekannt","unbekannt","unbekannt","unbekannt","unbekannt","unbekannt","unbekannt","unbekannt","unbekannt","unbekannt","unbekannt","unbekannt","unbekannt","unbekannt","unbekannt","unbekannt","unbekannt","unbekannt","unbekannt","unbekannt","unbekannt","unbekannt","2,2 g","427,5 mg","70,1 mg","unbekannt","unbekannt","unbekannt","unbekannt","unbekannt","unbekannt","unbekannt","unbekannt","unbekannt","unbekannt","unbekannt","unbekannt","unbekannt","unbekannt","unbekannt","unbekannt","unbekannt","unbekannt","unbekannt","unbekannt","unbekannt","","590,2 mg","unbekannt","unbekannt","unbekannt","unbekannt","unbekannt","unbekannt","unbekannt","unbekannt","unbekannt","unbekannt","unbekannt","unbekannt","unbekannt","unbekannt","unbekannt","unbekannt","unbekannt","unbekannt","unbekannt","unbekannt","unbekannt","unbekannt","unbekannt","unbekannt","unbekannt","unbekannt","unbekannt","unbekannt","unbekannt","unbekannt","unbekannt","unbekannt","unbekannt","unbekannt","unbekannt","unbekannt","unbekannt","unbekannt","unbekannt","unbekannt","unbekannt","unbekannt","unbekannt","unbekannt","unbekannt","unbekannt","unbekannt","unbekannt","unbekannt","unbekannt","unbekannt","unbekannt","unbekannt","unbekannt","unbekannt","unbekannt","unbekannt","","","","","","","","","","",""]
["2025-02-03","Menü 1","Salatbar gJ Gu/To/Pap/Äpfel","Rohkost aus der Salatbar und Äpfel","1360072964","1,000 Prt",0.26,130,0,"","g","49",0,"51,7 kcal","216,1 kJ","0,5 BE","698,9 mg","2,3 g","6,9 g","150 µg","738,5 mg","275,6 mg","1,1 g","149 mg","103,1 mg","1,6 g","10,9 mg","1,1 mg","37,3 µg","26,8 mg","14 mg","8,4 mg","483,4 µg","2 µg","unbekannt","unbekannt","unbekannt","unbekannt","unbekannt","unbekannt","unbekannt","unbekannt","unbekannt","unbekannt","unbekannt","unbekannt","unbekannt","unbekannt","unbekannt","unbekannt","unbekannt","unbekannt","X","unbekannt","unbekannt","unbekannt","unbekannt","unbekannt","unbekannt","unbekannt","unbekannt","unbekannt","unbekannt","unbekannt","unbekannt","unbekannt","unbekannt","unbekannt","unbekannt","unbekannt","unbekannt","unbekannt","unbekannt","unbekannt","unbekannt","unbekannt","1,8 g","521,5 mg","209,8 mg","unbekannt","unbekannt","unbekannt","X","unbekannt","unbekannt","unbekannt","unbekannt","unbekannt","unbekannt","unbekannt","unbekannt","unbekannt","unbekannt","unbekannt","unbekannt","unbekannt","unbekannt","unbekannt","unbekannt","unbekannt","","259,5 mg","unbekannt","unbekannt","unbekannt","unbekannt","unbekannt","unbekannt","unbekannt","unbekannt","unbekannt","unbekannt","unbekannt","unbekannt","unbekannt","unbekannt","unbekannt","unbekannt","unbekannt","unbekannt","unbekannt","unbekannt","unbekannt","unbekannt","unbekannt","unbekannt","unbekannt","unbekannt","unbekannt","unbekannt","unbekannt","unbekannt","unbekannt","unbekannt","unbekannt","unbekannt","unbekannt","unbekannt","unbekannt","unbekannt","unbekannt","unbekannt","unbekannt","unbekannt","unbekannt","unbekannt","unbekannt","unbekannt","unbekannt","unbekannt","unbekannt","unbekannt","unbekannt","unbekannt","unbekannt","unbekannt","unbekannt","unbekannt","unbekannt","","","","","","","","","","",""]
["2025-02-03","Menü 1","Kaiserschmarren ff","Kaiserschmarren mit Puderzucker","1360066282","1,000 Prt",1.03,130,0,"","a, c, g, o","",0,"386,6 kcal","1625 kJ","1,8 BE","13,5 g","12 g","55 g","214,5 mg","1,1 g","3,6 g","4,5 g","189 mg","298,5 mg","964,5 mg","12 mg","943,5 µg","64,5 µg","505,5 µg","109,5 mg","21 mg","1,4 mg","9,6 µg","","","","","","","","","","","","","X","","X","","","","X","","","","","","","","","unbekannt","","unbekannt","","unbekannt","unbekannt","","unbekannt","unbekannt","unbekannt","unbekannt","unbekannt","unbekannt","unbekannt","unbekannt","4,2 g","775,5 mg","241,5 mg","unbekannt","","unbekannt","unbekannt","unbekannt","unbekannt","unbekannt","unbekannt","unbekannt","unbekannt","unbekannt","unbekannt","unbekannt","unbekannt","unbekannt","unbekannt","","","","unbekannt","","21,1 g","1,2 g","X","","","","","","","","","","unbekannt","unbekannt","","","unbekannt","unbekannt","","","unbekannt","unbekannt","unbekannt","unbekannt","unbekannt","unbekannt","unbekannt","unbekannt","unbekannt","unbekannt","unbekannt","unbekannt","unbekannt","unbekannt","unbekannt","unbekannt","unbekannt","unbekannt","unbekannt","unbekannt","unbekannt","unbekannt","unbekannt","unbekannt","unbekannt","unbekannt","unbekannt","unbekannt","unbekannt","unbekannt","unbekannt","unbekannt","unbekannt","unbekannt","unbekannt","unbekannt","unbekannt","unbekannt","unbekannt","","","","","","","","","","",""]
["2025-02-04","Menü 1","geschmorter Weißkohl Rinderhack Kinder","Geschmorter Weißkohl in Bratensoße mit Rinderhackfleisch","1360072337","1,000 Prt",0.84,120,0,"","","",0,"107,2 kcal","447,2 kJ","0,5 BE","11,7 g","3,9 g","6,2 g","35 mg","898,5 mg","864,9 mg","2,1 g","342,9 mg","196,5 mg","2,2 g","75,9 mg","1,8 mg","152,4 µg","29,1 mg","43,3 mg","28,8 mg","1,6 mg","5,2 µg","unbekannt","unbekannt","unbekannt","unbekannt","unbekannt","unbekannt","unbekannt","unbekannt","unbekannt","unbekannt","unbekannt","unbekannt","unbekannt","unbekannt","unbekannt","unbekannt","unbekannt","unbekannt","unbekannt","unbekannt","unbekannt","unbekannt","unbekannt","unbekannt","unbekannt","unbekannt","unbekannt","unbekannt","unbekannt","unbekannt","unbekannt","unbekannt","unbekannt","unbekannt","unbekannt","unbekannt","unbekannt","unbekannt","unbekannt","unbekannt","unbekannt","unbekannt","3 g","589,7 mg","277 mg","unbekannt","unbekannt","unbekannt","unbekannt","unbekannt","unbekannt","unbekannt","unbekannt","unbekannt","unbekannt","unbekannt","unbekannt","unbekannt","unbekannt","unbekannt","unbekannt","unbekannt","unbekannt","unbekannt","unbekannt","unbekannt","","474,5 mg","unbekannt","unbekannt","unbekannt","unbekannt","unbekannt","unbekannt","unbekannt","unbekannt","unbekannt","unbekannt","unbekannt","unbekannt","unbekannt","unbekannt","unbekannt","unbekannt","unbekannt","unbekannt","unbekannt","unbekannt","unbekannt","unbekannt","unbekannt","unbekannt","unbekannt","unbekannt","unbekannt","unbekannt","unbekannt","unbekannt","unbekannt","unbekannt","unbekannt","unbekannt","unbekannt","unbekannt","unbekannt","unbekannt","unbekannt","unbekannt","unbekannt","unbekannt","unbekannt","unbekannt","unbekannt","unbekannt","unbekannt","unbekannt","unbekannt","unbekannt","unbekannt","unbekannt","unbekannt","unbekannt","unbekannt","unbekannt","unbekannt","","","","","","","","","","",""]
["2025-02-04","Menü 1","Kartoffeln Bio Kinder","Kartoffeln","1360063104","1,000 Prt",0.40,120,0,"","","",3,"138,9 kcal","583,7 kJ","2,3 BE","3,5 g","606 mg","28,9 g","35 µg","203,8 mg","254,2 mg","187,4 mg","765,1 mg","200,5 mg","4,2 g","29,8 mg","197,4 µg","204,1 µg","32,1 mg","13,6 mg","37,9 mg","772,3 µg","7,2 µg","","","","","","","","","","","","","","","","","","","","","","","","","unbekannt","unbekannt","","unbekannt","","unbekannt","","unbekannt","unbekannt","","unbekannt","unbekannt","unbekannt","unbekannt","unbekannt","unbekannt","unbekannt","unbekannt","547,6 mg","169,8 mg","34 mg","unbekannt","unbekannt","unbekannt","unbekannt","unbekannt","unbekannt","unbekannt","unbekannt","unbekannt","unbekannt","unbekannt","unbekannt","unbekannt","unbekannt","unbekannt","unbekannt","unbekannt","unbekannt","unbekannt","unbekannt","unbekannt","1,3 g","510,1 mg","unbekannt","unbekannt","unbekannt","unbekannt","unbekannt","unbekannt","unbekannt","unbekannt","unbekannt","unbekannt","unbekannt","unbekannt","unbekannt","unbekannt","unbekannt","unbekannt","unbekannt","unbekannt","unbekannt","unbekannt","unbekannt","unbekannt","unbekannt","unbekannt","unbekannt","unbekannt","unbekannt","unbekannt","unbekannt","unbekannt","unbekannt","unbekannt","unbekannt","unbekannt","unbekannt","unbekannt","unbekannt","unbekannt","unbekannt","unbekannt","unbekannt","unbekannt","unbekannt","unbekannt","unbekannt","unbekannt","unbekannt","unbekannt","unbekannt","unbekannt","unbekannt","unbekannt","unbekannt","unbekannt","unbekannt","unbekannt","unbekannt","","","","","","","","","","",""]
["2025-02-04","Menü 1","Salatbar gJ Mösa/To/Mais/Eisberg","Rohkost aus der Salatbar mit Möhrensalat","1360072965","1,000 Prt",0.11,120,0,"","g","49",0,"26 kcal","108,9 kJ","0,3 BE","568,9 mg","1,2 g","3,1 g","75 µg","375,6 mg","144,2 mg","553,2 mg","112,4 mg","63,7 mg","1 g","7,6 mg","420,2 µg","33,4 µg","4,9 mg","12,8 mg","9,2 mg","529,3 µg","3,4 µg","unbekannt","unbekannt","unbekannt","unbekannt","unbekannt","unbekannt","unbekannt","unbekannt","unbekannt","unbekannt","unbekannt","unbekannt","unbekannt","unbekannt","unbekannt","unbekannt","unbekannt","unbekannt","X","unbekannt","unbekannt","unbekannt","unbekannt","unbekannt","unbekannt","unbekannt","unbekannt","unbekannt","unbekannt","unbekannt","unbekannt","unbekannt","unbekannt","unbekannt","unbekannt","unbekannt","unbekannt","unbekannt","unbekannt","unbekannt","unbekannt","unbekannt","892,1 mg","274,1 mg","97,9 mg","unbekannt","unbekannt","unbekannt","X","unbekannt","unbekannt","unbekannt","unbekannt","unbekannt","unbekannt","unbekannt","unbekannt","unbekannt","unbekannt","unbekannt","unbekannt","unbekannt","unbekannt","unbekannt","unbekannt","unbekannt","","146,9 mg","unbekannt","unbekannt","unbekannt","unbekannt","unbekannt","unbekannt","unbekannt","unbekannt","unbekannt","unbekannt","unbekannt","unbekannt","unbekannt","unbekannt","unbekannt","unbekannt","unbekannt","unbekannt","unbekannt","unbekannt","unbekannt","unbekannt","unbekannt","unbekannt","unbekannt","unbekannt","unbekannt","unbekannt","unbekannt","unbekannt","unbekannt","unbekannt","unbekannt","unbekannt","unbekannt","unbekannt","unbekannt","unbekannt","unbekannt","unbekannt","unbekannt","unbekannt","unbekannt","unbekannt","unbekannt","unbekannt","unbekannt","unbekannt","unbekannt","unbekannt","unbekannt","unbekannt","unbekannt","unbekannt","unbekannt","unbekannt","unbekannt","","","","","","","","","","",""]
["2025-02-04","Menü 1","Banane halbe Bio Kinder","frisches Obst","1360073323","1,000 Prt",0.13,120,0,"","","",0,"58,5 kcal","243,8 kJ","1,2 BE","780 mg","130 mg","13 g","","34,5 mg","65 mg","15 mg","255,5 mg","650 µg","1,3 g","16,3 mg","175,5 µg","28,6 µg","7,8 mg","5,9 mg","23,4 mg","357,5 µg","1,8 µg","","","","","","","","","","","","","","","","","","","","","","","","","","","","unbekannt","","unbekannt","","unbekannt","unbekannt","","unbekannt","unbekannt","unbekannt","unbekannt","unbekannt","unbekannt","unbekannt","unbekannt","7,2 g","15 mg","19,5 mg","unbekannt","","unbekannt","unbekannt","unbekannt","unbekannt","unbekannt","unbekannt","unbekannt","unbekannt","unbekannt","unbekannt","unbekannt","unbekannt","unbekannt","unbekannt","","","","unbekannt","","11,2 g","2 mg","","","","","","","","","","","unbekannt","unbekannt","","","unbekannt","unbekannt","","","unbekannt","unbekannt","unbekannt","unbekannt","unbekannt","unbekannt","unbekannt","unbekannt","unbekannt","unbekannt","unbekannt","unbekannt","unbekannt","unbekannt","unbekannt","unbekannt","unbekannt","unbekannt","unbekannt","unbekannt","unbekannt","unbekannt","unbekannt","unbekannt","unbekannt","unbekannt","unbekannt","unbekannt","unbekannt","unbekannt","unbekannt","unbekannt","unbekannt","unbekannt","unbekannt","unbekannt","unbekannt","unbekannt","unbekannt","","","","","","","","","","",""]
["2025-02-04","Menü 2 Vegetarisch","geschmorter Weißkohl Bulgur Kinder","Geschmorter Weißkohl in Bratensoße mit Bulgur","1360072338","1,000 Prt",0.23,10,0,"","a, o","",0,"85,8 kcal","359,5 kJ","1,1 BE","2,1 g","2,5 g","13,1 g","44 µg","840,7 mg","234,9 mg","1,2 g","189,1 mg","164,1 mg","3,2 g","22,8 mg","1,7 mg","67,4 µg","29,1 mg","43,8 mg","31,9 mg","1 mg","5,5 µg","unbekannt","unbekannt","unbekannt","unbekannt","unbekannt","unbekannt","unbekannt","unbekannt","unbekannt","unbekannt","unbekannt","unbekannt","X","unbekannt","unbekannt","unbekannt","unbekannt","unbekannt","unbekannt","unbekannt","unbekannt","unbekannt","unbekannt","unbekannt","unbekannt","unbekannt","unbekannt","unbekannt","unbekannt","unbekannt","unbekannt","unbekannt","unbekannt","unbekannt","unbekannt","unbekannt","unbekannt","unbekannt","unbekannt","unbekannt","unbekannt","unbekannt","3,1 g","569,9 mg","262,4 mg","unbekannt","unbekannt","unbekannt","unbekannt","unbekannt","unbekannt","unbekannt","unbekannt","unbekannt","unbekannt","unbekannt","unbekannt","unbekannt","unbekannt","unbekannt","unbekannt","unbekannt","unbekannt","unbekannt","unbekannt","unbekannt","","425,8 mg","X","unbekannt","unbekannt","unbekannt","unbekannt","unbekannt","unbekannt","unbekannt","unbekannt","unbekannt","unbekannt","unbekannt","unbekannt","unbekannt","unbekannt","unbekannt","unbekannt","unbekannt","unbekannt","unbekannt","unbekannt","unbekannt","unbekannt","unbekannt","unbekannt","unbekannt","unbekannt","unbekannt","unbekannt","unbekannt","unbekannt","unbekannt","unbekannt","unbekannt","unbekannt","unbekannt","unbekannt","unbekannt","unbekannt","unbekannt","unbekannt","unbekannt","unbekannt","unbekannt","unbekannt","unbekannt","unbekannt","unbekannt","unbekannt","unbekannt","unbekannt","unbekannt","unbekannt","unbekannt","unbekannt","unbekannt","unbekannt","","","","","","","","","","",""]
["2025-02-04","Menü 2 Vegetarisch","Kartoffeln Bio Kinder","Kartoffeln","1360063104","1,000 Prt",0.40,10,0,"","","",3,"138,9 kcal","583,7 kJ","2,3 BE","3,5 g","606 mg","28,9 g","35 µg","203,8 mg","254,2 mg","187,4 mg","765,1 mg","200,5 mg","4,2 g","29,8 mg","197,4 µg","204,1 µg","32,1 mg","13,6 mg","37,9 mg","772,3 µg","7,2 µg","","","","","","","","","","","","","","","","","","","","","","","","","unbekannt","unbekannt","","unbekannt","","unbekannt","","unbekannt","unbekannt","","unbekannt","unbekannt","unbekannt","unbekannt","unbekannt","unbekannt","unbekannt","unbekannt","547,6 mg","169,8 mg","34 mg","unbekannt","unbekannt","unbekannt","unbekannt","unbekannt","unbekannt","unbekannt","unbekannt","unbekannt","unbekannt","unbekannt","unbekannt","unbekannt","unbekannt","unbekannt","unbekannt","unbekannt","unbekannt","unbekannt","unbekannt","unbekannt","1,3 g","510,1 mg","unbekannt","unbekannt","unbekannt","unbekannt","unbekannt","unbekannt","unbekannt","unbekannt","unbekannt","unbekannt","unbekannt","unbekannt","unbekannt","unbekannt","unbekannt","unbekannt","unbekannt","unbekannt","unbekannt","unbekannt","unbekannt","unbekannt","unbekannt","unbekannt","unbekannt","unbekannt","unbekannt","unbekannt","unbekannt","unbekannt","unbekannt","unbekannt","unbekannt","unbekannt","unbekannt","unbekannt","unbekannt","unbekannt","unbekannt","unbekannt","unbekannt","unbekannt","unbekannt","unbekannt","unbekannt","unbekannt","unbekannt","unbekannt","unbekannt","unbekannt","unbekannt","unbekannt","unbekannt","unbekannt","unbekannt","unbekannt","unbekannt","","","","","","","","","","",""]
["2025-02-04","Menü 2 Vegetarisch","Salatbar gJ Mösa/To/Mais/Eisberg","Rohkost aus der Salatbar mit Möhrensalat","1360072965","1,000 Prt",0.11,10,0,"","g","49",0,"26 kcal","108,9 kJ","0,3 BE","568,9 mg","1,2 g","3,1 g","75 µg","375,6 mg","144,2 mg","553,2 mg","112,4 mg","63,7 mg","1 g","7,6 mg","420,2 µg","33,4 µg","4,9 mg","12,8 mg","9,2 mg","529,3 µg","3,4 µg","unbekannt","unbekannt","unbekannt","unbekannt","unbekannt","unbekannt","unbekannt","unbekannt","unbekannt","unbekannt","unbekannt","unbekannt","unbekannt","unbekannt","unbekannt","unbekannt","unbekannt","unbekannt","X","unbekannt","unbekannt","unbekannt","unbekannt","unbekannt","unbekannt","unbekannt","unbekannt","unbekannt","unbekannt","unbekannt","unbekannt","unbekannt","unbekannt","unbekannt","unbekannt","unbekannt","unbekannt","unbekannt","unbekannt","unbekannt","unbekannt","unbekannt","892,1 mg","274,1 mg","97,9 mg","unbekannt","unbekannt","unbekannt","X","unbekannt","unbekannt","unbekannt","unbekannt","unbekannt","unbekannt","unbekannt","unbekannt","unbekannt","unbekannt","unbekannt","unbekannt","unbekannt","unbekannt","unbekannt","unbekannt","unbekannt","","146,9 mg","unbekannt","unbekannt","unbekannt","unbekannt","unbekannt","unbekannt","unbekannt","unbekannt","unbekannt","unbekannt","unbekannt","unbekannt","unbekannt","unbekannt","unbekannt","unbekannt","unbekannt","unbekannt","unbekannt","unbekannt","unbekannt","unbekannt","unbekannt","unbekannt","unbekannt","unbekannt","unbekannt","unbekannt","unbekannt","unbekannt","unbekannt","unbekannt","unbekannt","unbekannt","unbekannt","unbekannt","unbekannt","unbekannt","unbekannt","unbekannt","unbekannt","unbekannt","unbekannt","unbekannt","unbekannt","unbekannt","unbekannt","unbekannt","unbekannt","unbekannt","unbekannt","unbekannt","unbekannt","unbekannt","unbekannt","unbekannt","unbekannt","","","","","","","","","","",""]
["2025-02-04","Menü 2 Vegetarisch","Banane halbe Bio Kinder","frisches Obst","1360073323","1,000 Prt",0.13,10,0,"","","",0,"58,5 kcal","243,8 kJ","1,2 BE","780 mg","130 mg","13 g","","34,5 mg","65 mg","15 mg","255,5 mg","650 µg","1,3 g","16,3 mg","175,5 µg","28,6 µg","7,8 mg","5,9 mg","23,4 mg","357,5 µg","1,8 µg","","","","","","","","","","","","","","","","","","","","","","","","","","","","unbekannt","","unbekannt","","unbekannt","unbekannt","","unbekannt","unbekannt","unbekannt","unbekannt","unbekannt","unbekannt","unbekannt","unbekannt","7,2 g","15 mg","19,5 mg","unbekannt","","unbekannt","unbekannt","unbekannt","unbekannt","unbekannt","unbekannt","unbekannt","unbekannt","unbekannt","unbekannt","unbekannt","unbekannt","unbekannt","unbekannt","","","","unbekannt","","11,2 g","2 mg","","","","","","","","","","","unbekannt","unbekannt","","","unbekannt","unbekannt","","","unbekannt","unbekannt","unbekannt","unbekannt","unbekannt","unbekannt","unbekannt","unbekannt","unbekannt","unbekannt","unbekannt","unbekannt","unbekannt","unbekannt","unbekannt","unbekannt","unbekannt","unbekannt","unbekannt","unbekannt","unbekannt","unbekannt","unbekannt","unbekannt","unbekannt","unbekannt","unbekannt","unbekannt","unbekannt","unbekannt","unbekannt","unbekannt","unbekannt","unbekannt","unbekannt","unbekannt","unbekannt","unbekannt","unbekannt","","","","","","","","","","",""]
["2025-02-05","Menü 1","Spinatspätzle Bio Kinder","Spätzle mit Blattspinat","1360064018","1,000 Prt",0.35,130,0,"","a","",3,"119,7 kcal","501,5 kJ","1,3 BE","4,4 g","3,8 g","16,2 g","50,4 mg","995,6 mg","647,6 mg","1,7 g","227,9 mg","274,7 mg","1,8 g","28,6 mg","1,2 mg","46,3 µg","12,3 mg","57,6 mg","25,2 mg","1,8 mg","9,4 µg","unbekannt","unbekannt","unbekannt","unbekannt","unbekannt","unbekannt","unbekannt","unbekannt","unbekannt","unbekannt","unbekannt","unbekannt","X","unbekannt","unbekannt","unbekannt","unbekannt","unbekannt","unbekannt","unbekannt","unbekannt","unbekannt","unbekannt","unbekannt","unbekannt","unbekannt","unbekannt","unbekannt","unbekannt","unbekannt","unbekannt","unbekannt","unbekannt","unbekannt","unbekannt","unbekannt","unbekannt","unbekannt","unbekannt","unbekannt","unbekannt","unbekannt","224,1 mg","682,2 mg","279,9 mg","unbekannt","unbekannt","unbekannt","unbekannt","unbekannt","unbekannt","unbekannt","unbekannt","unbekannt","unbekannt","unbekannt","unbekannt","unbekannt","unbekannt","unbekannt","unbekannt","unbekannt","unbekannt","unbekannt","unbekannt","unbekannt","","677,1 mg","unbekannt","unbekannt","unbekannt","unbekannt","unbekannt","unbekannt","unbekannt","unbekannt","unbekannt","unbekannt","unbekannt","unbekannt","unbekannt","unbekannt","unbekannt","unbekannt","unbekannt","unbekannt","unbekannt","unbekannt","unbekannt","unbekannt","unbekannt","unbekannt","unbekannt","unbekannt","unbekannt","unbekannt","unbekannt","unbekannt","unbekannt","unbekannt","unbekannt","unbekannt","unbekannt","unbekannt","unbekannt","unbekannt","unbekannt","unbekannt","unbekannt","unbekannt","unbekannt","unbekannt","unbekannt","unbekannt","unbekannt","unbekannt","unbekannt","unbekannt","unbekannt","unbekannt","unbekannt","unbekannt","unbekannt","unbekannt","unbekannt","","","","","","","","","","",""]
["2025-02-05","Menü 1","Schnittlauchsoße","helle Schnittlauchsoße","1360070461","1,000 Prt",0.30,130,0,"","g","",0,"115,6 kcal","482,7 kJ","0,4 BE","4,1 g","7,5 g","8 g","19,9 mg","240,7 mg","4,8 g","1,9 g","227,1 mg","177,8 mg","209,1 mg","1,3 mg","155,8 µg","32,6 µg","2,3 mg","110,4 mg","6,6 mg","142,1 µg","5,9 µg","","","","","","","","","","","unbekannt","","","","","","","","X","","","","","","unbekannt","unbekannt","","unbekannt","","unbekannt","unbekannt","unbekannt","unbekannt","unbekannt","unbekannt","unbekannt","unbekannt","unbekannt","unbekannt","unbekannt","unbekannt","unbekannt","4,6 g","151,4 mg","89,3 mg","unbekannt","unbekannt","unbekannt","unbekannt","unbekannt","unbekannt","unbekannt","unbekannt","unbekannt","unbekannt","unbekannt","unbekannt","unbekannt","unbekannt","unbekannt","unbekannt","unbekannt","unbekannt","unbekannt","unbekannt","unbekannt","","526,6 mg","unbekannt","unbekannt","unbekannt","unbekannt","unbekannt","unbekannt","unbekannt","unbekannt","unbekannt","unbekannt","unbekannt","unbekannt","unbekannt","unbekannt","unbekannt","unbekannt","unbekannt","unbekannt","unbekannt","unbekannt","unbekannt","unbekannt","unbekannt","unbekannt","unbekannt","unbekannt","unbekannt","unbekannt","unbekannt","unbekannt","unbekannt","unbekannt","unbekannt","unbekannt","unbekannt","unbekannt","unbekannt","unbekannt","unbekannt","unbekannt","unbekannt","unbekannt","unbekannt","unbekannt","unbekannt","unbekannt","unbekannt","unbekannt","unbekannt","unbekannt","unbekannt","unbekannt","unbekannt","unbekannt","unbekannt","unbekannt","unbekannt","","","","","","","","","","",""]
["2025-02-05","Menü 1","Reibekäse Gouda","geriebener Gouda","1360066145","1,000 Prt",0.21,130,0,"","","66",0,"71,2 kcal","295,6 kJ","","4,8 g","5,6 g","400 mg","11,8 mg","215,2 mg","3,6 g","1,8 g","20 mg","120 mg","","2 mg","152 µg","8 µg","","160 mg","7,2 mg","60 µg","7 µg","","","","","","","","","","","","","","","","","","","","","","","","","","","","unbekannt","","unbekannt","","unbekannt","unbekannt","","unbekannt","unbekannt","unbekannt","unbekannt","unbekannt","unbekannt","unbekannt","unbekannt","","138 mg","77,2 mg","unbekannt","","unbekannt","unbekannt","unbekannt","unbekannt","unbekannt","unbekannt","unbekannt","unbekannt","unbekannt","unbekannt","unbekannt","unbekannt","unbekannt","unbekannt","","","","unbekannt","X","20 mg","300 mg","","","","","","","","","","","unbekannt","unbekannt","","","unbekannt","unbekannt","","","unbekannt","unbekannt","unbekannt","unbekannt","unbekannt","unbekannt","unbekannt","unbekannt","unbekannt","unbekannt","unbekannt","unbekannt","unbekannt","unbekannt","unbekannt","unbekannt","unbekannt","unbekannt","unbekannt","unbekannt","unbekannt","unbekannt","unbekannt","unbekannt","unbekannt","unbekannt","unbekannt","unbekannt","unbekannt","unbekannt","unbekannt","unbekannt","unbekannt","unbekannt","unbekannt","unbekannt","unbekannt","unbekannt","unbekannt","","","","","","","","","","",""]
["2025-02-05","Menü 1","Salatbar gJ Bausa/Mö/Mais","Rohkost aus der Salatbar mit griechischem Bauernsalat","1360072963","1,000 Prt",0.19,130,0,"","g","49",0,"43,2 kcal","181,2 kJ","0,2 BE","924,9 mg","3,4 g","2,1 g","1 mg","961,4 mg","544,8 mg","1,7 g","102 mg","131,4 mg","831,1 mg","7,8 mg","829,7 µg","30,2 µg","4,6 mg","21,3 mg","8,9 mg","405 µg","2,7 µg","unbekannt","unbekannt","unbekannt","unbekannt","unbekannt","unbekannt","unbekannt","unbekannt","unbekannt","unbekannt","unbekannt","unbekannt","unbekannt","unbekannt","unbekannt","unbekannt","unbekannt","unbekannt","X","unbekannt","unbekannt","unbekannt","unbekannt","unbekannt","unbekannt","unbekannt","unbekannt","unbekannt","unbekannt","unbekannt","unbekannt","unbekannt","unbekannt","unbekannt","unbekannt","unbekannt","unbekannt","unbekannt","unbekannt","unbekannt","unbekannt","unbekannt","587,8 mg","673,8 mg","277,4 mg","unbekannt","unbekannt","unbekannt","X","unbekannt","unbekannt","unbekannt","unbekannt","unbekannt","unbekannt","unbekannt","unbekannt","unbekannt","unbekannt","unbekannt","unbekannt","unbekannt","unbekannt","unbekannt","unbekannt","unbekannt","","312,2 mg","unbekannt","unbekannt","unbekannt","unbekannt","unbekannt","unbekannt","unbekannt","unbekannt","unbekannt","unbekannt","unbekannt","unbekannt","unbekannt","unbekannt","unbekannt","unbekannt","unbekannt","unbekannt","unbekannt","unbekannt","unbekannt","unbekannt","unbekannt","unbekannt","unbekannt","unbekannt","unbekannt","unbekannt","unbekannt","unbekannt","unbekannt","unbekannt","unbekannt","unbekannt","unbekannt","unbekannt","unbekannt","unbekannt","unbekannt","unbekannt","unbekannt","unbekannt","unbekannt","unbekannt","unbekannt","unbekannt","unbekannt","unbekannt","unbekannt","unbekannt","unbekannt","unbekannt","unbekannt","unbekannt","unbekannt","unbekannt","unbekannt","","","","","","","","","","",""]
["2025-02-06","Menü 1","Fischcurry Kinder","Fruchtiges Fischcurry mit buntem Gemüse","1360073722","1,000 Prt",0.68,120,0,"","d","",0,"150,8 kcal","630,7 kJ","0,6 BE","9,5 g","9,3 g","6,6 g","76 mg","1,4 g","4 g","2,9 g","363,6 mg","82,3 mg","2,6 g","87,7 mg","724,8 µg","87,8 µg","30,8 mg","42,9 mg","36,8 mg","1,5 mg","5,8 µg","unbekannt","unbekannt","unbekannt","unbekannt","unbekannt","unbekannt","unbekannt","unbekannt","unbekannt","unbekannt","unbekannt","unbekannt","unbekannt","unbekannt","unbekannt","X","unbekannt","unbekannt","unbekannt","unbekannt","unbekannt","unbekannt","unbekannt","unbekannt","unbekannt","unbekannt","unbekannt","unbekannt","unbekannt","unbekannt","unbekannt","unbekannt","unbekannt","unbekannt","unbekannt","unbekannt","unbekannt","unbekannt","unbekannt","unbekannt","unbekannt","unbekannt","3,5 g","656 mg","252,3 mg","unbekannt","unbekannt","unbekannt","unbekannt","unbekannt","unbekannt","unbekannt","unbekannt","unbekannt","unbekannt","unbekannt","unbekannt","unbekannt","unbekannt","unbekannt","unbekannt","unbekannt","unbekannt","unbekannt","unbekannt","unbekannt","","617 mg","unbekannt","unbekannt","unbekannt","unbekannt","unbekannt","unbekannt","unbekannt","unbekannt","unbekannt","unbekannt","unbekannt","unbekannt","unbekannt","unbekannt","unbekannt","unbekannt","unbekannt","unbekannt","unbekannt","unbekannt","unbekannt","unbekannt","unbekannt","unbekannt","unbekannt","unbekannt","unbekannt","unbekannt","unbekannt","unbekannt","unbekannt","unbekannt","unbekannt","unbekannt","unbekannt","unbekannt","unbekannt","unbekannt","unbekannt","unbekannt","unbekannt","unbekannt","unbekannt","unbekannt","unbekannt","unbekannt","unbekannt","unbekannt","unbekannt","unbekannt","unbekannt","unbekannt","unbekannt","unbekannt","unbekannt","unbekannt","unbekannt","","","","","","","","","","",""]
["2025-02-06","Menü 1","Kokosreis Kinder","Kokosreis","1360073725","1,000 Prt",0.19,120,0,"","","",0,"249,8 kcal","1045,9 kJ","3,3 BE","3,6 g","8,4 g","39,8 g","100 µg","1,7 g","3,2 g","3 g","105,1 mg","122,4 mg","1,7 g","41,5 mg","1,4 mg","222,2 µg","50 µg","19,8 mg","20,1 mg","1,6 mg","4,6 µg","unbekannt","unbekannt","unbekannt","unbekannt","unbekannt","unbekannt","unbekannt","unbekannt","unbekannt","unbekannt","unbekannt","unbekannt","unbekannt","unbekannt","unbekannt","unbekannt","unbekannt","unbekannt","unbekannt","unbekannt","unbekannt","unbekannt","unbekannt","unbekannt","unbekannt","unbekannt","unbekannt","unbekannt","unbekannt","unbekannt","unbekannt","unbekannt","unbekannt","unbekannt","unbekannt","unbekannt","unbekannt","unbekannt","unbekannt","unbekannt","unbekannt","unbekannt","349,9 mg","1,2 g","475,7 mg","unbekannt","unbekannt","unbekannt","unbekannt","unbekannt","unbekannt","unbekannt","unbekannt","unbekannt","unbekannt","unbekannt","unbekannt","unbekannt","unbekannt","unbekannt","unbekannt","unbekannt","unbekannt","unbekannt","unbekannt","unbekannt","","307,9 mg","unbekannt","unbekannt","unbekannt","unbekannt","unbekannt","unbekannt","unbekannt","unbekannt","unbekannt","unbekannt","unbekannt","unbekannt","unbekannt","unbekannt","unbekannt","unbekannt","unbekannt","unbekannt","unbekannt","unbekannt","unbekannt","unbekannt","unbekannt","unbekannt","unbekannt","unbekannt","unbekannt","unbekannt","unbekannt","unbekannt","unbekannt","unbekannt","unbekannt","unbekannt","unbekannt","unbekannt","unbekannt","unbekannt","unbekannt","unbekannt","unbekannt","unbekannt","unbekannt","unbekannt","unbekannt","unbekannt","unbekannt","unbekannt","unbekannt","unbekannt","unbekannt","unbekannt","unbekannt","unbekannt","unbekannt","unbekannt","unbekannt","","","","","","","","","","",""]
["2025-02-06","Menü 1","Salatbar gJ Gusa/To/Mö","Rohkost aus der Salatbar mit Gurkensalat","1360072697","1,000 Prt",0.17,120,0,"","g","49",0,"61,3 kcal","256,8 kJ","0,3 BE","527,2 mg","5,1 g","3,3 g","155 µg","1,6 g","439,8 mg","2,8 g","104,2 mg","107,4 mg","670,5 mg","5,7 mg","1,3 mg","23,5 µg","5,9 mg","14,2 mg","7,6 mg","440,2 µg","2,3 µg","unbekannt","unbekannt","unbekannt","unbekannt","unbekannt","unbekannt","unbekannt","unbekannt","unbekannt","unbekannt","unbekannt","unbekannt","unbekannt","unbekannt","unbekannt","unbekannt","unbekannt","unbekannt","X","unbekannt","unbekannt","unbekannt","unbekannt","unbekannt","unbekannt","unbekannt","unbekannt","unbekannt","unbekannt","unbekannt","unbekannt","unbekannt","unbekannt","unbekannt","unbekannt","unbekannt","unbekannt","unbekannt","unbekannt","unbekannt","unbekannt","unbekannt","2,1 g","1,1 g","490,1 mg","unbekannt","unbekannt","unbekannt","X","unbekannt","unbekannt","unbekannt","unbekannt","unbekannt","unbekannt","unbekannt","unbekannt","unbekannt","unbekannt","unbekannt","unbekannt","unbekannt","unbekannt","unbekannt","unbekannt","unbekannt","","268,3 mg","unbekannt","unbekannt","unbekannt","unbekannt","unbekannt","unbekannt","unbekannt","unbekannt","unbekannt","unbekannt","unbekannt","unbekannt","unbekannt","unbekannt","unbekannt","unbekannt","unbekannt","unbekannt","unbekannt","unbekannt","unbekannt","unbekannt","unbekannt","unbekannt","unbekannt","unbekannt","unbekannt","unbekannt","unbekannt","unbekannt","unbekannt","unbekannt","unbekannt","unbekannt","unbekannt","unbekannt","unbekannt","unbekannt","unbekannt","unbekannt","unbekannt","unbekannt","unbekannt","unbekannt","unbekannt","unbekannt","unbekannt","unbekannt","unbekannt","unbekannt","unbekannt","unbekannt","unbekannt","unbekannt","unbekannt","unbekannt","unbekannt","","","","","","","","","","",""]
["2025-02-06","Menü 2 Vegetarisch","Blumenkohlcurry Kinder","Fruchtiges Blumenkohlcurry mit buntem Gemüse","1360073738","1,000 Prt",0.49,10,0,"","g","",0,"180,8 kcal","757 kJ","0,8 BE","6,6 g","12,8 g","9,1 g","100 µg","2,4 g","1,2 g","8,1 g","512,2 mg","85,6 mg","3,9 g","66,1 mg","1,5 mg","142,4 µg","61,6 mg","104,7 mg","84,6 mg","2,1 mg","4,4 µg","unbekannt","unbekannt","unbekannt","unbekannt","unbekannt","unbekannt","unbekannt","unbekannt","unbekannt","unbekannt","unbekannt","unbekannt","unbekannt","unbekannt","unbekannt","unbekannt","unbekannt","unbekannt","X","unbekannt","unbekannt","unbekannt","unbekannt","unbekannt","unbekannt","unbekannt","unbekannt","unbekannt","unbekannt","unbekannt","unbekannt","unbekannt","unbekannt","unbekannt","unbekannt","unbekannt","unbekannt","unbekannt","unbekannt","unbekannt","unbekannt","unbekannt","5,4 g","2,3 g","181,9 mg","unbekannt","unbekannt","unbekannt","unbekannt","unbekannt","unbekannt","unbekannt","unbekannt","unbekannt","unbekannt","unbekannt","unbekannt","unbekannt","unbekannt","unbekannt","unbekannt","unbekannt","unbekannt","unbekannt","unbekannt","unbekannt","","623,1 mg","unbekannt","unbekannt","unbekannt","unbekannt","unbekannt","unbekannt","unbekannt","unbekannt","unbekannt","unbekannt","unbekannt","unbekannt","unbekannt","unbekannt","unbekannt","unbekannt","unbekannt","unbekannt","unbekannt","unbekannt","unbekannt","unbekannt","unbekannt","unbekannt","unbekannt","unbekannt","unbekannt","unbekannt","unbekannt","unbekannt","unbekannt","unbekannt","unbekannt","unbekannt","unbekannt","unbekannt","unbekannt","unbekannt","unbekannt","unbekannt","unbekannt","unbekannt","unbekannt","unbekannt","unbekannt","unbekannt","unbekannt","unbekannt","unbekannt","unbekannt","unbekannt","unbekannt","unbekannt","unbekannt","unbekannt","unbekannt","unbekannt","","","","","","","","","","",""]
["2025-02-06","Menü 2 Vegetarisch","Kokosreis Kinder","Kokosreis","1360073725","1,000 Prt",0.19,10,0,"","","",0,"249,8 kcal","1045,9 kJ","3,3 BE","3,6 g","8,4 g","39,8 g","100 µg","1,7 g","3,2 g","3 g","105,1 mg","122,4 mg","1,7 g","41,5 mg","1,4 mg","222,2 µg","50 µg","19,8 mg","20,1 mg","1,6 mg","4,6 µg","unbekannt","unbekannt","unbekannt","unbekannt","unbekannt","unbekannt","unbekannt","unbekannt","unbekannt","unbekannt","unbekannt","unbekannt","unbekannt","unbekannt","unbekannt","unbekannt","unbekannt","unbekannt","unbekannt","unbekannt","unbekannt","unbekannt","unbekannt","unbekannt","unbekannt","unbekannt","unbekannt","unbekannt","unbekannt","unbekannt","unbekannt","unbekannt","unbekannt","unbekannt","unbekannt","unbekannt","unbekannt","unbekannt","unbekannt","unbekannt","unbekannt","unbekannt","349,9 mg","1,2 g","475,7 mg","unbekannt","unbekannt","unbekannt","unbekannt","unbekannt","unbekannt","unbekannt","unbekannt","unbekannt","unbekannt","unbekannt","unbekannt","unbekannt","unbekannt","unbekannt","unbekannt","unbekannt","unbekannt","unbekannt","unbekannt","unbekannt","","307,9 mg","unbekannt","unbekannt","unbekannt","unbekannt","unbekannt","unbekannt","unbekannt","unbekannt","unbekannt","unbekannt","unbekannt","unbekannt","unbekannt","unbekannt","unbekannt","unbekannt","unbekannt","unbekannt","unbekannt","unbekannt","unbekannt","unbekannt","unbekannt","unbekannt","unbekannt","unbekannt","unbekannt","unbekannt","unbekannt","unbekannt","unbekannt","unbekannt","unbekannt","unbekannt","unbekannt","unbekannt","unbekannt","unbekannt","unbekannt","unbekannt","unbekannt","unbekannt","unbekannt","unbekannt","unbekannt","unbekannt","unbekannt","unbekannt","unbekannt","unbekannt","unbekannt","unbekannt","unbekannt","unbekannt","unbekannt","unbekannt","unbekannt","","","","","","","","","","",""]
["2025-02-06","Menü 2 Vegetarisch","Salatbar gJ Gusa/To/Mö","Rohkost aus der Salatbar mit Gurkensalat","1360072697","1,000 Prt",0.17,10,0,"","g","49",0,"61,3 kcal","256,8 kJ","0,3 BE","527,2 mg","5,1 g","3,3 g","155 µg","1,6 g","439,8 mg","2,8 g","104,2 mg","107,4 mg","670,5 mg","5,7 mg","1,3 mg","23,5 µg","5,9 mg","14,2 mg","7,6 mg","440,2 µg","2,3 µg","unbekannt","unbekannt","unbekannt","unbekannt","unbekannt","unbekannt","unbekannt","unbekannt","unbekannt","unbekannt","unbekannt","unbekannt","unbekannt","unbekannt","unbekannt","unbekannt","unbekannt","unbekannt","X","unbekannt","unbekannt","unbekannt","unbekannt","unbekannt","unbekannt","unbekannt","unbekannt","unbekannt","unbekannt","unbekannt","unbekannt","unbekannt","unbekannt","unbekannt","unbekannt","unbekannt","unbekannt","unbekannt","unbekannt","unbekannt","unbekannt","unbekannt","2,1 g","1,1 g","490,1 mg","unbekannt","unbekannt","unbekannt","X","unbekannt","unbekannt","unbekannt","unbekannt","unbekannt","unbekannt","unbekannt","unbekannt","unbekannt","unbekannt","unbekannt","unbekannt","unbekannt","unbekannt","unbekannt","unbekannt","unbekannt","","268,3 mg","unbekannt","unbekannt","unbekannt","unbekannt","unbekannt","unbekannt","unbekannt","unbekannt","unbekannt","unbekannt","unbekannt","unbekannt","unbekannt","unbekannt","unbekannt","unbekannt","unbekannt","unbekannt","unbekannt","unbekannt","unbekannt","unbekannt","unbekannt","unbekannt","unbekannt","unbekannt","unbekannt","unbekannt","unbekannt","unbekannt","unbekannt","unbekannt","unbekannt","unbekannt","unbekannt","unbekannt","unbekannt","unbekannt","unbekannt","unbekannt","unbekannt","unbekannt","unbekannt","unbekannt","unbekannt","unbekannt","unbekannt","unbekannt","unbekannt","unbekannt","unbekannt","unbekannt","unbekannt","unbekannt","unbekannt","unbekannt","unbekannt","","","","","","","","","","",""]
["2025-02-07","Menü 1","Eier gekocht Bio","gekochtes Ei","1360070841","1,000 Prt",0.59,130,0,"","c","",0,"68,5 kcal","286 kJ","0 BE","6 g","4,7 g","750 mg","198 mg","753,5 mg","1,4 g","2,2 g","73,5 mg","72 mg","","2,5 mg","1 mg","50 µg","","28 mg","6 mg","1,1 mg","5 µg","","","","","","","","","","","","","","","X","","","","","","","","","","","","","unbekannt","","unbekannt","","unbekannt","unbekannt","","unbekannt","unbekannt","unbekannt","unbekannt","unbekannt","unbekannt","unbekannt","unbekannt","","511,5 mg","139,5 mg","unbekannt","","unbekannt","unbekannt","unbekannt","unbekannt","unbekannt","unbekannt","unbekannt","unbekannt","unbekannt","unbekannt","unbekannt","unbekannt","unbekannt","unbekannt","","","","unbekannt","","750 mg","150 mg","","","","","","","","","","","unbekannt","unbekannt","","","unbekannt","unbekannt","","","unbekannt","unbekannt","unbekannt","unbekannt","unbekannt","unbekannt","unbekannt","unbekannt","unbekannt","unbekannt","unbekannt","unbekannt","unbekannt","unbekannt","unbekannt","unbekannt","unbekannt","unbekannt","unbekannt","unbekannt","unbekannt","unbekannt","unbekannt","unbekannt","unbekannt","unbekannt","unbekannt","unbekannt","unbekannt","unbekannt","unbekannt","unbekannt","unbekannt","unbekannt","unbekannt","unbekannt","unbekannt","unbekannt","unbekannt","","","","","","","","","","",""]
["2025-02-07","Menü 1","Senfsoße mit Gemüse Kinder","helle Senfsoße","1360064852","1,000 Prt",0.17,130,0,"","a, g, i, o","",0,"64,6 kcal","270,2 kJ","0,5 BE","2,2 g","3,3 g","6,3 g","4,2 mg","927,6 mg","584,7 mg","1,9 g","171,7 mg","184,7 mg","984,1 mg","9,7 mg","674,7 µg","26 µg","3,3 mg","68,6 mg","14,5 mg","475,6 µg","4,7 µg","unbekannt","unbekannt","unbekannt","unbekannt","unbekannt","unbekannt","unbekannt","unbekannt","unbekannt","unbekannt","unbekannt","unbekannt","X","unbekannt","unbekannt","unbekannt","unbekannt","unbekannt","X","unbekannt","X","unbekannt","unbekannt","unbekannt","unbekannt","unbekannt","unbekannt","unbekannt","unbekannt","unbekannt","unbekannt","unbekannt","unbekannt","unbekannt","unbekannt","unbekannt","unbekannt","unbekannt","unbekannt","unbekannt","unbekannt","unbekannt","2,8 g","628,5 mg","289 mg","unbekannt","unbekannt","unbekannt","unbekannt","unbekannt","unbekannt","unbekannt","unbekannt","unbekannt","unbekannt","unbekannt","unbekannt","unbekannt","unbekannt","unbekannt","unbekannt","unbekannt","unbekannt","unbekannt","unbekannt","unbekannt","","490,6 mg","X","unbekannt","unbekannt","unbekannt","unbekannt","unbekannt","unbekannt","unbekannt","unbekannt","unbekannt","unbekannt","unbekannt","unbekannt","unbekannt","unbekannt","unbekannt","unbekannt","unbekannt","unbekannt","unbekannt","unbekannt","unbekannt","unbekannt","unbekannt","unbekannt","unbekannt","unbekannt","unbekannt","unbekannt","unbekannt","unbekannt","unbekannt","unbekannt","unbekannt","unbekannt","unbekannt","unbekannt","unbekannt","unbekannt","unbekannt","unbekannt","unbekannt","unbekannt","unbekannt","unbekannt","unbekannt","unbekannt","unbekannt","unbekannt","unbekannt","unbekannt","unbekannt","unbekannt","unbekannt","unbekannt","unbekannt","unbekannt","","","","","","","","","","",""]
["2025-02-07","Menü 1","Kartoffelpüree Bio Kita","Kartoffelpüree","1360072145","1,000 Prt",0.40,130,0,"","g","",0,"139,7 kcal","586,7 kJ","2,2 BE","3,8 g","1,3 g","27,4 g","2,3 mg","317,3 mg","636,3 mg","584,6 mg","746,1 mg","123 mg","3,8 g","27,2 mg","259,5 µg","192,7 µg","29,2 mg","33,5 mg","35,4 mg","695,3 µg","7,7 µg","","","","","","","","","","","","","","","","","","","X","","","","","","unbekannt","unbekannt","","unbekannt","","unbekannt","","unbekannt","unbekannt","","unbekannt","unbekannt","unbekannt","unbekannt","unbekannt","unbekannt","unbekannt","unbekannt","1,4 g","267,5 mg","49,8 mg","unbekannt","unbekannt","unbekannt","unbekannt","unbekannt","unbekannt","unbekannt","unbekannt","unbekannt","unbekannt","unbekannt","unbekannt","unbekannt","unbekannt","unbekannt","unbekannt","unbekannt","unbekannt","unbekannt","unbekannt","unbekannt","2,1 g","330,9 mg","unbekannt","unbekannt","unbekannt","unbekannt","unbekannt","unbekannt","unbekannt","unbekannt","unbekannt","unbekannt","unbekannt","unbekannt","unbekannt","unbekannt","unbekannt","unbekannt","unbekannt","unbekannt","unbekannt","unbekannt","unbekannt","unbekannt","unbekannt","unbekannt","unbekannt","unbekannt","unbekannt","unbekannt","unbekannt","unbekannt","unbekannt","unbekannt","unbekannt","unbekannt","unbekannt","unbekannt","unbekannt","unbekannt","unbekannt","unbekannt","unbekannt","unbekannt","unbekannt","unbekannt","unbekannt","unbekannt","unbekannt","unbekannt","unbekannt","unbekannt","unbekannt","unbekannt","unbekannt","unbekannt","unbekannt","unbekannt","unbekannt","","","","","","","","","","",""]
["2025-02-07","Menü 1","Salatbar gJ RoteBete/Thun/Mais","Rohkost aus der Salatbar mit Rote Betesalat","1360073165","1,000 Prt",0.18,130,0,"","d, g","49",0,"50,8 kcal","213 kJ","0,3 BE","1,8 g","3,2 g","3,5 g","148,7 µg","1 g","313,3 mg","1,7 g","84,2 mg","138,9 mg","712 mg","7,1 mg","754,3 µg","21,4 µg","2,8 mg","9,5 mg","8,2 mg","237,8 µg","0,7 µg","unbekannt","unbekannt","unbekannt","unbekannt","unbekannt","unbekannt","unbekannt","unbekannt","unbekannt","unbekannt","unbekannt","unbekannt","unbekannt","unbekannt","unbekannt","X","unbekannt","unbekannt","X","unbekannt","unbekannt","unbekannt","unbekannt","unbekannt","unbekannt","unbekannt","unbekannt","unbekannt","unbekannt","unbekannt","unbekannt","unbekannt","unbekannt","unbekannt","unbekannt","unbekannt","unbekannt","unbekannt","unbekannt","unbekannt","unbekannt","unbekannt","1,6 g","701,4 mg","289,5 mg","unbekannt","unbekannt","unbekannt","X","unbekannt","unbekannt","unbekannt","unbekannt","unbekannt","unbekannt","unbekannt","unbekannt","unbekannt","unbekannt","unbekannt","unbekannt","unbekannt","unbekannt","unbekannt","unbekannt","unbekannt","","397,9 mg","unbekannt","unbekannt","unbekannt","unbekannt","unbekannt","unbekannt","unbekannt","unbekannt","unbekannt","unbekannt","unbekannt","unbekannt","unbekannt","unbekannt","unbekannt","unbekannt","unbekannt","unbekannt","unbekannt","unbekannt","unbekannt","unbekannt","unbekannt","unbekannt","unbekannt","unbekannt","unbekannt","unbekannt","unbekannt","unbekannt","unbekannt","unbekannt","unbekannt","unbekannt","unbekannt","unbekannt","unbekannt","unbekannt","unbekannt","unbekannt","unbekannt","unbekannt","unbekannt","unbekannt","unbekannt","unbekannt","unbekannt","unbekannt","unbekannt","unbekannt","unbekannt","unbekannt","unbekannt","unbekannt","unbekannt","unbekannt","unbekannt","","","","","","","","","","",""]